{"text_format":"1","workbook":"xlsx","n_sheets":9,"sheets":["PORTADA","Escenaris","Substàncies","Terme font","letalitat","dispersió","Representació gràfica","RESULTATS","Càlculs interns"],"not_rendered":{"charts":16,"images":4,"macros":1,"external_links":0,"defined_names":747,"comments":5,"pivot_tables":0},"unopened":[],"bounds":{"document_bytes":16777216,"sheet_cells":100000,"rows_first":2000,"rows_last":500,"rows_between":2000,"halvings":0,"cell_chars":16384,"cell_head_chars":4096},"cells_cut":0,"cells_raw":0,"read":"whole","date_system":"1900"}

{"sheet":"PORTADA","index":0,"n_rows":51,"n_cols":15,"rows_kept":51,"cut":false,"hidden":false,"merged":[]}
[]
[]
[]
[]
[null,null,null,null,null,null,null,null,null,null,null,null,null,null,"ENDAVANT"]
[]
[]
[]
[]
[]
[]
[]
[]
[]
[]
[]
[]
[]
[]
[]
[]
[]
[]
[]
[]
[]
[]
[]
[]
[]
[null,null,null,null,null,"INTRUCCIONS BÀSIQUES"]
[]
[null,null,null,null,null,"CODI DE COLORS ",null,null,"DADES A INTRODUIR PER L'USUARI"]
[null,null,null,null,null,null,null,null,"DADES DE SORTIDA O RESULTATS"]
[null,null,null,null,null,null,null,null,"DADES FIXADES"]
[null,null,null,null,null,null,null,null,"CÀLCULS"]
[null,null,null,null,null,null,null,null,"ÀREES D'INCENDI POSSIBLES"]
[null,null,null,null,null,null,null,null,"ÀREES D'INCENDI NO POSSIBLES"]
[]
[null,null,null,null,null,"ACCIONS"]
[]
[null,null,null,null,null,null,null,null,"CANVI A LA SEGÜENT PESTANYA"]
[]
[null,null,null,null,null,null,null,"ENDAVANT"]
[]
[]
[null,null,null,null,null,null,null,null,"CANVI A LA PESTANYA ANTERIOR"]
[]
[null,null,null,null,null,null,null,"ENDARRERE"]
[]
[null,null,null,null,null,null,null,null,"ACTIVACIÓ DE LES MACROS VISUAL BASIC"]

{"sheet":"Escenaris","index":1,"n_rows":81,"n_cols":19,"rows_kept":81,"cut":false,"hidden":false,"merged":[]}
[]
[]
[]
[null,null,null,null,null,null,null,null,null,null,null,null,"ENDARRERE","ENDAVANT"]
[]
[null,null,null,"Dimensions del magatzem [m2]",null,null,"NIVELL DE PROTECCIÓ 1",null,null,"f20m2 [any-1]","fAm2 [any-1]"]
[null,null,null,"Àrea [m2]",600,null,"1. Ruixadors automàtics",null,null,{"$f":"IF(G7=D12,E41,\"-\")","v":"-"},{"$f":"IF(G7=D12,IF(E7<=50,K41,K40),\"-\")","v":"-"}]
[null,null,null,"Alçada [m]",6,null,"2. Ruixadors automàtics en racks",null,null,{"$f":"IF(G8=D12,E45,\"-\")","v":"-"},{"$f":"IF(G8=D12,IF(E7<=50,K45,K44),\"-\")","v":"-"}]
[null,null,null,"Volum [m3]",{"$f":"E7*E8","v":3600},null,"3. Sistema automàtic de diluvi",null,null,{"$f":"IF(G9=D12,E49,\"-\")","v":"-"},{"$f":"IF(G9=D12,IF(E7<=50,K49,K48),\"-\")","v":"-"}]
[null,null,null,"Sistema de protecció",null,null,"4. Gas inert",null,null,{"$f":"IF(G10=D12,E52,\"-\")","v":"-"},{"$f":"IF(G10=D12,K52,\"-\")","v":"-"}]
[null,null,null,"Selecciona el sistema de protecció:",null,null,"5. Escuma d'alta expansió",null,null,{"$f":"IF(G11=D12,E55,\"-\")","v":"-"},{"$f":"IF(G11=D12,K55,\"-\")","v":"-"}]
[null,null,null,"6. Escuma amb aire comprimit",null,null,"6. Escuma amb aire comprimit",null,null,{"$f":"IF(G12=D12,E59,\"-\")","v":7.6753600000000009E-4},{"$f":"IF(G12=D12,IF(E7<=50,K59,K58),\"-\")","v":7.9200000000000008E-8}]
[null,null,null,"Nivell de protecció",null,null,"7. Equip de bombers. Canonada seca",null,null,{"$f":"IF(G13=D12,E63,\"-\")","v":"-"},{"$f":"IF(G13=D12,IF(E7<=50,K63,K62),\"-\")","v":"-"}]
[null,null,null,"Selecciona el nivell de protecció:",null,null,"8. Equip de bombers. Hidrants",null,null,{"$f":"IF(G14=D12,M41,\"-\")","v":"-"},{"$f":"IF(G14=D12,IF(E7<=50,S41,S40),\"-\")","v":"-"}]
[null,null,null,"Nivell de protecció 1",null,null,"9. Equip de bombers. Sistemes de pols",null,null,{"$f":"IF(G15=D12,M45,\"-\")","v":"-"},{"$f":"IF(G15=D12,IF(E7<=50,S45,S44),\"-\")","v":"-"}]
[null,null,null,"Freqüència [any-1]",{"$f":"(IF(D15=N70,0.00018,0.00088))","v":8.8000000000000003E-4},null,"10. Equip de bombers. Extintors",null,null,{"$f":"IF(G16=D12,M48,\"-\")","v":"-"},{"$f":"IF(G16=D12,S48,\"-\")","v":"-"}]
[null,null,null,"Tancament de portes"]
[null,null,null,"selecciona el sistema de tancament de portes:",null,null,"NIVELL DE PROTECCIÓ 2"]
[null,null,null,"totalment automàtic",null,null,"11. Embalatges sintètics (t< 6 min)",null,null,{"$f":"IF(G19=D12,M52,\"-\")","v":"-"},{"$f":"IF(G19=D12,S52,\"-\")","v":"-"}]
[null,null,null,"Factor de ventilació              F=4","F=∞",null,"12. Embalatges no sintètics (t< 6 min)",null,null,{"$f":"IF(G20=D12,M55,\"-\")","v":"-"},{"$f":"IF(G20=D12,S55,\"-\")","v":"-"}]
[null,null,null,"Factor corrector [-]",null,null,"13. Embalatges sintètics (t< 15 min)",null,null,{"$f":"IF(G21=D12,M58,\"-\")","v":"-"},{"$f":"IF(G21=D12,S58,\"-\")","v":"-"}]
[null,null,null,{"$f":"1-E22","v":0.98},{"$f":"IF(D19=N75,0.02,0.1)","v":0.02},null,"14. Embalatges no sintètics (t<15 min)",null,null,{"$f":"IF(G22=D12,M61,\"-\")","v":"-"},{"$f":"IF(G22=D12,S61,\"-\")","v":"-"}]
[]
[null,null,null,null,null,null,"NIVELL DE PROTECCIÓ 3"]
[null,null,null,null,null,null,"Sistema 15",null,null,{"$f":"IF(G25=D12,M65,\"-\")","v":"-"},{"$f":"IF(G25=D12,S65,\"-\")","v":"-"}]
[]
[]
[]
[]
[]
[]
[]
[]
[]
[]
[null,null,null,"Àrea d'incendi",20,50,100,300,600,900,{"$f":"E7","v":600},"Àrea d'incendi",20,50,100,300,600,900,{"$f":"E7","v":600}]
[null,null,null,"NIVELL DE PROTECCIÓ 1",null,null,null,null,null,null,null,"NIVELL DE PROTECCIÓ 1"]
[null,null,null,"1. Ruixadors automàtics",null,null,null,null,"VÀLID",{"$f":"IF($D$38=$D$12,\"OK\",\"KO\")","v":"KO"},{"$f":"J38","v":"KO"},"8. Equip de bombers. Hidrants",null,null,null,null,"VÀLID",{"$f":"IF($L$38=$D$12,\"OK\",\"KO\")","v":"KO"},{"$f":"R38","v":"KO"}]
[null,null,null,"Probabilitats",0.45,{"$f":"1-$E39","v":0.55000000000000004},{"$f":"1-$E39","v":0.55000000000000004},{"$f":"1-$E39","v":0.55000000000000004},{"$f":"1-$E39","v":0.55000000000000004},{"$f":"1-$E39","v":0.55000000000000004},{"$f":"MAX(G67:M67)","v":0.55000000000000004},"Probabilitats",0.35,0.45,0.1,0.05,{"$f":"(R39*(I36-H$36)+P39*(J$36-I36))/(J$36-H$36)","v":4.4999999999999998E-2},0.04,{"$f":"((1-M39)+MAX(G74:M74))/2","v":0.34750000000000003}]
[null,null,null,"Freqüència (F=∞)",{"$f":"E39*$E$16*$E$22","v":7.9200000000000004E-6},{"$f":"F39*$E$16*$E$22","v":9.6800000000000005E-6},9.6800000000000005E-6,9.6800000000000005E-6,9.6800000000000005E-6,9.6800000000000005E-6,9.6800000000000005E-6,"Freqüència (F=∞)",{"$f":"M39*$E$16*$E$22","v":6.1600000000000003E-6},{"$f":"N39*$E$16*$E$22","v":7.9200000000000004E-6},{"$f":"O39*$E$16*$E$22","v":1.7600000000000003E-6},{"$f":"P39*$E$16*$E$22","v":8.8000000000000015E-7},{"$f":"Q39*$E$16*$E$22","v":7.92E-7},{"$f":"R39*$E$16*$E$22","v":7.0400000000000006E-7},{"$f":"S39*$E$16*$E$22","v":6.1160000000000012E-6}]
[null,null,null,"Freqüència (F=4)",{"$f":"E39*$E$16*$D$22","v":3.8808000000000001E-4},{"$f":"F39*$E$16*$D$22","v":4.7432000000000003E-4},4.7432000000000003E-4,4.7432000000000003E-4,4.7432000000000003E-4,4.7432000000000003E-4,4.7432000000000003E-4,"Freqüència (F=4)",{"$f":"M39*$E$16*$D$22","v":3.0184E-4},{"$f":"N39*$E$16*$D$22","v":3.8808000000000001E-4},8.6240000000000015E-5,4.3120000000000007E-5,3.8807999999999998E-5,3.4496000000000003E-5,2.9968400000000004E-4]
[null,null,null,"2. Ruixadors automàtics en racks",null,null,null,null,"VÀLID",{"$f":"IF($D$42=$D$12,\"OK\",\"KO\")","v":"KO"},{"$f":"J42","v":"KO"},"9. Equip de bombers. Sistemes de pols",null,null,null,null,"VÀLID",{"$f":"IF($L$42=$D$12,\"OK\",\"KO\")","v":"KO"},{"$f":"R42","v":"KO"}]
[null,null,null,"Probabilitats",0.63,{"$f":"1-$E43","v":0.37},{"$f":"1-$E43","v":0.37},{"$f":"1-$E43","v":0.37},{"$f":"1-$E43","v":0.37},{"$f":"1-$E43","v":0.37},{"$f":"MAX(G68:M68)","v":0.37},"Probabilitats",0.2,0.2,0.3,0.25,{"$f":"(R43*(I$36-H$36)+P43*(J$36-I$36))/(J$36-H$36)","v":0.22500000000000001},0.2,{"$f":"MAX(G75:M75)","v":0.22500000000000001}]
[null,null,null,"Freqüència (F=∞)",{"$f":"E43*$E$16*$E$22","v":1.1088000000000001E-5},{"$f":"F43*$E$16*$E$22","v":6.5120000000000005E-6},{"$f":"G43*$E$16*$E$22","v":6.5120000000000005E-6},{"$f":"H43*$E$16*$E$22","v":6.5120000000000005E-6},{"$f":"I43*$E$16*$E$22","v":6.5120000000000005E-6},{"$f":"J43*$E$16*$E$22","v":6.5120000000000005E-6},{"$f":"K43*$E$16*$E$22","v":6.5120000000000005E-6},"Freqüència (F=∞)",{"$f":"M43*$E$16*$E$22","v":3.5200000000000006E-6},{"$f":"N43*$E$16*$E$22","v":3.5200000000000006E-6},{"$f":"O43*$E$16*$E$22","v":5.2800000000000003E-6},{"$f":"P43*$E$16*$E$22","v":4.4000000000000002E-6},{"$f":"Q43*$E$16*$E$22","v":3.9600000000000002E-6},{"$f":"R43*$E$16*$E$22","v":3.5200000000000006E-6},{"$f":"S43*$E$16*$E$22","v":3.9600000000000002E-6}]
[null,null,null,"Freqüència (F=4)",{"$f":"E43*$E$16*$D$22","v":5.4331200000000001E-4},{"$f":"F43*$E$16*$D$22","v":3.1908799999999998E-4},3.1908799999999998E-4,3.1908799999999998E-4,3.1908799999999998E-4,3.1908799999999998E-4,3.1908799999999998E-4,"Freqüència (F=4)",{"$f":"M43*$E$16*$D$22","v":1.7248000000000003E-4},{"$f":"N43*$E$16*$D$22","v":1.7248000000000003E-4},2.5871999999999999E-4,2.1560000000000001E-4,1.9404000000000001E-4,1.7248000000000003E-4,1.9404000000000001E-4]
[null,null,null,"3. Sistema automàtic de diluvi",null,null,null,null,"VÀLID",{"$f":"IF($D$46=$D$12,\"OK\",\"KO\")","v":"KO"},{"$f":"J46","v":"KO"},"10. Equip de bombers. Extintors",null,null,null,null,"VÀLID",{"$f":"IF($L$46=$D$12,\"OK\",\"KO\")","v":"KO"},{"$f":"R46","v":"KO"}]
[null,null,null,"Probabilitats",0.63,{"$f":"1-$E47","v":0.37},{"$f":"1-$E47","v":0.37},{"$f":"1-$E47","v":0.37},{"$f":"1-$E47","v":0.37},{"$f":"1-$E47","v":0.37},{"$f":"MAX(G69:M69)","v":0.37},"Probabilitats",0.2,0.2,0.3,0.28000000000000003,{"$f":"(R47*(I$36-H$36)+P47*(J$36-I$36))/(J$36-H$36)","v":0.22},0.16,{"$f":"MAX(G76:M76)","v":0.22}]
[null,null,null,"Freqüència (F=∞)",{"$f":"E47*$E$16*$E$22","v":1.1088000000000001E-5},{"$f":"F47*$E$16*$E$22","v":6.5120000000000005E-6},{"$f":"G47*$E$16*$E$22","v":6.5120000000000005E-6},{"$f":"H47*$E$16*$E$22","v":6.5120000000000005E-6},{"$f":"I47*$E$16*$E$22","v":6.5120000000000005E-6},{"$f":"J47*$E$16*$E$22","v":6.5120000000000005E-6},{"$f":"K47*$E$16*$E$22","v":6.5120000000000005E-6},"Freqüència (F=∞)",{"$f":"M47*$E$16","v":1.7600000000000002E-4},1.7600000000000002E-4,2.6400000000000002E-4,2.4640000000000003E-4,1.9360000000000002E-4,1.4080000000000001E-4,1.9360000000000002E-4]
[null,null,null,"Freqüència (F=4)",{"$f":"E47*$E$16*$D$22","v":5.4331200000000001E-4},{"$f":"F47*$E$16*$D$22","v":3.1908799999999998E-4},3.1908799999999998E-4,3.1908799999999998E-4,3.1908799999999998E-4,3.1908799999999998E-4,3.1908799999999998E-4,"NIVELL DE PROTECCIÓ 2"]
[null,null,null,"4. Gas inert",null,null,null,null,"VÀLID",{"$f":"IF($D$50=$D$12,\"OK\",\"KO\")","v":"KO"},{"$f":"J50","v":"KO"},"11. Embalatges sintètics (t< 6 min)",null,null,null,null,"VÀLID",{"$f":"IF($L$50=$D$12,\"OK\",\"KO\")","v":"KO"},{"$f":"R50","v":"KO"}]
[null,null,null,"Probabilitats",0.99,{"$f":"1-$E51","v":1.0000000000000009E-2},{"$f":"1-$E51","v":1.0000000000000009E-2},{"$f":"1-$E51","v":1.0000000000000009E-2},{"$f":"1-$E51","v":1.0000000000000009E-2},{"$f":"1-$E51","v":1.0000000000000009E-2},{"$f":"MAX(G70:M70)","v":1.0000000000000009E-2},"Probabilitats",0.72,0.72,0.72,0.72,{"$f":"(R51*(I$36-H$36)+P51*(J$36-I$36))/(J$36-H$36)","v":0.5},0.28000000000000003,{"$f":"MAX(G77:M77)","v":0.5}]
[null,null,null,"Freqüència",{"$f":"E$51*$E$16","v":8.7120000000000003E-4},8.8000000000000089E-6,8.8000000000000089E-6,8.8000000000000089E-6,8.8000000000000089E-6,8.8000000000000089E-6,8.8000000000000089E-6,"Freqüència (F=∞)",{"$f":"M51*$E$16","v":6.3360000000000001E-4},6.3360000000000001E-4,6.3360000000000001E-4,6.3360000000000001E-4,4.4000000000000002E-4,2.4640000000000003E-4,4.4000000000000002E-4]
[null,null,null,"5. Escuma d'alta expansió",null,null,null,null,"VÀLID",{"$f":"IF($D$53=$D$12,\"OK\",\"KO\")","v":"KO"},{"$f":"J53","v":"KO"},"12. Embalatges no sintètics (t< 6 min)",null,null,null,null,"VÀLID",{"$f":"IF($L$53=$D$12,\"OK\",\"KO\")","v":"KO"},{"$f":"R53","v":"KO"}]
[null,null,null,"Probabilitats",0.89,0.09,0.01,5.0000000000000001E-3,{"$f":"(J54*(I$36-H$36)+H54*(J$36-I$36))/(J$36-H$36)","v":4.5000000000000005E-3},4.0000000000000001E-3,{"$f":"MAX(G71:M71)","v":4.5000000000000005E-3},"Probabilitats",0.2,0.2,0.3,0.28000000000000003,{"$f":"(R54*(I$36-H$36)+P54*(J$36-I$36))/(J$36-H$36)","v":0.22},0.16,{"$f":"MAX(G78:M78)","v":0.22}]
[null,null,null,"Freqüència (F=∞)",{"$f":"E54*$E$16","v":7.8320000000000006E-4},7.9200000000000001E-5,8.8000000000000004E-6,4.4000000000000002E-6,3.9600000000000002E-6,3.5200000000000002E-6,3.9600000000000002E-6,"Freqüència (F=∞)",{"$f":"M54*$E$16","v":1.7600000000000002E-4},1.7600000000000002E-4,2.6400000000000002E-4,2.4640000000000003E-4,1.9360000000000002E-4,1.4080000000000001E-4,1.9360000000000002E-4]
[null,null,null,"6. Escuma amb aire comprimit",null,null,null,null,"VÀLID",{"$f":"IF($D$56=$D$12,\"OK\",\"KO\")","v":"OK"},{"$f":"J56","v":"OK"},"13. Embalatges sintètics (t< 15 min)",null,null,null,null,"VÀLID",{"$f":"IF($L$56=$D$12,\"OK\",\"KO\")","v":"KO"},{"$f":"R56","v":"KO"}]
[null,null,null,"Probabilitats",0.89,0.09,0.01,5.0000000000000001E-3,{"$f":"(J57*(I$36-H$36)+H57*(J$36-I$36))/(J$36-H$36)","v":4.5000000000000005E-3},4.0000000000000001E-3,{"$f":"MAX(G72:M72)","v":4.5000000000000005E-3},"Probabilitats",0.55000000000000004,0.55000000000000004,0.55000000000000004,0.55000000000000004,{"$f":"(R57*(I$36-H$36)+P57*(J$36-I$36))/(J$36-H$36)","v":0.5},0.45,{"$f":"MAX(G79:M79)","v":0.5}]
[null,null,null,"Freqüència (F=∞)",{"$f":"E57*$E$16*$E$22","v":1.5664000000000001E-5},{"$f":"F57*$E$16*$E$22","v":1.584E-6},{"$f":"G57*$E$16*$E$22","v":1.7600000000000001E-7},{"$f":"H57*$E$16*$E$22","v":8.8000000000000007E-8},{"$f":"I57*$E$16*$E$22","v":7.9200000000000008E-8},{"$f":"J57*$E$16*$E$22","v":7.0400000000000008E-8},{"$f":"K57*$E$16*$E$22","v":7.9200000000000008E-8},"Freqüència (F=∞)",{"$f":"M57*$E$16","v":4.8400000000000006E-4},4.8400000000000006E-4,4.8400000000000006E-4,4.8400000000000006E-4,4.4000000000000002E-4,3.9600000000000003E-4,4.4000000000000002E-4]
[null,"1. Ruixadors automàtics",null,"Freqüència (F=4)",{"$f":"E57*$E$16*$D$22","v":7.6753600000000009E-4},{"$f":"F57*$E$16*$D$22","v":7.7615999999999997E-5},8.6240000000000008E-6,4.3120000000000004E-6,3.8808000000000002E-6,3.4496E-6,3.8808000000000002E-6,"14. Embalatges no sintètics (t<15 min)",null,null,null,null,"VÀLID",{"$f":"IF($L$59=$D$12,\"OK\",\"KO\")","v":"KO"},{"$f":"R59","v":"KO"}]
[null,"2. Ruixadors automàtics en racks",null,"7. Equip de bombers. Canonada seca",null,null,null,null,"VÀLID",{"$f":"IF($D$60=$D$12,\"OK\",\"KO\")","v":"KO"},{"$f":"J60","v":"KO"},"Probabilitats",0.78,0.78,0.78,0.78,{"$f":"(R60*(I$36-H$36)+P60*(J$36-I$36))/(J$36-H$36)","v":0.47},0.16,{"$f":"MAX(G80:M80)","v":0.47}]
[null,"3. sistema automàtic de diluvi",null,"Probabilitats",0.1,0.1,0.6,0.6,0.4,0.4,{"$f":"MAX(G73:M73)","v":0.4},"Freqüència (F=∞)",{"$f":"M60*$E$16","v":6.864000000000001E-4},6.864000000000001E-4,6.864000000000001E-4,6.864000000000001E-4,4.1359999999999997E-4,1.4080000000000001E-4,4.1359999999999997E-4]
[null,"4. Gas inert",null,"Freqüència (F=∞)",{"$f":"E61*$E$16*$E$22","v":1.7600000000000003E-6},{"$f":"F61*$E$16*$E$22","v":1.7600000000000003E-6},{"$f":"G61*$E$16*$E$22","v":1.0560000000000001E-5},{"$f":"H61*$E$16*$E$22","v":1.0560000000000001E-5},{"$f":"I61*$E$16*$E$22","v":7.0400000000000012E-6},{"$f":"J61*$E$16*$E$22","v":7.0400000000000012E-6},{"$f":"K61*$E$16*$E$22","v":7.0400000000000012E-6},"NIVELL DE PROTECCIÓ 3"]
[null,"5. Escuma d'alta expansió",null,"Freqüència (F=4)",{"$f":"E61*$E$16*$D$22","v":8.6240000000000015E-5},{"$f":"F61*$E$16*$D$22","v":8.6240000000000015E-5},5.1743999999999998E-4,5.1743999999999998E-4,3.4496000000000006E-4,3.4496000000000006E-4,3.4496000000000006E-4,"Sistema 15",null,null,null,null,"VÀLID",{"$f":"IF($L$63=$D$12,\"OK\",\"KO\")","v":"KO"},{"$f":"R63","v":"KO"}]
[null,"6. Escuma amb aire comprimit",null,null,null,null,null,null,null,null,null,"Probabilitats",0.78,0.78,0.78,0.78,{"$f":"(R64*(I$36-H$36)+P64*(J$36-I$36))/(J$36-H$36)","v":0.47},0.16,{"$f":"MAX(G81:M81)","v":0.47}]
[null,null,null,null,4,null,null,null,null,null,null,"Freqüència (F=∞)",{"$f":"M64*$E$16","v":6.864000000000001E-4},6.864000000000001E-4,6.864000000000001E-4,6.864000000000001E-4,4.1359999999999997E-4,1.4080000000000001E-4,4.1359999999999997E-4]
[null,null,null,null,null,null,null,null,null,null,null,null,{"$f":"MAX(J7:J16,J19:J22,J25)","v":7.6753600000000009E-4},{"$f":"MAX(K7:K16,K19:K22,K25)","v":7.9200000000000008E-8}]
[null,null,null,"1. Ruixadors automàtics",null,null,{"$f":"(IF(E$7<=E$36,E39,\"NO\"))","v":"NO"},{"$f":"(IF(AND(E$7>=E$36,E$7<=F$36),(F39*(E$7-E$36)+E39*(F$36-E$7))/(F$36-E$36),\"NO\"))","v":"NO"},{"$f":"(IF(AND(E$7>=F$36,E$7<=G$36),(G39*(E$7-F$36)+F39*(G$36-E$7))/(G$36-F$36),\"NO\"))","v":"NO"},{"$f":"(IF(AND(E$7>=G$36,E$7<=H$36),(H39*(E$7-G$36)+G39*(H$36-E$7))/(H$36-G$36),\"NO\"))","v":"NO"},{"$f":"(IF(AND(E$7>=H$36,E$7<=I$36),(I39*(E$7-H$36)+H39*(I$36-E$7))/(I$36-H$36),\"NO\"))","v":0.55000000000000004},{"$f":"(IF(AND(E$7>=I$36,E$7<=J$36),(J39*(E$7-I$36)+I39*(J$36-E$7))/(J$36-I$36),\"NO\"))","v":0.55000000000000004},{"$f":"(IF(E$7>=J$36,J39,\"NO\"))","v":"NO"}]
[null,null,null,"2. Ruixadors automàtics en racks",null,null,{"$f":"(IF(E$7<=E$36,E43,\"NO\"))","v":"NO"},{"$f":"(IF(AND(E$7>=E$36,E$7<=F$36),(F43*(E$7-E$36)+E43*(F$36-E$7))/(F$36-E$36),\"NO\"))","v":"NO"},{"$f":"(IF(AND(E$7>=F$36,E$7<=G$36),(G43*(E$7-F$36)+F43*(G$36-E$7))/(G$36-F$36),\"NO\"))","v":"NO"},{"$f":"(IF(AND(E$7>=G$36,E$7<=H$36),(H43*(E$7-G$36)+G43*(H$36-E$7))/(H$36-G$36),\"NO\"))","v":"NO"},{"$f":"(IF(AND(E$7>=H$36,E$7<=I$36),(I43*(E$7-H$36)+H43*(I$36-E$7))/(I$36-H$36),\"NO\"))","v":0.37},{"$f":"(IF(AND(E$7>=I$36,E$7<=J$36),(J43*(E$7-I$36)+I43*(J$36-E$7))/(J$36-I$36),\"NO\"))","v":0.37},{"$f":"(IF(E$7>=J$36,J43,\"NO\"))","v":"NO"},"Nivell de protecció 1"]
[null,null,null,"3. Sistema automàtic de diluvi",null,null,{"$f":"(IF(E$7<=E$36,E47,\"NO\"))","v":"NO"},{"$f":"(IF(AND(E$7>=E$36,E$7<=F$36),(F47*(E$7-E$36)+E47*(F$36-E$7))/(F$36-E$36),\"NO\"))","v":"NO"},{"$f":"(IF(AND(E$7>=F$36,E$7<=G$36),(G47*(E$7-F$36)+F47*(G$36-E$7))/(G$36-F$36),\"NO\"))","v":"NO"},{"$f":"(IF(AND(E$7>=G$36,E$7<=H$36),(H47*(E$7-G$36)+G47*(H$36-E$7))/(H$36-G$36),\"NO\"))","v":"NO"},{"$f":"(IF(AND(E$7>=H$36,E$7<=I$36),(I47*(E$7-H$36)+H47*(I$36-E$7))/(I$36-H$36),\"NO\"))","v":0.37},{"$f":"(IF(AND(E$7>=I$36,E$7<=J$36),(J47*(E$7-I$36)+I47*(J$36-E$7))/(J$36-I$36),\"NO\"))","v":0.37},{"$f":"(IF(E$7>=J$36,J47,\"NO\"))","v":"NO"},"Nivell de protecció 2"]
[null,null,null,"4. Gas inert",null,null,{"$f":"(IF(E$7<=E$36,E51,\"NO\"))","v":"NO"},{"$f":"(IF(AND(E$7>=E$36,E$7<=F$36),(F51*(E$7-E$36)+E51*(F$36-E$7))/(F$36-E$36),\"NO\"))","v":"NO"},{"$f":"(IF(AND(E$7>=F$36,E$7<=G$36),(G51*(E$7-F$36)+F51*(G$36-E$7))/(G$36-F$36),\"NO\"))","v":"NO"},{"$f":"(IF(AND(E$7>=G$36,E$7<=H$36),(H51*(E$7-G$36)+G51*(H$36-E$7))/(H$36-G$36),\"NO\"))","v":"NO"},{"$f":"(IF(AND(E$7>=H$36,E$7<=I$36),(I51*(E$7-H$36)+H51*(I$36-E$7))/(I$36-H$36),\"NO\"))","v":1.0000000000000009E-2},{"$f":"(IF(AND(E$7>=I$36,E$7<=J$36),(J51*(E$7-I$36)+I51*(J$36-E$7))/(J$36-I$36),\"NO\"))","v":1.0000000000000009E-2},{"$f":"(IF(E$7>=J$36,J51,\"NO\"))","v":"NO"},"Nivell de protecció 3"]
[null,null,null,"5. Escuma d'alta expansió",null,null,{"$f":"(IF(E$7<=E$36,E54,\"NO\"))","v":"NO"},{"$f":"(IF(AND(E$7>=E$36,E$7<=F$36),(F54*(E$7-E$36)+E54*(F$36-E$7))/(F$36-E$36),\"NO\"))","v":"NO"},{"$f":"(IF(AND(E$7>=F$36,E$7<=G$36),(G54*(E$7-F$36)+F54*(G$36-E$7))/(G$36-F$36),\"NO\"))","v":"NO"},{"$f":"(IF(AND(E$7>=G$36,E$7<=H$36),(H54*(E$7-G$36)+G54*(H$36-E$7))/(H$36-G$36),\"NO\"))","v":"NO"},{"$f":"(IF(AND(E$7>=H$36,E$7<=I$36),(I54*(E$7-H$36)+H54*(I$36-E$7))/(I$36-H$36),\"NO\"))","v":4.5000000000000005E-3},{"$f":"(IF(AND(E$7>=I$36,E$7<=J$36),(J54*(E$7-I$36)+I54*(J$36-E$7))/(J$36-I$36),\"NO\"))","v":4.5000000000000005E-3},{"$f":"(IF(E$7>=J$36,J54,\"NO\"))","v":"NO"}]
[null,null,null,"6. Escuma amb aire comprimit",null,null,{"$f":"(IF(E$7<=E$36,E57,\"NO\"))","v":"NO"},{"$f":"(IF(AND(E$7>=E$36,E$7<=F$36),(F57*(E$7-E$36)+E57*(F$36-E$7))/(F$36-E$36),\"NO\"))","v":"NO"},{"$f":"(IF(AND(E$7>=F$36,E$7<=G$36),(G57*(E$7-F$36)+F57*(G$36-E$7))/(G$36-F$36),\"NO\"))","v":"NO"},{"$f":"(IF(AND(E$7>=G$36,E$7<=H$36),(H57*(E$7-G$36)+G57*(H$36-E$7))/(H$36-G$36),\"NO\"))","v":"NO"},{"$f":"(IF(AND(E$7>=H$36,E$7<=I$36),(I57*(E$7-H$36)+H57*(I$36-E$7))/(I$36-H$36),\"NO\"))","v":4.5000000000000005E-3},{"$f":"(IF(AND(E$7>=I$36,E$7<=J$36),(J57*(E$7-I$36)+I57*(J$36-E$7))/(J$36-I$36),\"NO\"))","v":4.5000000000000005E-3},{"$f":"(IF(E$7>=J$36,J57,\"NO\"))","v":"NO"},4]
[null,null,null,"7. Equip de bombers. Canonada seca",null,null,{"$f":"(IF(E$7<=E$36,E61,\"NO\"))","v":"NO"},{"$f":"(IF(AND(E$7>=E$36,E$7<=F$36),(F61*(E$7-E$36)+E61*(F$36-E$7))/(F$36-E$36),\"NO\"))","v":"NO"},{"$f":"(IF(AND(E$7>=F$36,E$7<=G$36),(G61*(E$7-F$36)+F61*(G$36-E$7))/(G$36-F$36),\"NO\"))","v":"NO"},{"$f":"(IF(AND(E$7>=G$36,E$7<=H$36),(H61*(E$7-G$36)+G61*(H$36-E$7))/(H$36-G$36),\"NO\"))","v":"NO"},{"$f":"(IF(AND(E$7>=H$36,E$7<=I$36),(I61*(E$7-H$36)+H61*(I$36-E$7))/(I$36-H$36),\"NO\"))","v":0.4},{"$f":"(IF(AND(E$7>=I$36,E$7<=J$36),(J61*(E$7-I$36)+I61*(J$36-E$7))/(J$36-I$36),\"NO\"))","v":0.4},{"$f":"(IF(E$7>=J$36,J61,\"NO\"))","v":"NO"},"infinit"]
[null,null,null,"8. Equip de bombers. Hidrants",null,null,{"$f":"(IF(E$7<=E$36,M39,\"NO\"))","v":"NO"},{"$f":"(IF(AND(E$7>=E$36,E$7<=F$36),(N39*(E$7-E$36)+M39*(F$36-E$7))/(F$36-E$36),\"NO\"))","v":"NO"},{"$f":"(IF(AND(E$7>=F$36,E$7<=G$36),(O39*(E$7-F$36)+N39*(G$36-E$7))/(G$36-F$36),\"NO\"))","v":"NO"},{"$f":"(IF(AND(E$7>=G$36,E$7<=H$36),(P39*(E$7-G$36)+O39*(H$36-E$7))/(H$36-G$36),\"NO\"))","v":"NO"},{"$f":"(IF(AND(E$7>=H$36,E$7<=I$36),(Q39*(E$7-H$36)+P39*(I$36-E$7))/(I$36-H$36),\"NO\"))","v":4.4999999999999998E-2},{"$f":"(IF(AND(E$7>=I$36,E$7<=J$36),(R39*(E$7-I$36)+Q39*(J$36-E$7))/(J$36-I$36),\"NO\"))","v":4.4999999999999998E-2},{"$f":"(IF(E$7>=J$36,R39,\"NO\"))","v":"NO"}]
[null,null,null,"9. Equip de bombers. Sistemes de pols",null,null,{"$f":"(IF(E$7<=E$36,M43,\"NO\"))","v":"NO"},{"$f":"(IF(AND(E$7>=E$36,E$7<=F$36),(N43*(E$7-E$36)+M43*(F$36-E$7))/(F$36-E$36),\"NO\"))","v":"NO"},{"$f":"(IF(AND(E$7>=F$36,E$7<=G$36),(O43*(E$7-F$36)+N43*(G$36-E$7))/(G$36-F$36),\"NO\"))","v":"NO"},{"$f":"(IF(AND(E$7>=G$36,E$7<=H$36),(P43*(E$7-G$36)+O43*(H$36-E$7))/(H$36-G$36),\"NO\"))","v":"NO"},{"$f":"(IF(AND(E$7>=H$36,E$7<=I$36),(Q43*(E$7-H$36)+P43*(I$36-E$7))/(I$36-H$36),\"NO\"))","v":0.22500000000000001},{"$f":"(IF(AND(E$7>=I$36,E$7<=J$36),(R43*(E$7-I$36)+Q43*(J$36-E$7))/(J$36-I$36),\"NO\"))","v":0.22500000000000001},{"$f":"(IF(E$7>=J$36,R43,\"NO\"))","v":"NO"},"totalment automàtic"]
[null,null,null,"10. Equip de bombers. extintors",null,null,{"$f":"(IF(E$7<=E$36,M47,\"NO\"))","v":"NO"},{"$f":"(IF(AND(E$7>=E$36,E$7<=F$36),(N47*(E$7-E$36)+M47*(F$36-E$7))/(F$36-E$36),\"NO\"))","v":"NO"},{"$f":"(IF(AND(E$7>=F$36,E$7<=G$36),(O47*(E$7-F$36)+N47*(G$36-E$7))/(G$36-F$36),\"NO\"))","v":"NO"},{"$f":"(IF(AND(E$7>=G$36,E$7<=H$36),(P47*(E$7-G$36)+O47*(H$36-E$7))/(H$36-G$36),\"NO\"))","v":"NO"},{"$f":"(IF(AND(E$7>=H$36,E$7<=I$36),(Q47*(E$7-H$36)+P47*(I$36-E$7))/(I$36-H$36),\"NO\"))","v":0.22},{"$f":"(IF(AND(E$7>=I$36,E$7<=J$36),(R47*(E$7-I$36)+Q47*(J$36-E$7))/(J$36-I$36),\"NO\"))","v":0.22},{"$f":"(IF(E$7>=J$36,R47,\"NO\"))","v":"NO"},"parcialment automàtic"]
[null,null,null,"11. Embalatges sintètics (t< 6 min)",null,null,{"$f":"(IF(E$7<=E$36,M51,\"NO\"))","v":"NO"},{"$f":"(IF(AND(E$7>=E$36,E$7<=F$36),(N51*(E$7-E$36)+M51*(F$36-E$7))/(F$36-E$36),\"NO\"))","v":"NO"},{"$f":"(IF(AND(E$7>=F$36,E$7<=G$36),(O51*(E$7-F$36)+N51*(G$36-E$7))/(G$36-F$36),\"NO\"))","v":"NO"},{"$f":"(IF(AND(E$7>=G$36,E$7<=H$36),(P51*(E$7-G$36)+O51*(H$36-E$7))/(H$36-G$36),\"NO\"))","v":"NO"},{"$f":"(IF(AND(E$7>=H$36,E$7<=I$36),(Q51*(E$7-H$36)+P51*(I$36-E$7))/(I$36-H$36),\"NO\"))","v":0.5},{"$f":"(IF(AND(E$7>=I$36,E$7<=J$36),(R51*(E$7-I$36)+Q51*(J$36-E$7))/(J$36-I$36),\"NO\"))","v":0.5},{"$f":"(IF(E$7>=J$36,R51,\"NO\"))","v":"NO"}]
[null,null,null,"12. Embalatges no sintètics (t< 6 min)",null,null,{"$f":"(IF(E$7<=E$36,M54,\"NO\"))","v":"NO"},{"$f":"(IF(AND(E$7>=E$36,E$7<=F$36),(N54*(E$7-E$36)+M54*(F$36-E$7))/(F$36-E$36),\"NO\"))","v":"NO"},{"$f":"(IF(AND(E$7>=F$36,E$7<=G$36),(O54*(E$7-F$36)+N54*(G$36-E$7))/(G$36-F$36),\"NO\"))","v":"NO"},{"$f":"(IF(AND(E$7>=G$36,E$7<=H$36),(P54*(E$7-G$36)+O54*(H$36-E$7))/(H$36-G$36),\"NO\"))","v":"NO"},{"$f":"(IF(AND(E$7>=H$36,E$7<=I$36),(Q54*(E$7-H$36)+P54*(I$36-E$7))/(I$36-H$36),\"NO\"))","v":0.22},{"$f":"(IF(AND(E$7>=I$36,E$7<=J$36),(R54*(E$7-I$36)+Q54*(J$36-E$7))/(J$36-I$36),\"NO\"))","v":0.22},{"$f":"(IF(E$7>=J$36,R54,\"NO\"))","v":"NO"}]
[null,null,null,"13. Embalatges sintètics (t< 15 min)",null,null,{"$f":"(IF(E$7<=E$36,M57,\"NO\"))","v":"NO"},{"$f":"(IF(AND(E$7>=E$36,E$7<=F$36),(N57*(E$7-E$36)+M57*(F$36-E$7))/(F$36-E$36),\"NO\"))","v":"NO"},{"$f":"(IF(AND(E$7>=F$36,E$7<=G$36),(O57*(E$7-F$36)+N57*(G$36-E$7))/(G$36-F$36),\"NO\"))","v":"NO"},{"$f":"(IF(AND(E$7>=G$36,E$7<=H$36),(P57*(E$7-G$36)+O57*(H$36-E$7))/(H$36-G$36),\"NO\"))","v":"NO"},{"$f":"(IF(AND(E$7>=H$36,E$7<=I$36),(Q57*(E$7-H$36)+P57*(I$36-E$7))/(I$36-H$36),\"NO\"))","v":0.5},{"$f":"(IF(AND(E$7>=I$36,E$7<=J$36),(R57*(E$7-I$36)+Q57*(J$36-E$7))/(J$36-I$36),\"NO\"))","v":0.5},{"$f":"(IF(E$7>=J$36,R57,\"NO\"))","v":"NO"}]
[null,null,null,"14. Embalatges no sintètics (t<15 min)",null,null,{"$f":"(IF(E$7<=E$36,M60,\"NO\"))","v":"NO"},{"$f":"(IF(AND(E$7>=E$36,E$7<=F$36),(N60*(E$7-E$36)+M60*(F$36-E$7))/(F$36-E$36),\"NO\"))","v":"NO"},{"$f":"(IF(AND(E$7>=F$36,E$7<=G$36),(O60*(E$7-F$36)+N60*(G$36-E$7))/(G$36-F$36),\"NO\"))","v":"NO"},{"$f":"(IF(AND(E$7>=G$36,E$7<=H$36),(P60*(E$7-G$36)+O60*(H$36-E$7))/(H$36-G$36),\"NO\"))","v":"NO"},{"$f":"(IF(AND(E$7>=H$36,E$7<=I$36),(Q60*(E$7-H$36)+P60*(I$36-E$7))/(I$36-H$36),\"NO\"))","v":0.47},{"$f":"(IF(AND(E$7>=I$36,E$7<=J$36),(R60*(E$7-I$36)+Q60*(J$36-E$7))/(J$36-I$36),\"NO\"))","v":0.47},{"$f":"(IF(E$7>=J$36,R60,\"NO\"))","v":"NO"}]
[null,null,null,"Sistema 15",null,null,{"$f":"(IF(E$7<=E$36,M64,\"NO\"))","v":"NO"},{"$f":"(IF(AND(E$7>=E$36,E$7<=F$36),(N64*(E$7-E$36)+M64*(F$36-E$7))/(F$36-E$36),\"NO\"))","v":"NO"},{"$f":"(IF(AND(E$7>=F$36,E$7<=G$36),(O64*(E$7-F$36)+N64*(G$36-E$7))/(G$36-F$36),\"NO\"))","v":"NO"},{"$f":"(IF(AND(E$7>=G$36,E$7<=H$36),(P64*(E$7-G$36)+O64*(H$36-E$7))/(H$36-G$36),\"NO\"))","v":"NO"},{"$f":"(IF(AND(E$7>=H$36,E$7<=I$36),(Q64*(E$7-H$36)+P64*(I$36-E$7))/(I$36-H$36),\"NO\"))","v":0.47},{"$f":"(IF(AND(E$7>=I$36,E$7<=J$36),(R64*(E$7-I$36)+Q64*(J$36-E$7))/(J$36-I$36),\"NO\"))","v":0.47},{"$f":"(IF(E$7>=J$36,R64,\"NO\"))","v":"NO"}]

{"sheet":"Substàncies","index":2,"n_rows":142,"n_cols":22,"rows_kept":142,"cut":false,"hidden":false,"merged":[]}
[]
[]
[]
[]
[null,"ADR classe","substància","Quantitat [t]","Massa molecular [kg/mol]","substància activa","formula molecular","C","H","O","Cl","N","S","P",null,null,null,null,null,"ENDARRERE",null,"ENDAVANT"]
[null,1]
[]
[null,null,null,null,null,null,null,null,null,null,null,null,null,null,null,"FORMULA MOLECULAR MITJA"]
[null,null,null,null,null,null,null,null,null,null,null,null,null,null,null,"C(a)","H(b)","O( c)","Cl(d)","N( e)","S(f)","P(g)"]
[null,null,null,null,null,null,null,null,null,null,null,null,null,null,null,{"$f":"IFERROR(((C142/C84)*$Q23)/($Q17*$S21),0)","v":2.8496420231748676},4.0235552499847209,0.64583868790003174,2.7615458248756299E-2,1.08302317961174,4.8987817850516542E-2,2.4493908925258271E-2]
[null,2]
[null,null,null,null,null,null,null,null,null,null,null,null,null,null,null,"CONTINGUT"]
[null,null,null,null,null,null,null,null,null,null,null,null,null,null,null,"C","H","O","Cl","N","S","P"]
[null,null,null,null,null,null,null,null,null,null,null,null,null,null,null,{"$f":"IFERROR((P10*$C84*$S21)/$Q23*100,0)","v":21.836087833704127},{"$f":"IFERROR((Q10*$D84*$S21)/$Q23*100,0)","v":2.5849062628401591},{"$f":"IFERROR((R10*$E84*$S21)/$Q23*100,0)","v":6.5920767408315486},{"$f":"IFERROR((S10*$F84*$S21)/$Q23*100,0)","v":0.62461240310077515},{"$f":"IFERROR((T10*$G84*$S21)/$Q23*100,0)","v":9.6780584214568535},{"$f":"IFERROR((U10*$H84*$S21)/$Q23*100,0)","v":1.0021002100210019},{"$f":"IFERROR((V10*$I84*$S21)/$Q23*100,0)","v":0.48401715171517157}]
[]
[null,3,"etanol ",10,46.1,1,"C2H5OH",2,6,1,null,null,null,null,null,"MASSA D'INCENDI"]
[null,null,null,null,null,null,null,null,null,null,null,null,null,null,null,null,{"$f":"D62-(SUM(D42:D46))","v":660},"[t]"]
[null,null,null,null,null,null,null,null,null,null,null,null,null,null,null,"MASSA ACTIVA"]
[null,null,null,null,null,null,null,null,null,null,null,null,null,null,null,null,{"$f":"SUM(C142:I142)","v":282.49226955621958},"[t]"]
[null,null,null,null,null,null,null,null,null,null,null,null,null,null,null,"SUBSTÀNCIA ACTIVA"]
[null,4,null,null,null,null,null,null,null,null,null,null,null,null,null,null,{"$f":"IFERROR(SUM(C142:I142)/Q17*100,0)","v":42.801859023669635},"%",{"$f":"Q21*0.01","v":0.42801859023669636}]
[null,null,null,null,null,null,null,null,null,null,null,null,null,null,null,"MASSA MOLECULAR MITJÀ"]
[null,null,null,null,null,null,null,null,null,null,null,null,null,null,null,null,{"$f":"IFERROR(Q19/B142,0)","v":67.089919889525262}," [kg/kmol]"]
[]
[]
[null,5]
[]
[]
[]
[]
[null,6]
[null,"6.1 GE I","etoprofos",250,242.4,0.1,"C8H19O2PS2",8,19,2,null,null,2,1]
[]
[]
[]
[]
[null,"6.1 GE II","TDI",200,174.2,1,"C9H6N2O2",9,6,2,null,2]
[]
[]
[]
[]
[null,"6.1 GE III","criolita",100,209,1,"Na3AlF6"]
[]
[]
[]
[]
[null,7]
[]
[]
[]
[]
[null,8,"hidròxid amònic",150,17,0.25,"NH3",null,3,null,null,1]
[]
[]
[]
[]
[null,9,"diclorobenilo",50,172,0.2,"C7H3Cl2N",7,3,null,2,1]
[]
[]
[]
[]
[null,null,"TOTAL",{"$f":"SUM(D6:D61)","v":760}]
[]
[]
[]
[]
[]
[]
[]
[]
[]
[]
[]
[]
[]
[]
[]
[]
[]
[]
[]
[]
[]
[null,null,12.010999999999999,1.0069999999999999,15.999000000000001,35.453000000000003,14.007,32.064,30.974]
[null,"masses inicial [t]","C","H","O","Cl","N","S","P"]
[1,{"$f":"IFERROR((D5*F5)/E5,0)","v":0},{"$f":"IFERROR((H5*D5*F5*C$84)/E5,0)","v":0},{"$f":"IFERROR((I5*D5*F5*D$84)/E5,0)","v":0},{"$f":"IFERROR((J5*D5*F5*E$84)/E5,0)","v":0},{"$f":"IFERROR((K5*D5*F5*F$84)/E5,0)","v":0},{"$f":"IFERROR((L5*D5*F5*G$84)/E5,0)","v":0},{"$f":"IFERROR((M5*D5*F5*H$84)/E5,0)","v":0},{"$f":"IFERROR((N5*D5*F5*I$84)/E5,0)","v":0}]
[null,{"$f":"IFERROR((D6*F6)/E6,0)","v":0},{"$f":"IFERROR((H6*D6*F6*C$84)/E6,0)","v":0},{"$f":"IFERROR((I6*D6*F6*D$84)/E6,0)","v":0},{"$f":"IFERROR((J6*D6*F6*E$84)/E6,0)","v":0},{"$f":"IFERROR((K6*D6*F6*F$84)/E6,0)","v":0},{"$f":"IFERROR((L6*D6*F6*G$84)/E6,0)","v":0},{"$f":"IFERROR((M6*D6*F6*H$84)/E6,0)","v":0},{"$f":"IFERROR((N6*D6*F6*I$84)/E6,0)","v":0}]
[null,0,0,0,0,0,0,0,0]
[null,0,0,0,0,0,0,0,0]
[null,0,0,0,0,0,0,0,0]
[2,0,0,0,0,0,0,0,0]
[null,0,0,0,0,0,0,0,0]
[null,0,0,0,0,0,0,0,0]
[null,0,0,0,0,0,0,0,0]
[null,0,0,0,0,0,0,0,0]
[null,0,0,0,0,0,0,0,0]
[3,0.21691973969631237,5.2108459869848147,1.3106290672451191,3.4704989154013015,0,0,0,0]
[null,0,0,0,0,0,0,0,0]
[null,0,0,0,0,0,0,0,0]
[null,0,0,0,0,0,0,0,0]
[null,0,0,0,0,0,0,0,0]
[4,0,0,0,0,0,0,0,0]
[null,0,0,0,0,0,0,0,0]
[null,0,0,0,0,0,0,0,0]
[null,0,0,0,0,0,0,0,0]
[null,0,0,0,0,0,0,0,0]
[5,0,0,0,0,0,0,0,0]
[null,0,0,0,0,0,0,0,0]
[null,0,0,0,0,0,0,0,0]
[null,0,0,0,0,0,0,0,0]
[null,0,0,0,0,0,0,0,0]
[6,0,0,0,0,0,0,0,0]
[null,0.10313531353135313,9.9100660066006583,1.9732879537953791,3.3001237623762378,0,0,6.6138613861386135,3.1945132013201318]
[null,0,0,0,0,0,0,0,0]
[null,0,0,0,0,0,0,0,0]
[null,0,0,0,0,0,0,0,0]
[7,0,0,0,0,0,0,0,0]
[null,1.1481056257175661,124.10907003444318,6.9368541905855334,36.737083811710683,0,32.163030998851895,0,0]
[null,0,0,0,0,0,0,0,0]
[null,0,0,0,0,0,0,0,0]
[null,0,0,0,0,0,0,0,0]
[8,0,0,0,0,0,0,0,0]
[null,0.4784688995215311,0,0,0,0,0,0,0]
[null,0,0,0,0,0,0,0,0]
[null,0,0,0,0,0,0,0,0]
[null,0,0,0,0,0,0,0,0]
[9,0,0,0,0,0,0,0,0]
[null,0,0,0,0,0,0,0,0]
[null,0,0,0,0,0,0,0,0]
[null,0,0,0,0,0,0,0,0]
[null,0,0,0,0,0,0,0,0]
[null,0,0,0,0,0,0,0,0]
[null,2.2058823529411766,0,6.6639705882352942,0,0,30.897794117647056,0,0]
[null,0,0,0,0,0,0,0,0]
[null,0,0,0,0,0,0,0,0]
[null,0,0,0,0,0,0,0,0]
[null,0,0,0,0,0,0,0,0]
[null,5.8139534883720929E-2,4.8881976744186044,0.17563953488372092,0,4.1224418604651163,0.81436046511627902,0,0]
[null,0,0,0,0,0,0,0,0]
[null,0,0,0,0,0,0,0,0]
[null,0,0,0,0,0,0,0,0]
[null,{"$f":"SUMIF(B86:B141,\">0\")","v":4.2106514662916608},{"$f":"SUMIF(C86:C141,\">0\")","v":144.11817970244724},17.060381334745045,43.507706489488221,4.1224418604651163,63.875185581615227,6.6138613861386135,3.1945132013201318]

{"sheet":"Terme font","index":3,"n_rows":93,"n_cols":17,"rows_kept":93,"cut":false,"hidden":false,"merged":[]}
[]
[]
[]
[null,null,null,null,null,null,null,null,null,null,null,null,"ENDARRERE","ENDAVANT"]
[]
[null,null,null,"MAGATZEM"]
[null,null,null,null,"AREA [m2]",null,"ALÇADA [m]",null,"VOLUM [m3]"]
[null,null,null,null,{"$f":"Escenaris!E7","v":600},null,{"$f":"Escenaris!E8","v":6},null,{"$f":"Escenaris!E9","v":3600}]
[null,null,null,"ÀREA d'INCENDI [m2]"]
[null,null,null,20,50,100,300,600,900,2500]
[]
[]
[null,null,null,"TERME FONT"]
[null,null,null,null,null,null,"POTÈNCIA FONT [kg/s]"]
[null,null,null,"ÀREA [m2]","V. COMB [kg/s]","NO2","SO2","HCl","GE I","GE II"]
[null,null,null,{"$f":"E8","v":600},{"$f":"IFERROR(L59,0)","v":15.592105263157896},{"$f":"IFERROR(M59,0)","v":0.49562465670337802},0.31217541984461605,0.10015647602091909,5.1289819944598351E-2,0.4103185595567867,null,"η rendiment de combustió (%)"]
[null,null,null,{"$f":"D10","v":20},{"$f":"IFERROR(L52,0)","v":0.91080587346615283},{"$f":"IFERROR(M52,0)","v":2.8951693228157174E-2},1.8235587891910654E-2,5.8505958679661609E-3,2.9960719521912927E-3,2.3968575617530338E-2,null,"NO2",10]
[null,null,null,{"$f":"E10","v":50},{"$f":"IFERROR(L53,0)","v":1.299342105263158},{"$f":"IFERROR(M53,0)","v":4.1302054725281492E-2},{"$f":"IFERROR(N53,0)","v":2.601461832038467E-2},{"$f":"IFERROR(O53,0)","v":8.346373001743259E-3},{"$f":"IFERROR(P53,0)","v":4.2741516620498623E-3},{"$f":"IFERROR(Q53,0)","v":3.4193213296398899E-2},null,"HCl",100]
[null,null,null,{"$f":"F10","v":100},2.5986842105263159,8.2604109450562985E-2,5.202923664076934E-2,1.6692746003486518E-2,8.5483033240997246E-3,6.8386426592797797E-2,null,"SO2",100]
[null,null,null,{"$f":"G10","v":300},7.7960526315789478,0.24781232835168901,0.15608770992230803,5.0078238010459547E-2,2.5644909972299176E-2,0.20515927977839335]
[null,null,null,{"$f":"H10","v":600},15.592105263157896,0.49562465670337802,0.31217541984461605,0.10015647602091909,5.1289819944598351E-2,0.4103185595567867,null,"fracció residual"]
[null,null,null,{"$f":"I10","v":900},23.388157894736842,0.74343698505506683,0.46826312976692402,0.15023471403137864,7.6934729916897523E-2,0.61547783933518008,null,"GE I",0.1]
[null,null,null,{"$f":"J10","v":2500},64.96710526315789,2.0651027362640746,1.3007309160192335,0.41731865008716285,0.2137075831024931,1.7096606648199444,null,"GE II",0.1]
[]
[]
[]
[]
[]
[]
[]
[]
["MAGATZEMS",null,"Factor de ventilació",null,4,"o","∞"]
["Per aquest cas d'estudi es contemplaran magatzems d'àrea igual a:"]
[null,null,null,null,null,null,{"$f":"Escenaris!E7","v":600},"[m2]"]
["l'atura mitjana per a tots els magatzems serà igual:",null,null,null,{"$f":"Escenaris!E8","v":6},null,"[m]"]
["Volum [m3]",{"$f":"Escenaris!E9","v":3600}]
[]
["FORMULA MOLECULAR MITJANA"]
[]
["Massa [t]","%subs act.","Mmol [kg//kmol]",null,null,12.010999999999999,1.0069999999999999,15.999000000000001,35.453000000000003,14.007,32.064,30.974]
[{"$f":"Substàncies!Q17","v":660},{"$f":"Substàncies!Q21","v":42.801859023669635},{"$f":"Substàncies!Q23","v":67.089919889525262},null,null,"C","H","O","Cl","N","S","P"]
[null,{"$f":"Substàncies!S21","v":0.42801859023669636},null,null,null,"C(a)","H(b)","O( c)","Cl(d)","N( e)","S(f)","P(g)"]
[null,null,null,null,null,{"$f":"Substàncies!P10","v":2.8496420231748676},{"$f":"Substàncies!Q10","v":4.0235552499847209},{"$f":"Substàncies!R10","v":0.64583868790003174},{"$f":"Substàncies!S10","v":2.7615458248756299E-2},{"$f":"Substàncies!T10","v":1.08302317961174},{"$f":"Substàncies!U10","v":4.8987817850516542E-2},{"$f":"Substàncies!V10","v":2.4493908925258271E-2}]
[null,null,null,null,"%content",{"$f":"Substàncies!P14","v":21.836087833704127},{"$f":"Substàncies!Q14","v":2.5849062628401591},{"$f":"Substàncies!R14","v":6.5920767408315486},{"$f":"Substàncies!S14","v":0.62461240310077515},{"$f":"Substàncies!T14","v":9.6780584214568535},{"$f":"Substàncies!U14","v":1.0021002100210019},{"$f":"Substàncies!V14","v":0.48401715171517157}]
[]
["VELOCITAT DE COMBUSTIÓ"]
[]
["Incendis límitats per l'oxigen"]
[null,null,null,null,null,null,null,null,null,null,"TAULA RESUM"]
["DG [mol/mol]",{"$f":"F43+0.25*G43-0.5*H43-0.25*I43+0.1*J43+K43","v":3.6829977629705333},{"$f":"B50","v":3.6829977629705333},{"$f":"C50","v":3.6829977629705333},3.6829977629705333,3.6829977629705333,3.6829977629705333,{"$f":"G50","v":3.6829977629705333},null,null,null,null,null,"potencia font [kg/s]"]
["φO2 [kmol/s]",{"$f":"(0.2*(1+0.5*$E$32)*E8*$G$8)/(24*1800)","v":5.000000000000001E-2},{"$f":"(0.2*(1+0.5*$E$32)*E8*$G$8)/(24*1800)","v":5.000000000000001E-2},{"$f":"(0.2*(1+0.5*$E$32)*E8*$G$8)/(24*1800)","v":5.000000000000001E-2},{"$f":"(0.2*(1+0.5*$E$32)*E8*$G$8)/(24*1800)","v":5.000000000000001E-2},{"$f":"(0.2*(1+0.5*$E$32)*E8*$G$8)/(24*1800)","v":5.000000000000001E-2},{"$f":"(0.2*(1+0.5*$E$32)*E8*$G$8)/(24*1800)","v":5.000000000000001E-2},{"$f":"(0.2*(1+0.5*$E$32)*E8*$G$8)/(24*1800)","v":5.000000000000001E-2},{"$f":"(0.2*(1+0.5*$E$32)*E8*$G$8)/(24*1800)","v":5.000000000000001E-2},null,"superfície [m2]","velocitat de combustió [kg/s]","NO2","SO2","HCl","GE I","GE II"]
["BO2 [kg/s]",{"$f":"IFERROR((B51*$C$41)/B50,0)","v":0.91080587346615283},{"$f":"IFERROR((C51*$C$41)/B50,0)","v":0.91080587346615283},{"$f":"IFERROR((D51*$C$41)/B50,0)","v":0.91080587346615283},{"$f":"IFERROR((E51*$C$41)/B50,0)","v":0.91080587346615283},{"$f":"IFERROR((F51*$C$41)/B50,0)","v":0.91080587346615283},{"$f":"IFERROR((G51*$C$41)/B50,0)","v":0.91080587346615283},{"$f":"IFERROR((H51*$C$41)/B50,0)","v":0.91080587346615283},{"$f":"IFERROR((I51*$C$41)/B50,0)","v":0.91080587346615283},null,20,{"$f":"MAX(B52,A60)","v":0.91080587346615283},{"$f":"MAX(B70,B77)","v":2.8951693228157174E-2},{"$f":"MAX(B72,B79)","v":1.8235587891910654E-2},{"$f":"MAX(B71,B78)","v":5.8505958679661609E-3},{"$f":"MAX(B86,B92)","v":2.9960719521912927E-3},{"$f":"MAX(B87,B93)","v":2.3968575617530338E-2}]
[null,null,null,null,null,null,null,null,null,null,50,{"$f":"MAX(C52,B60)","v":1.299342105263158},{"$f":"MAX(D70,D77)","v":4.1302054725281492E-2},{"$f":"MAX(D72,D79)","v":2.601461832038467E-2},{"$f":"MAX(D71,D78)","v":8.346373001743259E-3},{"$f":"MAX(D86,D92)","v":4.2741516620498623E-3},{"$f":"MAX(D87,D93)","v":3.4193213296398899E-2}]
["incendis limitats per la superfície",null,null,null,null,null,null,null,null,null,100,{"$f":"MAX(D52,C60)","v":2.5986842105263159},{"$f":"MAX(F70,F77)","v":8.2604109450562985E-2},{"$f":"MAX(F72,F79)","v":5.202923664076934E-2},{"$f":"MAX(F71,F78)","v":1.6692746003486518E-2},{"$f":"MAX(F86,F92)","v":8.5483033240997246E-3},{"$f":"MAX(F87,F93)","v":6.8386426592797797E-2}]
[null,null,null,null,null,null,null,null,null,null,300,{"$f":"MAX(E52,D60)","v":7.7960526315789478},{"$f":"MAX(H70,H77)","v":0.24781232835168901},{"$f":"MAX(H72,H79)","v":0.15608770992230803},{"$f":"MAX(H71,H78)","v":5.0078238010459547E-2},{"$f":"MAX(H86,H92)","v":2.5644909972299176E-2},{"$f":"MAX(H87,H93)","v":0.20515927977839335}]
["y",{"$f":"IFERROR(SUMIF(Substàncies!D16:D20,\">0\")/Substàncies!D62,0)","v":1.3157894736842105E-2},null,null,"Àrea crítica [m2]",null,null,null,null,null,600,{"$f":"MAX(F52,E60)","v":15.592105263157896},{"$f":"MAX(J70,J77)","v":0.49562465670337802},{"$f":"MAX(J72,J79)","v":0.31217541984461605},{"$f":"MAX(J71,J78)","v":0.10015647602091909},{"$f":"MAX(J86,J92)","v":5.1289819944598351E-2},{"$f":"MAX(J87,J93)","v":0.4103185595567867}]
["B [kg/m2s]",{"$f":"0.1*B56+0.025*(1-B56)","v":2.5986842105263159E-2},null,null,null,null,null,null,null,null,900,{"$f":"MAX(G52,F60)","v":23.388157894736842},{"$f":"MAX(L70,L77)","v":0.74343698505506683},{"$f":"MAX(L72,L79)","v":0.46826312976692402},{"$f":"MAX(L71,L78)","v":0.15023471403137864},{"$f":"MAX(L86,L92)","v":7.6934729916897523E-2},{"$f":"MAX(L87,L93)","v":0.61547783933518008}]
["Bmax [kg/s]",null,null,null,null,null,null,null,null,null,2500,{"$f":"MAX(H52,G60)","v":64.96710526315789},{"$f":"MAX(N70,N77)","v":2.0651027362640746},{"$f":"MAX(N72,N79)","v":1.3007309160192335},{"$f":"MAX(N71,N78)","v":0.41731865008716285},{"$f":"MAX(N86,N92)","v":0.2137075831024931},{"$f":"MAX(N87,N93)","v":1.7096606648199444}]
[{"$f":"D10","v":20},50,100,300,600,900,2500,{"$f":"E8","v":600},null,null,{"$f":"E8","v":600},{"$f":"MAX(I52,H60)","v":15.592105263157896},{"$f":"MAX(P70,P77)","v":0.49562465670337802},{"$f":"MAX(P72,P79)","v":0.31217541984461605},{"$f":"MAX(P71,P78)","v":0.10015647602091909},{"$f":"MAX(P86,P92)","v":5.1289819944598351E-2},{"$f":"MAX(P87,P93)","v":0.4103185595567867}]
[{"$f":"IFERROR($B$57*A59,0)","v":0.51973684210526316},{"$f":"IFERROR($B$57*B59,0)","v":1.299342105263158},{"$f":"IFERROR($B$57*C59,0)","v":2.5986842105263159},{"$f":"IFERROR($B$57*D59,0)","v":7.7960526315789478},15.592105263157896,{"$f":"IFERROR($B$57*F59,0)","v":23.388157894736842},64.96710526315789,15.592105263157896]
[]
[]
["POTÈNCIA FONT"]
[null,null,null,null,null,"Massa mol."]
["productes de combustió tòxics",null,null,null,null,{"$f":"(J40+2*H40)","v":46.005000000000003},{"$f":"M17/100","v":0.1}]
[null,null,null,null,null,{"$f":"(G40+I40)","v":36.46},{"$f":"M18/100","v":1}]
["amb ventilació il·limitada [F=inf]",null,null,null,null,{"$f":"(K40+2*H40)","v":64.061999999999998},{"$f":"M19/100","v":1}]
[]
[20,"m2",50,"m2",100,"m2",300,"m2",600,"m2",900,"m2",2500,"m2",{"$f":"E8","v":600},"m2"]
["φNO2 [kg/s]",{"$f":"IFERROR(A$60*B42*J$43*F65*G65/C41,0)","v":1.6520821890112596E-2},"φNO2 [kg/s]",{"$f":"IFERROR(B$60*$B$42*J$43*$F65*$G65/$C$41,0)","v":4.1302054725281492E-2},"φNO2 [kg/s]",{"$f":"IFERROR(C$60*$B$42*J$43*$F65*$G65/$C$41,0)","v":8.2604109450562985E-2},"φNO2 [kg/s]",{"$f":"IFERROR(D$60*$B$42*J$43*$F65*$G65/$C$41,0)","v":0.24781232835168901},"φNO2 [kg/s]",{"$f":"IFERROR(E$60*$B$42*$J43*$F65*$G65/$C$41,0)","v":0.49562465670337802},"φNO2 [kg/s]",{"$f":"IFERROR(F$60*$B$42*$J43*$F65*$G65/$C$41,0)","v":0.74343698505506683},"φNO2 [kg/s]",{"$f":"IFERROR(G$60*$B$42*$J43*$F65*$G65/$C$41,0)","v":2.0651027362640746},"φNO2 [kg/s]",{"$f":"IFERROR(H$60*$B$42*$J43*$F65*$G65/$C$41,0)","v":0.49562465670337802}]
["φHCl [kg/s]",{"$f":"IFERROR(A$60*B42*I$43*F66*G66/C41,0)","v":3.3385492006973031E-3},"φHCl [kg/s]",{"$f":"IFERROR(B$60*$B$42*I$43*F66*G66/$C$41,0)","v":8.346373001743259E-3},"φHCl [kg/s]",{"$f":"IFERROR(C$60*$B$42*I$43*$F66*$G66/$C$41,0)","v":1.6692746003486518E-2},"φHCl [kg/s]",{"$f":"IFERROR(D$60*$B$42*I$43*$F66*$G66/$C$41,0)","v":5.0078238010459547E-2},"φHCl [kg/s]",{"$f":"IFERROR(E$60*$B$42*$I43*$F66*$G66/$C$41,0)","v":0.10015647602091909},"φHCl [kg/s]",{"$f":"IFERROR(F$60*$B$42*$I43*$F66*$G66/$C$41,0)","v":0.15023471403137864},"φHCl [kg/s]",{"$f":"IFERROR(G$60*$B$42*$I43*$F66*$G66/$C$41,0)","v":0.41731865008716285},"φHCl [kg/s]",{"$f":"IFERROR(H$60*$B$42*$I43*$F66*$G66/$C$41,0)","v":0.10015647602091909}]
["φSO2 [kg/s]",{"$f":"IFERROR(A$60*B42*K$43*F67*G67/C41,0)","v":1.0405847328153868E-2},"φSO2 [kg/s]",{"$f":"IFERROR(B$60*$B$42*K$43*F67*G67/$C$41,0)","v":2.601461832038467E-2},"φSO2 [kg/s]",{"$f":"IFERROR(C$60*$B$42*K$43*$F67*$G67/$C$41,0)","v":5.202923664076934E-2},"φSO2 [kg/s]",{"$f":"IFERROR(D$60*$B$42*K$43*$F67*$G67/$C$41,0)","v":0.15608770992230803},"φSO2 [kg/s]",{"$f":"IFERROR(E$60*$B$42*$K43*$F67*$G67/$C$41,0)","v":0.31217541984461605},"φSO2 [kg/s]",{"$f":"IFERROR(F$60*$B$42*$K43*$F67*$G67/$C$41,0)","v":0.46826312976692402},"φSO2 [kg/s]",{"$f":"IFERROR(G$60*$B$42*$K43*$F67*$G67/$C$41,0)","v":1.3007309160192335},"φSO2 [kg/s]",{"$f":"IFERROR(H$60*$B$42*$K43*$F67*$G67/$C$41,0)","v":0.31217541984461605}]
[]
["amb ventilació limitada per l'oxigen [F=4]"]
[]
[20,"m2",50,"m2",100,"m2",300,"m2",600,"m2",900,"m2",2500,"m2",{"$f":"O69","v":600},"m2"]
["φNO2 [kg/s]",{"$f":"IFERROR(B52*$B$42*$J43*$F65*$G65/$C$41,0)","v":2.8951693228157174E-2},"φNO2 [kg/s]",{"$f":"IFERROR(C52*$B$42*$J43*$F65*$G65/$C$41,0)","v":2.8951693228157174E-2},"φNO2 [kg/s]",{"$f":"IFERROR(D52*$B$42*$J43*$F65*$G65/$C$41,0)","v":2.8951693228157174E-2},"φNO2 [kg/s]",{"$f":"IFERROR(E52*$B$42*$J43*$F65*$G65/$C$41,0)","v":2.8951693228157174E-2},"φNO2 [kg/s]",{"$f":"IFERROR(F52*$B$42*$J43*$F65*$G65/$C$41,0)","v":2.8951693228157174E-2},"φNO2 [kg/s]",{"$f":"IFERROR(G52*$B$42*$J43*$F65*$G65/$C$41,0)","v":2.8951693228157174E-2},"φNO2 [kg/s]",{"$f":"IFERROR(H52*$B$42*$J43*$F65*$G65/$C$41,0)","v":2.8951693228157174E-2},"φNO2 [kg/s]",{"$f":"IFERROR(I52*$B$42*$J43*$F65*$G65/$C$41,0)","v":2.8951693228157174E-2}]
["φHCl [kg/s]",{"$f":"IFERROR(B52*$B$42*$I43*$F66*$G66/$C$41,0)","v":5.8505958679661609E-3},"φHCl [kg/s]",{"$f":"IFERROR(C52*$B$42*$I43*$F66*$G66/$C$41,0)","v":5.8505958679661609E-3},"φHCl [kg/s]",{"$f":"IFERROR(D52*$B$42*$I43*$F66*$G66/$C$41,0)","v":5.8505958679661609E-3},"φHCl [kg/s]",{"$f":"IFERROR(E52*$B$42*$I43*$F66*$G66/$C$41,0)","v":5.8505958679661609E-3},"φHCl [kg/s]",{"$f":"IFERROR(F52*$B$42*$I43*$F66*$G66/$C$41,0)","v":5.8505958679661609E-3},"φHCl [kg/s]",{"$f":"IFERROR(G52*$B$42*$I43*$F66*$G66/$C$41,0)","v":5.8505958679661609E-3},"φHCl [kg/s]",{"$f":"IFERROR(H52*$B$42*$I43*$F66*$G66/$C$41,0)","v":5.8505958679661609E-3},"φHCl [kg/s]",{"$f":"IFERROR(I52*$B$42*$I43*$F66*$G66/$C$41,0)","v":5.8505958679661609E-3}]
["φSO2 [kg/s]",{"$f":"IFERROR(B52*$B$42*$K43*$F67*$G67/$C$41,0)","v":1.8235587891910654E-2},"φSO2 [kg/s]",{"$f":"IFERROR(C52*$B$42*$K43*$F67*$G67/$C$41,0)","v":1.8235587891910654E-2},"φSO2 [kg/s]",{"$f":"IFERROR(D52*$B$42*$K43*$F67*$G67/$C$41,0)","v":1.8235587891910654E-2},"φSO2 [kg/s]",{"$f":"IFERROR(E52*$B$42*$K43*$F67*$G67/$C$41,0)","v":1.8235587891910654E-2},"φSO2 [kg/s]",{"$f":"IFERROR(F52*$B$42*$K43*$F67*$G67/$C$41,0)","v":1.8235587891910654E-2},"φSO2 [kg/s]",{"$f":"IFERROR(G52*$B$42*$K43*$F67*$G67/$C$41,0)","v":1.8235587891910654E-2},"φSO2 [kg/s]",{"$f":"IFERROR(H52*$B$42*$K43*$F67*$G67/$C$41,0)","v":1.8235587891910654E-2},"φSO2 [kg/s]",{"$f":"IFERROR(I52*$B$42*$K43*$F67*$G67/$C$41,0)","v":1.8235587891910654E-2}]
[]
["substàncies (molt) tòxiques sense cremar",null,null,null,null,"contribució","%actiu"]
[null,null,null,null,"etoprofos",{"$f":"IFERROR(SUMIF(Substàncies!D32:D36,\">0\")/Substàncies!D62,0)","v":0.32894736842105265},{"$f":"IF(ISERROR((Substàncies!D32*Substàncies!F32+Substàncies!D33*Substàncies!F33+Substàncies!D34*Substàncies!F34+Substàncies!D35*Substàncies!F35+Substàncies!D36*Substàncies!F36)/SUM(Substàncies!D32:D36)),0,((Substàncies!D32*Substàncies!F32+Substàncies!D33*Substàncies!F33+Substàncies!D34*Substàncies!F34+Substàncies!D35*Substàncies!F35+Substàncies!D36*Substàncies!F36)/SUM(Substàncies!D32:D36)))","v":0.1}]
["amb ventilació il·limitada [F=inf]",null,null,null,"TDI",{"$f":"IFERROR(SUMIF(Substàncies!D37:D41,\">0\")/Substàncies!D62,0)","v":0.26315789473684209},{"$f":"IF(ISERROR((Substàncies!D37*Substàncies!F37+Substàncies!D38*Substàncies!F38+Substàncies!D39*Substàncies!F39+Substàncies!D40*Substàncies!F40+Substàncies!D41*Substàncies!F41)/SUM(Substàncies!D37:D41)),0,((Substàncies!D37*Substàncies!F37+Substàncies!D38*Substàncies!F38+Substàncies!D39*Substàncies!F39+Substàncies!D40*Substàncies!F40+Substàncies!D41*Substàncies!F41)/SUM(Substàncies!D37:D41)))","v":1}]
[]
[20,"m2",50,"m2",100,"m2",300,"m2",600,"m2",900,"m2",2500,"m2",{"$f":"O76","v":600},"m2"]
["GE I: φT+",{"$f":"IFERROR(A$60*F82*G82*M22,0)","v":1.709660664819945E-3},"GE I: φT+",{"$f":"IFERROR(B$60*F82*G82*M22,0)","v":4.2741516620498623E-3},"GE I: φT+",{"$f":"IFERROR(C$60*F82*G82*M22,0)","v":8.5483033240997246E-3},"GE I: φT+",{"$f":"IFERROR(D$60*F82*G82*M22,0)","v":2.5644909972299176E-2},"GE I: φT+",{"$f":"IFERROR(E$60*F82*G82*M22,0)","v":5.1289819944598351E-2},"GE I: φT+",{"$f":"IFERROR(F$60*F82*G82*M22,0)","v":7.6934729916897523E-2},"GE I: φT+",{"$f":"IFERROR(G$60*F82*G82*M22,0)","v":0.2137075831024931},"GE I: φT+",{"$f":"IFERROR(H$60*F82*G82*M22,0)","v":5.1289819944598351E-2}]
["GE II: φT+",{"$f":"IFERROR(A$60*F83*G83*M23,0)","v":1.3677285318559558E-2},"GE II: φT+",{"$f":"IFERROR(B$60*F83*G83*M23,0)","v":3.4193213296398899E-2},"GE II: φT+",{"$f":"IFERROR(C$60*F83*G83*M23,0)","v":6.8386426592797797E-2},"GE II: φT+",{"$f":"IFERROR(D$60*F83*G83*M23,0)","v":0.20515927977839335},"GE II: φT+",{"$f":"IFERROR(E$60*F83*G83*M23,0)","v":0.4103185595567867},"GE II: φT+",{"$f":"IFERROR(F$60*F83*G83*M23,0)","v":0.61547783933518008},"GE II: φT+",{"$f":"IFERROR(G$60*F83*G83*M23,0)","v":1.7096606648199444},"GE II: φT+",{"$f":"IFERROR(H$60*F83*G83*M23,0)","v":0.4103185595567867}]
[]
["amb ventilació limitada per l'oxigen [F=4]"]
[]
[20,"m2",50,"m2",100,"m2",300,"m2",600,"m2",900,"m2",2500,"m2",{"$f":"O85","v":600},"m2"]
["GE I: φT+",{"$f":"IFERROR(B$52*$F$82*$G$82*$M$22,0)","v":2.9960719521912927E-3},"GE I: φT+",{"$f":"IFERROR(C$52*$F$82*$G$82*$M$22,0)","v":2.9960719521912927E-3},"GE I: φT+",{"$f":"IFERROR(D$52*$F$82*$G$82*$M$22,0)","v":2.9960719521912927E-3},"GE I: φT+",{"$f":"IFERROR(E$52*$F$82*$G$82*$M$22,0)","v":2.9960719521912927E-3},"GE I: φT+",{"$f":"IFERROR(F$52*$F$82*$G$82*$M$22,0)","v":2.9960719521912927E-3},"GE I: φT+",{"$f":"IFERROR(G$52*$F$82*$G$82*$M$22,0)","v":2.9960719521912927E-3},"GE I: φT+",{"$f":"IFERROR(H$52*$F$82*$G$82*$M$22,0)","v":2.9960719521912927E-3},"GE I: φT+",{"$f":"IFERROR(I$52*$F$82*$G$82*$M$22,0)","v":2.9960719521912927E-3}]
["GE II: φT+",{"$f":"IFERROR(B$52*$F$83*$G$83*$M$23,0)","v":2.3968575617530338E-2},"GE II: φT+",{"$f":"IFERROR(C$52*$F$83*$G$83*$M$23,0)","v":2.3968575617530338E-2},"GE II: φT+",{"$f":"IFERROR(D$52*$F$83*$G$83*$M$23,0)","v":2.3968575617530338E-2},"GE II: φT+",{"$f":"IFERROR(E$52*$F$83*$G$83*$M$23,0)","v":2.3968575617530338E-2},"GE II: φT+",{"$f":"IFERROR(F$52*$F$83*$G$83*$M$23,0)","v":2.3968575617530338E-2},"GE II: φT+",{"$f":"IFERROR(G$52*$F$83*$G$83*$M$23,0)","v":2.3968575617530338E-2},"GE II: φT+",{"$f":"IFERROR(H$52*$F$83*$G$83*$M$23,0)","v":2.3968575617530338E-2},"GE II: φT+",{"$f":"IFERROR(I$52*$F$83*$G$83*$M$23,0)","v":2.3968575617530338E-2}]

{"sheet":"letalitat","index":4,"n_rows":78,"n_cols":19,"rows_kept":78,"cut":false,"hidden":false,"merged":[]}
[null,null,null,null,null,46,null,64,null,36.5]
[]
[]
[]
[null,"TERME FONT",null,null,null,null,null,null,null,null,null,null,null,null,null,null,null,"ENDARRERE","ENDAVANT"]
[null,null,null,null,null,null,null,null,null,"POTÈNCIA FONT [kg/s]"]
[null,"ÀREA [m2]","vcomb.[kg/s]","temps [min]","NO2","fNO2","SO2","fSO2","HCl","fHCl","ffc","GE I","fGE I","GE II","fGE II","TOTAL"]
[null,{"$f":"'Terme font'!E8","v":600},{"$f":"IFERROR('Terme font'!E16,0)","v":15.592105263157896},30,{"$f":"'Terme font'!F16","v":0.49562465670337802},{"$f":"IFERROR((E8)/(E8+G8+I8),0)","v":0.54586825250733628},{"$f":"IFERROR('Terme font'!G16,0)","v":0.31217541984461605},{"$f":"IFERROR((G8)/(E8+G8+I8),0)","v":0.34382198020529425},{"$f":"IFERROR('Terme font'!H16,0)","v":0.10015647602091909},{"$f":"IFERROR((I8)/(E8+G8+I8),0)","v":0.11030976728736952},{"$f":"IFERROR((E8+G8+I8)/P8,0)","v":0.66295254157566941},{"$f":"IFERROR('Terme font'!I16,0)","v":5.1289819944598351E-2},{"$f":"IFERROR((L8)/P8,0)","v":3.7449717602703415E-2},{"$f":"IFERROR('Terme font'!J16,0)","v":0.4103185595567867},{"$f":"IFERROR((N8)/P8,0)","v":0.29959774082162727},{"$f":"SUM(E8,G8,I8,L8,N8)","v":1.3695649320702981}]
[null,{"$f":"'Terme font'!K52","v":20},{"$f":"IFERROR('Terme font'!L52,0)","v":0.91080587346615283},30,{"$f":"IFERROR('Terme font'!M52,0)","v":2.8951693228157174E-2},{"$f":"IFERROR((E9)/(E9+G9+I9),0)","v":0.54586825250733628},{"$f":"IFERROR('Terme font'!N52,0)","v":1.8235587891910654E-2},{"$f":"IFERROR((G9)/(E9+G9+I9),0)","v":0.34382198020529425},{"$f":"IFERROR('Terme font'!O52,0)","v":5.8505958679661609E-3},{"$f":"IFERROR((I9)/(E9+G9+I9),0)","v":0.11030976728736953},{"$f":"IFERROR((E9+G9+I9)/P9,0)","v":0.66295254157566941},{"$f":"IFERROR('Terme font'!P52,0)","v":2.9960719521912927E-3},{"$f":"IFERROR((L9)/P9,0)","v":3.7449717602703415E-2},{"$f":"IFERROR('Terme font'!J17,0)","v":2.3968575617530338E-2},{"$f":"IFERROR((N9)/P9,0)","v":0.29959774082162727},8.0002524557755611E-2]
[null,{"$f":"'Terme font'!K53","v":50},{"$f":"IFERROR('Terme font'!L53,0)","v":1.299342105263158},30,{"$f":"IFERROR('Terme font'!M53,0)","v":4.1302054725281492E-2},{"$f":"IFERROR((E10)/(E10+G10+I10),0)","v":0.54586825250733617},{"$f":"IFERROR('Terme font'!N53,0)","v":2.601461832038467E-2},{"$f":"IFERROR((G10)/(E10+G10+I10),0)","v":0.34382198020529425},{"$f":"IFERROR('Terme font'!O53,0)","v":8.346373001743259E-3},{"$f":"IFERROR((I10)/(E10+G10+I10),0)","v":0.11030976728736953},{"$f":"IFERROR((E10+G10+I10)/P10,0)","v":0.6629525415756693},{"$f":"IFERROR('Terme font'!P53,0)","v":4.2741516620498623E-3},{"$f":"IFERROR((L10)/P10,0)","v":3.7449717602703408E-2},{"$f":"IFERROR('Terme font'!J18,0)","v":3.4193213296398899E-2},{"$f":"IFERROR((N10)/P10,0)","v":0.29959774082162727},0.11413041100585819]
[null,{"$f":"'Terme font'!K54","v":100},{"$f":"IFERROR('Terme font'!L54,0)","v":2.5986842105263159},30,{"$f":"IFERROR('Terme font'!M54,0)","v":8.2604109450562985E-2},0.54586825250733617,{"$f":"IFERROR('Terme font'!N54,0)","v":5.202923664076934E-2},0.34382198020529425,{"$f":"IFERROR('Terme font'!O54,0)","v":1.6692746003486518E-2},0.11030976728736953,0.6629525415756693,{"$f":"IFERROR('Terme font'!P54,0)","v":8.5483033240997246E-3},3.7449717602703408E-2,{"$f":"IFERROR('Terme font'!J19,0)","v":6.8386426592797797E-2},0.29959774082162727,0.22826082201171638]
[null,{"$f":"'Terme font'!K55","v":300},{"$f":"IFERROR('Terme font'!L55,0)","v":7.7960526315789478},30,{"$f":"IFERROR('Terme font'!M55,0)","v":0.24781232835168901},0.54586825250733628,{"$f":"IFERROR('Terme font'!N55,0)","v":0.15608770992230803},0.34382198020529425,{"$f":"IFERROR('Terme font'!O55,0)","v":5.0078238010459547E-2},0.11030976728736952,0.66295254157566941,{"$f":"IFERROR('Terme font'!P55,0)","v":2.5644909972299176E-2},3.7449717602703415E-2,{"$f":"IFERROR('Terme font'!J20,0)","v":0.20515927977839335},0.29959774082162727,0.68478246603514903]
[null,{"$f":"'Terme font'!K56","v":600},{"$f":"IFERROR('Terme font'!L56,0)","v":15.592105263157896},30,{"$f":"IFERROR('Terme font'!M56,0)","v":0.49562465670337802},0.54586825250733628,{"$f":"IFERROR('Terme font'!N56,0)","v":0.31217541984461605},0.34382198020529425,{"$f":"IFERROR('Terme font'!O56,0)","v":0.10015647602091909},0.11030976728736952,0.66295254157566941,{"$f":"IFERROR('Terme font'!P56,0)","v":5.1289819944598351E-2},3.7449717602703415E-2,{"$f":"IFERROR('Terme font'!J21,0)","v":0.4103185595567867},0.29959774082162727,1.3695649320702981]
[null,{"$f":"'Terme font'!K57","v":900},{"$f":"IFERROR('Terme font'!L57,0)","v":23.388157894736842},30,{"$f":"IFERROR('Terme font'!M57,0)","v":0.74343698505506683},0.54586825250733617,{"$f":"IFERROR('Terme font'!N57,0)","v":0.46826312976692402},0.34382198020529425,{"$f":"IFERROR('Terme font'!O57,0)","v":0.15023471403137864},0.11030976728736953,0.6629525415756693,{"$f":"IFERROR('Terme font'!P57,0)","v":7.6934729916897523E-2},3.7449717602703415E-2,{"$f":"IFERROR('Terme font'!J22,0)","v":0.61547783933518008},0.29959774082162727,2.0543473981054472]
[null,{"$f":"'Terme font'!K58","v":2500},{"$f":"IFERROR('Terme font'!L58,0)","v":64.96710526315789},30,{"$f":"IFERROR('Terme font'!M58,0)","v":2.0651027362640746},0.54586825250733617,{"$f":"IFERROR('Terme font'!N58,0)","v":1.3007309160192335},0.34382198020529425,{"$f":"IFERROR('Terme font'!O58,0)","v":0.41731865008716285},0.11030976728736951,0.6629525415756693,{"$f":"IFERROR('Terme font'!P58,0)","v":0.2137075831024931},3.7449717602703408E-2,{"$f":"IFERROR('Terme font'!J23,0)","v":1.7096606648199444},0.29959774082162721,5.7065205502929093]
[]
[null,"LETALITAT 1%",null,null,null,null,null,null,"LETALITAT 10%"]
[null,null,null,"CONCENTRACIONS LETALS 1% (mg/m3)",null,null,null,null,null,null,"CONCENTRACIONS LETALS 10% (mg/m3)"]
[null,"ÀREA [m2]","temps [min]","NO2, SO2, HCl","GE I","GE","MITJA",null,"ÀREA [m2]","temps [min]","NO2, SO2, HCl","GE I","GE","MITJA"]
[null,{"$f":"B8","v":600},{"$f":"D8","v":30},{"$f":"E47","v":225.2429520953543},{"$f":"I47","v":105.96487650759804},{"$f":"K47","v":651.02491853778918},{"$f":"IFERROR(L47,0)","v":266.17775675217365},null,{"$f":"B8","v":600},{"$f":"D8","v":30},{"$f":"E55","v":302.68310183222434},{"$f":"I55","v":179.12926310966671},{"$f":"K55","v":1100.5308340574832},{"$f":"IFERROR(L55,0)","v":374.31475568524536}]
[null,20,30,225.19883861746931,105.96487650759804,651.02491853778918,{"$f":"IFERROR(L48,0)","v":266.13691416364458},null,20,30,301.97345512057382,179.12926310966671,1100.5308340574832,{"$f":"IFERROR(L56,0)","v":373.59496594201408}]
[null,50,30,225.19883861746931,105.96487650759804,651.02491853778918,{"$f":"IFERROR(L49,0)","v":266.13691416364463},null,50,30,301.97345512057382,179.12926310966671,1100.5308340574832,{"$f":"IFERROR(L57,0)","v":373.5949659420142}]
[null,100,30,225.19883861746931,105.96487650759804,651.02491853778918,{"$f":"IFERROR(L50,0)","v":266.13691416364463},null,100,30,301.97345512057382,179.12926310966671,1100.5308340574832,373.5949659420142]
[null,300,30,225.19883861746931,105.96487650759804,651.02491853778918,{"$f":"IFERROR(L51,0)","v":266.13691416364458},null,300,30,301.97345512057382,179.12926310966671,1100.5308340574832,373.59496594201408]
[null,600,{"$f":"D13","v":30},225.19883861746931,105.96487650759804,651.02491853778918,266.13691416364458,null,600,30,301.97345512057382,179.12926310966671,1100.5308340574832,373.59496594201408]
[null,900,30,225.19883861746931,105.96487650759804,651.02491853778918,266.13691416364463,null,900,30,301.97345512057382,179.12926310966671,1100.5308340574832,373.5949659420142]
[null,2500,30,225.19883861746931,105.96487650759804,651.02491853778918,266.13691416364463,null,2500,30,301.97345512057382,179.12926310966671,1100.5308340574832,373.5949659420142]
[]
[null,"LETALITAT 50%",null,null,null,null,null,null,"LETALITAT 99%"]
[null,null,null,"CONCENTRACIONS LETALS 50% (mg/m3)",null,null,null,null,null,null,"CONCENTRACIONS LETALS 99% (mg/m3)"]
[null,"ÀREA [m2]","temps [min]","NO2, SO2, HCl","GE I","GE","MITJA",null,"ÀREA [m2]","temps [min]","NO2, SO2, HCl","GE I","GE","MITJA"]
[null,{"$f":"B8","v":600},{"$f":"D8","v":30},{"$f":"E63","v":428.98167603083294},{"$f":"I63","v":339.71522241146869},{"$f":"K63","v":2087.1356838755464},{"$f":"IFERROR(L63,0)","v":555.80461195500641},null,{"$f":"B8","v":600},{"$f":"D8","v":30},{"$f":"E71","v":808.9034772191003},{"$f":"I71","v":1089.1008053012617},{"$f":"K71","v":6691.1960492857697},{"$f":"IFERROR(L71,0)","v":1112.6809472381826}]
[null,20,30,428.92324893423131,339.71522241146869,2087.1356838755464,{"$f":"IFERROR(L64,0)","v":555.73958822210614},null,20,30,807.25776496110609,1089.1008053012617,6691.1960492857697,{"$f":"IFERROR(L72,0)","v":1110.616222910279}]
[null,50,30,428.92324893423131,339.71522241146869,2087.1356838755464,{"$f":"IFERROR(L65,0)","v":555.73958822210614},null,50,30,807.25776496110609,1089.1008053012617,6691.1960492857697,{"$f":"IFERROR(L73,0)","v":1110.6162229102792}]
[null,100,30,428.92324893423131,339.71522241146869,2087.1356838755464,555.73958822210614,null,100,30,807.25776496110609,1089.1008053012617,6691.1960492857697,1110.6162229102792]
[null,300,30,428.92324893423131,339.71522241146869,2087.1356838755464,555.73958822210614,null,300,30,807.25776496110609,1089.1008053012617,6691.1960492857697,1110.616222910279]
[null,600,30,428.92324893423131,339.71522241146869,2087.1356838755464,555.73958822210614,null,600,30,807.25776496110609,1089.1008053012617,6691.1960492857697,1110.616222910279]
[null,900,30,428.92324893423131,339.71522241146869,2087.1356838755464,555.73958822210614,null,900,30,807.25776496110609,1089.1008053012617,6691.1960492857697,1110.6162229102792]
[null,2500,30,428.92324893423131,339.71522241146869,2087.1356838755464,555.73958822210614,null,2500,30,807.25776496110609,1089.1008053012617,6691.1960492857697,1110.6162229102792]
[]
[]
[]
[]
[null,"PROBIT"]
[null,null,null,null,"Mescla NO2, SO2 i HCl",null,null,"GE I",null,"GE II"]
[null,"superfície [m2]","Y(LC1)","t","C(mg/m3)","Y","ΔY","C(ppm)","C(mg/m3)","C(ppm)","C(mg/m3)","LC1 mitja (mg/m3)"]
[null,{"$f":"'Terme font'!E8","v":600},2.67,{"$f":"D8","v":30},225.2429520953543,{"$f":"IFERROR(-18.6+LN(((F8*E47)^3.7+0.549*(H8*E47)^2.4+1.47*100000*(J8*E47))*D47),0)","v":2.6706910978506748},{"$f":"C47-F47","v":-6.9109785067489327E-4},{"$f":"((EXP(C47+5.47)/D47))^(1/2)","v":10.690989770188546},{"$f":"(H47*242.2)/(0.082*298)","v":105.96487650759804},{"$f":"((EXP(C47+9.76)/D47))^(1/2)","v":91.32287548443982},{"$f":"(J47*174.2)/(0.082*298)","v":651.02491853778918},{"$f":"IFERROR(((K8/E47)+(M8/I47)+(O8/K47))^(-1),0)","v":266.17775675217365}]
[null,{"$f":"B9","v":20},2.67,{"$f":"D9","v":30},225.19883861746931,{"$f":"IFERROR(-18.6+LN(((F9*E48)^3.7+0.549*(H9*E48)^2.4+1.47*100000*(J9*E48))*D48),0)","v":2.6699999975254052},{"$f":"C48-F48","v":2.4745947513338251E-9},{"$f":"((EXP(C48+5.47)/D48))^(1/2)","v":10.690989770188546},{"$f":"(H48*242.2)/(0.082*298)","v":105.96487650759804},{"$f":"((EXP(C48+9.76)/D48))^(1/2)","v":91.32287548443982},{"$f":"(J48*174.2)/(0.082*298)","v":651.02491853778918},{"$f":"IFERROR(((K9/E48)+(M9/I48)+(O9/K48))^(-1),0)","v":266.13691416364458}]
[null,50,2.67,30,225.19883861746931,{"$f":"IFERROR(-18.6+LN(((F10*E49)^3.7+0.549*(H10*E49)^2.4+1.47*100000*(J10*E49))*D49),0)","v":2.6699999975254016},2.4745983040475039E-9,{"$f":"((EXP(C49+5.47)/D49))^(1/2)","v":10.690989770188546},{"$f":"(H49*242.2)/(0.082*298)","v":105.96487650759804},91.32287548443982,{"$f":"(J49*174.2)/(0.082*298)","v":651.02491853778918},{"$f":"IFERROR(((K10/E49)+(M10/I49)+(O10/K49))^(-1),0)","v":266.13691416364463}]
[null,100,2.67,30,225.19883861746931,2.6699999975254016,2.4745983040475039E-9,10.690989770188546,105.96487650759804,91.32287548443982,651.02491853778918,266.13691416364463]
[null,300,2.67,30,225.19883861746931,2.6699999975254052,2.4745947513338251E-9,10.690989770188546,105.96487650759804,91.32287548443982,651.02491853778918,{"$f":"IFERROR(((K12/E51)+(M12/I51)+(O12/K51))^(-1),0)","v":266.13691416364458}]
[null,600,2.67,30,225.19883861746931,2.6699999975254052,2.4745947513338251E-9,10.690989770188546,105.96487650759804,91.32287548443982,651.02491853778918,266.13691416364458]
[null,900,2.67,30,225.19883861746931,2.6699999975254016,2.4745983040475039E-9,10.690989770188546,105.96487650759804,91.32287548443982,651.02491853778918,266.13691416364463]
[null,2500,2.67,30,225.19883861746931,2.6699999975254016,2.4745983040475039E-9,10.690989770188546,105.96487650759804,91.32287548443982,651.02491853778918,266.13691416364463]
[null,{"$f":"'Terme font'!E8","v":600},3.72,{"$f":"D47","v":30},302.68310183222434,{"$f":"IFERROR(-18.6+LN(((F8*E55)^3.7+0.549*(H8*E55)^2.4+1.47*100000*(J8*E55))*D55),0)","v":3.7284958038687819},-8.4958038687816817E-3,{"$f":"((EXP(C55+5.47)/D55))^(1/2)","v":18.072678254945565},179.12926310966671,154.37756292209335,{"$f":"(J55*174.2)/(0.082*298)","v":1100.5308340574832},{"$f":"IFERROR(((K8/E55)+(M8/I55)+(O8/K55))^(-1),0)","v":374.31475568524536}]
[null,{"$f":"B48","v":20},3.72,{"$f":"D48","v":30},301.97345512057382,{"$f":"IFERROR(-18.6+LN(((F9*E56)^3.7+0.549*(H9*E56)^2.4+1.47*100000*(J9*E56))*D56),0)","v":3.7199995968404345},{"$f":"C56-F56","v":4.0315956573167E-7},{"$f":"((EXP(C56+5.47)/D56))^(1/2)","v":18.072678254945565},{"$f":"(H56*242.2)/(0.082*298)","v":179.12926310966671},{"$f":"((EXP(C56+9.76)/D56))^(1/2)","v":154.37756292209335},{"$f":"(J56*174.2)/(0.082*298)","v":1100.5308340574832},{"$f":"IFERROR(((K9/E56)+(M9/I56)+(O9/K56))^(-1),0)","v":373.59496594201408}]
[null,50,3.72,30,301.97345512057382,{"$f":"IFERROR(-18.6+LN(((F10*E57)^3.7+0.549*(H10*E57)^2.4+1.47*100000*(J10*E57))*D57),0)","v":3.7199995968404345},4.0315956573167E-7,{"$f":"((EXP(C57+5.47)/D57))^(1/2)","v":18.072678254945565},179.12926310966671,154.37756292209335,{"$f":"(J57*174.2)/(0.082*298)","v":1100.5308340574832},{"$f":"IFERROR(((K10/E57)+(M10/I57)+(O10/K57))^(-1),0)","v":373.5949659420142}]
[null,100,3.72,30,301.97345512057382,3.7199995968404345,4.0315956573167E-7,18.072678254945565,179.12926310966671,154.37756292209335,1100.5308340574832,373.5949659420142]
[null,300,3.72,30,301.97345512057382,3.7199995968404345,4.0315956573167E-7,18.072678254945565,179.12926310966671,154.37756292209335,1100.5308340574832,373.59496594201408]
[null,600,3.72,30,301.97345512057382,3.7199995968404345,4.0315956573167E-7,{"$f":"((EXP(C60+5.47)/D60))^(1/2)","v":18.072678254945565},{"$f":"(H60*242.2)/(0.082*298)","v":179.12926310966671},154.37756292209335,{"$f":"(J60*174.2)/(0.082*298)","v":1100.5308340574832},373.59496594201408]
[null,900,3.72,30,301.97345512057382,3.7199995968404345,4.0315956573167E-7,18.072678254945565,179.12926310966671,154.37756292209335,1100.5308340574832,373.5949659420142]
[null,2500,3.72,30,301.97345512057382,3.7199995968404345,4.0315956573167E-7,18.072678254945565,179.12926310966671,154.37756292209335,1100.5308340574832,373.5949659420142]
[null,{"$f":"'Terme font'!E8","v":600},5,{"$f":"D55","v":30},428.98167603083294,{"$f":"IFERROR(-18.6+LN(((F8*E63)^3.7+0.549*(H8*E63)^2.4+1.47*100000*(J8*E63))*D63),0)","v":5.0004996237634458},-4.9962376344581116E-4,{"$f":"((EXP(C63+5.47)/D63))^(1/2)","v":34.274488748334633},339.71522241146869,292.77409627544694,{"$f":"(J63*174.2)/(0.082*298)","v":2087.1356838755464},{"$f":"IFERROR(((K8/E63)+(M8/I63)+(O8/K63))^(-1),0)","v":555.80461195500641}]
[null,{"$f":"B56","v":20},5,{"$f":"D56","v":30},428.92324893423131,{"$f":"IFERROR(-18.6+LN(((F9*E64)^3.7+0.549*(H9*E64)^2.4+1.47*100000*(J9*E64))*D64),0)","v":4.9999999984399395},{"$f":"C64-F64","v":1.5600605252075184E-9},{"$f":"((EXP(C64+5.47)/D64))^(1/2)","v":34.274488748334633},{"$f":"(H64*242.2)/(0.082*298)","v":339.71522241146869},{"$f":"((EXP(C64+9.76)/D64))^(1/2)","v":292.77409627544694},{"$f":"(J64*174.2)/(0.082*298)","v":2087.1356838755464},{"$f":"IFERROR(((K9/E64)+(M9/I64)+(O9/K64))^(-1),0)","v":555.73958822210614}]
[null,50,5,30,428.92324893423131,{"$f":"IFERROR(-18.6+LN(((F10*E65)^3.7+0.549*(H10*E65)^2.4+1.47*100000*(J10*E65))*D65),0)","v":4.9999999984399395},1.5600605252075184E-9,{"$f":"((EXP(C65+5.47)/D65))^(1/2)","v":34.274488748334633},339.71522241146869,292.77409627544694,{"$f":"(J65*174.2)/(0.082*298)","v":2087.1356838755464},{"$f":"IFERROR(((K10/E65)+(M10/I65)+(O10/K65))^(-1),0)","v":555.73958822210614}]
[null,100,5,30,428.92324893423131,4.9999999984399395,1.5600605252075184E-9,34.274488748334633,339.71522241146869,292.77409627544694,2087.1356838755464,555.73958822210614]
[null,300,5,30,428.92324893423131,4.9999999984399395,1.5600605252075184E-9,34.274488748334633,339.71522241146869,292.77409627544694,2087.1356838755464,555.73958822210614]
[null,600,5,30,428.92324893423131,4.9999999984399395,1.5600605252075184E-9,{"$f":"((EXP(C68+5.47)/D68))^(1/2)","v":34.274488748334633},{"$f":"(H68*242.2)/(0.082*298)","v":339.71522241146869},292.77409627544694,{"$f":"(J68*174.2)/(0.082*298)","v":2087.1356838755464},555.73958822210614]
[null,900,5,30,428.92324893423131,4.9999999984399395,1.5600605252075184E-9,34.274488748334633,339.71522241146869,292.77409627544694,2087.1356838755464,555.73958822210614]
[null,2500,5,30,428.92324893423131,4.9999999984399395,1.5600605252075184E-9,34.274488748334633,339.71522241146869,292.77409627544694,2087.1356838755464,555.73958822210614]
[null,{"$f":"'Terme font'!E8","v":600},7.33,{"$f":"D47","v":30},808.9034772191003,{"$f":"IFERROR(-18.6+LN(((F8*E71)^3.7+0.549*(H8*E71)^2.4+1.47*100000*(J8*E71))*D71),0)","v":7.337522985129425},-7.5229851294249528E-3,{"$f":"((EXP(C71+5.47)/D71))^(1/2)","v":109.88136778836349},1089.1008053012617,938.61117485847933,{"$f":"(J71*174.2)/(0.082*298)","v":6691.1960492857697},{"$f":"IFERROR(((K8/E71)+(M8/I71)+(O8/K71))^(-1),0)","v":1112.6809472381826}]
[null,{"$f":"B64","v":20},7.33,{"$f":"D48","v":30},807.25776496110609,{"$f":"IFERROR(-18.6+LN(((F9*E72)^3.7+0.549*(H9*E72)^2.4+1.47*100000*(J9*E72))*D72),0)","v":7.3299996502368714},{"$f":"C72-F72","v":3.4976312868195691E-7},{"$f":"((EXP(C72+5.47)/D72))^(1/2)","v":109.88136778836349},{"$f":"(H72*242.2)/(0.082*298)","v":1089.1008053012617},{"$f":"((EXP(C72+9.76)/D72))^(1/2)","v":938.61117485847933},{"$f":"(J72*174.2)/(0.082*298)","v":6691.1960492857697},{"$f":"IFERROR(((K9/E72)+(M9/I72)+(O9/K72))^(-1),0)","v":1110.616222910279}]
[null,50,7.33,30,807.25776496110609,{"$f":"IFERROR(-18.6+LN(((F10*E73)^3.7+0.549*(H10*E73)^2.4+1.47*100000*(J10*E73))*D73),0)","v":7.3299996502368714},3.4976312868195691E-7,{"$f":"((EXP(C73+5.47)/D73))^(1/2)","v":109.88136778836349},1089.1008053012617,938.61117485847933,{"$f":"(J73*174.2)/(0.082*298)","v":6691.1960492857697},{"$f":"IFERROR(((K10/E73)+(M10/I73)+(O10/K73))^(-1),0)","v":1110.6162229102792}]
[null,100,7.33,30,807.25776496110609,7.3299996502368714,3.4976312868195691E-7,109.88136778836349,1089.1008053012617,938.61117485847933,6691.1960492857697,1110.6162229102792]
[null,300,7.33,30,807.25776496110609,7.3299996502368714,3.4976312868195691E-7,109.88136778836349,1089.1008053012617,938.61117485847933,6691.1960492857697,1110.616222910279]
[null,600,7.33,30,807.25776496110609,7.3299996502368714,3.4976312868195691E-7,{"$f":"((EXP(C76+5.47)/D76))^(1/2)","v":109.88136778836349},{"$f":"(H76*242.2)/(0.082*298)","v":1089.1008053012617},938.61117485847933,{"$f":"(J76*174.2)/(0.082*298)","v":6691.1960492857697},1110.616222910279]
[null,900,7.33,30,807.25776496110609,7.3299996502368714,3.4976312868195691E-7,109.88136778836349,1089.1008053012617,938.61117485847933,6691.1960492857697,1110.6162229102792]
[null,2500,7.33,30,807.25776496110609,7.3299996502368714,3.4976312868195691E-7,109.88136778836349,1089.1008053012617,938.61117485847933,6691.1960492857697,1110.6162229102792]

{"sheet":"dispersió","index":5,"n_rows":69,"n_cols":15,"rows_kept":69,"cut":false,"hidden":false,"merged":[]}
[]
[]
[]
[]
[null,null,null,null,null,null,null,null,null,null,null,null,null,"  ENDARRERE","    ENDAVANT"]
[]
[null,"ESTABILITAT ATMOSFÈRICA PASQUILL D",null,null,null,null,null,"ESTABILITAT ATMOSFÈRICA PASQUILL F"]
[null,"CONSTANTS",null,null,null,null,null,"CONSTANTS"]
[null,null,"a","b","c","d",null,null,"a","b","c","d"]
[null,null,0.128,0.90500000000000003,0.2,0.76,null,null,6.5000000000000002E-2,0.90200000000000002,0.12,0.67]
[null,"VELOCITAT DEL VENT [m/s]",null,null,null,null,null,"VELOCITAT DEL VENT [m/s]"]
[null,null,4.8,null,null,null,0,null,1.56]
[null,null,"DISTÀNCIES LETALS [m]",null,null,null,0,null,"DISTÀNCIES LETALS [m]"]
[null,"ÀREA [m2]","DL 1%","DL 10%","DL 50%","DL 99%",0,"ÀREA [m2]","DL 1%","DL 10%","DL 50%","DL 99%"]
[null,{"$f":"'Terme font'!E8","v":600},{"$f":"G69","v":245.05877095697937},{"$f":"G68","v":188.84528948716317},{"$f":"G67","v":136.38819905477263},{"$f":"G66","v":68.863092944488329},0,{"$f":"'Terme font'!E8","v":600},{"$f":"L69","v":1692.8816252462652},{"$f":"L68","v":1334.5159411344698},{"$f":"L67","v":1005.0385928050102},{"$f":"L66","v":593.84309415001553}]
[null,{"$f":"'Terme font'!D17","v":20},{"$f":"G38","v":32.705677221526919},{"$f":"G45","v":22.463704124157253},{"$f":"G52","v":12.792482940239916},{"$f":"G59","v":0.50301487352455299},0,{"$f":"'Terme font'!D17","v":20},{"$f":"L38","v":240.07141570367315},{"$f":"L45","v":182.20669029806498},{"$f":"L52","v":127.36153354703468},{"$f":"L59","v":60.567824865331175}]
[null,{"$f":"'Terme font'!D18","v":50},40.247583031682268,27.309224274946089,14.94642652045677,0,0,{"$f":"'Terme font'!D18","v":50},303.99249732768698,230.2886065112933,161.72876306645927,76.32023419137326]
[null,{"$f":"'Terme font'!D19","v":100},70.218290458781908,50.740439514228761,32.163164026112923,7.779196350790814,0,{"$f":"'Terme font'!D19","v":100},501.62845086431759,386.98537708120165,280.270041020674,147.03667429286099]
[null,{"$f":"'Terme font'!D20","v":300},154.28271966243128,117.17395412096366,81.973465250590024,36.607796645364125,0,{"$f":"'Terme font'!D20","v":300},1067.4196274235831,835.88841449539564,623.39823781304347,356.84958454188359]
[null,{"$f":"'Terme font'!D21","v":600},245.17254723548032,189.1765314064788,136.36406899542291,68.917013456142556,0,{"$f":"'Terme font'!D21","v":600},1693.421505591197,1336.7214044751022,1005.0817428853459,592.51118918002794]
[null,{"$f":"'Terme font'!D22","v":900},318.99400913581275,247.83109798436595,180.77818362579433,95.501234211980744,0,{"$f":"'Terme font'!D22","v":900},2210.9098782083279,1749.4249479577488,1321.2260488309059,788.43364625035099]
[null,{"$f":"'Terme font'!D23","v":2500},610.13943687315805,479.47019998502572,356.63797892218122,201.50924532115462,null,{"$f":"'Terme font'!D23","v":2500},4302.7995623251609,3420.0601910445384,2601.0835542772243,1585.007429165242]
[]
[null,"C",0.2]
[]
[]
[]
[]
[]
[]
[]
[]
[]
[]
[]
[null,null,null,null,null,null,"est. D",null,null,null,null,"est. F"]
["superfície","sigma_y0'D","sigma_z0'D","Ap","Xy0D","Xz0D","x_D [m]","C(x)D [g/m3]","ΔC(x)D","Xy0F","Xz0F","x_F [m]","C(x)F [g/m3]","ΔC(x)F","LC1 [g/m3]"]
[{"$f":"letalitat!B48","v":20},{"$f":"(A38^(1/2))/4.3","v":1.0400316174417628},{"$f":"('Terme font'!$G$8/2.15)","v":2.7906976744186047},{"$f":"A38^(1/2)*'Terme font'!$G$8","v":26.832815729997478},{"$f":"(B38/$C$10)^(1/$D$10)","v":10.123816835698294},{"$f":"(C38/$E$10)^(1/$F$10)","v":32.074623861267249},32.705677221526919,{"$f":"IFERROR((letalitat!P9*1000)/((3.14159*$C$10*((E38+G38)^$D$10)*$E$10*((F38+G38)^$F$10)+$C$24*D38)*$C$12),0)","v":0.26559756944072638},{"$f":"O38-H38","v":5.3934472291822244E-4},{"$f":"(B38/$I$10)^(1/$J$10)","v":21.625152850504104},{"$f":"(C38/$K$10)^(1/$L$10)","v":109.54670521733549},240.07141570367315,{"$f":"(letalitat!P9*1000)/((3.14159*$I$10*((J38+L38)^$J$10)*$K$10*((K38+L38)^$L$10)+$C$24*D38)*$I$12)","v":0.26512690733980826},{"$f":"O38-M38","v":1.0100068238363402E-3},{"$f":"IFERROR(letalitat!L48/1000,0)","v":0.2661369141636446}]
[{"$f":"letalitat!B49","v":50},1.6444343748524362,{"$f":"('Terme font'!$G$8/2.15)","v":2.7906976744186047},{"$f":"A39^(1/2)*'Terme font'!$G$8","v":42.426406871192853},16.79579779451122,32.074623861267249,40.247583031682268,{"$f":"IFERROR((letalitat!P10*1000)/((3.14159*$C$10*((E39+G39)^$D$10)*$E$10*((F39+G39)^$F$10)+$C$24*D39)*$C$12),0)","v":0.26608905780542108},4.7856358223574702E-5,35.937409947675476,109.54670521733549,303.99249732768698,{"$f":"(letalitat!P10*1000)/((3.14159*$I$10*((J39+L39)^$J$10)*$K$10*((K39+L39)^$L$10)+$C$24*D39)*$I$12)","v":0.26609625828299038},4.0655880654272281E-5,{"$f":"IFERROR(letalitat!L49/1000,0)","v":0.26613691416364466}]
[{"$f":"letalitat!B50","v":100},2.3255813953488373,{"$f":"('Terme font'!$G$8/2.15)","v":2.7906976744186047},{"$f":"A40^(1/2)*'Terme font'!$G$8","v":60},24.632900479200789,32.074623861267249,70.218290458781908,{"$f":"IFERROR((letalitat!P11*1000)/((3.14159*$C$10*((E40+G40)^$D$10)*$E$10*((F40+G40)^$F$10)+$C$24*D40)*$C$12),0)","v":0.26602112746301604},1.1578670062861729E-4,52.773371713496758,109.54670521733549,501.62845086431759,{"$f":"(letalitat!P11*1000)/((3.14159*$I$10*((J40+L40)^$J$10)*$K$10*((K40+L40)^$L$10)+$C$24*D40)*$I$12)","v":0.26596475270881792},1.7216145482673584E-4,{"$f":"IFERROR(letalitat!L50/1000,0)","v":0.26613691416364466}]
[{"$f":"letalitat!B51","v":300},4.0280251338811102,{"$f":"('Terme font'!$G$8/2.15)","v":2.7906976744186047},{"$f":"A41^(1/2)*'Terme font'!$G$8","v":103.92304845413264},45.197920653172446,32.074623861267249,154.28271966243128,{"$f":"IFERROR((letalitat!P12*1000)/((3.14159*$C$10*((E41+G41)^$D$10)*$E$10*((F41+G41)^$F$10)+$C$24*D41)*$C$12),0)","v":0.26600087123633864},1.3604292730595713E-4,97.027417784600289,109.54670521733549,1067.4196274235831,{"$f":"(letalitat!P12*1000)/((3.14159*$I$10*((J41+L41)^$J$10)*$K$10*((K41+L41)^$L$10)+$C$24*D41)*$I$12)","v":0.2658462677847046},2.9064637893999601E-4,{"$f":"IFERROR(letalitat!L51/1000,0)","v":0.2661369141636446}]
[{"$f":"letalitat!B52","v":600},5.6964877739143676,{"$f":"('Terme font'!$G$8/2.15)","v":2.7906976744186047},{"$f":"A42^(1/2)*'Terme font'!$G$8","v":146.9693845669907},66.287764054902453,32.074623861267249,245.17254723548032,{"$f":"IFERROR((letalitat!P13*1000)/((3.14159*$C$10*((E42+G42)^$D$10)*$E$10*((F42+G42)^$F$10)+$C$24*D42)*$C$12),0)","v":0.2659373190840581},1.9959507958650091E-4,142.48283314247757,109.54670521733549,1693.421505591197,{"$f":"(letalitat!P13*1000)/((3.14159*$I$10*((J42+L42)^$J$10)*$K$10*((K42+L42)^$L$10)+$C$24*D42)*$I$12)","v":0.26596503753104023},1.7187663260437303E-4,{"$f":"IFERROR(letalitat!L52/1000,0)","v":0.2661369141636446}]
[{"$f":"letalitat!B53","v":900},6.9767441860465116,{"$f":"('Terme font'!$G$8/2.15)","v":2.7906976744186047},{"$f":"A43^(1/2)*'Terme font'!$G$8","v":180},82.931850964744868,32.074623861267249,318.99400913581275,{"$f":"IFERROR((letalitat!P14*1000)/((3.14159*$C$10*((E43+G43)^$D$10)*$E$10*((F43+G43)^$F$10)+$C$24*D43)*$C$12),0)","v":0.26605034950185286},8.6564661791799224E-5,178.39147843456183,109.54670521733549,2210.9098782083279,{"$f":"(letalitat!P14*1000)/((3.14159*$I$10*((J43+L43)^$J$10)*$K$10*((K43+L43)^$L$10)+$C$24*D43)*$I$12)","v":0.26607258804962219},6.4326114022461578E-5,{"$f":"IFERROR(letalitat!L53/1000,0)","v":0.26613691416364466}]
[{"$f":"letalitat!B54","v":2500},11.627906976744187,{"$f":"('Terme font'!$G$8/2.15)","v":2.7906976744186047},{"$f":"A44^(1/2)*'Terme font'!$G$8","v":300},145.83376846340903,32.074623861267249,610.13943687315805,{"$f":"IFERROR((letalitat!P15*1000)/((3.14159*$C$10*((E44+G44)^$D$10)*$E$10*((F44+G44)^$F$10)+$C$24*D44)*$C$12),0)","v":0.26606306480890834},7.3849354736310602E-5,314.28681030593981,109.54670521733549,4302.7995623251609,{"$f":"(letalitat!P15*1000)/((3.14159*$I$10*((J44+L44)^$J$10)*$K$10*((K44+L44)^$L$10)+$C$24*D44)*$I$12)","v":0.26602043394375796},1.1648021988669433E-4,{"$f":"IFERROR(letalitat!L54/1000,0)","v":0.26613691416364466}]
[{"$f":"letalitat!B56","v":20},{"$f":"(A45^(1/2))/4.3","v":1.0400316174417628},{"$f":"('Terme font'!$G$8/2.15)","v":2.7906976744186047},{"$f":"A45^(1/2)*'Terme font'!$G$8","v":26.832815729997478},{"$f":"(B45/$C$10)^(1/$D$10)","v":10.123816835698294},{"$f":"(C45/$E$10)^(1/$F$10)","v":32.074623861267249},22.463704124157253,{"$f":"IFERROR((letalitat!P9*1000)/((3.14159*$C$10*((E45+G45)^$D$10)*$E$10*((F45+G45)^$F$10)+$C$24*D45)*$C$12),0)","v":0.37299447677108027},{"$f":"O45-H45","v":6.0048917093380449E-4},{"$f":"(B45/$I$10)^(1/$J$10)","v":21.625152850504104},{"$f":"(C45/$K$10)^(1/$L$10)","v":109.54670521733549},182.20669029806498,{"$f":"(letalitat!P9*1000)/((3.14159*$I$10*((J45+L45)^$J$10)*$K$10*((K45+L45)^$L$10)+$C$24*D45)*$I$12)","v":0.37070478777818572},{"$f":"O45-M45","v":2.8901781638283608E-3},{"$f":"IFERROR(letalitat!L56/1000,0)","v":0.37359496594201408}]
[{"$f":"letalitat!B57","v":50},1.6444343748524362,{"$f":"('Terme font'!$G$8/2.15)","v":2.7906976744186047},{"$f":"A46^(1/2)*'Terme font'!$G$8","v":42.426406871192853},16.79579779451122,32.074623861267249,27.309224274946089,{"$f":"IFERROR((letalitat!P10*1000)/((3.14159*$C$10*((E46+G46)^$D$10)*$E$10*((F46+G46)^$F$10)+$C$24*D46)*$C$12),0)","v":0.37357781768878728},1.7148253226906274E-5,35.937409947675476,109.54670521733549,230.2886065112933,{"$f":"(letalitat!P10*1000)/((3.14159*$I$10*((J46+L46)^$J$10)*$K$10*((K46+L46)^$L$10)+$C$24*D46)*$I$12)","v":0.37348625964996501},1.0870629204917659E-4,{"$f":"IFERROR(letalitat!L57/1000,0)","v":0.37359496594201419}]
[{"$f":"letalitat!B58","v":100},2.3255813953488373,{"$f":"('Terme font'!$G$8/2.15)","v":2.7906976744186047},{"$f":"A47^(1/2)*'Terme font'!$G$8","v":60},24.632900479200789,32.074623861267249,50.740439514228761,{"$f":"IFERROR((letalitat!P11*1000)/((3.14159*$C$10*((E47+G47)^$D$10)*$E$10*((F47+G47)^$F$10)+$C$24*D47)*$C$12),0)","v":0.37340123783619},1.9372810582418687E-4,52.773371713496758,109.54670521733549,386.98537708120165,{"$f":"(letalitat!P11*1000)/((3.14159*$I$10*((J47+L47)^$J$10)*$K$10*((K47+L47)^$L$10)+$C$24*D47)*$I$12)","v":0.37333071704307619},2.6424889893800207E-4,{"$f":"IFERROR(letalitat!L58/1000,0)","v":0.37359496594201419}]
[{"$f":"letalitat!B59","v":300},4.0280251338811102,{"$f":"('Terme font'!$G$8/2.15)","v":2.7906976744186047},{"$f":"A48^(1/2)*'Terme font'!$G$8","v":103.92304845413264},45.197920653172446,32.074623861267249,117.17395412096366,{"$f":"IFERROR((letalitat!P12*1000)/((3.14159*$C$10*((E48+G48)^$D$10)*$E$10*((F48+G48)^$F$10)+$C$24*D48)*$C$12),0)","v":0.37321362163347493},3.8134430853914436E-4,97.027417784600289,109.54670521733549,835.88841449539564,{"$f":"(letalitat!P12*1000)/((3.14159*$I$10*((J48+L48)^$J$10)*$K$10*((K48+L48)^$L$10)+$C$24*D48)*$I$12)","v":0.37406893216827092},-4.7396622625683893E-4,{"$f":"IFERROR(letalitat!L59/1000,0)","v":0.37359496594201408}]
[{"$f":"letalitat!B60","v":600},5.6964877739143676,{"$f":"('Terme font'!$G$8/2.15)","v":2.7906976744186047},{"$f":"A49^(1/2)*'Terme font'!$G$8","v":146.9693845669907},66.287764054902453,32.074623861267249,189.1765314064788,{"$f":"IFERROR((letalitat!P13*1000)/((3.14159*$C$10*((E49+G49)^$D$10)*$E$10*((F49+G49)^$F$10)+$C$24*D49)*$C$12),0)","v":0.37339577045838801},1.9919548362606898E-4,142.48283314247757,109.54670521733549,1336.7214044751022,{"$f":"(letalitat!P13*1000)/((3.14159*$I$10*((J49+L49)^$J$10)*$K$10*((K49+L49)^$L$10)+$C$24*D49)*$I$12)","v":0.37326742465322887},3.2754128878520472E-4,{"$f":"IFERROR(letalitat!L60/1000,0)","v":0.37359496594201408}]
[{"$f":"letalitat!B61","v":900},6.9767441860465116,{"$f":"('Terme font'!$G$8/2.15)","v":2.7906976744186047},{"$f":"A50^(1/2)*'Terme font'!$G$8","v":180},82.931850964744868,32.074623861267249,247.83109798436595,{"$f":"IFERROR((letalitat!P14*1000)/((3.14159*$C$10*((E50+G50)^$D$10)*$E$10*((F50+G50)^$F$10)+$C$24*D50)*$C$12),0)","v":0.37349820725416749},9.675868784669861E-5,178.39147843456183,109.54670521733549,1749.4249479577488,{"$f":"(letalitat!P14*1000)/((3.14159*$I$10*((J50+L50)^$J$10)*$K$10*((K50+L50)^$L$10)+$C$24*D50)*$I$12)","v":0.37351315541514801},8.1810526866177291E-5,{"$f":"IFERROR(letalitat!L61/1000,0)","v":0.37359496594201419}]
[{"$f":"letalitat!B62","v":2500},11.627906976744187,{"$f":"('Terme font'!$G$8/2.15)","v":2.7906976744186047},{"$f":"A51^(1/2)*'Terme font'!$G$8","v":300},145.83376846340903,32.074623861267249,479.47019998502572,{"$f":"IFERROR((letalitat!P15*1000)/((3.14159*$C$10*((E51+G51)^$D$10)*$E$10*((F51+G51)^$F$10)+$C$24*D51)*$C$12),0)","v":0.3734758190940714},1.1914684794278596E-4,314.28681030593981,109.54670521733549,3420.0601910445384,{"$f":"(letalitat!P15*1000)/((3.14159*$I$10*((J51+L51)^$J$10)*$K$10*((K51+L51)^$L$10)+$C$24*D51)*$I$12)","v":0.37343932658713519},1.5563935487900027E-4,{"$f":"IFERROR(letalitat!L62/1000,0)","v":0.37359496594201419}]
[{"$f":"letalitat!B64","v":20},{"$f":"(A52^(1/2))/4.3","v":1.0400316174417628},{"$f":"('Terme font'!$G$8/2.15)","v":2.7906976744186047},{"$f":"A52^(1/2)*'Terme font'!$G$8","v":26.832815729997478},{"$f":"(B52/$C$10)^(1/$D$10)","v":10.123816835698294},{"$f":"(C52/$E$10)^(1/$F$10)","v":32.074623861267249},12.792482940239916,{"$f":"IFERROR((letalitat!P9*1000)/((3.14159*$C$10*((E52+G52)^$D$10)*$E$10*((F52+G52)^$F$10)+$C$24*D52)*$C$12),0)","v":0.55529944402938647},{"$f":"O52-H52","v":4.4014419271964922E-4},{"$f":"(B52/$I$10)^(1/$J$10)","v":21.625152850504104},{"$f":"(C52/$K$10)^(1/$L$10)","v":109.54670521733549},127.36153354703468,{"$f":"(letalitat!P9*1000)/((3.14159*$I$10*((J52+L52)^$J$10)*$K$10*((K52+L52)^$L$10)+$C$24*D52)*$I$12)","v":0.55416919748114257},{"$f":"O52-M52","v":1.5703907409635454E-3},{"$f":"IFERROR(letalitat!L64/1000,0)","v":0.55573958822210612}]
[{"$f":"letalitat!B65","v":50},1.6444343748524362,{"$f":"('Terme font'!$G$8/2.15)","v":2.7906976744186047},{"$f":"A53^(1/2)*'Terme font'!$G$8","v":42.426406871192853},16.79579779451122,32.074623861267249,14.94642652045677,{"$f":"IFERROR((letalitat!P10*1000)/((3.14159*$C$10*((E53+G53)^$D$10)*$E$10*((F53+G53)^$F$10)+$C$24*D53)*$C$12),0)","v":0.55571261747230138},2.6970749804733352E-5,35.937409947675476,109.54670521733549,161.72876306645927,{"$f":"(letalitat!P10*1000)/((3.14159*$I$10*((J53+L53)^$J$10)*$K$10*((K53+L53)^$L$10)+$C$24*D53)*$I$12)","v":0.55563149460145078},1.0809362065533623E-4,{"$f":"IFERROR(letalitat!L65/1000,0)","v":0.55573958822210612}]
[{"$f":"letalitat!B66","v":100},2.3255813953488373,{"$f":"('Terme font'!$G$8/2.15)","v":2.7906976744186047},{"$f":"A54^(1/2)*'Terme font'!$G$8","v":60},24.632900479200789,32.074623861267249,32.163164026112923,{"$f":"IFERROR((letalitat!P11*1000)/((3.14159*$C$10*((E54+G54)^$D$10)*$E$10*((F54+G54)^$F$10)+$C$24*D54)*$C$12),0)","v":0.55544179468591037},2.9779353619574511E-4,52.773371713496758,109.54670521733549,280.270041020674,{"$f":"(letalitat!P11*1000)/((3.14159*$I$10*((J54+L54)^$J$10)*$K$10*((K54+L54)^$L$10)+$C$24*D54)*$I$12)","v":0.55544646505182271},2.9312317028340473E-4,{"$f":"IFERROR(letalitat!L66/1000,0)","v":0.55573958822210612}]
[{"$f":"letalitat!B67","v":300},4.0280251338811102,{"$f":"('Terme font'!$G$8/2.15)","v":2.7906976744186047},{"$f":"A55^(1/2)*'Terme font'!$G$8","v":103.92304845413264},45.197920653172446,32.074623861267249,81.973465250590024,{"$f":"IFERROR((letalitat!P12*1000)/((3.14159*$C$10*((E55+G55)^$D$10)*$E$10*((F55+G55)^$F$10)+$C$24*D55)*$C$12),0)","v":0.55517881227669508},5.6077594541104059E-4,97.027417784600289,109.54670521733549,623.39823781304347,{"$f":"(letalitat!P12*1000)/((3.14159*$I$10*((J55+L55)^$J$10)*$K$10*((K55+L55)^$L$10)+$C$24*D55)*$I$12)","v":0.5552268833606343},5.1270486147181327E-4,{"$f":"IFERROR(letalitat!L67/1000,0)","v":0.55573958822210612}]
[{"$f":"letalitat!B68","v":600},5.6964877739143676,{"$f":"('Terme font'!$G$8/2.15)","v":2.7906976744186047},{"$f":"A56^(1/2)*'Terme font'!$G$8","v":146.9693845669907},66.287764054902453,32.074623861267249,136.36406899542291,{"$f":"IFERROR((letalitat!P13*1000)/((3.14159*$C$10*((E56+G56)^$D$10)*$E$10*((F56+G56)^$F$10)+$C$24*D56)*$C$12),0)","v":0.55546385813884824},2.7573008325787463E-4,142.48283314247757,109.54670521733549,1005.0817428853459,{"$f":"(letalitat!P13*1000)/((3.14159*$I$10*((J56+L56)^$J$10)*$K$10*((K56+L56)^$L$10)+$C$24*D56)*$I$12)","v":0.55534978980787941},3.8979841422670525E-4,{"$f":"IFERROR(letalitat!L68/1000,0)","v":0.55573958822210612}]
[{"$f":"letalitat!B69","v":900},6.9767441860465116,{"$f":"('Terme font'!$G$8/2.15)","v":2.7906976744186047},{"$f":"A57^(1/2)*'Terme font'!$G$8","v":180},82.931850964744868,32.074623861267249,180.77818362579433,{"$f":"IFERROR((letalitat!P14*1000)/((3.14159*$C$10*((E57+G57)^$D$10)*$E$10*((F57+G57)^$F$10)+$C$24*D57)*$C$12),0)","v":0.55564284628683147},9.6741935274646806E-5,178.39147843456183,109.54670521733549,1321.2260488309059,{"$f":"(letalitat!P14*1000)/((3.14159*$I$10*((J57+L57)^$J$10)*$K$10*((K57+L57)^$L$10)+$C$24*D57)*$I$12)","v":0.55551091291875421},2.2867530335191066E-4,{"$f":"IFERROR(letalitat!L69/1000,0)","v":0.55573958822210612}]
[{"$f":"letalitat!B70","v":2500},11.627906976744187,{"$f":"('Terme font'!$G$8/2.15)","v":2.7906976744186047},{"$f":"A58^(1/2)*'Terme font'!$G$8","v":300},145.83376846340903,32.074623861267249,356.63797892218122,{"$f":"IFERROR((letalitat!P15*1000)/((3.14159*$C$10*((E58+G58)^$D$10)*$E$10*((F58+G58)^$F$10)+$C$24*D58)*$C$12),0)","v":0.5556035875504769},1.3600067162922169E-4,314.28681030593981,109.54670521733549,2601.0835542772243,{"$f":"(letalitat!P15*1000)/((3.14159*$I$10*((J58+L58)^$J$10)*$K$10*((K58+L58)^$L$10)+$C$24*D58)*$I$12)","v":0.55554129211677772},1.9829610532839936E-4,{"$f":"IFERROR(letalitat!L70/1000,0)","v":0.55573958822210612}]
[{"$f":"letalitat!B72","v":20},{"$f":"(A59^(1/2))/4.3","v":1.0400316174417628},{"$f":"('Terme font'!$G$8/2.15)","v":2.7906976744186047},{"$f":"A59^(1/2)*'Terme font'!$G$8","v":26.832815729997478},{"$f":"(B59/$C$10)^(1/$D$10)","v":10.123816835698294},{"$f":"(C59/$E$10)^(1/$F$10)","v":32.074623861267249},0.50301487352455299,{"$f":"IFERROR((letalitat!P9*1000)/((3.14159*$C$10*((E59+G59)^$D$10)*$E$10*((F59+G59)^$F$10)+$C$24*D59)*$C$12),0)","v":1.1106162227357765},{"$f":"O59-H59","v":1.7450241251992793E-10},{"$f":"(B59/$I$10)^(1/$J$10)","v":21.625152850504104},{"$f":"(C59/$K$10)^(1/$L$10)","v":109.54670521733549},60.567824865331175,{"$f":"(letalitat!P9*1000)/((3.14159*$I$10*((J59+L59)^$J$10)*$K$10*((K59+L59)^$L$10)+$C$24*D59)*$I$12)","v":1.11002296667008},{"$f":"O59-M59","v":5.9325624019890277E-4},{"$f":"IFERROR(letalitat!L72/1000,0)","v":1.1106162229102789}]
[{"$f":"letalitat!B73","v":50},1.6444343748524362,{"$f":"('Terme font'!$G$8/2.15)","v":2.7906976744186047},{"$f":"A60^(1/2)*'Terme font'!$G$8","v":42.426406871192853},16.79579779451122,32.074623861267249,0,{"$f":"IFERROR((letalitat!P10*1000)/((3.14159*$C$10*((E60+G60)^$D$10)*$E$10*((F60+G60)^$F$10)+$C$24*D60)*$C$12),0)","v":1.0381949565322268},7.2421266378052351E-2,35.937409947675476,109.54670521733549,76.32023419137326,{"$f":"(letalitat!P10*1000)/((3.14159*$I$10*((J60+L60)^$J$10)*$K$10*((K60+L60)^$L$10)+$C$24*D60)*$I$12)","v":1.1104397076556065},1.7651525467266005E-4,{"$f":"IFERROR(letalitat!L73/1000,0)","v":1.1106162229102792}]
[{"$f":"letalitat!B74","v":100},2.3255813953488373,{"$f":"('Terme font'!$G$8/2.15)","v":2.7906976744186047},{"$f":"A61^(1/2)*'Terme font'!$G$8","v":60},24.632900479200789,32.074623861267249,7.779196350790814,{"$f":"IFERROR((letalitat!P11*1000)/((3.14159*$C$10*((E61+G61)^$D$10)*$E$10*((F61+G61)^$F$10)+$C$24*D61)*$C$12),0)","v":1.1103723836692299},2.4383924104931509E-4,52.773371713496758,109.54670521733549,147.03667429286099,{"$f":"(letalitat!P11*1000)/((3.14159*$I$10*((J61+L61)^$J$10)*$K$10*((K61+L61)^$L$10)+$C$24*D61)*$I$12)","v":1.1098792394900472},7.3698342023198471E-4,{"$f":"IFERROR(letalitat!L74/1000,0)","v":1.1106162229102792}]
[{"$f":"letalitat!B75","v":300},4.0280251338811102,{"$f":"('Terme font'!$G$8/2.15)","v":2.7906976744186047},{"$f":"A62^(1/2)*'Terme font'!$G$8","v":103.92304845413264},45.197920653172446,32.074623861267249,36.607796645364125,{"$f":"IFERROR((letalitat!P12*1000)/((3.14159*$C$10*((E62+G62)^$D$10)*$E$10*((F62+G62)^$F$10)+$C$24*D62)*$C$12),0)","v":1.109824690052428},7.9153285785094063E-4,97.027417784600289,109.54670521733549,356.84958454188359,{"$f":"(letalitat!P12*1000)/((3.14159*$I$10*((J62+L62)^$J$10)*$K$10*((K62+L62)^$L$10)+$C$24*D62)*$I$12)","v":1.1094904878011673},1.1257351091116252E-3,{"$f":"IFERROR(letalitat!L75/1000,0)","v":1.1106162229102789}]
[{"$f":"letalitat!B76","v":600},5.6964877739143676,{"$f":"('Terme font'!$G$8/2.15)","v":2.7906976744186047},{"$f":"A63^(1/2)*'Terme font'!$G$8","v":146.9693845669907},66.287764054902453,32.074623861267249,68.917013456142556,{"$f":"IFERROR((letalitat!P13*1000)/((3.14159*$C$10*((E63+G63)^$D$10)*$E$10*((F63+G63)^$F$10)+$C$24*D63)*$C$12),0)","v":1.1101948270545969},4.2139585568201632E-4,142.48283314247757,109.54670521733549,592.51118918002794,{"$f":"(letalitat!P13*1000)/((3.14159*$I$10*((J63+L63)^$J$10)*$K$10*((K63+L63)^$L$10)+$C$24*D63)*$I$12)","v":1.1099641473920734},6.5207551820556375E-4,{"$f":"IFERROR(letalitat!L76/1000,0)","v":1.1106162229102789}]
[{"$f":"letalitat!B77","v":900},6.9767441860465116,{"$f":"('Terme font'!$G$8/2.15)","v":2.7906976744186047},{"$f":"A64^(1/2)*'Terme font'!$G$8","v":180},82.931850964744868,32.074623861267249,95.501234211980744,{"$f":"IFERROR((letalitat!P14*1000)/((3.14159*$C$10*((E64+G64)^$D$10)*$E$10*((F64+G64)^$F$10)+$C$24*D64)*$C$12),0)","v":1.1104229657596207},1.9325715065843241E-4,178.39147843456183,109.54670521733549,788.43364625035099,{"$f":"(letalitat!P14*1000)/((3.14159*$I$10*((J64+L64)^$J$10)*$K$10*((K64+L64)^$L$10)+$C$24*D64)*$I$12)","v":1.1103152225489852},3.0100036129399044E-4,{"$f":"IFERROR(letalitat!L77/1000,0)","v":1.1106162229102792}]
[{"$f":"letalitat!B78","v":2500},11.627906976744187,{"$f":"('Terme font'!$G$8/2.15)","v":2.7906976744186047},{"$f":"A65^(1/2)*'Terme font'!$G$8","v":300},145.83376846340903,32.074623861267249,201.50924532115462,{"$f":"IFERROR((letalitat!P15*1000)/((3.14159*$C$10*((E65+G65)^$D$10)*$E$10*((F65+G65)^$F$10)+$C$24*D65)*$C$12),0)","v":1.1099453891832698},6.7083372700937893E-4,314.28681030593981,109.54670521733549,1585.007429165242,{"$f":"(letalitat!P15*1000)/((3.14159*$I$10*((J65+L65)^$J$10)*$K$10*((K65+L65)^$L$10)+$C$24*D65)*$I$12)","v":1.1098556574006067},7.6056550967251724E-4,{"$f":"IFERROR(letalitat!L78/1000,0)","v":1.1106162229102792}]
[{"$f":"A67","v":600},{"$f":"(A66^(1/2))/4.3","v":5.6964877739143676},{"$f":"('Terme font'!$G$8/2.15)","v":2.7906976744186047},{"$f":"A66^(1/2)*'Terme font'!$G$8","v":146.9693845669907},{"$f":"(B66/$C$10)^(1/$D$10)","v":66.287764054902453},{"$f":"(C66/$E$10)^(1/$F$10)","v":32.074623861267249},68.863092944488329,{"$f":"IFERROR((letalitat!P8*1000)/((3.14159*$C$10*((E66+G66)^$D$10)*$E$10*((F66+G66)^$F$10)+$C$24*D66)*$C$12),0)","v":1.1109490549064118},{"$f":"O66-H66","v":1.7318923317708457E-3},{"$f":"(B66/$I$10)^(1/$J$10)","v":142.48283314247757},{"$f":"(C66/$K$10)^(1/$L$10)","v":109.54670521733549},593.84309415001553,{"$f":"(letalitat!P8*1000)/((3.14159*$I$10*((J66+L66)^$J$10)*$K$10*((K66+L66)^$L$10)+$C$24*D66)*$I$12)","v":1.1068658923120305},{"$f":"O66-M66","v":5.8150549261521967E-3},{"$f":"IFERROR(letalitat!L71/1000,0)","v":1.1126809472381827}]
[{"$f":"A68","v":600},{"$f":"(A67^(1/2))/4.3","v":5.6964877739143676},{"$f":"('Terme font'!$G$8/2.15)","v":2.7906976744186047},{"$f":"A67^(1/2)*'Terme font'!$G$8","v":146.9693845669907},{"$f":"(B67/$C$10)^(1/$D$10)","v":66.287764054902453},{"$f":"(C67/$E$10)^(1/$F$10)","v":32.074623861267249},136.38819905477263,{"$f":"IFERROR((letalitat!P8*1000)/((3.14159*$C$10*((E67+G67)^$D$10)*$E$10*((F67+G67)^$F$10)+$C$24*D67)*$C$12),0)","v":0.55535042926286171},{"$f":"O67-H67","v":4.5418269214470008E-4},{"$f":"(B67/$I$10)^(1/$J$10)","v":142.48283314247757},{"$f":"(C67/$K$10)^(1/$L$10)","v":109.54670521733549},1005.0385928050102,{"$f":"(letalitat!P8*1000)/((3.14159*$I$10*((J67+L67)^$J$10)*$K$10*((K67+L67)^$L$10)+$C$24*D67)*$I$12)","v":0.55538241316293713},{"$f":"O67-M67","v":4.2219879206928379E-4},{"$f":"IFERROR(letalitat!L63/1000,0)","v":0.55580461195500641}]
[{"$f":"A69","v":600},{"$f":"(A68^(1/2))/4.3","v":5.6964877739143676},{"$f":"('Terme font'!$G$8/2.15)","v":2.7906976744186047},{"$f":"A68^(1/2)*'Terme font'!$G$8","v":146.9693845669907},{"$f":"(B68/$C$10)^(1/$D$10)","v":66.287764054902453},{"$f":"(C68/$E$10)^(1/$F$10)","v":32.074623861267249},188.84528948716317,{"$f":"IFERROR((letalitat!P8*1000)/((3.14159*$C$10*((E68+G68)^$D$10)*$E$10*((F68+G68)^$F$10)+$C$24*D68)*$C$12),0)","v":0.37422705680458446},{"$f":"O68-H68","v":8.7698880660902478E-5},{"$f":"(B68/$I$10)^(1/$J$10)","v":142.48283314247757},{"$f":"(C68/$K$10)^(1/$L$10)","v":109.54670521733549},1334.5159411344698,{"$f":"(letalitat!P8*1000)/((3.14159*$I$10*((J68+L68)^$J$10)*$K$10*((K68+L68)^$L$10)+$C$24*D68)*$I$12)","v":0.3741414142152491},{"$f":"O68-M68","v":1.7334146999625766E-4},{"$f":"IFERROR(letalitat!L55/1000,0)","v":0.37431475568524536}]
[{"$f":"B15","v":600},{"$f":"(A69^(1/2))/4.3","v":5.6964877739143676},{"$f":"('Terme font'!$G$8/2.15)","v":2.7906976744186047},{"$f":"A69^(1/2)*'Terme font'!$G$8","v":146.9693845669907},{"$f":"(B69/$C$10)^(1/$D$10)","v":66.287764054902453},{"$f":"(C69/$E$10)^(1/$F$10)","v":32.074623861267249},245.05877095697937,{"$f":"IFERROR((letalitat!P8*1000)/((3.14159*$C$10*((E69+G69)^$D$10)*$E$10*((F69+G69)^$F$10)+$C$24*D69)*$C$12),0)","v":0.26610358115956306},{"$f":"O69-H69","v":7.4175592610581376E-5},{"$f":"(B69/$I$10)^(1/$J$10)","v":142.48283314247757},{"$f":"(C69/$K$10)^(1/$L$10)","v":109.54670521733549},1692.8816252462652,{"$f":"(letalitat!P8*1000)/((3.14159*$I$10*((J69+L69)^$J$10)*$K$10*((K69+L69)^$L$10)+$C$24*D69)*$I$12)","v":0.26608788662219313},{"$f":"O69-M69","v":8.9870129980518243E-5},{"$f":"IFERROR(letalitat!L47/1000,0)","v":0.26617775675217364}]

{"sheet":"Representació gràfica","index":6,"n_rows":175,"n_cols":20,"rows_kept":175,"cut":false,"hidden":false,"merged":[]}
[]
[]
[]
[]
[null,null,null,null,null,null,null,null,null,null,null,null,null,null,null,null,null,null,"ENDARRERE","    ENDAVANT"]
[]
[null,null,null,null,null,null,null,{"$f":"'Terme font'!E8","v":600},"m2",null,null,null,null,null,null,null,null,{"$f":"'Terme font'!E8","v":600},"m2"]
[]
[]
[null,null,null,null,null,null,null,null,"LC1",null,null,null,null,null,null,null,null,null,"LC1"]
[null,null,null,null,null,null,null,"C [mg/m3]","X [m]","Y [m]",null,null,null,null,null,null,null,"C [mg/m3]","X [m]","Y [m]"]
[null,null,null,null,null,null,null,{"$f":"dispersió!$O$38*1000","v":266.13691416364458},{"$f":"dispersió!$G$69","v":245.05877095697937},{"$f":"IF(ISERROR(MAX('Càlculs interns'!$C$3:$C$35)),\"0\",(MAX('Càlculs interns'!$C$3:$C$35)))","v":19.276995096408676},null,null,null,null,null,null,null,{"$f":"dispersió!$O$38*1000","v":266.13691416364458},{"$f":"dispersió!$L$69","v":1692.8816252462652},{"$f":"IF(ISERROR(MAX('Càlculs interns'!$C$41:$C$70)),\"0\",MAX('Càlculs interns'!$C$41:$C$70))","v":45.63550080539045}]
[null,null,null,null,null,null,null,null,"LC10",null,null,null,null,null,null,null,null,null,"LC10"]
[null,null,null,null,null,null,null,"C [mg/m3]","X [m]","Y [m]",null,null,null,null,null,null,null,"C [mg/m3]","X [m]","Y [m]"]
[null,null,null,null,null,null,null,{"$f":"dispersió!$O$45*1000","v":373.59496594201408},{"$f":"dispersió!$G$68","v":188.84528948716317},{"$f":"IF(ISERROR(MAX('Càlculs interns'!$H$6:$H$35)),\"0\",MAX('Càlculs interns'!$H$6:$H$35))","v":16.097043076878919},null,null,null,null,null,null,null,{"$f":"dispersió!$O$45*1000","v":373.59496594201408},{"$f":"dispersió!$L$68","v":1334.5159411344698},{"$f":"IF(ISERROR(MAX('Càlculs interns'!$H$41:$H$70)),\"0\",MAX('Càlculs interns'!$H$41:$H$70))","v":37.454560865341158}]
[null,null,null,null,null,null,null,null,"LC50",null,null,null,null,null,null,null,null,null,"LC50"]
[null,null,null,null,null,null,null,"C [mg/m3]","X [m]","Y [m]",null,null,null,null,null,null,null,"C [mg/m3]","X [m]","Y [m]"]
[null,null,null,null,null,null,null,{"$f":"dispersió!$O$52*1000","v":555.73958822210614},{"$f":"dispersió!$G$67","v":136.38819905477263},{"$f":"IF(ISERROR(MAX('Càlculs interns'!$M$6:$M$35)),\"0\",MAX('Càlculs interns'!$M$6:$M$35))","v":13.041773676473747},null,null,null,null,null,null,null,{"$f":"dispersió!$O$52*1000","v":555.73958822210614},{"$f":"dispersió!$L$67","v":1005.0385928050102},{"$f":"IF(ISERROR(MAX('Càlculs interns'!$M$41:$M$70)),\"0\",MAX('Càlculs interns'!$M$41:$M$70))","v":29.719965925436533}]
[null,null,null,null,null,null,null,null,"LC99",null,null,null,null,null,null,null,null,null,"LC99"]
[null,null,null,null,null,null,null,"C [mg/m3]","X [m]","Y [m]",null,null,null,null,null,null,null,"C [mg/m3]","X [m]","Y [m]"]
[null,null,null,null,null,null,null,{"$f":"dispersió!$O$59*1000","v":1110.616222910279},{"$f":"dispersió!$G$66","v":68.863092944488329},{"$f":"IF(ISERROR(MAX('Càlculs interns'!$R$6:$R$35)),\"0\",MAX('Càlculs interns'!$R$6:$R$35))","v":8.9288839494002517},null,null,null,null,null,null,null,{"$f":"dispersió!$O$59*1000","v":1110.616222910279},{"$f":"dispersió!$L$66","v":593.84309415001553},{"$f":"IF(ISERROR(MAX('Càlculs interns'!$R$41:$R$70)),\"0\",MAX('Càlculs interns'!$R$41:$R$70))","v":19.670505056430208}]
[]
[]
[]
[]
[]
[]
[]
[]
[null,null,null,null,null,null,null,null,"LC1",null,null,null,null,null,null,null,null,null,"LC1"]
[null,null,null,null,null,null,null,"C [mg/m3]","X [m]","Y [m]",null,null,null,null,null,null,null,"C [mg/m3]","X [m]","Y [m]"]
[null,null,null,null,null,null,null,{"$f":"dispersió!$O$38*1000","v":266.13691416364458},{"$f":"dispersió!$G$38","v":32.705677221526919},{"$f":"IF(ISERROR(MAX('Càlculs interns'!$C$78:$C$107)),\"0\",MAX('Càlculs interns'!$C$78:$C$107))","v":2.6713211740549534},null,null,null,null,null,null,null,{"$f":"dispersió!$O$38*1000","v":266.13691416364458},{"$f":"dispersió!$L$38","v":240.07141570367315},{"$f":"IF(ISERROR(MAX('Càlculs interns'!$C$113:$C$142)),\"0\",MAX('Càlculs interns'!$C$113:$C$142))","v":7.1844049624135335}]
[null,null,null,null,null,null,null,null,"LC10",null,null,null,null,null,null,null,null,null,"LC10"]
[null,null,null,null,null,null,null,"C [mg/m3]","X [m]","Y [m]",null,null,null,null,null,null,null,"C [mg/m3]","X [m]","Y [m]"]
[null,null,null,null,null,null,null,{"$f":"dispersió!$O$45*1000","v":373.59496594201408},{"$f":"dispersió!$G$45","v":22.463704124157253},{"$f":"IF(ISERROR(MAX('Càlculs interns'!$H$78:$H$107)),\"0\",MAX('Càlculs interns'!$H$78:$H$107))","v":1.9965075765127436},null,null,null,null,null,null,null,{"$f":"dispersió!$O$45*1000","v":373.59496594201408},{"$f":"dispersió!$L$45","v":182.20669029806498},{"$f":"IF(ISERROR(MAX('Càlculs interns'!$H$113:$H$142)),\"0\",MAX('Càlculs interns'!$H$113:$H$142))","v":5.5973576176022428}]
[null,null,null,null,null,null,null,null,"LC50",null,null,null,null,null,null,null,null,null,"LC50"]
[null,null,null,null,null,null,null,"C [mg/m3]","X [m]","Y [m]",null,null,null,null,null,null,null,"C [mg/m3]","X [m]","Y [m]"]
[null,null,null,null,null,null,null,{"$f":"dispersió!$O$52*1000","v":555.73958822210614},{"$f":"dispersió!$G$52","v":12.792482940239916},{"$f":"IF(ISERROR(MAX('Càlculs interns'!$M$78:$M$107)),\"0\",MAX('Càlculs interns'!$M$78:$M$107))","v":1.3554649723126},null,null,null,null,null,null,null,{"$f":"dispersió!$O$52*1000","v":555.73958822210614},{"$f":"dispersió!$L$52","v":127.36153354703468},{"$f":"IF(ISERROR(MAX('Càlculs interns'!$M$113:$M$142)),\"0\",MAX('Càlculs interns'!$M$113:$M$142))","v":4.0972452857933588}]
[null,null,null,null,null,null,null,null,"LC99",null,null,null,null,null,null,null,null,null,"LC99"]
[null,null,null,null,null,null,null,"C [mg/m3]","X [m]","Y [m]",null,null,null,null,null,null,null,"C [mg/m3]","X [m]","Y [m]"]
[null,null,null,null,null,null,null,{"$f":"dispersió!$O$59*1000","v":1110.616222910279},{"$f":"dispersió!$G$59","v":0.50301487352455299},{"$f":"IF(ISERROR(MAX('Càlculs interns'!$R$78:$R$107)),\"0\",MAX('Càlculs interns'!$R$78:$R$107))","v":0.27685311814990282},null,null,null,null,null,null,null,{"$f":"dispersió!$O$59*1000","v":1110.616222910279},{"$f":"dispersió!$L$59","v":60.567824865331175},{"$f":"IF(ISERROR(MAX('Càlculs interns'!$R$113:$R$142)),\"0\",MAX('Càlculs interns'!$R$113:$R$142))","v":2.2135879728671486}]
[]
[null,null,null,null,null,null,null,"VÀLID",null,null,null,null,null,null,null,null,null,"VÀLID"]
[null,null,null,null,null,null,null,20,null,null,null,null,null,null,null,null,null,20]
[]
[]
[]
[]
[]
[null,null,null,null,null,null,null,null,"LC1",null,null,null,null,null,null,null,null,null,"LC1"]
[null,null,null,null,null,null,null,"C [mg/m3]","X [m]","Y [m]",null,null,null,null,null,null,null,"C [mg/m3]","X [m]","Y [m]"]
[null,null,null,null,null,null,null,{"$f":"dispersió!$O$39*1000","v":266.13691416364463},{"$f":"dispersió!$G$39","v":40.247583031682268},{"$f":"IF(ISERROR(MAX('Càlculs interns'!$C$149:$C$178)),\"0\",MAX('Càlculs interns'!$C$149:$C$178))","v":3.569012594380534},null,null,null,null,null,null,null,{"$f":"dispersió!$O$39*1000","v":266.13691416364463},{"$f":"dispersió!$L$39","v":303.99249732768698},{"$f":"IF(ISERROR(MAX('Càlculs interns'!$C$185:$C$214)),\"0\",MAX('Càlculs interns'!$C$185:$C$214))","v":9.2862605301594101}]
[null,null,null,null,null,null,null,null,"LC10",null,null,null,null,null,null,null,null,null,"LC10"]
[null,null,null,null,null,null,null,"C [mg/m3]","X [m]","Y [m]",null,null,null,null,null,null,null,"C [mg/m3]","X [m]","Y [m]"]
[null,null,null,null,null,null,null,{"$f":"dispersió!$O$46*1000","v":373.5949659420142},{"$f":"dispersió!$G$46","v":27.309224274946089},{"$f":"IF(ISERROR(MAX('Càlculs interns'!$H$149:$H$178)),\"0\",MAX('Càlculs interns'!$H$149:$H$178))","v":2.7099289527337374},null,null,null,null,null,null,null,{"$f":"dispersió!$O$46*1000","v":373.5949659420142},{"$f":"dispersió!$L$46","v":230.2886065112933},{"$f":"IF(ISERROR(MAX('Càlculs interns'!$H$185:$H$214)),\"0\",MAX('Càlculs interns'!$H$185:$H$214))","v":7.3021672441091683}]
[null,null,null,null,null,null,null,null,"LC50",null,null,null,null,null,null,null,null,null,"LC50"]
[null,null,null,null,null,null,null,"C [mg/m3]","X [m]","Y [m]",null,null,null,null,null,null,null,"C [mg/m3]","X [m]","Y [m]"]
[null,null,null,null,null,null,null,{"$f":"dispersió!$O$53*1000","v":555.73958822210614},{"$f":"dispersió!$G$53","v":14.94642652045677},{"$f":"IF(ISERROR(MAX('Càlculs interns'!$M$149:$M$178)),\"0\",MAX('Càlculs interns'!$M$149:$M$178))","v":1.875885680150734},null,null,null,null,null,null,null,{"$f":"dispersió!$O$53*1000","v":555.73958822210614},{"$f":"dispersió!$L$53","v":161.72876306645927},{"$f":"IF(ISERROR(MAX('Càlculs interns'!$M$185:$M$214)),\"0\",MAX('Càlculs interns'!$M$185:$M$214))","v":5.415592404719578}]
[null,null,null,null,null,null,null,null,"LC99",null,null,null,null,null,null,null,null,null,"LC99"]
[null,null,null,null,null,null,null,"C [mg/m3]","X [m]","Y [m]",null,null,null,null,null,null,null,"C [mg/m3]","X [m]","Y [m]"]
[null,null,null,null,null,null,null,{"$f":"dispersió!$O$60*1000","v":1110.6162229102792},{"$f":"dispersió!$G$60","v":0},{"$f":"IF(ISERROR(MAX('Càlculs interns'!$R$149:$R$178)),\"0\",MAX('Càlculs interns'!$R$149:$R$178))","v":0},null,null,null,null,null,null,null,{"$f":"dispersió!$O$60*1000","v":1110.6162229102792},{"$f":"dispersió!$L$60","v":76.32023419137326},{"$f":"IF(ISERROR(MAX('Càlculs interns'!$R$185:$R$214)),\"0\",MAX('Càlculs interns'!$R$185:$R$214))","v":2.9976047542681759}]
[]
[null,null,null,null,null,null,null,"VÀLID"]
[null,null,null,null,null,null,null,50,null,null,null,null,null,null,null,null,null,"VÀLID"]
[null,null,null,null,null,null,null,null,null,null,null,null,null,null,null,null,null,50]
[]
[]
[]
[]
[]
[]
[null,null,null,null,null,null,null,null,"LC1",null,null,null,null,null,null,null,null,null,"LC1"]
[null,null,null,null,null,null,null,"C [mg/m3]","X [m]","Y [m]",null,null,null,null,null,null,null,"C [mg/m3]","X [m]","Y [m]"]
[null,null,null,null,null,null,null,{"$f":"dispersió!$O$40*1000","v":266.13691416364463},{"$f":"dispersió!$G$40","v":70.218290458781908},{"$f":"IF(ISERROR(MAX('Càlculs interns'!$C$221:$C$250)),\"0\",MAX('Càlculs interns'!$C$221:$C$250))","v":6.0065490394919516},null,null,null,null,null,null,null,{"$f":"dispersió!$O$40*1000","v":266.13691416364463},{"$f":"dispersió!$L$40","v":501.62845086431759},{"$f":"IF(ISERROR(MAX('Càlculs interns'!$C$256:$C$285)),\"0\",MAX('Càlculs interns'!$C$256:$C$285))","v":14.87306078125725}]
[null,null,null,null,null,null,null,null,"LC10",null,null,null,null,null,null,null,null,null,"LC10"]
[null,null,null,null,null,null,null,"C [mg/m3]","X [m]","Y [m]",null,null,null,null,null,null,null,"C [mg/m3]","X [m]","Y [m]"]
[null,null,null,null,null,null,null,{"$f":"dispersió!$O$47*1000","v":373.5949659420142},{"$f":"dispersió!$G$47","v":50.740439514228761},{"$f":"IF(ISERROR(MAX('Càlculs interns'!$H$221:$H$250)),\"0\",MAX('Càlculs interns'!$H$221:$H$250))","v":4.7524463520972011},null,null,null,null,null,null,null,{"$f":"dispersió!$O$47*1000","v":373.5949659420142},{"$f":"dispersió!$L$47","v":386.98537708120165},{"$f":"IF(ISERROR(MAX('Càlculs interns'!$H$256:$H$285)),\"0\",MAX('Càlculs interns'!$H$256:$H$285))","v":11.916510693225902}]
[null,null,null,null,null,null,null,null,"LC50",null,null,null,null,null,null,null,null,null,"LC50"]
[null,null,null,null,null,null,null,"C [mg/m3]","X [m]","Y [m]",null,null,null,null,null,null,null,"C [mg/m3]","X [m]","Y [m]"]
[null,null,null,null,null,null,null,{"$f":"dispersió!$O$54*1000","v":555.73958822210614},{"$f":"dispersió!$G$54","v":32.163164026112923},{"$f":"IF(ISERROR(MAX('Càlculs interns'!$M$221:$M$250)),\"0\",MAX('Càlculs interns'!$M$221:$M$250))","v":3.5201510819710857},null,null,null,null,null,null,null,{"$f":"dispersió!$O$54*1000","v":555.73958822210614},{"$f":"dispersió!$L$54","v":280.270041020674},{"$f":"IF(ISERROR(MAX('Càlculs interns'!$M$256:$M$285)),\"0\",MAX('Càlculs interns'!$M$256:$M$285))","v":9.0898605454220096}]
[null,null,null,null,null,null,null,null,"LC99",null,null,null,null,null,null,null,null,null,"LC99"]
[null,null,null,null,null,null,null,"C [mg/m3]","X [m]","Y [m]",null,null,null,null,null,null,null,"C [mg/m3]","X [m]","Y [m]"]
[null,null,null,null,null,null,null,{"$f":"dispersió!$O$61*1000","v":1110.6162229102792},{"$f":"dispersió!$G$61","v":7.779196350790814},{"$f":"IF(ISERROR(MAX('Càlculs interns'!$R$221:$R$250)),\"0\",MAX('Càlculs interns'!$R$221:$R$250))","v":1.7376378156025936},null,null,null,null,null,null,null,{"$f":"dispersió!$O$61*1000","v":1110.6162229102792},{"$f":"dispersió!$L$61","v":147.03667429286099},{"$f":"IF(ISERROR(MAX('Càlculs interns'!$R$256:$R$285)),\"0\",MAX('Càlculs interns'!$R$256:$R$285))","v":5.4274642175555652}]
[]
[null,null,null,null,null,null,null,"VÀLID",null,null,null,null,null,null,null,null,null,"VÀLID"]
[null,null,null,null,null,null,null,100,null,null,null,null,null,null,null,null,null,100]
[]
[]
[]
[]
[]
[]
[null,null,null,null,null,null,null,null,"LC1",null,null,null,null,null,null,null,null,null,"LC1"]
[null,null,null,null,null,null,null,"C [mg/m3]","X [m]","Y [m]",null,null,null,null,null,null,null,"C [mg/m3]","X [m]","Y [m]"]
[null,null,null,null,null,null,null,{"$f":"dispersió!$O$41*1000","v":266.13691416364458},{"$f":"dispersió!$G$41","v":154.28271966243128},{"$f":"IF(ISERROR(MAX('Càlculs interns'!$C$293:$C$322)),\"0\",MAX('Càlculs interns'!$C$293:$C$322))","v":12.558622648251029},null,null,null,null,null,null,null,{"$f":"dispersió!$O$41*1000","v":266.13691416364458},{"$f":"dispersió!$L$41","v":1067.4196274235831},{"$f":"IF(ISERROR(MAX('Càlculs interns'!$C$329:$C$358)),\"0\",MAX('Càlculs interns'!$C$329:$C$358))","v":29.92678217309215}]
[null,null,null,null,null,null,null,null,"LC10",null,null,null,null,null,null,null,null,null,"LC10"]
[null,null,null,null,null,null,null,"C [mg/m3]","X [m]","Y [m]",null,null,null,null,null,null,null,"C [mg/m3]","X [m]","Y [m]"]
[null,null,null,null,null,null,null,{"$f":"dispersió!$O$48*1000","v":373.59496594201408},{"$f":"dispersió!$G$48","v":117.17395412096366},{"$f":"IF(ISERROR(MAX('Càlculs interns'!$H$293:$H$322)),\"0\",MAX('Càlculs interns'!$H$293:$H$322))","v":10.338493266343541},null,null,null,null,null,null,null,{"$f":"dispersió!$O$48*1000","v":373.59496594201408},{"$f":"dispersió!$L$48","v":835.88841449539564},{"$f":"IF(ISERROR(MAX('Càlculs interns'!$H$329:$H$358)),\"0\",MAX('Càlculs interns'!$H$329:$H$358))","v":24.421952074970985}]
[null,null,null,null,null,null,null,null,"LC50",null,null,null,null,null,null,null,null,null,"LC50"]
[null,null,null,null,null,null,null,"C [mg/m3]","X [m]","Y [m]",null,null,null,null,null,null,null,"C [mg/m3]","X [m]","Y [m]"]
[null,null,null,null,null,null,null,{"$f":"dispersió!$O$55*1000","v":555.73958822210614},{"$f":"dispersió!$G$55","v":81.973465250590024},{"$f":"IF(ISERROR(MAX('Càlculs interns'!$M$293:$M$322)),\"0\",MAX('Càlculs interns'!$M$293:$M$322))","v":8.1688548298622372},null,null,null,null,null,null,null,{"$f":"dispersió!$O$55*1000","v":555.73958822210614},{"$f":"dispersió!$L$55","v":623.39823781304347},{"$f":"IF(ISERROR(MAX('Càlculs interns'!$M$329:$M$358)),\"0\",MAX('Càlculs interns'!$M$329:$M$358))","v":19.157087761856058}]
[null,null,null,null,null,null,null,null,"LC99",null,null,null,null,null,null,null,null,null,"LC99"]
[null,null,null,null,null,null,null,"C [mg/m3]","X [m]","Y [m]",null,null,null,null,null,null,null,"C [mg/m3]","X [m]","Y [m]"]
[null,null,null,null,null,null,null,{"$f":"dispersió!$O$62*1000","v":1110.616222910279},{"$f":"dispersió!$G$62","v":36.607796645364125},{"$f":"IF(ISERROR(MAX('Càlculs interns'!$R$293:$R$322)),\"0\",MAX('Càlculs interns'!$R$293:$R$322))","v":5.22141163681012},null,null,null,null,null,null,null,{"$f":"dispersió!$O$62*1000","v":1110.616222910279},{"$f":"dispersió!$L$62","v":356.84958454188359},{"$f":"IF(ISERROR(MAX('Càlculs interns'!$R$329:$R$358)),\"0\",MAX('Càlculs interns'!$R$329:$R$358))","v":12.339558543634549}]
[]
[null,null,null,null,null,null,null,"VÀLID",null,null,null,null,null,null,null,null,null,"VÀLID"]
[null,null,null,null,null,null,null,300,null,null,null,null,null,null,null,null,null,300]
[]
[]
[]
[]
[]
[]
[null,null,null,null,null,null,null,null,"LC1",null,null,null,null,null,null,null,null,null,"LC1"]
[null,null,null,null,null,null,null,"C [mg/m3]","X [m]","Y [m]",null,null,null,null,null,null,null,"C [mg/m3]","X [m]","Y [m]"]
[null,null,null,null,null,null,null,{"$f":"dispersió!$O$42*1000","v":266.13691416364458},{"$f":"dispersió!$G$42","v":245.17254723548032},{"$f":"IF(ISERROR(MAX('Càlculs interns'!$C$365:$C$394)),\"0\",MAX('Càlculs interns'!$C$365:$C$394))","v":19.278501511035994},null,null,null,null,null,null,null,{"$f":"dispersió!$O$42*1000","v":266.13691416364458},{"$f":"dispersió!$L$42","v":1693.421505591197},{"$f":"IF(ISERROR(MAX('Càlculs interns'!$C$401:$C$430)),\"0\",MAX('Càlculs interns'!$C$401:$C$430))","v":45.639687233181036}]
[null,null,null,null,null,null,null,null,"LC10",null,null,null,null,null,null,null,null,null,"LC10"]
[null,null,null,null,null,null,null,"C [mg/m3]","X [m]","Y [m]",null,null,null,null,null,null,null,"C [mg/m3]","X [m]","Y [m]"]
[null,null,null,null,null,null,null,{"$f":"dispersió!$O$49*1000","v":373.59496594201408},{"$f":"dispersió!$G$49","v":189.1765314064788},{"$f":"IF(ISERROR(MAX('Càlculs interns'!$H$365:$H$394)),\"0\",MAX('Càlculs interns'!$H$365:$H$394))","v":16.113498273148547},null,null,null,null,null,null,null,{"$f":"dispersió!$O$49*1000","v":373.59496594201408},{"$f":"dispersió!$L$49","v":1336.7214044751022},{"$f":"IF(ISERROR(MAX('Càlculs interns'!$H$401:$H$430)),\"0\",MAX('Càlculs interns'!$H$401:$H$430))","v":37.496455991510786}]
[null,null,null,null,null,null,null,null,"LC50",null,null,null,null,null,null,null,null,null,"LC50"]
[null,null,null,null,null,null,null,"C [mg/m3]","X [m]","Y [m]",null,null,null,null,null,null,null,"C [mg/m3]","X [m]","Y [m]"]
[null,null,null,null,null,null,null,{"$f":"dispersió!$O$56*1000","v":555.73958822210614},{"$f":"dispersió!$G$56","v":136.36406899542291},{"$f":"IF(ISERROR(MAX('Càlculs interns'!$M$365:$M$394)),\"0\",MAX('Càlculs interns'!$M$365:$M$394))","v":13.04256526907762},null,null,null,null,null,null,null,{"$f":"dispersió!$O$56*1000","v":555.73958822210614},{"$f":"dispersió!$L$56","v":1005.0817428853459},{"$f":"IF(ISERROR(MAX('Càlculs interns'!$M$401:$M$430)),\"0\",MAX('Càlculs interns'!$M$401:$M$430))","v":29.722056973469702}]
[null,null,null,null,null,null,null,null,"LC99",null,null,null,null,null,null,null,null,null,"LC99"]
[null,null,null,null,null,null,null,"C [mg/m3]","X [m]","Y [m]",null,null,null,null,null,null,null,"C [mg/m3]","X [m]","Y [m]"]
[null,null,null,null,null,null,null,{"$f":"dispersió!$O$63*1000","v":1110.616222910279},{"$f":"dispersió!$G$63","v":68.917013456142556},{"$f":"IF(ISERROR(MAX('Càlculs interns'!$R$365:$R$394)),\"0\",MAX('Càlculs interns'!$R$365:$R$394))","v":8.9383532829878405},null,null,null,null,null,null,null,{"$f":"dispersió!$O$63*1000","v":1110.616222910279},{"$f":"dispersió!$L$63","v":592.51118918002794},{"$f":"IF(ISERROR(MAX('Càlculs interns'!$R$401:$R$430)),\"0\",MAX('Càlculs interns'!$R$401:$R$430))","v":19.691127673639642}]
[]
[null,null,null,null,null,null,null,"VÀLID",null,null,null,null,null,null,null,null,null,"VÀLID"]
[null,null,null,null,null,null,null,600,null,null,null,null,null,null,null,null,null,600]
[]
[]
[]
[]
[]
[]
[null,null,null,null,null,null,null,null,"LC1",null,null,null,null,null,null,null,null,null,"LC1"]
[null,null,null,null,null,null,null,"C [mg/m3]","X [m]","Y [m]",null,null,null,null,null,null,null,"C [mg/m3]","X [m]","Y [m]"]
[null,null,null,null,null,null,null,{"$f":"dispersió!$O$43*1000","v":266.13691416364463},{"$f":"dispersió!$G$43","v":318.99400913581275},{"$f":"IF(ISERROR(MAX('Càlculs interns'!$C$437:$C$466)),\"0\",MAX('Càlculs interns'!$C$437:$C$466))","v":24.553688632660464},null,null,null,null,null,null,null,{"$f":"dispersió!$O$43*1000","v":266.13691416364463},{"$f":"dispersió!$L$43","v":2210.9098782083279},{"$f":"IF(ISERROR(MAX('Càlculs interns'!$C$472:$C$501)),\"0\",MAX('Càlculs interns'!$C$472:$C$501))","v":58.159630189784004}]
[null,null,null,null,null,null,null,null,"LC10",null,null,null,null,null,null,null,null,null,"LC10"]
[null,null,null,null,null,null,null,"C [mg/m3]","X [m]","Y [m]",null,null,null,null,null,null,null,"C [mg/m3]","X [m]","Y [m]"]
[null,null,null,null,null,null,null,{"$f":"dispersió!$O$50*1000","v":373.5949659420142},{"$f":"dispersió!$G$50","v":247.83109798436595},{"$f":"IF(ISERROR(MAX('Càlculs interns'!$H$437:$H$466)),\"0\",MAX('Càlculs interns'!$H$437:$H$466))","v":20.654837134486087},null,null,null,null,null,null,null,{"$f":"dispersió!$O$50*1000","v":373.5949659420142},{"$f":"dispersió!$L$50","v":1749.4249479577488},{"$f":"IF(ISERROR(MAX('Càlculs interns'!$H$472:$H$501)),\"0\",MAX('Càlculs interns'!$H$472:$H$501))","v":47.915712403526236}]
[null,null,null,null,null,null,null,null,"LC50",null,null,null,null,null,null,null,null,null,"LC50"]
[null,null,null,null,null,null,null,"C [mg/m3]","X [m]","Y [m]",null,null,null,null,null,null,null,"C [mg/m3]","X [m]","Y [m]"]
[null,null,null,null,null,null,null,{"$f":"dispersió!$O$57*1000","v":555.73958822210614},{"$f":"dispersió!$G$57","v":180.77818362579433},{"$f":"IF(ISERROR(MAX('Càlculs interns'!$M$437:$M$466)),\"0\",MAX('Càlculs interns'!$M$437:$M$466))","v":16.890251599068172},null,null,null,null,null,null,null,{"$f":"dispersió!$O$57*1000","v":555.73958822210614},{"$f":"dispersió!$L$57","v":1321.2260488309059},{"$f":"IF(ISERROR(MAX('Càlculs interns'!$M$472:$M$501)),\"0\",MAX('Càlculs interns'!$M$472:$M$501))","v":38.147183628746902}]
[null,null,null,null,null,null,null,null,"LC99",null,null,null,null,null,null,null,null,null,"LC99"]
[null,null,null,null,null,null,null,"C [mg/m3]","X [m]","Y [m]",null,null,null,null,null,null,null,"C [mg/m3]","X [m]","Y [m]"]
[null,null,null,null,null,null,null,{"$f":"dispersió!$O$64*1000","v":1110.6162229102792},{"$f":"dispersió!$G$64","v":95.501234211980744},{"$f":"IF(ISERROR(MAX('Càlculs interns'!$R$437:$R$466)),\"0\",MAX('Càlculs interns'!$R$437:$R$466))","v":11.924468590949434},null,null,null,null,null,null,null,{"$f":"dispersió!$O$64*1000","v":1110.6162229102792},{"$f":"dispersió!$L$64","v":788.43364625035099},{"$f":"IF(ISERROR(MAX('Càlculs interns'!$R$472:$R$501)),\"0\",MAX('Càlculs interns'!$R$472:$R$501))","v":25.568774255050144}]
[]
[null,null,null,null,null,null,null,"VÀLID",null,null,null,null,null,null,null,null,null,"VÀLID"]
[null,null,null,null,null,null,null,900,null,null,null,null,null,null,null,null,null,900]
[]
[]
[]
[]
[]
[]
[null,null,null,null,null,null,null,null,"LC1",null,null,null,null,null,null,null,null,null,"LC1"]
[null,null,null,null,null,null,null,"C [mg/m3]","X [m]","Y [m]",null,null,null,null,null,null,null,"C [mg/m3]","X [m]","Y [m]"]
[null,null,null,null,null,null,null,{"$f":"dispersió!$O$44*1000","v":266.13691416364463},{"$f":"dispersió!$G$44","v":610.13943687315805},{"$f":"IF(ISERROR(MAX('Càlculs interns'!$C$508:$C$537)),\"0\",MAX('Càlculs interns'!$C$508:$C$537))","v":44.27812408390951},null,null,null,null,null,null,null,{"$f":"dispersió!$O$44*1000","v":266.13691416364463},{"$f":"dispersió!$L$44","v":4302.7995623251609},{"$f":"IF(ISERROR(MAX('Càlculs interns'!$C$543:$C$572)),\"0\",MAX('Càlculs interns'!$C$543:$C$572))","v":106.09948268975118}]
[null,null,null,null,null,null,null,null,"LC10",null,null,null,null,null,null,null,null,null,"LC10"]
[null,null,null,null,null,null,null,"C [mg/m3]","X [m]","Y [m]",null,null,null,null,null,null,null,"C [mg/m3]","X [m]","Y [m]"]
[null,null,null,null,null,null,null,{"$f":"dispersió!$O$51*1000","v":373.5949659420142},{"$f":"dispersió!$G$51","v":479.47019998502572},{"$f":"IF(ISERROR(MAX('Càlculs interns'!$H$508:$H$537)),\"0\",MAX('Càlculs interns'!$H$508:$H$537))","v":37.642733747168798},null,null,null,null,null,null,null,{"$f":"dispersió!$O$51*1000","v":373.5949659420142},{"$f":"dispersió!$L$51","v":3420.0601910445384},{"$f":"IF(ISERROR(MAX('Càlculs interns'!$H$543:$H$572)),\"0\",MAX('Càlculs interns'!$H$543:$H$572))","v":87.797449801727339}]
[null,null,null,null,null,null,null,null,"LC50",null,null,null,null,null,null,null,null,null,"LC50"]
[null,null,null,null,null,null,null,"C [mg/m3]","X [m]","Y [m]",null,null,null,null,null,null,null,"C [mg/m3]","X [m]","Y [m]"]
[null,null,null,null,null,null,null,{"$f":"dispersió!$O$58*1000","v":555.73958822210614},{"$f":"dispersió!$G$58","v":356.63797892218122},{"$f":"IF(ISERROR(MAX('Càlculs interns'!$M$508:$M$537)),\"0\",MAX('Càlculs interns'!$M$508:$M$537))","v":31.310615652451624},null,null,null,null,null,null,null,{"$f":"dispersió!$O$58*1000","v":555.73958822210614},{"$f":"dispersió!$L$58","v":2601.0835542772243},{"$f":"IF(ISERROR(MAX('Càlculs interns'!$M$543:$M$572)),\"0\",MAX('Càlculs interns'!$M$543:$M$572))","v":70.388043135429172}]
[null,null,null,null,null,null,null,null,"LC99",null,null,null,null,null,null,null,null,null,"LC99"]
[null,null,null,null,null,null,null,"C [mg/m3]","X [m]","Y [m]",null,null,null,null,null,null,null,"C [mg/m3]","X [m]","Y [m]"]
[null,null,null,null,null,null,null,{"$f":"dispersió!$O$65*1000","v":1110.6162229102792},{"$f":"dispersió!$G$65","v":201.50924532115462},{"$f":"IF(ISERROR(MAX('Càlculs interns'!$R$508:$R$537)),\"0\",MAX('Càlculs interns'!$R$508:$R$537))","v":23.252119000913261},null,null,null,null,null,null,null,{"$f":"dispersió!$O$65*1000","v":1110.6162229102792},{"$f":"dispersió!$L$65","v":1585.007429165242},{"$f":"IF(ISERROR(MAX('Càlculs interns'!$R$543:$R$572)),\"0\",MAX('Càlculs interns'!$R$543:$R$572))","v":48.079587358304863}]
[]
[null,null,null,null,null,null,null,"VÀLID",null,null,null,null,null,null,null,null,null,"VÀLID"]
[null,null,null,null,null,null,null,2500,null,null,null,null,null,null,null,null,null,2500]
[]
[]
[]
[]
[null,null,null,null,null,null,null,null,null,null,null,null,null,null,null,null,null,null,"ENDARRERE","ENDAVANT"]

{"sheet":"RESULTATS","index":7,"n_rows":29,"n_cols":18,"rows_kept":29,"cut":false,"hidden":false,"merged":[]}
[]
[]
[]
[]
[null,null,null,null,null,null,null,null,null,null,null,null,null,null,null,null,"ENDARRERE"]
[]
[null,null,null,null,null,null,"RECULL DE RESULTATS A INTRODUIR AL RISKCURVES"]
[]
[null,null,null,null,"INCENDI DE MENOR ÀREA",null,null,null,null,null,null,null,null,"INCENDI D'ÀREA MÀXIMA"]
[]
[null,null,"ÀREA [m2]",20,null,null,null,null,null,null,null,"ÀREA [m2]",{"$f":"Escenaris!E7","v":600}]
[]
[null,null,"FREQÜÈNCA [any-1]",null,{"$f":"Escenaris!M66","v":7.6753600000000009E-4},null,null,null,null,null,null,"FREQÜÈNCA [any-1]",null,{"$f":"Escenaris!N66","v":7.9200000000000008E-8}]
[]
[null,null,"CONSEQÜÈNCIES",null,null,null,null,null,null,null,null,"CONSEQÜÈNCIES"]
[null,null,"ESTABILITAT ATMOSFÈRICA D",null,null,null,"ESTABILITAT ATMOSFÈRICA D",null,null,null,null,"ESTABILITAT ATMOSFÈRICA D",null,null,null,"ESTABILITAT ATMOSFÈRICA D"]
[null,null,"Vvent [m/s]",{"$f":"dispersió!C12","v":4.8},null,null,"Vvent [m/s]",{"$f":"dispersió!I12","v":1.56},null,null,null,"Vvent [m/s]",{"$f":"D17","v":4.8},null,null,"Vvent [m/s]",{"$f":"H17","v":1.56}]
[null,null,null,{"$f":"'Representació gràfica'!I30","v":"LC1"},null,null,null,{"$f":"'Representació gràfica'!S30","v":"LC1"},null,null,null,null,{"$f":"'Representació gràfica'!I30","v":"LC1"},null,null,null,{"$f":"'Representació gràfica'!S10","v":"LC1"}]
[null,null,"C [mg/m3]",{"$f":"'Representació gràfica'!I31","v":"X [m]"},{"$f":"'Representació gràfica'!J31","v":"Y [m]"},null,"C [mg/m3]",{"$f":"'Representació gràfica'!S31","v":"X [m]"},{"$f":"'Representació gràfica'!T31","v":"Y [m]"},null,null,"C [mg/m3]",{"$f":"'Representació gràfica'!I31","v":"X [m]"},{"$f":"'Representació gràfica'!J31","v":"Y [m]"},null,"C [mg/m3]",{"$f":"'Representació gràfica'!S11","v":"X [m]"},{"$f":"'Representació gràfica'!T11","v":"Y [m]"}]
[null,null,{"$f":"'Representació gràfica'!H32","v":266.13691416364458},{"$f":"'Representació gràfica'!I32","v":32.705677221526919},{"$f":"'Representació gràfica'!J32","v":2.6713211740549534},null,{"$f":"'Representació gràfica'!R32","v":266.13691416364458},{"$f":"'Representació gràfica'!S32","v":240.07141570367315},{"$f":"'Representació gràfica'!T32","v":7.1844049624135335},null,null,{"$f":"'Representació gràfica'!H32","v":266.13691416364458},{"$f":"'Representació gràfica'!I32","v":32.705677221526919},{"$f":"'Representació gràfica'!J32","v":2.6713211740549534},null,{"$f":"'Representació gràfica'!R12","v":266.13691416364458},{"$f":"'Representació gràfica'!S12","v":1692.8816252462652},{"$f":"'Representació gràfica'!T12","v":45.63550080539045}]
[null,null,null,{"$f":"'Representació gràfica'!I33","v":"LC10"},null,null,null,{"$f":"'Representació gràfica'!S33","v":"LC10"},null,null,null,null,{"$f":"'Representació gràfica'!I33","v":"LC10"},null,null,null,{"$f":"'Representació gràfica'!S13","v":"LC10"}]
[null,null,"C [mg/m3]",{"$f":"'Representació gràfica'!I34","v":"X [m]"},{"$f":"'Representació gràfica'!J34","v":"Y [m]"},null,"C [mg/m3]",{"$f":"'Representació gràfica'!S34","v":"X [m]"},{"$f":"'Representació gràfica'!T34","v":"Y [m]"},null,null,"C [mg/m3]",{"$f":"'Representació gràfica'!I34","v":"X [m]"},{"$f":"'Representació gràfica'!J34","v":"Y [m]"},null,"C [mg/m3]",{"$f":"'Representació gràfica'!S14","v":"X [m]"},{"$f":"'Representació gràfica'!T14","v":"Y [m]"}]
[null,null,{"$f":"'Representació gràfica'!H35","v":373.59496594201408},{"$f":"'Representació gràfica'!I35","v":22.463704124157253},{"$f":"'Representació gràfica'!J35","v":1.9965075765127436},null,{"$f":"'Representació gràfica'!R35","v":373.59496594201408},{"$f":"'Representació gràfica'!S35","v":182.20669029806498},{"$f":"'Representació gràfica'!T35","v":5.5973576176022428},null,null,{"$f":"'Representació gràfica'!H35","v":373.59496594201408},{"$f":"'Representació gràfica'!I35","v":22.463704124157253},{"$f":"'Representació gràfica'!J35","v":1.9965075765127436},null,{"$f":"'Representació gràfica'!R15","v":373.59496594201408},{"$f":"'Representació gràfica'!S15","v":1334.5159411344698},{"$f":"'Representació gràfica'!T15","v":37.454560865341158}]
[null,null,null,{"$f":"'Representació gràfica'!I36","v":"LC50"},null,null,null,{"$f":"'Representació gràfica'!S36","v":"LC50"},null,null,null,null,{"$f":"'Representació gràfica'!I36","v":"LC50"},null,null,null,{"$f":"'Representació gràfica'!S16","v":"LC50"}]
[null,null,"C [mg/m3]",{"$f":"'Representació gràfica'!I37","v":"X [m]"},{"$f":"'Representació gràfica'!J37","v":"Y [m]"},null,"C [mg/m3]",{"$f":"'Representació gràfica'!S37","v":"X [m]"},{"$f":"'Representació gràfica'!T37","v":"Y [m]"},null,null,"C [mg/m3]",{"$f":"'Representació gràfica'!I37","v":"X [m]"},{"$f":"'Representació gràfica'!J37","v":"Y [m]"},null,"C [mg/m3]",{"$f":"'Representació gràfica'!S17","v":"X [m]"},{"$f":"'Representació gràfica'!T17","v":"Y [m]"}]
[null,null,{"$f":"'Representació gràfica'!H38","v":555.73958822210614},{"$f":"'Representació gràfica'!I38","v":12.792482940239916},{"$f":"'Representació gràfica'!J38","v":1.3554649723126},null,{"$f":"'Representació gràfica'!R38","v":555.73958822210614},{"$f":"'Representació gràfica'!S38","v":127.36153354703468},{"$f":"'Representació gràfica'!T38","v":4.0972452857933588},null,null,{"$f":"'Representació gràfica'!H38","v":555.73958822210614},{"$f":"'Representació gràfica'!I38","v":12.792482940239916},{"$f":"'Representació gràfica'!J38","v":1.3554649723126},null,{"$f":"'Representació gràfica'!R18","v":555.73958822210614},{"$f":"'Representació gràfica'!S18","v":1005.0385928050102},{"$f":"'Representació gràfica'!T18","v":29.719965925436533}]
[null,null,null,{"$f":"'Representació gràfica'!I39","v":"LC99"},null,null,null,{"$f":"'Representació gràfica'!S39","v":"LC99"},null,null,null,null,{"$f":"'Representació gràfica'!I39","v":"LC99"},null,null,null,{"$f":"'Representació gràfica'!S19","v":"LC99"}]
[null,null,"C [mg/m3]",{"$f":"'Representació gràfica'!I40","v":"X [m]"},{"$f":"'Representació gràfica'!J40","v":"Y [m]"},null,"C [mg/m3]",{"$f":"'Representació gràfica'!S40","v":"X [m]"},{"$f":"'Representació gràfica'!T40","v":"Y [m]"},null,null,"C [mg/m3]",{"$f":"'Representació gràfica'!I40","v":"X [m]"},{"$f":"'Representació gràfica'!J40","v":"Y [m]"},null,"C [mg/m3]",{"$f":"'Representació gràfica'!S20","v":"X [m]"},{"$f":"'Representació gràfica'!T20","v":"Y [m]"}]
[null,null,{"$f":"'Representació gràfica'!H41","v":1110.616222910279},{"$f":"'Representació gràfica'!I41","v":0.50301487352455299},{"$f":"'Representació gràfica'!J41","v":0.27685311814990282},null,{"$f":"'Representació gràfica'!R41","v":1110.616222910279},{"$f":"'Representació gràfica'!S41","v":60.567824865331175},{"$f":"'Representació gràfica'!T41","v":2.2135879728671486},null,null,{"$f":"'Representació gràfica'!H41","v":1110.616222910279},{"$f":"'Representació gràfica'!I41","v":0.50301487352455299},{"$f":"'Representació gràfica'!J41","v":0.27685311814990282},null,{"$f":"'Representació gràfica'!R21","v":1110.616222910279},{"$f":"'Representació gràfica'!S21","v":593.84309415001553},{"$f":"'Representació gràfica'!T21","v":19.670505056430208}]

{"sheet":"Càlculs interns","index":8,"n_rows":573,"n_cols":19,"rows_kept":573,"cut":false,"hidden":false,"merged":[]}
[]
["Area ",null,"m2"]
["Est. D"]
["LC1",null,"LC1+","LC1-",null,"LC10",null,"LC10+","LC10-",null,"LC50",null,"LC50+","LC50-",null,"LC99",null,"LC99+","LC99-"]
["X","C(x)","y+","y-",null,"X","C(x)","y+","y-",null,"X","C(x)","y+","y-",null,"X","C(x)","y+","y-"]
[0,{"$f":"IFERROR((letalitat!$P$8*1000)/((3.14159*dispersió!$C$10*((dispersió!$E$69+A6)^dispersió!$D$10)*dispersió!$E$10*((dispersió!$F$69+A6)^dispersió!$F$10)+dispersió!$C$24*dispersió!$D$69)*dispersió!$C$12),0)","v":3.5964128257511567},{"$f":"IFERROR(dispersió!$C$10*((dispersió!$E$69+'Càlculs interns'!A6)^dispersió!$D$10)*(2*LN('Càlculs interns'!B6/dispersió!$O$69))^(1/2),0)","v":12.998800576151529},{"$f":"-C6","v":-12.998800576151529},null,0,{"$f":"IFERROR((letalitat!$P$8*1000)/((3.14159*dispersió!$C$10*((dispersió!$E$68+F6)^dispersió!$D$10)*dispersió!$E$10*((dispersió!$F$68+F6)^dispersió!$F$10)+dispersió!$C$24*dispersió!$D$68)*dispersió!$C$12),0)","v":3.5964128257511567},{"$f":"IFERROR(dispersió!$C$10*((dispersió!$E$68+'Càlculs interns'!F6)^dispersió!$D$10)*(2*LN('Càlculs interns'!G6/dispersió!$O$68))^(1/2),0)","v":12.117850598875002},{"$f":"-H6","v":-12.117850598875002},null,0,{"$f":"IFERROR((letalitat!$P$8*1000)/((3.14159*dispersió!$C$10*((dispersió!$E$67+K6)^dispersió!$D$10)*dispersió!$E$10*((dispersió!$F$67+K6)^dispersió!$F$10)+dispersió!$C$24*dispersió!$D$67)*dispersió!$C$12),0)","v":3.5964128257511567},{"$f":"IFERROR(dispersió!$C$10*((dispersió!$E$67+'Càlculs interns'!K6)^dispersió!$D$10)*(2*LN('Càlculs interns'!L6/dispersió!$O$67))^(1/2),0)","v":11.008454517529062},{"$f":"-M6","v":-11.008454517529062},null,0,{"$f":"IFERROR((letalitat!$P$8*1000)/((3.14159*dispersió!$C$10*((dispersió!$E$66+P6)^dispersió!$D$10)*dispersió!$E$10*((dispersió!$F$66+P6)^dispersió!$F$10)+dispersió!$C$24*dispersió!$D$66)*dispersió!$C$12),0)","v":3.5964128257511567},{"$f":"IFERROR(dispersió!$C$10*((dispersió!$E$66+'Càlculs interns'!P6)^dispersió!$D$10)*(2*LN('Càlculs interns'!Q6/dispersió!$O$66))^(1/2),0)","v":8.7257272029837161},{"$f":"-R6","v":-8.7257272029837161}]
[{"$f":"A36/30","v":8.1686256985659789},{"$f":"IFERROR((letalitat!$P$8*1000)/((3.14159*dispersió!$C$10*((dispersió!$E$69+A7)^dispersió!$D$10)*dispersió!$E$10*((dispersió!$F$69+A7)^dispersió!$F$10)+dispersió!$C$24*dispersió!$D$69)*dispersió!$C$12),0)","v":2.9934923417044428},{"$f":"IFERROR(dispersió!$C$10*((dispersió!$E$69+'Càlculs interns'!A7)^dispersió!$D$10)*(2*LN('Càlculs interns'!B7/dispersió!$O$69))^(1/2),0)","v":13.922165013678304},{"$f":"-C7","v":-13.922165013678304},null,{"$f":"F36/30","v":6.2948429829054389},{"$f":"IFERROR((letalitat!$P$8*1000)/((3.14159*dispersió!$C$10*((dispersió!$E$68+F7)^dispersió!$D$10)*dispersió!$E$10*((dispersió!$F$68+F7)^dispersió!$F$10)+dispersió!$C$24*dispersió!$D$68)*dispersió!$C$12),0)","v":3.1176461736461705},{"$f":"IFERROR(dispersió!$C$10*((dispersió!$E$68+'Càlculs interns'!F7)^dispersió!$D$10)*(2*LN('Càlculs interns'!G7/dispersió!$O$68))^(1/2),0)","v":12.732666944076364},{"$f":"-H7","v":-12.732666944076364},null,{"$f":"K36/30","v":4.546273301825754},{"$f":"IFERROR((letalitat!$P$8*1000)/((3.14159*dispersió!$C$10*((dispersió!$E$67+K7)^dispersió!$D$10)*dispersió!$E$10*((dispersió!$F$67+K7)^dispersió!$F$10)+dispersió!$C$24*dispersió!$D$67)*dispersió!$C$12),0)","v":3.2406036786594363},{"$f":"IFERROR(dispersió!$C$10*((dispersió!$E$67+'Càlculs interns'!K7)^dispersió!$D$10)*(2*LN('Càlculs interns'!L7/dispersió!$O$67))^(1/2),0)","v":11.358793711318793},{"$f":"-M7","v":-11.358793711318793},null,{"$f":"P36/30","v":2.2954364314829445},{"$f":"IFERROR((letalitat!$P$8*1000)/((3.14159*dispersió!$C$10*((dispersió!$E$66+P7)^dispersió!$D$10)*dispersió!$E$10*((dispersió!$F$66+P7)^dispersió!$F$10)+dispersió!$C$24*dispersió!$D$66)*dispersió!$C$12),0)","v":3.4098565750298975},{"$f":"IFERROR(dispersió!$C$10*((dispersió!$E$66+'Càlculs interns'!P7)^dispersió!$D$10)*(2*LN('Càlculs interns'!Q7/dispersió!$O$66))^(1/2),0)","v":8.7920720129569254},{"$f":"-R7","v":-8.7920720129569254}]
[{"$f":"A$7+A7","v":16.337251397131958},{"$f":"IFERROR((letalitat!$P$8*1000)/((3.14159*dispersió!$C$10*((dispersió!$E$69+A8)^dispersió!$D$10)*dispersió!$E$10*((dispersió!$F$69+A8)^dispersió!$F$10)+dispersió!$C$24*dispersió!$D$69)*dispersió!$C$12),0)","v":2.530601888646836},{"$f":"IFERROR(dispersió!$C$10*((dispersió!$E$69+'Càlculs interns'!A8)^dispersió!$D$10)*(2*LN('Càlculs interns'!B8/dispersió!$O$69))^(1/2),0)","v":14.757057028148978},-14.757057028148978,null,{"$f":"F$7+F7","v":12.589685965810878},{"$f":"IFERROR((letalitat!$P$8*1000)/((3.14159*dispersió!$C$10*((dispersió!$E$68+F8)^dispersió!$D$10)*dispersió!$E$10*((dispersió!$F$68+F8)^dispersió!$F$10)+dispersió!$C$24*dispersió!$D$68)*dispersió!$C$12),0)","v":2.7284656598873749},{"$f":"IFERROR(dispersió!$C$10*((dispersió!$E$68+'Càlculs interns'!F8)^dispersió!$D$10)*(2*LN('Càlculs interns'!G8/dispersió!$O$68))^(1/2),0)","v":13.289247984982865},-13.289247984982865,null,{"$f":"K$7+K7","v":9.0925466036515079},{"$f":"IFERROR((letalitat!$P$8*1000)/((3.14159*dispersió!$C$10*((dispersió!$E$67+K8)^dispersió!$D$10)*dispersió!$E$10*((dispersió!$F$67+K8)^dispersió!$F$10)+dispersió!$C$24*dispersió!$D$67)*dispersió!$C$12),0)","v":2.9349920688444673},{"$f":"IFERROR(dispersió!$C$10*((dispersió!$E$67+'Càlculs interns'!K8)^dispersió!$D$10)*(2*LN('Càlculs interns'!L8/dispersió!$O$67))^(1/2),0)","v":11.674161258750049},-11.674161258750049,null,{"$f":"P$7+P7","v":4.590872862965889},{"$f":"IFERROR((letalitat!$P$8*1000)/((3.14159*dispersió!$C$10*((dispersió!$E$66+P8)^dispersió!$D$10)*dispersió!$E$10*((dispersió!$F$66+P8)^dispersió!$F$10)+dispersió!$C$24*dispersió!$D$66)*dispersió!$C$12),0)","v":3.2373778797619632},{"$f":"IFERROR(dispersió!$C$10*((dispersió!$E$66+'Càlculs interns'!P8)^dispersió!$D$10)*(2*LN('Càlculs interns'!Q8/dispersió!$O$66))^(1/2),0)","v":8.8455579089665139},-8.8455579089665139]
[{"$f":"A$7+A8","v":24.505877095697937},{"$f":"IFERROR((letalitat!$P$8*1000)/((3.14159*dispersió!$C$10*((dispersió!$E$69+A9)^dispersió!$D$10)*dispersió!$E$10*((dispersió!$F$69+A9)^dispersió!$F$10)+dispersió!$C$24*dispersió!$D$69)*dispersió!$C$12),0)","v":2.168210460195541},{"$f":"IFERROR(dispersió!$C$10*((dispersió!$E$69+'Càlculs interns'!A9)^dispersió!$D$10)*(2*LN('Càlculs interns'!B9/dispersió!$O$69))^(1/2),0)","v":15.510128783910584},-15.510128783910584,null,{"$f":"F$7+F8","v":18.884528948716316},{"$f":"IFERROR((letalitat!$P$8*1000)/((3.14159*dispersió!$C$10*((dispersió!$E$68+F9)^dispersió!$D$10)*dispersió!$E$10*((dispersió!$F$68+F9)^dispersió!$F$10)+dispersió!$C$24*dispersió!$D$68)*dispersió!$C$12),0)","v":2.408269893284277},{"$f":"IFERROR(dispersió!$C$10*((dispersió!$E$68+'Càlculs interns'!F9)^dispersió!$D$10)*(2*LN('Càlculs interns'!G9/dispersió!$O$68))^(1/2),0)","v":13.79063558627217},-13.79063558627217,null,{"$f":"K$7+K8","v":13.638819905477263},{"$f":"IFERROR((letalitat!$P$8*1000)/((3.14159*dispersió!$C$10*((dispersió!$E$67+K9)^dispersió!$D$10)*dispersió!$E$10*((dispersió!$F$67+K9)^dispersió!$F$10)+dispersió!$C$24*dispersió!$D$67)*dispersió!$C$12),0)","v":2.6707755997944442},{"$f":"IFERROR(dispersió!$C$10*((dispersió!$E$67+'Càlculs interns'!K9)^dispersió!$D$10)*(2*LN('Càlculs interns'!L9/dispersió!$O$67))^(1/2),0)","v":11.955559370975999},-11.955559370975999,null,{"$f":"P$7+P8","v":6.886309294448834},{"$f":"IFERROR((letalitat!$P$8*1000)/((3.14159*dispersió!$C$10*((dispersió!$E$66+P9)^dispersió!$D$10)*dispersió!$E$10*((dispersió!$F$66+P9)^dispersió!$F$10)+dispersió!$C$24*dispersió!$D$66)*dispersió!$C$12),0)","v":3.0776343718496304},{"$f":"IFERROR(dispersió!$C$10*((dispersió!$E$66+'Càlculs interns'!P9)^dispersió!$D$10)*(2*LN('Càlculs interns'!Q9/dispersió!$O$66))^(1/2),0)","v":8.8861113901319086},-8.8861113901319086]
[32.674502794263915,{"$f":"IFERROR((letalitat!$P$8*1000)/((3.14159*dispersió!$C$10*((dispersió!$E$69+A10)^dispersió!$D$10)*dispersió!$E$10*((dispersió!$F$69+A10)^dispersió!$F$10)+dispersió!$C$24*dispersió!$D$69)*dispersió!$C$12),0)","v":1.8795339131571902},{"$f":"IFERROR(dispersió!$C$10*((dispersió!$E$69+'Càlculs interns'!A10)^dispersió!$D$10)*(2*LN('Càlculs interns'!B10/dispersió!$O$69))^(1/2),0)","v":16.186597747043351},-16.186597747043351,null,25.179371931621755,{"$f":"IFERROR((letalitat!$P$8*1000)/((3.14159*dispersió!$C$10*((dispersió!$E$68+F10)^dispersió!$D$10)*dispersió!$E$10*((dispersió!$F$68+F10)^dispersió!$F$10)+dispersió!$C$24*dispersió!$D$68)*dispersió!$C$12),0)","v":2.1419189086042496},{"$f":"IFERROR(dispersió!$C$10*((dispersió!$E$68+'Càlculs interns'!F10)^dispersió!$D$10)*(2*LN('Càlculs interns'!G10/dispersió!$O$68))^(1/2),0)","v":14.23927801536766},-14.23927801536766,null,18.185093207303016,{"$f":"IFERROR((letalitat!$P$8*1000)/((3.14159*dispersió!$C$10*((dispersió!$E$67+K10)^dispersió!$D$10)*dispersió!$E$10*((dispersió!$F$67+K10)^dispersió!$F$10)+dispersió!$C$24*dispersió!$D$67)*dispersió!$C$12),0)","v":2.4409497235237181},{"$f":"IFERROR(dispersió!$C$10*((dispersió!$E$67+'Càlculs interns'!K10)^dispersió!$D$10)*(2*LN('Càlculs interns'!L10/dispersió!$O$67))^(1/2),0)","v":12.203787069488552},-12.203787069488552,null,9.1817457259317781,{"$f":"IFERROR((letalitat!$P$8*1000)/((3.14159*dispersió!$C$10*((dispersió!$E$66+P10)^dispersió!$D$10)*dispersió!$E$10*((dispersió!$F$66+P10)^dispersió!$F$10)+dispersió!$C$24*dispersió!$D$66)*dispersió!$C$12),0)","v":2.9294354380485248},{"$f":"IFERROR(dispersió!$C$10*((dispersió!$E$66+'Càlculs interns'!P10)^dispersió!$D$10)*(2*LN('Càlculs interns'!Q10/dispersió!$O$66))^(1/2),0)","v":8.9136229298815923},-8.9136229298815923]
[40.843128492829891,{"$f":"IFERROR((letalitat!$P$8*1000)/((3.14159*dispersió!$C$10*((dispersió!$E$69+A11)^dispersió!$D$10)*dispersió!$E$10*((dispersió!$F$69+A11)^dispersió!$F$10)+dispersió!$C$24*dispersió!$D$69)*dispersió!$C$12),0)","v":1.6459992535946915},{"$f":"IFERROR(dispersió!$C$10*((dispersió!$E$69+'Càlculs interns'!A11)^dispersió!$D$10)*(2*LN('Càlculs interns'!B11/dispersió!$O$69))^(1/2),0)","v":16.790539800476598},-16.790539800476598,null,31.474214914527195,{"$f":"IFERROR((letalitat!$P$8*1000)/((3.14159*dispersió!$C$10*((dispersió!$E$68+F11)^dispersió!$D$10)*dispersió!$E$10*((dispersió!$F$68+F11)^dispersió!$F$10)+dispersió!$C$24*dispersió!$D$68)*dispersió!$C$12),0)","v":1.9181213331439839},{"$f":"IFERROR(dispersió!$C$10*((dispersió!$E$68+'Càlculs interns'!F11)^dispersió!$D$10)*(2*LN('Càlculs interns'!G11/dispersió!$O$68))^(1/2),0)","v":14.637112957710318},-14.637112957710318,null,22.731366509128769,{"$f":"IFERROR((letalitat!$P$8*1000)/((3.14159*dispersió!$C$10*((dispersió!$E$67+K11)^dispersió!$D$10)*dispersió!$E$10*((dispersió!$F$67+K11)^dispersió!$F$10)+dispersió!$C$24*dispersió!$D$67)*dispersió!$C$12),0)","v":2.2398934161506565},{"$f":"IFERROR(dispersió!$C$10*((dispersió!$E$67+'Càlculs interns'!K11)^dispersió!$D$10)*(2*LN('Càlculs interns'!L11/dispersió!$O$67))^(1/2),0)","v":12.419452390651575},-12.419452390651575,null,11.477182157414722,{"$f":"IFERROR((letalitat!$P$8*1000)/((3.14159*dispersió!$C$10*((dispersió!$E$66+P11)^dispersió!$D$10)*dispersió!$E$10*((dispersió!$F$66+P11)^dispersió!$F$10)+dispersió!$C$24*dispersió!$D$66)*dispersió!$C$12),0)","v":2.7917222809388007},{"$f":"IFERROR(dispersió!$C$10*((dispersió!$E$66+'Càlculs interns'!P11)^dispersió!$D$10)*(2*LN('Càlculs interns'!Q11/dispersió!$O$66))^(1/2),0)","v":8.9279440499446316},-8.9279440499446316]
[49.011754191395866,{"$f":"IFERROR((letalitat!$P$8*1000)/((3.14159*dispersió!$C$10*((dispersió!$E$69+A12)^dispersió!$D$10)*dispersió!$E$10*((dispersió!$F$69+A12)^dispersió!$F$10)+dispersió!$C$24*dispersió!$D$69)*dispersió!$C$12),0)","v":1.4544553557214337},{"$f":"IFERROR(dispersió!$C$10*((dispersió!$E$69+'Càlculs interns'!A12)^dispersió!$D$10)*(2*LN('Càlculs interns'!B12/dispersió!$O$69))^(1/2),0)","v":17.3251153950375},-17.3251153950375,null,37.769057897432631,{"$f":"IFERROR((letalitat!$P$8*1000)/((3.14159*dispersió!$C$10*((dispersió!$E$68+F12)^dispersió!$D$10)*dispersió!$E$10*((dispersió!$F$68+F12)^dispersió!$F$10)+dispersió!$C$24*dispersió!$D$68)*dispersió!$C$12),0)","v":1.7283435529816438},{"$f":"IFERROR(dispersió!$C$10*((dispersió!$E$68+'Càlculs interns'!F12)^dispersió!$D$10)*(2*LN('Càlculs interns'!G12/dispersió!$O$68))^(1/2),0)","v":14.985637814146227},-14.985637814146227,null,27.277639810954522,{"$f":"IFERROR((letalitat!$P$8*1000)/((3.14159*dispersió!$C$10*((dispersió!$E$67+K12)^dispersió!$D$10)*dispersió!$E$10*((dispersió!$F$67+K12)^dispersió!$F$10)+dispersió!$C$24*dispersió!$D$67)*dispersió!$C$12),0)","v":2.0630617960911044},{"$f":"IFERROR(dispersió!$C$10*((dispersió!$E$67+'Càlculs interns'!K12)^dispersió!$D$10)*(2*LN('Càlculs interns'!L12/dispersió!$O$67))^(1/2),0)","v":12.602983502593471},-12.602983502593471,null,13.772618588897666,{"$f":"IFERROR((letalitat!$P$8*1000)/((3.14159*dispersió!$C$10*((dispersió!$E$66+P12)^dispersió!$D$10)*dispersió!$E$10*((dispersió!$F$66+P12)^dispersió!$F$10)+dispersió!$C$24*dispersió!$D$66)*dispersió!$C$12),0)","v":2.6635511022665854},{"$f":"IFERROR(dispersió!$C$10*((dispersió!$E$66+'Càlculs interns'!P12)^dispersió!$D$10)*(2*LN('Càlculs interns'!Q12/dispersió!$O$66))^(1/2),0)","v":8.9288839494002517},-8.9288839494002517]
[57.180379889961841,{"$f":"IFERROR((letalitat!$P$8*1000)/((3.14159*dispersió!$C$10*((dispersió!$E$69+A13)^dispersió!$D$10)*dispersió!$E$10*((dispersió!$F$69+A13)^dispersió!$F$10)+dispersió!$C$24*dispersió!$D$69)*dispersió!$C$12),0)","v":1.2954092343570187},{"$f":"IFERROR(dispersió!$C$10*((dispersió!$E$69+'Càlculs interns'!A13)^dispersió!$D$10)*(2*LN('Càlculs interns'!B13/dispersió!$O$69))^(1/2),0)","v":17.792735420581991},-17.792735420581991,null,44.063900880338068,{"$f":"IFERROR((letalitat!$P$8*1000)/((3.14159*dispersió!$C$10*((dispersió!$E$68+F13)^dispersió!$D$10)*dispersió!$E$10*((dispersió!$F$68+F13)^dispersió!$F$10)+dispersió!$C$24*dispersió!$D$68)*dispersió!$C$12),0)","v":1.566055961037466},{"$f":"IFERROR(dispersió!$C$10*((dispersió!$E$68+'Càlculs interns'!F13)^dispersió!$D$10)*(2*LN('Càlculs interns'!G13/dispersió!$O$68))^(1/2),0)","v":15.285964438601601},-15.285964438601601,null,31.823913112780275,{"$f":"IFERROR((letalitat!$P$8*1000)/((3.14159*dispersió!$C$10*((dispersió!$E$67+K13)^dispersió!$D$10)*dispersió!$E$10*((dispersió!$F$67+K13)^dispersió!$F$10)+dispersió!$C$24*dispersió!$D$67)*dispersió!$C$12),0)","v":1.9067542437877893},{"$f":"IFERROR(dispersió!$C$10*((dispersió!$E$67+'Càlculs interns'!K13)^dispersió!$D$10)*(2*LN('Càlculs interns'!L13/dispersió!$O$67))^(1/2),0)","v":12.754637073227226},-12.754637073227226,null,16.068055020380612,{"$f":"IFERROR((letalitat!$P$8*1000)/((3.14159*dispersió!$C$10*((dispersió!$E$66+P13)^dispersió!$D$10)*dispersió!$E$10*((dispersió!$F$66+P13)^dispersió!$F$10)+dispersió!$C$24*dispersió!$D$66)*dispersió!$C$12),0)","v":2.5440787862597953},{"$f":"IFERROR(dispersió!$C$10*((dispersió!$E$66+'Càlculs interns'!P13)^dispersió!$D$10)*(2*LN('Càlculs interns'!Q13/dispersió!$O$66))^(1/2),0)","v":8.9162054915688227},-8.9162054915688227]
[65.349005588527817,{"$f":"IFERROR((letalitat!$P$8*1000)/((3.14159*dispersió!$C$10*((dispersió!$E$69+A14)^dispersió!$D$10)*dispersió!$E$10*((dispersió!$F$69+A14)^dispersió!$F$10)+dispersió!$C$24*dispersió!$D$69)*dispersió!$C$12),0)","v":1.1618857869147146},{"$f":"IFERROR(dispersió!$C$10*((dispersió!$E$69+'Càlculs interns'!A14)^dispersió!$D$10)*(2*LN('Càlculs interns'!B14/dispersió!$O$69))^(1/2),0)","v":18.19517998825744},-18.19517998825744,null,50.358743863243504,{"$f":"IFERROR((letalitat!$P$8*1000)/((3.14159*dispersió!$C$10*((dispersió!$E$68+F14)^dispersió!$D$10)*dispersió!$E$10*((dispersió!$F$68+F14)^dispersió!$F$10)+dispersió!$C$24*dispersió!$D$68)*dispersió!$C$12),0)","v":1.4262039942682905},{"$f":"IFERROR(dispersió!$C$10*((dispersió!$E$68+'Càlculs interns'!F14)^dispersió!$D$10)*(2*LN('Càlculs interns'!G14/dispersió!$O$68))^(1/2),0)","v":15.538859338951868},-15.538859338951868,null,36.370186414606032,{"$f":"IFERROR((letalitat!$P$8*1000)/((3.14159*dispersió!$C$10*((dispersió!$E$67+K14)^dispersió!$D$10)*dispersió!$E$10*((dispersió!$F$67+K14)^dispersió!$F$10)+dispersió!$C$24*dispersió!$D$67)*dispersió!$C$12),0)","v":1.7679374892036352},{"$f":"IFERROR(dispersió!$C$10*((dispersió!$E$67+'Càlculs interns'!K14)^dispersió!$D$10)*(2*LN('Càlculs interns'!L14/dispersió!$O$67))^(1/2),0)","v":12.874503195255127},-12.874503195255127,null,18.363491451863556,{"$f":"IFERROR((letalitat!$P$8*1000)/((3.14159*dispersió!$C$10*((dispersió!$E$66+P14)^dispersió!$D$10)*dispersió!$E$10*((dispersió!$F$66+P14)^dispersió!$F$10)+dispersió!$C$24*dispersió!$D$66)*dispersió!$C$12),0)","v":2.4325506258822638},{"$f":"IFERROR(dispersió!$C$10*((dispersió!$E$66+'Càlculs interns'!P14)^dispersió!$D$10)*(2*LN('Càlculs interns'!Q14/dispersió!$O$66))^(1/2),0)","v":8.8896203378473704},-8.8896203378473704]
[73.517631287093792,{"$f":"IFERROR((letalitat!$P$8*1000)/((3.14159*dispersió!$C$10*((dispersió!$E$69+A15)^dispersió!$D$10)*dispersió!$E$10*((dispersió!$F$69+A15)^dispersió!$F$10)+dispersió!$C$24*dispersió!$D$69)*dispersió!$C$12),0)","v":1.048675577284633},{"$f":"IFERROR(dispersió!$C$10*((dispersió!$E$69+'Càlculs interns'!A15)^dispersió!$D$10)*(2*LN('Càlculs interns'!B15/dispersió!$O$69))^(1/2),0)","v":18.533681360241449},-18.533681360241449,null,56.65358684614894,{"$f":"IFERROR((letalitat!$P$8*1000)/((3.14159*dispersió!$C$10*((dispersió!$E$68+F15)^dispersió!$D$10)*dispersió!$E$10*((dispersió!$F$68+F15)^dispersió!$F$10)+dispersió!$C$24*dispersió!$D$68)*dispersió!$C$12),0)","v":1.3048319717233567},{"$f":"IFERROR(dispersió!$C$10*((dispersió!$E$68+'Càlculs interns'!F15)^dispersió!$D$10)*(2*LN('Càlculs interns'!G15/dispersió!$O$68))^(1/2),0)","v":15.744771087120549},-15.744771087120549,null,40.916459716431788,{"$f":"IFERROR((letalitat!$P$8*1000)/((3.14159*dispersió!$C$10*((dispersió!$E$67+K15)^dispersió!$D$10)*dispersió!$E$10*((dispersió!$F$67+K15)^dispersió!$F$10)+dispersió!$C$24*dispersió!$D$67)*dispersió!$C$12),0)","v":1.6441094534911309},{"$f":"IFERROR(dispersió!$C$10*((dispersió!$E$67+'Càlculs interns'!K15)^dispersió!$D$10)*(2*LN('Càlculs interns'!L15/dispersió!$O$67))^(1/2),0)","v":12.962506513221562},-12.962506513221562,null,20.6589278833465,{"$f":"IFERROR((letalitat!$P$8*1000)/((3.14159*dispersió!$C$10*((dispersió!$E$66+P15)^dispersió!$D$10)*dispersió!$E$10*((dispersió!$F$66+P15)^dispersió!$F$10)+dispersió!$C$24*dispersió!$D$66)*dispersió!$C$12),0)","v":2.3282897443504833},{"$f":"IFERROR(dispersió!$C$10*((dispersió!$E$66+'Càlculs interns'!P15)^dispersió!$D$10)*(2*LN('Càlculs interns'!Q15/dispersió!$O$66))^(1/2),0)","v":8.8487829823873234},-8.8487829823873234]
[81.686256985659767,{"$f":"IFERROR((letalitat!$P$8*1000)/((3.14159*dispersió!$C$10*((dispersió!$E$69+A16)^dispersió!$D$10)*dispersió!$E$10*((dispersió!$F$69+A16)^dispersió!$F$10)+dispersió!$C$24*dispersió!$D$69)*dispersió!$C$12),0)","v":0.95182907801035399},{"$f":"IFERROR(dispersió!$C$10*((dispersió!$E$69+'Càlculs interns'!A16)^dispersió!$D$10)*(2*LN('Càlculs interns'!B16/dispersió!$O$69))^(1/2),0)","v":18.808979143070506},-18.808979143070506,null,62.948429829054376,{"$f":"IFERROR((letalitat!$P$8*1000)/((3.14159*dispersió!$C$10*((dispersió!$E$68+F16)^dispersió!$D$10)*dispersió!$E$10*((dispersió!$F$68+F16)^dispersió!$F$10)+dispersió!$C$24*dispersió!$D$68)*dispersió!$C$12),0)","v":1.1988122955529545},{"$f":"IFERROR(dispersió!$C$10*((dispersió!$E$68+'Càlculs interns'!F16)^dispersió!$D$10)*(2*LN('Càlculs interns'!G16/dispersió!$O$68))^(1/2),0)","v":15.903846423799749},-15.903846423799749,null,45.462733018257545,{"$f":"IFERROR((letalitat!$P$8*1000)/((3.14159*dispersió!$C$10*((dispersió!$E$67+K16)^dispersió!$D$10)*dispersió!$E$10*((dispersió!$F$67+K16)^dispersió!$F$10)+dispersió!$C$24*dispersió!$D$67)*dispersió!$C$12),0)","v":1.5331936706101512},{"$f":"IFERROR(dispersió!$C$10*((dispersió!$E$67+'Càlculs interns'!K16)^dispersió!$D$10)*(2*LN('Càlculs interns'!L16/dispersió!$O$67))^(1/2),0)","v":13.018403244659538},-13.018403244659538,null,22.954364314829444,{"$f":"IFERROR((letalitat!$P$8*1000)/((3.14159*dispersió!$C$10*((dispersió!$E$66+P16)^dispersió!$D$10)*dispersió!$E$10*((dispersió!$F$66+P16)^dispersió!$F$10)+dispersió!$C$24*dispersió!$D$66)*dispersió!$C$12),0)","v":2.2306879396098771},{"$f":"IFERROR(dispersió!$C$10*((dispersió!$E$66+'Càlculs interns'!P16)^dispersió!$D$10)*(2*LN('Càlculs interns'!Q16/dispersió!$O$66))^(1/2),0)","v":8.7932833827582044},-8.7932833827582044]
[89.854882684225743,{"$f":"IFERROR((letalitat!$P$8*1000)/((3.14159*dispersió!$C$10*((dispersió!$E$69+A17)^dispersió!$D$10)*dispersió!$E$10*((dispersió!$F$69+A17)^dispersió!$F$10)+dispersió!$C$24*dispersió!$D$69)*dispersió!$C$12),0)","v":0.8683104503143142},{"$f":"IFERROR(dispersió!$C$10*((dispersió!$E$69+'Càlculs interns'!A17)^dispersió!$D$10)*(2*LN('Càlculs interns'!B17/dispersió!$O$69))^(1/2),0)","v":19.021353124092798},-19.021353124092798,null,69.243272811959812,{"$f":"IFERROR((letalitat!$P$8*1000)/((3.14159*dispersió!$C$10*((dispersió!$E$68+F17)^dispersió!$D$10)*dispersió!$E$10*((dispersió!$F$68+F17)^dispersió!$F$10)+dispersió!$C$24*dispersió!$D$68)*dispersió!$C$12),0)","v":1.1056482154413168},{"$f":"IFERROR(dispersió!$C$10*((dispersió!$E$68+'Càlculs interns'!F17)^dispersió!$D$10)*(2*LN('Càlculs interns'!G17/dispersió!$O$68))^(1/2),0)","v":16.015935986668453},-16.015935986668453,null,50.009006320083301,{"$f":"IFERROR((letalitat!$P$8*1000)/((3.14159*dispersió!$C$10*((dispersió!$E$67+K17)^dispersió!$D$10)*dispersió!$E$10*((dispersió!$F$67+K17)^dispersió!$F$10)+dispersió!$C$24*dispersió!$D$67)*dispersió!$C$12),0)","v":1.4334568600560176},{"$f":"IFERROR(dispersió!$C$10*((dispersió!$E$67+'Càlculs interns'!K17)^dispersió!$D$10)*(2*LN('Càlculs interns'!L17/dispersió!$O$67))^(1/2),0)","v":13.041773676473747},-13.041773676473747,null,25.249800746312388,{"$f":"IFERROR((letalitat!$P$8*1000)/((3.14159*dispersió!$C$10*((dispersió!$E$66+P17)^dispersió!$D$10)*dispersió!$E$10*((dispersió!$F$66+P17)^dispersió!$F$10)+dispersió!$C$24*dispersió!$D$66)*dispersió!$C$12),0)","v":2.1391977334934729},{"$f":"IFERROR(dispersió!$C$10*((dispersió!$E$66+'Càlculs interns'!P17)^dispersió!$D$10)*(2*LN('Càlculs interns'!Q17/dispersió!$O$66))^(1/2),0)","v":8.7226377935950712},-8.7226377935950712]
[98.023508382791718,{"$f":"IFERROR((letalitat!$P$8*1000)/((3.14159*dispersió!$C$10*((dispersió!$E$69+A18)^dispersió!$D$10)*dispersió!$E$10*((dispersió!$F$69+A18)^dispersió!$F$10)+dispersió!$C$24*dispersió!$D$69)*dispersió!$C$12),0)","v":0.79575648829231815},{"$f":"IFERROR(dispersió!$C$10*((dispersió!$E$69+'Càlculs interns'!A18)^dispersió!$D$10)*(2*LN('Càlculs interns'!B18/dispersió!$O$69))^(1/2),0)","v":19.170636938972709},-19.170636938972709,null,75.538115794865249,{"$f":"IFERROR((letalitat!$P$8*1000)/((3.14159*dispersió!$C$10*((dispersió!$E$68+F18)^dispersió!$D$10)*dispersió!$E$10*((dispersió!$F$68+F18)^dispersió!$F$10)+dispersió!$C$24*dispersió!$D$68)*dispersió!$C$12),0)","v":1.0233285571662645},{"$f":"IFERROR(dispersió!$C$10*((dispersió!$E$68+'Càlculs interns'!F18)^dispersió!$D$10)*(2*LN('Càlculs interns'!G18/dispersió!$O$68))^(1/2),0)","v":16.080589941210413},-16.080589941210413,null,54.555279621909058,{"$f":"IFERROR((letalitat!$P$8*1000)/((3.14159*dispersió!$C$10*((dispersió!$E$67+K18)^dispersió!$D$10)*dispersió!$E$10*((dispersió!$F$67+K18)^dispersió!$F$10)+dispersió!$C$24*dispersió!$D$67)*dispersió!$C$12),0)","v":1.3434441569313844},{"$f":"IFERROR(dispersió!$C$10*((dispersió!$E$67+'Càlculs interns'!K18)^dispersió!$D$10)*(2*LN('Càlculs interns'!L18/dispersió!$O$67))^(1/2),0)","v":13.032009494918881},-13.032009494918881,null,27.545237177795332,{"$f":"IFERROR((letalitat!$P$8*1000)/((3.14159*dispersió!$C$10*((dispersió!$E$66+P18)^dispersió!$D$10)*dispersió!$E$10*((dispersió!$F$66+P18)^dispersió!$F$10)+dispersió!$C$24*dispersió!$D$66)*dispersió!$C$12),0)","v":2.0533254474135134},{"$f":"IFERROR(dispersió!$C$10*((dispersió!$E$66+'Càlculs interns'!P18)^dispersió!$D$10)*(2*LN('Càlculs interns'!Q18/dispersió!$O$66))^(1/2),0)","v":8.636277282148864},-8.636277282148864]
[106.19213408135769,{"$f":"IFERROR((letalitat!$P$8*1000)/((3.14159*dispersió!$C$10*((dispersió!$E$69+A19)^dispersió!$D$10)*dispersió!$E$10*((dispersió!$F$69+A19)^dispersió!$F$10)+dispersió!$C$24*dispersió!$D$69)*dispersió!$C$12),0)","v":0.7323060958947647},{"$f":"IFERROR(dispersió!$C$10*((dispersió!$E$69+'Càlculs interns'!A19)^dispersió!$D$10)*(2*LN('Càlculs interns'!B19/dispersió!$O$69))^(1/2),0)","v":19.256213952536942},-19.256213952536942,null,81.832958777770685,{"$f":"IFERROR((letalitat!$P$8*1000)/((3.14159*dispersió!$C$10*((dispersió!$E$68+F19)^dispersió!$D$10)*dispersió!$E$10*((dispersió!$F$68+F19)^dispersió!$F$10)+dispersió!$C$24*dispersió!$D$68)*dispersió!$C$12),0)","v":0.95021957178600291},{"$f":"IFERROR(dispersió!$C$10*((dispersió!$E$68+'Càlculs interns'!F19)^dispersió!$D$10)*(2*LN('Càlculs interns'!G19/dispersió!$O$68))^(1/2),0)","v":16.097043076878919},-16.097043076878919,null,59.101552923734815,{"$f":"IFERROR((letalitat!$P$8*1000)/((3.14159*dispersió!$C$10*((dispersió!$E$67+K19)^dispersió!$D$10)*dispersió!$E$10*((dispersió!$F$67+K19)^dispersió!$F$10)+dispersió!$C$24*dispersió!$D$67)*dispersió!$C$12),0)","v":1.2619278992980989},{"$f":"IFERROR(dispersió!$C$10*((dispersió!$E$67+'Càlculs interns'!K19)^dispersió!$D$10)*(2*LN('Càlculs interns'!L19/dispersió!$O$67))^(1/2),0)","v":12.988294972645111},-12.988294972645111,null,29.840673609278277,{"$f":"IFERROR((letalitat!$P$8*1000)/((3.14159*dispersió!$C$10*((dispersió!$E$66+P19)^dispersió!$D$10)*dispersió!$E$10*((dispersió!$F$66+P19)^dispersió!$F$10)+dispersió!$C$24*dispersió!$D$66)*dispersió!$C$12),0)","v":1.9726251571745776},{"$f":"IFERROR(dispersió!$C$10*((dispersió!$E$66+'Càlculs interns'!P19)^dispersió!$D$10)*(2*LN('Càlculs interns'!Q19/dispersió!$O$66))^(1/2),0)","v":8.533533219357988},-8.533533219357988]
[114.36075977992367,{"$f":"IFERROR((letalitat!$P$8*1000)/((3.14159*dispersió!$C$10*((dispersió!$E$69+A20)^dispersió!$D$10)*dispersió!$E$10*((dispersió!$F$69+A20)^dispersió!$F$10)+dispersió!$C$24*dispersió!$D$69)*dispersió!$C$12),0)","v":0.6764778532906851},{"$f":"IFERROR(dispersió!$C$10*((dispersió!$E$69+'Càlculs interns'!A20)^dispersió!$D$10)*(2*LN('Càlculs interns'!B20/dispersió!$O$69))^(1/2),0)","v":19.276995096408676},-19.276995096408676,null,88.127801760676121,{"$f":"IFERROR((letalitat!$P$8*1000)/((3.14159*dispersió!$C$10*((dispersió!$E$68+F20)^dispersió!$D$10)*dispersió!$E$10*((dispersió!$F$68+F20)^dispersió!$F$10)+dispersió!$C$24*dispersió!$D$68)*dispersió!$C$12),0)","v":0.88498359104185276},{"$f":"IFERROR(dispersió!$C$10*((dispersió!$E$68+'Càlculs interns'!F20)^dispersió!$D$10)*(2*LN('Càlculs interns'!G20/dispersió!$O$68))^(1/2),0)","v":16.064188098055745},-16.064188098055745,null,63.647826225560571,{"$f":"IFERROR((letalitat!$P$8*1000)/((3.14159*dispersió!$C$10*((dispersió!$E$67+K20)^dispersió!$D$10)*dispersió!$E$10*((dispersió!$F$67+K20)^dispersió!$F$10)+dispersió!$C$24*dispersió!$D$67)*dispersió!$C$12),0)","v":1.1878668902655547},{"$f":"IFERROR(dispersió!$C$10*((dispersió!$E$67+'Càlculs interns'!K20)^dispersió!$D$10)*(2*LN('Càlculs interns'!L20/dispersió!$O$67))^(1/2),0)","v":12.909580555833783},-12.909580555833783,null,32.136110040761224,{"$f":"IFERROR((letalitat!$P$8*1000)/((3.14159*dispersió!$C$10*((dispersió!$E$66+P20)^dispersió!$D$10)*dispersió!$E$10*((dispersió!$F$66+P20)^dispersió!$F$10)+dispersió!$C$24*dispersió!$D$66)*dispersió!$C$12),0)","v":1.8966934036536429},{"$f":"IFERROR(dispersió!$C$10*((dispersió!$E$66+'Càlculs interns'!P20)^dispersió!$D$10)*(2*LN('Càlculs interns'!Q20/dispersió!$O$66))^(1/2),0)","v":8.4136187697145619},-8.4136187697145619]
[122.52938547848964,{"$f":"IFERROR((letalitat!$P$8*1000)/((3.14159*dispersió!$C$10*((dispersió!$E$69+A21)^dispersió!$D$10)*dispersió!$E$10*((dispersió!$F$69+A21)^dispersió!$F$10)+dispersió!$C$24*dispersió!$D$69)*dispersió!$C$12),0)","v":0.62708088335815659},{"$f":"IFERROR(dispersió!$C$10*((dispersió!$E$69+'Càlculs interns'!A21)^dispersió!$D$10)*(2*LN('Càlculs interns'!B21/dispersió!$O$69))^(1/2),0)","v":19.231376697744146},-19.231376697744146,null,94.422644743581557,{"$f":"IFERROR((letalitat!$P$8*1000)/((3.14159*dispersió!$C$10*((dispersió!$E$68+F21)^dispersió!$D$10)*dispersió!$E$10*((dispersió!$F$68+F21)^dispersió!$F$10)+dispersió!$C$24*dispersió!$D$68)*dispersió!$C$12),0)","v":0.82651724430814877},{"$f":"IFERROR(dispersió!$C$10*((dispersió!$E$68+'Càlculs interns'!F21)^dispersió!$D$10)*(2*LN('Càlculs interns'!G21/dispersió!$O$68))^(1/2),0)","v":15.980534785016404},-15.980534785016404,null,68.194099527386328,{"$f":"IFERROR((letalitat!$P$8*1000)/((3.14159*dispersió!$C$10*((dispersió!$E$67+K21)^dispersió!$D$10)*dispersió!$E$10*((dispersió!$F$67+K21)^dispersió!$F$10)+dispersió!$C$24*dispersió!$D$67)*dispersió!$C$12),0)","v":1.1203738021902105},{"$f":"IFERROR(dispersió!$C$10*((dispersió!$E$67+'Càlculs interns'!K21)^dispersió!$D$10)*(2*LN('Càlculs interns'!L21/dispersió!$O$67))^(1/2),0)","v":12.794546699103584},-12.794546699103584,null,34.431546472244172,{"$f":"IFERROR((letalitat!$P$8*1000)/((3.14159*dispersió!$C$10*((dispersió!$E$66+P21)^dispersió!$D$10)*dispersió!$E$10*((dispersió!$F$66+P21)^dispersió!$F$10)+dispersió!$C$24*dispersió!$D$66)*dispersió!$C$12),0)","v":1.8251645554729636},{"$f":"IFERROR(dispersió!$C$10*((dispersió!$E$66+'Càlculs interns'!P21)^dispersió!$D$10)*(2*LN('Càlculs interns'!Q21/dispersió!$O$66))^(1/2),0)","v":8.2756050026915666},-8.2756050026915666]
[130.69801117705563,{"$f":"IFERROR((letalitat!$P$8*1000)/((3.14159*dispersió!$C$10*((dispersió!$E$69+A22)^dispersió!$D$10)*dispersió!$E$10*((dispersió!$F$69+A22)^dispersió!$F$10)+dispersió!$C$24*dispersió!$D$69)*dispersió!$C$12),0)","v":0.58314911651344981},{"$f":"IFERROR(dispersió!$C$10*((dispersió!$E$69+'Càlculs interns'!A22)^dispersió!$D$10)*(2*LN('Càlculs interns'!B22/dispersió!$O$69))^(1/2),0)","v":19.117174272475353},-19.117174272475353,null,100.71748772648699,{"$f":"IFERROR((letalitat!$P$8*1000)/((3.14159*dispersió!$C$10*((dispersió!$E$68+F22)^dispersió!$D$10)*dispersió!$E$10*((dispersió!$F$68+F22)^dispersió!$F$10)+dispersió!$C$24*dispersió!$D$68)*dispersió!$C$12),0)","v":0.77390409500633994},{"$f":"IFERROR(dispersió!$C$10*((dispersió!$E$68+'Càlculs interns'!F22)^dispersió!$D$10)*(2*LN('Càlculs interns'!G22/dispersió!$O$68))^(1/2),0)","v":15.844151254839772},-15.844151254839772,null,72.740372829212077,{"$f":"IFERROR((letalitat!$P$8*1000)/((3.14159*dispersió!$C$10*((dispersió!$E$67+K22)^dispersió!$D$10)*dispersió!$E$10*((dispersió!$F$67+K22)^dispersió!$F$10)+dispersió!$C$24*dispersió!$D$67)*dispersió!$C$12),0)","v":1.0586889471284577},{"$f":"IFERROR(dispersió!$C$10*((dispersió!$E$67+'Càlculs interns'!K22)^dispersió!$D$10)*(2*LN('Càlculs interns'!L22/dispersió!$O$67))^(1/2),0)","v":12.641554764276078},-12.641554764276078,null,36.726982903727119,{"$f":"IFERROR((letalitat!$P$8*1000)/((3.14159*dispersió!$C$10*((dispersió!$E$66+P22)^dispersió!$D$10)*dispersió!$E$10*((dispersió!$F$66+P22)^dispersió!$F$10)+dispersió!$C$24*dispersió!$D$66)*dispersió!$C$12),0)","v":1.757706735593179},{"$f":"IFERROR(dispersió!$C$10*((dispersió!$E$66+'Càlculs interns'!P22)^dispersió!$D$10)*(2*LN('Càlculs interns'!Q22/dispersió!$O$66))^(1/2),0)","v":8.1183896432316676},-8.1183896432316676]
[138.86663687562162,{"$f":"IFERROR((letalitat!$P$8*1000)/((3.14159*dispersió!$C$10*((dispersió!$E$69+A23)^dispersió!$D$10)*dispersió!$E$10*((dispersió!$F$69+A23)^dispersió!$F$10)+dispersió!$C$24*dispersió!$D$69)*dispersió!$C$12),0)","v":0.54389222344105725},{"$f":"IFERROR(dispersió!$C$10*((dispersió!$E$69+'Càlculs interns'!A23)^dispersió!$D$10)*(2*LN('Càlculs interns'!B23/dispersió!$O$69))^(1/2),0)","v":18.931525452407449},-18.931525452407449,null,107.01233070939243,{"$f":"IFERROR((letalitat!$P$8*1000)/((3.14159*dispersió!$C$10*((dispersió!$E$68+F23)^dispersió!$D$10)*dispersió!$E$10*((dispersió!$F$68+F23)^dispersió!$F$10)+dispersió!$C$24*dispersió!$D$68)*dispersió!$C$12),0)","v":0.72637800941449815},{"$f":"IFERROR(dispersió!$C$10*((dispersió!$E$68+'Càlculs interns'!F23)^dispersió!$D$10)*(2*LN('Càlculs interns'!G23/dispersió!$O$68))^(1/2),0)","v":15.652581436528488},-15.652581436528488,null,77.286646131037827,{"$f":"IFERROR((letalitat!$P$8*1000)/((3.14159*dispersió!$C$10*((dispersió!$E$67+K23)^dispersió!$D$10)*dispersió!$E$10*((dispersió!$F$67+K23)^dispersió!$F$10)+dispersió!$C$24*dispersió!$D$67)*dispersió!$C$12),0)","v":1.0021590536685152},{"$f":"IFERROR(dispersió!$C$10*((dispersió!$E$67+'Càlculs interns'!K23)^dispersió!$D$10)*(2*LN('Càlculs interns'!L23/dispersió!$O$67))^(1/2),0)","v":12.448580222661883},-12.448580222661883,null,39.022419335210067,{"$f":"IFERROR((letalitat!$P$8*1000)/((3.14159*dispersió!$C$10*((dispersió!$E$66+P23)^dispersió!$D$10)*dispersió!$E$10*((dispersió!$F$66+P23)^dispersió!$F$10)+dispersió!$C$24*dispersió!$D$66)*dispersió!$C$12),0)","v":1.6940182367997763},{"$f":"IFERROR(dispersió!$C$10*((dispersió!$E$66+'Càlculs interns'!P23)^dispersió!$D$10)*(2*LN('Càlculs interns'!Q23/dispersió!$O$66))^(1/2),0)","v":7.9406555421788063},-7.9406555421788063]
[147.03526257418761,{"$f":"IFERROR((letalitat!$P$8*1000)/((3.14159*dispersió!$C$10*((dispersió!$E$69+A24)^dispersió!$D$10)*dispersió!$E$10*((dispersió!$F$69+A24)^dispersió!$F$10)+dispersió!$C$24*dispersió!$D$69)*dispersió!$C$12),0)","v":0.50865857502837353},{"$f":"IFERROR(dispersió!$C$10*((dispersió!$E$69+'Càlculs interns'!A24)^dispersió!$D$10)*(2*LN('Càlculs interns'!B24/dispersió!$O$69))^(1/2),0)","v":18.670751047436081},-18.670751047436081,null,113.30717369229787,{"$f":"IFERROR((letalitat!$P$8*1000)/((3.14159*dispersió!$C$10*((dispersió!$E$68+F24)^dispersió!$D$10)*dispersió!$E$10*((dispersió!$F$68+F24)^dispersió!$F$10)+dispersió!$C$24*dispersió!$D$68)*dispersió!$C$12),0)","v":0.68329458789430753},{"$f":"IFERROR(dispersió!$C$10*((dispersió!$E$68+'Càlculs interns'!F24)^dispersió!$D$10)*(2*LN('Càlculs interns'!G24/dispersió!$O$68))^(1/2),0)","v":15.402729610465304},-15.402729610465304,null,81.832919432863577,{"$f":"IFERROR((letalitat!$P$8*1000)/((3.14159*dispersió!$C$10*((dispersió!$E$67+K24)^dispersió!$D$10)*dispersió!$E$10*((dispersió!$F$67+K24)^dispersió!$F$10)+dispersió!$C$24*dispersió!$D$67)*dispersió!$C$12),0)","v":0.95022000287740982},{"$f":"IFERROR(dispersió!$C$10*((dispersió!$E$67+'Càlculs interns'!K24)^dispersió!$D$10)*(2*LN('Càlculs interns'!L24/dispersió!$O$67))^(1/2),0)","v":12.213120913660074},-12.213120913660074,null,41.317855766693015,{"$f":"IFERROR((letalitat!$P$8*1000)/((3.14159*dispersió!$C$10*((dispersió!$E$66+P24)^dispersió!$D$10)*dispersió!$E$10*((dispersió!$F$66+P24)^dispersió!$F$10)+dispersió!$C$24*dispersió!$D$66)*dispersió!$C$12),0)","v":1.6338243619294666},{"$f":"IFERROR(dispersió!$C$10*((dispersió!$E$66+'Càlculs interns'!P24)^dispersió!$D$10)*(2*LN('Càlculs interns'!Q24/dispersió!$O$66))^(1/2),0)","v":7.7408144579308802},-7.7408144579308802]
[155.2038882727536,{"$f":"IFERROR((letalitat!$P$8*1000)/((3.14159*dispersió!$C$10*((dispersió!$E$69+A25)^dispersió!$D$10)*dispersió!$E$10*((dispersió!$F$69+A25)^dispersió!$F$10)+dispersió!$C$24*dispersió!$D$69)*dispersió!$C$12),0)","v":0.47690698621518818},{"$f":"IFERROR(dispersió!$C$10*((dispersió!$E$69+'Càlculs interns'!A25)^dispersió!$D$10)*(2*LN('Càlculs interns'!B25/dispersió!$O$69))^(1/2),0)","v":18.330156633484947},-18.330156633484947,null,119.6020166752033,{"$f":"IFERROR((letalitat!$P$8*1000)/((3.14159*dispersió!$C$10*((dispersió!$E$68+F25)^dispersió!$D$10)*dispersió!$E$10*((dispersió!$F$68+F25)^dispersió!$F$10)+dispersió!$C$24*dispersió!$D$68)*dispersió!$C$12),0)","v":0.64410870658082631},{"$f":"IFERROR(dispersió!$C$10*((dispersió!$E$68+'Càlculs interns'!F25)^dispersió!$D$10)*(2*LN('Càlculs interns'!G25/dispersió!$O$68))^(1/2),0)","v":15.09069759325328},-15.09069759325328,null,86.379192734689326,{"$f":"IFERROR((letalitat!$P$8*1000)/((3.14159*dispersió!$C$10*((dispersió!$E$67+K25)^dispersió!$D$10)*dispersió!$E$10*((dispersió!$F$67+K25)^dispersió!$F$10)+dispersió!$C$24*dispersió!$D$67)*dispersió!$C$12),0)","v":0.902382712337781},{"$f":"IFERROR(dispersió!$C$10*((dispersió!$E$67+'Càlculs interns'!K25)^dispersió!$D$10)*(2*LN('Càlculs interns'!L25/dispersió!$O$67))^(1/2),0)","v":11.932069052656878},-11.932069052656878,null,43.613292198175962,{"$f":"IFERROR((letalitat!$P$8*1000)/((3.14159*dispersió!$C$10*((dispersió!$E$66+P25)^dispersió!$D$10)*dispersió!$E$10*((dispersió!$F$66+P25)^dispersió!$F$10)+dispersió!$C$24*dispersió!$D$66)*dispersió!$C$12),0)","v":1.5768746338129049},{"$f":"IFERROR(dispersió!$C$10*((dispersió!$E$66+'Càlculs interns'!P25)^dispersió!$D$10)*(2*LN('Càlculs interns'!Q25/dispersió!$O$66))^(1/2),0)","v":7.5169292957513028},-7.5169292957513028]
[163.37251397131959,{"$f":"IFERROR((letalitat!$P$8*1000)/((3.14159*dispersió!$C$10*((dispersió!$E$69+A26)^dispersió!$D$10)*dispersió!$E$10*((dispersió!$F$69+A26)^dispersió!$F$10)+dispersió!$C$24*dispersió!$D$69)*dispersió!$C$12),0)","v":0.44818494805596659},{"$f":"IFERROR(dispersió!$C$10*((dispersió!$E$69+'Càlculs interns'!A26)^dispersió!$D$10)*(2*LN('Càlculs interns'!B26/dispersió!$O$69))^(1/2),0)","v":17.903746001782839},-17.903746001782839,null,125.89685965810874,{"$f":"IFERROR((letalitat!$P$8*1000)/((3.14159*dispersió!$C$10*((dispersió!$E$68+F26)^dispersió!$D$10)*dispersió!$E$10*((dispersió!$F$68+F26)^dispersió!$F$10)+dispersió!$C$24*dispersió!$D$68)*dispersió!$C$12),0)","v":0.60835672937310015},{"$f":"IFERROR(dispersió!$C$10*((dispersió!$E$68+'Càlculs interns'!F26)^dispersió!$D$10)*(2*LN('Càlculs interns'!G26/dispersió!$O$68))^(1/2),0)","v":14.711551266781767},-14.711551266781767,null,90.925466036515076,{"$f":"IFERROR((letalitat!$P$8*1000)/((3.14159*dispersió!$C$10*((dispersió!$E$67+K26)^dispersió!$D$10)*dispersió!$E$10*((dispersió!$F$67+K26)^dispersió!$F$10)+dispersió!$C$24*dispersió!$D$67)*dispersió!$C$12),0)","v":0.8582215367493653},{"$f":"IFERROR(dispersió!$C$10*((dispersió!$E$67+'Càlculs interns'!K26)^dispersió!$D$10)*(2*LN('Càlculs interns'!L26/dispersió!$O$67))^(1/2),0)","v":11.601528797798329},-11.601528797798329,null,45.90872862965891,{"$f":"IFERROR((letalitat!$P$8*1000)/((3.14159*dispersió!$C$10*((dispersió!$E$66+P26)^dispersió!$D$10)*dispersió!$E$10*((dispersió!$F$66+P26)^dispersió!$F$10)+dispersió!$C$24*dispersió!$D$66)*dispersió!$C$12),0)","v":1.5229403276190236},{"$f":"IFERROR(dispersió!$C$10*((dispersió!$E$66+'Càlculs interns'!P26)^dispersió!$D$10)*(2*LN('Càlculs interns'!Q26/dispersió!$O$66))^(1/2),0)","v":7.2666037900075731},-7.2666037900075731]
[171.54113966988558,{"$f":"IFERROR((letalitat!$P$8*1000)/((3.14159*dispersió!$C$10*((dispersió!$E$69+A27)^dispersió!$D$10)*dispersió!$E$10*((dispersió!$F$69+A27)^dispersió!$F$10)+dispersió!$C$24*dispersió!$D$69)*dispersió!$C$12),0)","v":0.42211170342437904},{"$f":"IFERROR(dispersió!$C$10*((dispersió!$E$69+'Càlculs interns'!A27)^dispersió!$D$10)*(2*LN('Càlculs interns'!B27/dispersió!$O$69))^(1/2),0)","v":17.383798368646687},-17.383798368646687,null,132.19170264101419,{"$f":"IFERROR((letalitat!$P$8*1000)/((3.14159*dispersió!$C$10*((dispersió!$E$68+F27)^dispersió!$D$10)*dispersió!$E$10*((dispersió!$F$68+F27)^dispersió!$F$10)+dispersió!$C$24*dispersió!$D$68)*dispersió!$C$12),0)","v":0.57564231828026113},{"$f":"IFERROR(dispersió!$C$10*((dispersió!$E$68+'Càlculs interns'!F27)^dispersió!$D$10)*(2*LN('Càlculs interns'!G27/dispersió!$O$68))^(1/2),0)","v":14.258977478457},-14.258977478457,null,95.471739338340825,{"$f":"IFERROR((letalitat!$P$8*1000)/((3.14159*dispersió!$C$10*((dispersió!$E$67+K27)^dispersió!$D$10)*dispersió!$E$10*((dispersió!$F$67+K27)^dispersió!$F$10)+dispersió!$C$24*dispersió!$D$67)*dispersió!$C$12),0)","v":0.81736469069293416},{"$f":"IFERROR(dispersió!$C$10*((dispersió!$E$67+'Càlculs interns'!K27)^dispersió!$D$10)*(2*LN('Càlculs interns'!L27/dispersió!$O$67))^(1/2),0)","v":11.216549000913526},-11.216549000913526,null,48.204165061141858,{"$f":"IFERROR((letalitat!$P$8*1000)/((3.14159*dispersió!$C$10*((dispersió!$E$66+P27)^dispersió!$D$10)*dispersió!$E$10*((dispersió!$F$66+P27)^dispersió!$F$10)+dispersió!$C$24*dispersió!$D$66)*dispersió!$C$12),0)","v":1.471812284824322},{"$f":"IFERROR(dispersió!$C$10*((dispersió!$E$66+'Càlculs interns'!P27)^dispersió!$D$10)*(2*LN('Càlculs interns'!Q27/dispersió!$O$66))^(1/2),0)","v":6.9868212258764517},-6.9868212258764517]
[179.70976536845157,{"$f":"IFERROR((letalitat!$P$8*1000)/((3.14159*dispersió!$C$10*((dispersió!$E$69+A28)^dispersió!$D$10)*dispersió!$E$10*((dispersió!$F$69+A28)^dispersió!$F$10)+dispersió!$C$24*dispersió!$D$69)*dispersió!$C$12),0)","v":0.39836497485843819},{"$f":"IFERROR(dispersió!$C$10*((dispersió!$E$69+'Càlculs interns'!A28)^dispersió!$D$10)*(2*LN('Càlculs interns'!B28/dispersió!$O$69))^(1/2),0)","v":16.760225203622138},-16.760225203622138,null,138.48654562391962,{"$f":"IFERROR((letalitat!$P$8*1000)/((3.14159*dispersió!$C$10*((dispersió!$E$68+F28)^dispersió!$D$10)*dispersió!$E$10*((dispersió!$F$68+F28)^dispersió!$F$10)+dispersió!$C$24*dispersió!$D$68)*dispersió!$C$12),0)","v":0.54562503749817171},{"$f":"IFERROR(dispersió!$C$10*((dispersió!$E$68+'Càlculs interns'!F28)^dispersió!$D$10)*(2*LN('Càlculs interns'!G28/dispersió!$O$68))^(1/2),0)","v":13.724763233006243},-13.724763233006243,null,100.01801264016657,{"$f":"IFERROR((letalitat!$P$8*1000)/((3.14159*dispersió!$C$10*((dispersió!$E$67+K28)^dispersió!$D$10)*dispersió!$E$10*((dispersió!$F$67+K28)^dispersió!$F$10)+dispersió!$C$24*dispersió!$D$67)*dispersió!$C$12),0)","v":0.77948630446207312},{"$f":"IFERROR(dispersió!$C$10*((dispersió!$E$67+'Càlculs interns'!K28)^dispersió!$D$10)*(2*LN('Càlculs interns'!L28/dispersió!$O$67))^(1/2),0)","v":10.770718090992172},-10.770718090992172,null,50.499601492624805,{"$f":"IFERROR((letalitat!$P$8*1000)/((3.14159*dispersió!$C$10*((dispersió!$E$66+P28)^dispersió!$D$10)*dispersió!$E$10*((dispersió!$F$66+P28)^dispersió!$F$10)+dispersió!$C$24*dispersió!$D$66)*dispersió!$C$12),0)","v":1.4232989735950088},{"$f":"IFERROR(dispersió!$C$10*((dispersió!$E$66+'Càlculs interns'!P28)^dispersió!$D$10)*(2*LN('Càlculs interns'!Q28/dispersió!$O$66))^(1/2),0)","v":6.6737000051918152},-6.6737000051918152]
[187.87839106701756,{"$f":"IFERROR((letalitat!$P$8*1000)/((3.14159*dispersió!$C$10*((dispersió!$E$69+A29)^dispersió!$D$10)*dispersió!$E$10*((dispersió!$F$69+A29)^dispersió!$F$10)+dispersió!$C$24*dispersió!$D$69)*dispersió!$C$12),0)","v":0.37667047206016635},{"$f":"IFERROR(dispersió!$C$10*((dispersió!$E$69+'Càlculs interns'!A29)^dispersió!$D$10)*(2*LN('Càlculs interns'!B29/dispersió!$O$69))^(1/2),0)","v":16.019551497240663},-16.019551497240663,null,144.78138860682506,{"$f":"IFERROR((letalitat!$P$8*1000)/((3.14159*dispersió!$C$10*((dispersió!$E$68+F29)^dispersió!$D$10)*dispersió!$E$10*((dispersió!$F$68+F29)^dispersió!$F$10)+dispersió!$C$24*dispersió!$D$68)*dispersió!$C$12),0)","v":0.51801114235884949},{"$f":"IFERROR(dispersió!$C$10*((dispersió!$E$68+'Càlculs interns'!F29)^dispersió!$D$10)*(2*LN('Càlculs interns'!G29/dispersió!$O$68))^(1/2),0)","v":13.097971686148076},-13.097971686148076,null,104.56428594199232,{"$f":"IFERROR((letalitat!$P$8*1000)/((3.14159*dispersió!$C$10*((dispersió!$E$67+K29)^dispersió!$D$10)*dispersió!$E$10*((dispersió!$F$67+K29)^dispersió!$F$10)+dispersió!$C$24*dispersió!$D$67)*dispersió!$C$12),0)","v":0.74429980516645744},{"$f":"IFERROR(dispersió!$C$10*((dispersió!$E$67+'Càlculs interns'!K29)^dispersió!$D$10)*(2*LN('Càlculs interns'!L29/dispersió!$O$67))^(1/2),0)","v":10.255523233244784},-10.255523233244784,null,52.795037924107753,{"$f":"IFERROR((letalitat!$P$8*1000)/((3.14159*dispersió!$C$10*((dispersió!$E$66+P29)^dispersió!$D$10)*dispersió!$E$10*((dispersió!$F$66+P29)^dispersió!$F$10)+dispersió!$C$24*dispersió!$D$66)*dispersió!$C$12),0)","v":1.37722476511947},{"$f":"IFERROR(dispersió!$C$10*((dispersió!$E$66+'Càlculs interns'!P29)^dispersió!$D$10)*(2*LN('Càlculs interns'!Q29/dispersió!$O$66))^(1/2),0)","v":6.3221065272808117},-6.3221065272808117]
[196.04701676558355,{"$f":"IFERROR((letalitat!$P$8*1000)/((3.14159*dispersió!$C$10*((dispersió!$E$69+A30)^dispersió!$D$10)*dispersió!$E$10*((dispersió!$F$69+A30)^dispersió!$F$10)+dispersió!$C$24*dispersió!$D$69)*dispersió!$C$12),0)","v":0.35679353372352562},{"$f":"IFERROR(dispersió!$C$10*((dispersió!$E$69+'Càlculs interns'!A30)^dispersió!$D$10)*(2*LN('Càlculs interns'!B30/dispersió!$O$69))^(1/2),0)","v":15.143215628253934},-15.143215628253934,null,151.0762315897305,{"$f":"IFERROR((letalitat!$P$8*1000)/((3.14159*dispersió!$C$10*((dispersió!$E$68+F30)^dispersió!$D$10)*dispersió!$E$10*((dispersió!$F$68+F30)^dispersió!$F$10)+dispersió!$C$24*dispersió!$D$68)*dispersió!$C$12),0)","v":0.4925460888668789},{"$f":"IFERROR(dispersió!$C$10*((dispersió!$E$68+'Càlculs interns'!F30)^dispersió!$D$10)*(2*LN('Càlculs interns'!G30/dispersió!$O$68))^(1/2),0)","v":12.363567644020812},-12.363567644020812,null,109.11055924381807,{"$f":"IFERROR((letalitat!$P$8*1000)/((3.14159*dispersió!$C$10*((dispersió!$E$67+K30)^dispersió!$D$10)*dispersió!$E$10*((dispersió!$F$67+K30)^dispersió!$F$10)+dispersió!$C$24*dispersió!$D$67)*dispersió!$C$12),0)","v":0.7115523783978206},{"$f":"IFERROR(dispersió!$C$10*((dispersió!$E$67+'Càlculs interns'!K30)^dispersió!$D$10)*(2*LN('Càlculs interns'!L30/dispersió!$O$67))^(1/2),0)","v":9.6592806791304344},-9.6592806791304344,null,55.0904743555907,{"$f":"IFERROR((letalitat!$P$8*1000)/((3.14159*dispersió!$C$10*((dispersió!$E$66+P30)^dispersió!$D$10)*dispersió!$E$10*((dispersió!$F$66+P30)^dispersió!$F$10)+dispersió!$C$24*dispersió!$D$66)*dispersió!$C$12),0)","v":1.3334283994926155},{"$f":"IFERROR(dispersió!$C$10*((dispersió!$E$66+'Càlculs interns'!P30)^dispersió!$D$10)*(2*LN('Càlculs interns'!Q30/dispersió!$O$66))^(1/2),0)","v":5.9250075593131175},-5.9250075593131175]
[204.21564246414954,{"$f":"IFERROR((letalitat!$P$8*1000)/((3.14159*dispersió!$C$10*((dispersió!$E$69+A31)^dispersió!$D$10)*dispersió!$E$10*((dispersió!$F$69+A31)^dispersió!$F$10)+dispersió!$C$24*dispersió!$D$69)*dispersió!$C$12),0)","v":0.33853242184221821},{"$f":"IFERROR(dispersió!$C$10*((dispersió!$E$69+'Càlculs interns'!A31)^dispersió!$D$10)*(2*LN('Càlculs interns'!B31/dispersió!$O$69))^(1/2),0)","v":14.104531848941141},-14.104531848941141,null,157.37107457263593,{"$f":"IFERROR((letalitat!$P$8*1000)/((3.14159*dispersió!$C$10*((dispersió!$E$68+F31)^dispersió!$D$10)*dispersió!$E$10*((dispersió!$F$68+F31)^dispersió!$F$10)+dispersió!$C$24*dispersió!$D$68)*dispersió!$C$12),0)","v":0.46900840716379455},{"$f":"IFERROR(dispersió!$C$10*((dispersió!$E$68+'Càlculs interns'!F31)^dispersió!$D$10)*(2*LN('Càlculs interns'!G31/dispersió!$O$68))^(1/2),0)","v":11.499962127470988},-11.499962127470988,null,113.65683254564382,{"$f":"IFERROR((letalitat!$P$8*1000)/((3.14159*dispersió!$C$10*((dispersió!$E$67+K31)^dispersió!$D$10)*dispersió!$E$10*((dispersió!$F$67+K31)^dispersió!$F$10)+dispersió!$C$24*dispersió!$D$67)*dispersió!$C$12),0)","v":0.68102031495423332},{"$f":"IFERROR(dispersió!$C$10*((dispersió!$E$67+'Càlculs interns'!K31)^dispersió!$D$10)*(2*LN('Càlculs interns'!L31/dispersió!$O$67))^(1/2),0)","v":8.9652224215897753},-8.9652224215897753,null,57.385910787073648,{"$f":"IFERROR((letalitat!$P$8*1000)/((3.14159*dispersió!$C$10*((dispersió!$E$66+P31)^dispersió!$D$10)*dispersió!$E$10*((dispersió!$F$66+P31)^dispersió!$F$10)+dispersió!$C$24*dispersió!$D$66)*dispersió!$C$12),0)","v":1.2917616182380987},{"$f":"IFERROR(dispersió!$C$10*((dispersió!$E$66+'Càlculs interns'!P31)^dispersió!$D$10)*(2*LN('Càlculs interns'!Q31/dispersió!$O$66))^(1/2),0)","v":5.4723079213474835},-5.4723079213474835]
[212.38426816271553,{"$f":"IFERROR((letalitat!$P$8*1000)/((3.14159*dispersió!$C$10*((dispersió!$E$69+A32)^dispersió!$D$10)*dispersió!$E$10*((dispersió!$F$69+A32)^dispersió!$F$10)+dispersió!$C$24*dispersió!$D$69)*dispersió!$C$12),0)","v":0.32171290548422965},{"$f":"IFERROR(dispersió!$C$10*((dispersió!$E$69+'Càlculs interns'!A32)^dispersió!$D$10)*(2*LN('Càlculs interns'!B32/dispersió!$O$69))^(1/2),0)","v":12.862743051464792},-12.862743051464792,null,163.66591755554137,{"$f":"IFERROR((letalitat!$P$8*1000)/((3.14159*dispersió!$C$10*((dispersió!$E$68+F32)^dispersió!$D$10)*dispersió!$E$10*((dispersió!$F$68+F32)^dispersió!$F$10)+dispersió!$C$24*dispersió!$D$68)*dispersió!$C$12),0)","v":0.44720466300508355},{"$f":"IFERROR(dispersió!$C$10*((dispersió!$E$68+'Càlculs interns'!F32)^dispersió!$D$10)*(2*LN('Càlculs interns'!G32/dispersió!$O$68))^(1/2),0)","v":10.474204426144221},-10.474204426144221,null,118.20310584746957,{"$f":"IFERROR((letalitat!$P$8*1000)/((3.14159*dispersió!$C$10*((dispersió!$E$67+K32)^dispersió!$D$10)*dispersió!$E$10*((dispersió!$F$67+K32)^dispersió!$F$10)+dispersió!$C$24*dispersió!$D$67)*dispersió!$C$12),0)","v":0.65250508568594856},{"$f":"IFERROR(dispersió!$C$10*((dispersió!$E$67+'Càlculs interns'!K32)^dispersió!$D$10)*(2*LN('Càlculs interns'!L32/dispersió!$O$67))^(1/2),0)","v":8.1477422558642392},-8.1477422558642392,null,59.681347218556596,{"$f":"IFERROR((letalitat!$P$8*1000)/((3.14159*dispersió!$C$10*((dispersió!$E$66+P32)^dispersió!$D$10)*dispersió!$E$10*((dispersió!$F$66+P32)^dispersió!$F$10)+dispersió!$C$24*dispersió!$D$66)*dispersió!$C$12),0)","v":1.252087943547959},{"$f":"IFERROR(dispersió!$C$10*((dispersió!$E$66+'Càlculs interns'!P32)^dispersió!$D$10)*(2*LN('Càlculs interns'!Q32/dispersió!$O$66))^(1/2),0)","v":4.9485596268403382},-4.9485596268403382]
[220.55289386128152,{"$f":"IFERROR((letalitat!$P$8*1000)/((3.14159*dispersió!$C$10*((dispersió!$E$69+A33)^dispersió!$D$10)*dispersió!$E$10*((dispersió!$F$69+A33)^dispersió!$F$10)+dispersió!$C$24*dispersió!$D$69)*dispersió!$C$12),0)","v":0.30618385822827571},{"$f":"IFERROR(dispersió!$C$10*((dispersió!$E$69+'Càlculs interns'!A33)^dispersió!$D$10)*(2*LN('Càlculs interns'!B33/dispersió!$O$69))^(1/2),0)","v":11.349769742119657},-11.349769742119657,null,169.96076053844681,{"$f":"IFERROR((letalitat!$P$8*1000)/((3.14159*dispersió!$C$10*((dispersió!$E$68+F33)^dispersió!$D$10)*dispersió!$E$10*((dispersió!$F$68+F33)^dispersió!$F$10)+dispersió!$C$24*dispersió!$D$68)*dispersió!$C$12),0)","v":0.42696529235957359},{"$f":"IFERROR(dispersió!$C$10*((dispersió!$E$68+'Càlculs interns'!F33)^dispersió!$D$10)*(2*LN('Càlculs interns'!G33/dispersió!$O$68))^(1/2),0)","v":9.2312676423921136},-9.2312676423921136,null,122.74937914929532,{"$f":"IFERROR((letalitat!$P$8*1000)/((3.14159*dispersió!$C$10*((dispersió!$E$67+K33)^dispersió!$D$10)*dispersió!$E$10*((dispersió!$F$67+K33)^dispersió!$F$10)+dispersió!$C$24*dispersió!$D$67)*dispersió!$C$12),0)","v":0.62583001790340187},{"$f":"IFERROR(dispersió!$C$10*((dispersió!$E$67+'Càlculs interns'!K33)^dispersió!$D$10)*(2*LN('Càlculs interns'!L33/dispersió!$O$67))^(1/2),0)","v":7.164005877679509},-7.164005877679509,null,61.976783650039543,{"$f":"IFERROR((letalitat!$P$8*1000)/((3.14159*dispersió!$C$10*((dispersió!$E$66+P33)^dispersió!$D$10)*dispersió!$E$10*((dispersió!$F$66+P33)^dispersió!$F$10)+dispersió!$C$24*dispersió!$D$66)*dispersió!$C$12),0)","v":1.2142815868950103},{"$f":"IFERROR(dispersió!$C$10*((dispersió!$E$66+'Càlculs interns'!P33)^dispersió!$D$10)*(2*LN('Càlculs interns'!Q33/dispersió!$O$66))^(1/2),0)","v":4.3278091300467452},-4.3278091300467452]
[228.72151955984751,{"$f":"IFERROR((letalitat!$P$8*1000)/((3.14159*dispersió!$C$10*((dispersió!$E$69+A34)^dispersió!$D$10)*dispersió!$E$10*((dispersió!$F$69+A34)^dispersió!$F$10)+dispersió!$C$24*dispersió!$D$69)*dispersió!$C$12),0)","v":0.29181365803440135},{"$f":"IFERROR(dispersió!$C$10*((dispersió!$E$69+'Càlculs interns'!A34)^dispersió!$D$10)*(2*LN('Càlculs interns'!B34/dispersió!$O$69))^(1/2),0)","v":9.4341921656110284},-9.4341921656110284,null,176.25560352135224,{"$f":"IFERROR((letalitat!$P$8*1000)/((3.14159*dispersió!$C$10*((dispersió!$E$68+F34)^dispersió!$D$10)*dispersió!$E$10*((dispersió!$F$68+F34)^dispersió!$F$10)+dispersió!$C$24*dispersió!$D$68)*dispersió!$C$12),0)","v":0.4081411406912856},{"$f":"IFERROR(dispersió!$C$10*((dispersió!$E$68+'Càlculs interns'!F34)^dispersió!$D$10)*(2*LN('Càlculs interns'!G34/dispersió!$O$68))^(1/2),0)","v":7.6649199232475826},-7.6649199232475826,null,127.29565245112107,{"$f":"IFERROR((letalitat!$P$8*1000)/((3.14159*dispersió!$C$10*((dispersió!$E$67+K34)^dispersió!$D$10)*dispersió!$E$10*((dispersió!$F$67+K34)^dispersió!$F$10)+dispersió!$C$24*dispersió!$D$67)*dispersió!$C$12),0)","v":0.60083747082814232},{"$f":"IFERROR(dispersió!$C$10*((dispersió!$E$67+'Càlculs interns'!K34)^dispersió!$D$10)*(2*LN('Càlculs interns'!L34/dispersió!$O$67))^(1/2),0)","v":5.9310379135476889},-5.9310379135476889,null,64.272220081522491,{"$f":"IFERROR((letalitat!$P$8*1000)/((3.14159*dispersió!$C$10*((dispersió!$E$66+P34)^dispersió!$D$10)*dispersió!$E$10*((dispersió!$F$66+P34)^dispersió!$F$10)+dispersió!$C$24*dispersió!$D$66)*dispersió!$C$12),0)","v":1.1782264718935824},{"$f":"IFERROR(dispersió!$C$10*((dispersió!$E$66+'Càlculs interns'!P34)^dispersió!$D$10)*(2*LN('Càlculs interns'!Q34/dispersió!$O$66))^(1/2),0)","v":3.5593862744869789},-3.5593862744869789]
[236.8901452584135,{"$f":"IFERROR((letalitat!$P$8*1000)/((3.14159*dispersió!$C$10*((dispersió!$E$69+A35)^dispersió!$D$10)*dispersió!$E$10*((dispersió!$F$69+A35)^dispersió!$F$10)+dispersió!$C$24*dispersió!$D$69)*dispersió!$C$12),0)","v":0.27848722654945363},{"$f":"IFERROR(dispersió!$C$10*((dispersió!$E$69+'Càlculs interns'!A35)^dispersió!$D$10)*(2*LN('Càlculs interns'!B35/dispersió!$O$69))^(1/2),0)","v":6.7806007895718956},-6.7806007895718956,null,182.55044650425768,{"$f":"IFERROR((letalitat!$P$8*1000)/((3.14159*dispersió!$C$10*((dispersió!$E$68+F35)^dispersió!$D$10)*dispersió!$E$10*((dispersió!$F$68+F35)^dispersió!$F$10)+dispersió!$C$24*dispersió!$D$68)*dispersió!$C$12),0)","v":0.39060057408118593},{"$f":"IFERROR(dispersió!$C$10*((dispersió!$E$68+'Càlculs interns'!F35)^dispersió!$D$10)*(2*LN('Càlculs interns'!G35/dispersió!$O$68))^(1/2),0)","v":5.5039672698070827},-5.5039672698070827,null,131.84192575294682,{"$f":"IFERROR((letalitat!$P$8*1000)/((3.14159*dispersió!$C$10*((dispersió!$E$67+K35)^dispersió!$D$10)*dispersió!$E$10*((dispersió!$F$67+K35)^dispersió!$F$10)+dispersió!$C$24*dispersió!$D$67)*dispersió!$C$12),0)","v":0.57738642668056783},{"$f":"IFERROR(dispersió!$C$10*((dispersió!$E$67+'Càlculs interns'!K35)^dispersió!$D$10)*(2*LN('Càlculs interns'!L35/dispersió!$O$67))^(1/2),0)","v":4.2354346920632286},-4.2354346920632286,null,66.567656513005431,{"$f":"IFERROR((letalitat!$P$8*1000)/((3.14159*dispersió!$C$10*((dispersió!$E$66+P35)^dispersió!$D$10)*dispersió!$E$10*((dispersió!$F$66+P35)^dispersió!$F$10)+dispersió!$C$24*dispersió!$D$66)*dispersió!$C$12),0)","v":1.1438153582006618},{"$f":"IFERROR(dispersió!$C$10*((dispersió!$E$66+'Càlculs interns'!P35)^dispersió!$D$10)*(2*LN('Càlculs interns'!Q35/dispersió!$O$66))^(1/2),0)","v":2.5108166898668562},-2.5108166898668562]
[{"$f":"dispersió!G69","v":245.05877095697937},{"$f":"IFERROR((letalitat!$P$8*1000)/((3.14159*dispersió!$C$10*((dispersió!$E$69+A36)^dispersió!$D$10)*dispersió!$E$10*((dispersió!$F$69+A36)^dispersió!$F$10)+dispersió!$C$24*dispersió!$D$69)*dispersió!$C$12),0)","v":0.26610358115956306},{"$f":"IFERROR(dispersió!$C$10*((dispersió!$E$69+'Càlculs interns'!A36)^dispersió!$D$10)*(2*LN('Càlculs interns'!B36/dispersió!$O$69))^(1/2),0)","v":0},0,null,{"$f":"dispersió!G68","v":188.84528948716317},{"$f":"IFERROR((letalitat!$P$8*1000)/((3.14159*dispersió!$C$10*((dispersió!$E$68+F36)^dispersió!$D$10)*dispersió!$E$10*((dispersió!$F$68+F36)^dispersió!$F$10)+dispersió!$C$24*dispersió!$D$68)*dispersió!$C$12),0)","v":0.37422705680458446},{"$f":"IFERROR(dispersió!$C$10*((dispersió!$E$68+'Càlculs interns'!F36)^dispersió!$D$10)*(2*LN('Càlculs interns'!G36/dispersió!$O$68))^(1/2),0)","v":0},0,null,{"$f":"dispersió!G67","v":136.38819905477263},{"$f":"IFERROR((letalitat!$P$8*1000)/((3.14159*dispersió!$C$10*((dispersió!$E$67+K36)^dispersió!$D$10)*dispersió!$E$10*((dispersió!$F$67+K36)^dispersió!$F$10)+dispersió!$C$24*dispersió!$D$67)*dispersió!$C$12),0)","v":0.55535042926286171},{"$f":"IFERROR(dispersió!$C$10*((dispersió!$E$67+'Càlculs interns'!K36)^dispersió!$D$10)*(2*LN('Càlculs interns'!L36/dispersió!$O$67))^(1/2),0)","v":0},0,null,{"$f":"dispersió!G66","v":68.863092944488329},{"$f":"IFERROR((letalitat!$P$8*1000)/((3.14159*dispersió!$C$10*((dispersió!$E$66+P36)^dispersió!$D$10)*dispersió!$E$10*((dispersió!$F$66+P36)^dispersió!$F$10)+dispersió!$C$24*dispersió!$D$66)*dispersió!$C$12),0)","v":1.1109490549064118},{"$f":"IFERROR(dispersió!$C$10*((dispersió!$E$66+'Càlculs interns'!P36)^dispersió!$D$10)*(2*LN('Càlculs interns'!Q36/dispersió!$O$66))^(1/2),0)","v":0},0]
[]
["Est. F"]
["LC1",null,"LC1+","LC1-",null,"LC10",null,"LC10+","LC10-",null,"LC50",null,"LC50+","LC50-",null,"LC99",null,"LC99+","LC99-"]
["X","C(x)","y+","y-",null,"X","C(x)","y+","y-",null,"X","C(x)","y+","y-",null,"X","C(x)","y+","y-"]
[0,{"$f":"IFERROR((letalitat!$P$8*1000)/((3.14159*dispersió!$I$10*((dispersió!$J$69+A41)^dispersió!$J$10)*dispersió!$K$10*((dispersió!$K$69+A41)^dispersió!$L$10)+dispersió!$C$24*dispersió!$D$69)*dispersió!$I$12),0)","v":11.065885617695873},{"$f":"IFERROR(dispersió!$I$10*((dispersió!$J$69+'Càlculs interns'!A41)^dispersió!$J$10)*(2*LN('Càlculs interns'!B41/dispersió!$O$69))^(1/2),0)","v":15.553514680144247},{"$f":"-C41","v":-15.553514680144247},null,0,{"$f":"IFERROR((letalitat!$P$8*1000)/((3.14159*dispersió!$I$10*((dispersió!$J$68+F41)^dispersió!$J$10)*dispersió!$K$10*((dispersió!$K$68+F41)^dispersió!$L$10)+dispersió!$C$24*dispersió!$D$68)*dispersió!$I$12),0)","v":11.065885617695873},{"$f":"IFERROR(dispersió!$I$10*((dispersió!$J$68+'Càlculs interns'!F41)^dispersió!$J$10)*(2*LN('Càlculs interns'!G41/dispersió!$O$68))^(1/2),0)","v":14.825157861674205},{"$f":"-H41","v":-14.825157861674205},null,0,{"$f":"IFERROR((letalitat!$P$8*1000)/((3.14159*dispersió!$I$10*((dispersió!$J$67+K41)^dispersió!$J$10)*dispersió!$K$10*((dispersió!$K$67+K41)^dispersió!$L$10)+dispersió!$C$24*dispersió!$D$67)*dispersió!$I$12),0)","v":11.065885617695873},{"$f":"IFERROR(dispersió!$I$10*((dispersió!$J$67+'Càlculs interns'!K41)^dispersió!$J$10)*(2*LN('Càlculs interns'!L41/dispersió!$O$67))^(1/2),0)","v":13.933020970034146},{"$f":"-M41","v":-13.933020970034146},null,0,{"$f":"IFERROR((letalitat!$P$8*1000)/((3.14159*dispersió!$I$10*((dispersió!$J$66+P41)^dispersió!$J$10)*dispersió!$K$10*((dispersió!$K$66+P41)^dispersió!$L$10)+dispersió!$C$24*dispersió!$D$66)*dispersió!$I$12),0)","v":11.065885617695873},{"$f":"IFERROR(dispersió!$I$10*((dispersió!$J$66+'Càlculs interns'!P41)^dispersió!$J$10)*(2*LN('Càlculs interns'!Q41/dispersió!$O$66))^(1/2),0)","v":12.2098860644887},{"$f":"-R41","v":-12.2098860644887}]
[{"$f":"A71/30","v":56.429387508208841},{"$f":"IFERROR((letalitat!$P$8*1000)/((3.14159*dispersió!$I$10*((dispersió!$J$69+A42)^dispersió!$J$10)*dispersió!$K$10*((dispersió!$K$69+A42)^dispersió!$L$10)+dispersió!$C$24*dispersió!$D$69)*dispersió!$I$12),0)","v":7.4066117142623842},{"$f":"IFERROR(dispersió!$I$10*((dispersió!$J$69+'Càlculs interns'!A42)^dispersió!$J$10)*(2*LN('Càlculs interns'!B42/dispersió!$O$69))^(1/2),0)","v":19.850880249287751},{"$f":"-C42","v":-19.850880249287751},null,{"$f":"F71/30","v":44.483864704482329},{"$f":"IFERROR((letalitat!$P$8*1000)/((3.14159*dispersió!$I$10*((dispersió!$J$68+F42)^dispersió!$J$10)*dispersió!$K$10*((dispersió!$K$68+F42)^dispersió!$L$10)+dispersió!$C$24*dispersió!$D$68)*dispersió!$I$12),0)","v":8.0121038562936331},{"$f":"IFERROR(dispersió!$I$10*((dispersió!$J$68+'Càlculs interns'!F42)^dispersió!$J$10)*(2*LN('Càlculs interns'!G42/dispersió!$O$68))^(1/2),0)","v":18.016754848498522},{"$f":"-H42","v":-18.016754848498522},null,{"$f":"K71/30","v":33.501286426833673},{"$f":"IFERROR((letalitat!$P$8*1000)/((3.14159*dispersió!$I$10*((dispersió!$J$67+K42)^dispersió!$J$10)*dispersió!$K$10*((dispersió!$K$67+K42)^dispersió!$L$10)+dispersió!$C$24*dispersió!$D$67)*dispersió!$I$12),0)","v":8.6373310703941826},{"$f":"IFERROR(dispersió!$I$10*((dispersió!$J$67+'Càlculs interns'!K42)^dispersió!$J$10)*(2*LN('Càlculs interns'!L42/dispersió!$O$67))^(1/2),0)","v":16.143308296498265},{"$f":"-M42","v":-16.143308296498265},null,{"$f":"P71/30","v":19.794769805000517},{"$f":"IFERROR((letalitat!$P$8*1000)/((3.14159*dispersió!$I$10*((dispersió!$J$66+P42)^dispersió!$J$10)*dispersió!$K$10*((dispersió!$K$66+P42)^dispersió!$L$10)+dispersió!$C$24*dispersió!$D$66)*dispersió!$I$12),0)","v":9.5255659039344742},{"$f":"IFERROR(dispersió!$I$10*((dispersió!$J$66+'Càlculs interns'!P42)^dispersió!$J$10)*(2*LN('Càlculs interns'!Q42/dispersió!$O$66))^(1/2),0)","v":13.274511571263526},{"$f":"-R42","v":-13.274511571263526}]
[{"$f":"A$42+A42","v":112.85877501641768},{"$f":"IFERROR((letalitat!$P$8*1000)/((3.14159*dispersió!$I$10*((dispersió!$J$69+A43)^dispersió!$J$10)*dispersió!$K$10*((dispersió!$K$69+A43)^dispersió!$L$10)+dispersió!$C$24*dispersió!$D$69)*dispersió!$I$12),0)","v":5.3129564878311886},{"$f":"IFERROR(dispersió!$I$10*((dispersió!$J$69+'Càlculs interns'!A43)^dispersió!$J$10)*(2*LN('Càlculs interns'!B43/dispersió!$O$69))^(1/2),0)","v":23.591688431577975},-23.591688431577975,null,{"$f":"F$42+F42","v":88.967729408964658},{"$f":"IFERROR((letalitat!$P$8*1000)/((3.14159*dispersió!$I$10*((dispersió!$J$68+F43)^dispersió!$J$10)*dispersió!$K$10*((dispersió!$K$68+F43)^dispersió!$L$10)+dispersió!$C$24*dispersió!$D$68)*dispersió!$I$12),0)","v":6.0710718321343755},{"$f":"IFERROR(dispersió!$I$10*((dispersió!$J$68+'Càlculs interns'!F43)^dispersió!$J$10)*(2*LN('Càlculs interns'!G43/dispersió!$O$68))^(1/2),0)","v":20.82933083499751},-20.82933083499751,null,{"$f":"K$42+K42","v":67.002572853667345},{"$f":"IFERROR((letalitat!$P$8*1000)/((3.14159*dispersió!$I$10*((dispersió!$J$67+K43)^dispersió!$J$10)*dispersió!$K$10*((dispersió!$K$67+K43)^dispersió!$L$10)+dispersió!$C$24*dispersió!$D$67)*dispersió!$I$12),0)","v":6.9269086445268613},{"$f":"IFERROR(dispersió!$I$10*((dispersió!$J$67+'Càlculs interns'!K43)^dispersió!$J$10)*(2*LN('Càlculs interns'!L43/dispersió!$O$67))^(1/2),0)","v":18.115333980899827},-18.115333980899827,null,{"$f":"P$42+P42","v":39.589539610001033},{"$f":"IFERROR((letalitat!$P$8*1000)/((3.14159*dispersió!$I$10*((dispersió!$J$66+P43)^dispersió!$J$10)*dispersió!$K$10*((dispersió!$K$66+P43)^dispersió!$L$10)+dispersió!$C$24*dispersió!$D$66)*dispersió!$I$12),0)","v":8.2820266053368012},{"$f":"IFERROR(dispersió!$I$10*((dispersió!$J$66+'Càlculs interns'!P43)^dispersió!$J$10)*(2*LN('Càlculs interns'!Q43/dispersió!$O$66))^(1/2),0)","v":14.238895070347937},-14.238895070347937]
[{"$f":"A$42+A43","v":169.28816252462653},{"$f":"IFERROR((letalitat!$P$8*1000)/((3.14159*dispersió!$I$10*((dispersió!$J$69+A44)^dispersió!$J$10)*dispersió!$K$10*((dispersió!$K$69+A44)^dispersió!$L$10)+dispersió!$C$24*dispersió!$D$69)*dispersió!$I$12),0)","v":4.0150803888453117},{"$f":"IFERROR(dispersió!$I$10*((dispersió!$J$69+'Càlculs interns'!A44)^dispersió!$J$10)*(2*LN('Càlculs interns'!B44/dispersió!$O$69))^(1/2),0)","v":26.893352570647242},-26.893352570647242,null,{"$f":"F$42+F43","v":133.45159411344699},{"$f":"IFERROR((letalitat!$P$8*1000)/((3.14159*dispersió!$I$10*((dispersió!$J$68+F44)^dispersió!$J$10)*dispersió!$K$10*((dispersió!$K$68+F44)^dispersió!$L$10)+dispersió!$C$24*dispersió!$D$68)*dispersió!$I$12),0)","v":4.7715367534274682},{"$f":"IFERROR(dispersió!$I$10*((dispersió!$J$68+'Càlculs interns'!F44)^dispersió!$J$10)*(2*LN('Càlculs interns'!G44/dispersió!$O$68))^(1/2),0)","v":23.329585900510093},-23.329585900510093,null,{"$f":"K$42+K43","v":100.50385928050102},{"$f":"IFERROR((letalitat!$P$8*1000)/((3.14159*dispersió!$I$10*((dispersió!$J$67+K44)^dispersió!$J$10)*dispersió!$K$10*((dispersió!$K$67+K44)^dispersió!$L$10)+dispersió!$C$24*dispersió!$D$67)*dispersió!$I$12),0)","v":5.6853595746768324},{"$f":"IFERROR(dispersió!$I$10*((dispersió!$J$67+'Càlculs interns'!K44)^dispersió!$J$10)*(2*LN('Càlculs interns'!L44/dispersió!$O$67))^(1/2),0)","v":19.881858738092223},-19.881858738092223,null,{"$f":"P$42+P43","v":59.384309415001553},{"$f":"IFERROR((letalitat!$P$8*1000)/((3.14159*dispersió!$I$10*((dispersió!$J$66+P44)^dispersió!$J$10)*dispersió!$K$10*((dispersió!$K$66+P44)^dispersió!$L$10)+dispersió!$C$24*dispersió!$D$66)*dispersió!$I$12),0)","v":7.267559343872338},{"$f":"IFERROR(dispersió!$I$10*((dispersió!$J$66+'Càlculs interns'!P44)^dispersió!$J$10)*(2*LN('Càlculs interns'!Q44/dispersió!$O$66))^(1/2),0)","v":15.110853150774478},-15.110853150774478]
[225.71755003283536,{"$f":"IFERROR((letalitat!$P$8*1000)/((3.14159*dispersió!$I$10*((dispersió!$J$69+A45)^dispersió!$J$10)*dispersió!$K$10*((dispersió!$K$69+A45)^dispersió!$L$10)+dispersió!$C$24*dispersió!$D$69)*dispersió!$I$12),0)","v":3.1557345861991304},{"$f":"IFERROR(dispersió!$I$10*((dispersió!$J$69+'Càlculs interns'!A45)^dispersió!$J$10)*(2*LN('Càlculs interns'!B45/dispersió!$O$69))^(1/2),0)","v":29.828533768642096},-29.828533768642096,null,177.93545881792932,{"$f":"IFERROR((letalitat!$P$8*1000)/((3.14159*dispersió!$I$10*((dispersió!$J$68+F45)^dispersió!$J$10)*dispersió!$K$10*((dispersió!$K$68+F45)^dispersió!$L$10)+dispersió!$C$24*dispersió!$D$68)*dispersió!$I$12),0)","v":3.8607769212939522},{"$f":"IFERROR(dispersió!$I$10*((dispersió!$J$68+'Càlculs interns'!F45)^dispersió!$J$10)*(2*LN('Càlculs interns'!G45/dispersió!$O$68))^(1/2),0)","v":25.561818416350999},-25.561818416350999,null,134.00514570733469,{"$f":"IFERROR((letalitat!$P$8*1000)/((3.14159*dispersió!$I$10*((dispersió!$J$67+K45)^dispersió!$J$10)*dispersió!$K$10*((dispersió!$K$67+K45)^dispersió!$L$10)+dispersió!$C$24*dispersió!$D$67)*dispersió!$I$12),0)","v":4.7581921894894599},{"$f":"IFERROR(dispersió!$I$10*((dispersió!$J$67+'Càlculs interns'!K45)^dispersió!$J$10)*(2*LN('Càlculs interns'!L45/dispersió!$O$67))^(1/2),0)","v":21.466301186161125},-21.466301186161125,null,79.179079220002066,{"$f":"IFERROR((letalitat!$P$8*1000)/((3.14159*dispersió!$I$10*((dispersió!$J$66+P45)^dispersió!$J$10)*dispersió!$K$10*((dispersió!$K$66+P45)^dispersió!$L$10)+dispersió!$C$24*dispersió!$D$66)*dispersió!$I$12),0)","v":6.4311120100229262},{"$f":"IFERROR(dispersió!$I$10*((dispersió!$J$66+'Càlculs interns'!P45)^dispersió!$J$10)*(2*LN('Càlculs interns'!Q45/dispersió!$O$66))^(1/2),0)","v":15.896551864071142},-15.896551864071142]
[282.14693754104422,{"$f":"IFERROR((letalitat!$P$8*1000)/((3.14159*dispersió!$I$10*((dispersió!$J$69+A46)^dispersió!$J$10)*dispersió!$K$10*((dispersió!$K$69+A46)^dispersió!$L$10)+dispersió!$C$24*dispersió!$D$69)*dispersió!$I$12),0)","v":2.5563249632882217},{"$f":"IFERROR(dispersió!$I$10*((dispersió!$J$69+'Càlculs interns'!A46)^dispersió!$J$10)*(2*LN('Càlculs interns'!B46/dispersió!$O$69))^(1/2),0)","v":32.445583110409004},-32.445583110409004,null,222.41932352241164,{"$f":"IFERROR((letalitat!$P$8*1000)/((3.14159*dispersió!$I$10*((dispersió!$J$68+F46)^dispersió!$J$10)*dispersió!$K$10*((dispersió!$K$68+F46)^dispersió!$L$10)+dispersió!$C$24*dispersió!$D$68)*dispersió!$I$12),0)","v":3.197578259417527},{"$f":"IFERROR(dispersió!$I$10*((dispersió!$J$68+'Càlculs interns'!F46)^dispersió!$J$10)*(2*LN('Càlculs interns'!G46/dispersió!$O$68))^(1/2),0)","v":27.556902778883011},-27.556902778883011,null,167.50643213416836,{"$f":"IFERROR((letalitat!$P$8*1000)/((3.14159*dispersió!$I$10*((dispersió!$J$67+K46)^dispersió!$J$10)*dispersió!$K$10*((dispersió!$K$67+K46)^dispersió!$L$10)+dispersió!$C$24*dispersió!$D$67)*dispersió!$I$12),0)","v":4.0480869353250215},{"$f":"IFERROR(dispersió!$I$10*((dispersió!$J$67+'Càlculs interns'!K46)^dispersió!$J$10)*(2*LN('Càlculs interns'!L46/dispersió!$O$67))^(1/2),0)","v":22.885849939058087},-22.885849939058087,null,98.973849025002579,{"$f":"IFERROR((letalitat!$P$8*1000)/((3.14159*dispersió!$I$10*((dispersió!$J$66+P46)^dispersió!$J$10)*dispersió!$K$10*((dispersió!$K$66+P46)^dispersió!$L$10)+dispersió!$C$24*dispersió!$D$66)*dispersió!$I$12),0)","v":5.7342932294784257},{"$f":"IFERROR(dispersió!$I$10*((dispersió!$J$66+'Càlculs interns'!P46)^dispersió!$J$10)*(2*LN('Càlculs interns'!Q46/dispersió!$O$66))^(1/2),0)","v":16.600856496902171},-16.600856496902171]
[338.57632504925306,{"$f":"IFERROR((letalitat!$P$8*1000)/((3.14159*dispersió!$I$10*((dispersió!$J$69+A47)^dispersió!$J$10)*dispersió!$K$10*((dispersió!$K$69+A47)^dispersió!$L$10)+dispersió!$C$24*dispersió!$D$69)*dispersió!$I$12),0)","v":2.1205624970404244},{"$f":"IFERROR(dispersió!$I$10*((dispersió!$J$69+'Càlculs interns'!A47)^dispersió!$J$10)*(2*LN('Càlculs interns'!B47/dispersió!$O$69))^(1/2),0)","v":34.778346987732682},-34.778346987732682,null,266.90318822689397,{"$f":"IFERROR((letalitat!$P$8*1000)/((3.14159*dispersió!$I$10*((dispersió!$J$68+F47)^dispersió!$J$10)*dispersió!$K$10*((dispersió!$K$68+F47)^dispersió!$L$10)+dispersió!$C$24*dispersió!$D$68)*dispersió!$I$12),0)","v":2.6990580442153278},{"$f":"IFERROR(dispersió!$I$10*((dispersió!$J$68+'Càlculs interns'!F47)^dispersió!$J$10)*(2*LN('Càlculs interns'!G47/dispersió!$O$68))^(1/2),0)","v":29.337125593187078},-29.337125593187078,null,201.00771856100204,{"$f":"IFERROR((letalitat!$P$8*1000)/((3.14159*dispersió!$I$10*((dispersió!$J$67+K47)^dispersió!$J$10)*dispersió!$K$10*((dispersió!$K$67+K47)^dispersió!$L$10)+dispersió!$C$24*dispersió!$D$67)*dispersió!$I$12),0)","v":3.492102240991434},{"$f":"IFERROR(dispersió!$I$10*((dispersió!$J$67+'Càlculs interns'!K47)^dispersió!$J$10)*(2*LN('Càlculs interns'!L47/dispersió!$O$67))^(1/2),0)","v":24.153364259402146},-24.153364259402146,null,118.76861883000309,{"$f":"IFERROR((letalitat!$P$8*1000)/((3.14159*dispersió!$I$10*((dispersió!$J$66+P47)^dispersió!$J$10)*dispersió!$K$10*((dispersió!$K$66+P47)^dispersió!$L$10)+dispersió!$C$24*dispersió!$D$66)*dispersió!$I$12),0)","v":5.148110052961167},{"$f":"IFERROR(dispersió!$I$10*((dispersió!$J$66+'Càlculs interns'!P47)^dispersió!$J$10)*(2*LN('Càlculs interns'!Q47/dispersió!$O$66))^(1/2),0)","v":17.227587649996842},-17.227587649996842]
[395.00571255746189,{"$f":"IFERROR((letalitat!$P$8*1000)/((3.14159*dispersió!$I$10*((dispersió!$J$69+A48)^dispersió!$J$10)*dispersió!$K$10*((dispersió!$K$69+A48)^dispersió!$L$10)+dispersió!$C$24*dispersió!$D$69)*dispersió!$I$12),0)","v":1.793025957158906},{"$f":"IFERROR(dispersió!$I$10*((dispersió!$J$69+'Càlculs interns'!A48)^dispersió!$J$10)*(2*LN('Càlculs interns'!B48/dispersió!$O$69))^(1/2),0)","v":36.851329291119306},-36.851329291119306,null,311.38705293137627,{"$f":"IFERROR((letalitat!$P$8*1000)/((3.14159*dispersió!$I$10*((dispersió!$J$68+F48)^dispersió!$J$10)*dispersió!$K$10*((dispersió!$K$68+F48)^dispersió!$L$10)+dispersió!$C$24*dispersió!$D$68)*dispersió!$I$12),0)","v":2.3142622345380079},{"$f":"IFERROR(dispersió!$I$10*((dispersió!$J$68+'Càlculs interns'!F48)^dispersió!$J$10)*(2*LN('Càlculs interns'!G48/dispersió!$O$68))^(1/2),0)","v":30.918950325017612},-30.918950325017612,null,234.50900498783571,{"$f":"IFERROR((letalitat!$P$8*1000)/((3.14159*dispersió!$I$10*((dispersió!$J$67+K48)^dispersió!$J$10)*dispersió!$K$10*((dispersió!$K$67+K48)^dispersió!$L$10)+dispersió!$C$24*dispersió!$D$67)*dispersió!$I$12),0)","v":3.0483676134662563},{"$f":"IFERROR(dispersió!$I$10*((dispersió!$J$67+'Càlculs interns'!K48)^dispersió!$J$10)*(2*LN('Càlculs interns'!L48/dispersió!$O$67))^(1/2),0)","v":25.278569517603358},-25.278569517603358,null,138.56338863500361,{"$f":"IFERROR((letalitat!$P$8*1000)/((3.14159*dispersió!$I$10*((dispersió!$J$66+P48)^dispersió!$J$10)*dispersió!$K$10*((dispersió!$K$66+P48)^dispersió!$L$10)+dispersió!$C$24*dispersió!$D$66)*dispersió!$I$12),0)","v":4.6504994345106248},{"$f":"IFERROR(dispersió!$I$10*((dispersió!$J$66+'Càlculs interns'!P48)^dispersió!$J$10)*(2*LN('Càlculs interns'!Q48/dispersió!$O$66))^(1/2),0)","v":17.779707595179936},-17.779707595179936]
[451.43510006567072,{"$f":"IFERROR((letalitat!$P$8*1000)/((3.14159*dispersió!$I$10*((dispersió!$J$69+A49)^dispersió!$J$10)*dispersió!$K$10*((dispersió!$K$69+A49)^dispersió!$L$10)+dispersió!$C$24*dispersió!$D$69)*dispersió!$I$12),0)","v":1.5400194123494884},{"$f":"IFERROR(dispersió!$I$10*((dispersió!$J$69+'Càlculs interns'!A49)^dispersió!$J$10)*(2*LN('Càlculs interns'!B49/dispersió!$O$69))^(1/2),0)","v":38.682622734501223},-38.682622734501223,null,355.87091763585863,{"$f":"IFERROR((letalitat!$P$8*1000)/((3.14159*dispersió!$I$10*((dispersió!$J$68+F49)^dispersió!$J$10)*dispersió!$K$10*((dispersió!$K$68+F49)^dispersió!$L$10)+dispersió!$C$24*dispersió!$D$68)*dispersió!$I$12),0)","v":2.0105507523749568},{"$f":"IFERROR(dispersió!$I$10*((dispersió!$J$68+'Càlculs interns'!F49)^dispersió!$J$10)*(2*LN('Càlculs interns'!G49/dispersió!$O$68))^(1/2),0)","v":32.314682327491255},-32.314682327491255,null,268.01029141466938,{"$f":"IFERROR((letalitat!$P$8*1000)/((3.14159*dispersió!$I$10*((dispersió!$J$67+K49)^dispersió!$J$10)*dispersió!$K$10*((dispersió!$K$67+K49)^dispersió!$L$10)+dispersió!$C$24*dispersió!$D$67)*dispersió!$I$12),0)","v":2.6882662635794974},{"$f":"IFERROR(dispersió!$I$10*((dispersió!$J$67+'Càlculs interns'!K49)^dispersió!$J$10)*(2*LN('Càlculs interns'!L49/dispersió!$O$67))^(1/2),0)","v":26.268830590868824},-26.268830590868824,null,158.35815844000413,{"$f":"IFERROR((letalitat!$P$8*1000)/((3.14159*dispersió!$I$10*((dispersió!$J$66+P49)^dispersió!$J$10)*dispersió!$K$10*((dispersió!$K$66+P49)^dispersió!$L$10)+dispersió!$C$24*dispersió!$D$66)*dispersió!$I$12),0)","v":4.2245163471762739},{"$f":"IFERROR(dispersió!$I$10*((dispersió!$J$66+'Càlculs interns'!P49)^dispersió!$J$10)*(2*LN('Càlculs interns'!Q49/dispersió!$O$66))^(1/2),0)","v":18.259454798387722},-18.259454798387722]
[507.86448757387956,{"$f":"IFERROR((letalitat!$P$8*1000)/((3.14159*dispersió!$I$10*((dispersió!$J$69+A50)^dispersió!$J$10)*dispersió!$K$10*((dispersió!$K$69+A50)^dispersió!$L$10)+dispersió!$C$24*dispersió!$D$69)*dispersió!$I$12),0)","v":1.3400944456091521},{"$f":"IFERROR(dispersió!$I$10*((dispersió!$J$69+'Càlculs interns'!A50)^dispersió!$J$10)*(2*LN('Càlculs interns'!B50/dispersió!$O$69))^(1/2),0)","v":40.285672704889954},-40.285672704889954,null,400.35478234034099,{"$f":"IFERROR((letalitat!$P$8*1000)/((3.14159*dispersió!$I$10*((dispersió!$J$68+F50)^dispersió!$J$10)*dispersió!$K$10*((dispersió!$K$68+F50)^dispersió!$L$10)+dispersió!$C$24*dispersió!$D$68)*dispersió!$I$12),0)","v":1.7662521732980532},{"$f":"IFERROR(dispersió!$I$10*((dispersió!$J$68+'Càlculs interns'!F50)^dispersió!$J$10)*(2*LN('Càlculs interns'!G50/dispersió!$O$68))^(1/2),0)","v":33.533513720015577},-33.533513720015577,null,301.51157784150303,{"$f":"IFERROR((letalitat!$P$8*1000)/((3.14159*dispersió!$I$10*((dispersió!$J$67+K50)^dispersió!$J$10)*dispersió!$K$10*((dispersió!$K$67+K50)^dispersió!$L$10)+dispersió!$C$24*dispersió!$D$67)*dispersió!$I$12),0)","v":2.3917461086223275},{"$f":"IFERROR(dispersió!$I$10*((dispersió!$J$67+'Càlculs interns'!K50)^dispersió!$J$10)*(2*LN('Càlculs interns'!L50/dispersió!$O$67))^(1/2),0)","v":27.129663174424412},-27.129663174424412,null,178.15292824500466,{"$f":"IFERROR((letalitat!$P$8*1000)/((3.14159*dispersió!$I$10*((dispersió!$J$66+P50)^dispersió!$J$10)*dispersió!$K$10*((dispersió!$K$66+P50)^dispersió!$L$10)+dispersió!$C$24*dispersió!$D$66)*dispersió!$I$12),0)","v":3.8570179835515095},{"$f":"IFERROR(dispersió!$I$10*((dispersió!$J$66+'Càlculs interns'!P50)^dispersió!$J$10)*(2*LN('Càlculs interns'!Q50/dispersió!$O$66))^(1/2),0)","v":18.668439315584379},-18.668439315584379]
[564.29387508208845,{"$f":"IFERROR((letalitat!$P$8*1000)/((3.14159*dispersió!$I$10*((dispersió!$J$69+A51)^dispersió!$J$10)*dispersió!$K$10*((dispersió!$K$69+A51)^dispersió!$L$10)+dispersió!$C$24*dispersió!$D$69)*dispersió!$I$12),0)","v":1.1790607828780342},{"$f":"IFERROR(dispersió!$I$10*((dispersió!$J$69+'Càlculs interns'!A51)^dispersió!$J$10)*(2*LN('Càlculs interns'!B51/dispersió!$O$69))^(1/2),0)","v":41.670383271070236},-41.670383271070236,null,444.83864704482335,{"$f":"IFERROR((letalitat!$P$8*1000)/((3.14159*dispersió!$I$10*((dispersió!$J$68+F51)^dispersió!$J$10)*dispersió!$K$10*((dispersió!$K$68+F51)^dispersió!$L$10)+dispersió!$C$24*dispersió!$D$68)*dispersió!$I$12),0)","v":1.5665226883477972},{"$f":"IFERROR(dispersió!$I$10*((dispersió!$J$68+'Càlculs interns'!F51)^dispersió!$J$10)*(2*LN('Càlculs interns'!G51/dispersió!$O$68))^(1/2),0)","v":34.58219777878152},-34.58219777878152,null,335.01286426833667,{"$f":"IFERROR((letalitat!$P$8*1000)/((3.14159*dispersió!$I$10*((dispersió!$J$67+K51)^dispersió!$J$10)*dispersió!$K$10*((dispersió!$K$67+K51)^dispersió!$L$10)+dispersió!$C$24*dispersió!$D$67)*dispersió!$I$12),0)","v":2.1444352315362414},{"$f":"IFERROR(dispersió!$I$10*((dispersió!$J$67+'Càlculs interns'!K51)^dispersió!$J$10)*(2*LN('Càlculs interns'!L51/dispersió!$O$67))^(1/2),0)","v":27.865075461104521},-27.865075461104521,null,197.94769805000519,{"$f":"IFERROR((letalitat!$P$8*1000)/((3.14159*dispersió!$I$10*((dispersió!$J$66+P51)^dispersió!$J$10)*dispersió!$K$10*((dispersió!$K$66+P51)^dispersió!$L$10)+dispersió!$C$24*dispersió!$D$66)*dispersió!$I$12),0)","v":3.5377091206126576},{"$f":"IFERROR(dispersió!$I$10*((dispersió!$J$66+'Càlculs interns'!P51)^dispersió!$J$10)*(2*LN('Càlculs interns'!Q51/dispersió!$O$66))^(1/2),0)","v":19.00770778061786},-19.00770778061786]
[620.72326259029728,{"$f":"IFERROR((letalitat!$P$8*1000)/((3.14159*dispersió!$I$10*((dispersió!$J$69+A52)^dispersió!$J$10)*dispersió!$K$10*((dispersió!$K$69+A52)^dispersió!$L$10)+dispersió!$C$24*dispersió!$D$69)*dispersió!$I$12),0)","v":1.0472166557470621},{"$f":"IFERROR(dispersió!$I$10*((dispersió!$J$69+'Càlculs interns'!A52)^dispersió!$J$10)*(2*LN('Càlculs interns'!B52/dispersió!$O$69))^(1/2),0)","v":42.843827122342468},-42.843827122342468,null,489.3225117493057,{"$f":"IFERROR((letalitat!$P$8*1000)/((3.14159*dispersió!$I$10*((dispersió!$J$68+F52)^dispersió!$J$10)*dispersió!$K$10*((dispersió!$K$68+F52)^dispersió!$L$10)+dispersió!$C$24*dispersió!$D$68)*dispersió!$I$12),0)","v":1.4009155507072231},{"$f":"IFERROR(dispersió!$I$10*((dispersió!$J$68+'Càlculs interns'!F52)^dispersió!$J$10)*(2*LN('Càlculs interns'!G52/dispersió!$O$68))^(1/2),0)","v":35.465489181483946},-35.465489181483946,null,368.51415069517031,{"$f":"IFERROR((letalitat!$P$8*1000)/((3.14159*dispersió!$I$10*((dispersió!$J$67+K52)^dispersió!$J$10)*dispersió!$K$10*((dispersió!$K$67+K52)^dispersió!$L$10)+dispersió!$C$24*dispersió!$D$67)*dispersió!$I$12),0)","v":1.9358209102344812},{"$f":"IFERROR(dispersió!$I$10*((dispersió!$J$67+'Càlculs interns'!K52)^dispersió!$J$10)*(2*LN('Càlculs interns'!L52/dispersió!$O$67))^(1/2),0)","v":28.477794799429645},-28.477794799429645,null,217.74246785500571,{"$f":"IFERROR((letalitat!$P$8*1000)/((3.14159*dispersió!$I$10*((dispersió!$J$66+P52)^dispersió!$J$10)*dispersió!$K$10*((dispersió!$K$66+P52)^dispersió!$L$10)+dispersió!$C$24*dispersió!$D$66)*dispersió!$I$12),0)","v":3.2584466454616896},{"$f":"IFERROR(dispersió!$I$10*((dispersió!$J$66+'Càlculs interns'!P52)^dispersió!$J$10)*(2*LN('Càlculs interns'!Q52/dispersió!$O$66))^(1/2),0)","v":19.277783703426543},-19.277783703426543]
[677.15265009850611,{"$f":"IFERROR((letalitat!$P$8*1000)/((3.14159*dispersió!$I$10*((dispersió!$J$69+A53)^dispersió!$J$10)*dispersió!$K$10*((dispersió!$K$69+A53)^dispersió!$L$10)+dispersió!$C$24*dispersió!$D$69)*dispersió!$I$12),0)","v":0.9377393754990534},{"$f":"IFERROR(dispersió!$I$10*((dispersió!$J$69+'Càlculs interns'!A53)^dispersió!$J$10)*(2*LN('Càlculs interns'!B53/dispersió!$O$69))^(1/2),0)","v":43.810701203695778},-43.810701203695778,null,533.80637645378806,{"$f":"IFERROR((letalitat!$P$8*1000)/((3.14159*dispersió!$I$10*((dispersió!$J$68+F53)^dispersió!$J$10)*dispersió!$K$10*((dispersió!$K$68+F53)^dispersió!$L$10)+dispersió!$C$24*dispersió!$D$68)*dispersió!$I$12),0)","v":1.2619019601440573},{"$f":"IFERROR(dispersió!$I$10*((dispersió!$J$68+'Càlculs interns'!F53)^dispersió!$J$10)*(2*LN('Càlculs interns'!G53/dispersió!$O$68))^(1/2),0)","v":36.186427247584597},-36.186427247584597,null,402.01543712200396,{"$f":"IFERROR((letalitat!$P$8*1000)/((3.14159*dispersió!$I$10*((dispersió!$J$67+K53)^dispersió!$J$10)*dispersió!$K$10*((dispersió!$K$67+K53)^dispersió!$L$10)+dispersió!$C$24*dispersió!$D$67)*dispersió!$I$12),0)","v":1.7580711187596025},{"$f":"IFERROR(dispersió!$I$10*((dispersió!$J$67+'Càlculs interns'!K53)^dispersió!$J$10)*(2*LN('Càlculs interns'!L53/dispersió!$O$67))^(1/2),0)","v":28.969411933290317},-28.969411933290317,null,237.53723766000624,{"$f":"IFERROR((letalitat!$P$8*1000)/((3.14159*dispersió!$I$10*((dispersió!$J$66+P53)^dispersió!$J$10)*dispersió!$K$10*((dispersió!$K$66+P53)^dispersió!$L$10)+dispersió!$C$24*dispersió!$D$66)*dispersió!$I$12),0)","v":3.0127294096676289},{"$f":"IFERROR(dispersió!$I$10*((dispersió!$J$66+'Càlculs interns'!P53)^dispersió!$J$10)*(2*LN('Càlculs interns'!Q53/dispersió!$O$66))^(1/2),0)","v":19.478686484988039},-19.478686484988039]
[733.58203760671495,{"$f":"IFERROR((letalitat!$P$8*1000)/((3.14159*dispersió!$I$10*((dispersió!$J$69+A54)^dispersió!$J$10)*dispersió!$K$10*((dispersió!$K$69+A54)^dispersió!$L$10)+dispersió!$C$24*dispersió!$D$69)*dispersió!$I$12),0)","v":0.84571231317826201},{"$f":"IFERROR(dispersió!$I$10*((dispersió!$J$69+'Càlculs interns'!A54)^dispersió!$J$10)*(2*LN('Càlculs interns'!B54/dispersió!$O$69))^(1/2),0)","v":44.573607314936929},-44.573607314936929,null,578.29024115827042,{"$f":"IFERROR((letalitat!$P$8*1000)/((3.14159*dispersió!$I$10*((dispersió!$J$68+F54)^dispersió!$J$10)*dispersió!$K$10*((dispersió!$K$68+F54)^dispersió!$L$10)+dispersió!$C$24*dispersió!$D$68)*dispersió!$I$12),0)","v":1.1439414623749617},{"$f":"IFERROR(dispersió!$I$10*((dispersió!$J$68+'Càlculs interns'!F54)^dispersió!$J$10)*(2*LN('Càlculs interns'!G54/dispersió!$O$68))^(1/2),0)","v":36.746506444412539},-36.746506444412539,null,435.5167235488376,{"$f":"IFERROR((letalitat!$P$8*1000)/((3.14159*dispersió!$I$10*((dispersió!$J$67+K54)^dispersió!$J$10)*dispersió!$K$10*((dispersió!$K$67+K54)^dispersió!$L$10)+dispersió!$C$24*dispersió!$D$67)*dispersió!$I$12),0)","v":1.6052538605206819},{"$f":"IFERROR(dispersió!$I$10*((dispersió!$J$67+'Càlculs interns'!K54)^dispersió!$J$10)*(2*LN('Càlculs interns'!L54/dispersió!$O$67))^(1/2),0)","v":29.340461964402984},-29.340461964402984,null,257.33200746500677,{"$f":"IFERROR((letalitat!$P$8*1000)/((3.14159*dispersió!$I$10*((dispersió!$J$66+P54)^dispersió!$J$10)*dispersió!$K$10*((dispersió!$K$66+P54)^dispersió!$L$10)+dispersió!$C$24*dispersió!$D$66)*dispersió!$I$12),0)","v":2.7953209320754966},{"$f":"IFERROR(dispersió!$I$10*((dispersió!$J$66+'Càlculs interns'!P54)^dispersió!$J$10)*(2*LN('Càlculs interns'!Q54/dispersió!$O$66))^(1/2),0)","v":19.609930651091247},-19.609930651091247]
[790.01142511492378,{"$f":"IFERROR((letalitat!$P$8*1000)/((3.14159*dispersió!$I$10*((dispersió!$J$69+A55)^dispersió!$J$10)*dispersió!$K$10*((dispersió!$K$69+A55)^dispersió!$L$10)+dispersió!$C$24*dispersió!$D$69)*dispersió!$I$12),0)","v":0.76751598707670599},{"$f":"IFERROR(dispersió!$I$10*((dispersió!$J$69+'Càlculs interns'!A55)^dispersió!$J$10)*(2*LN('Càlculs interns'!B55/dispersió!$O$69))^(1/2),0)","v":45.133201827231112},-45.133201827231112,null,622.77410586275278,{"$f":"IFERROR((letalitat!$P$8*1000)/((3.14159*dispersió!$I$10*((dispersió!$J$68+F55)^dispersió!$J$10)*dispersió!$K$10*((dispersió!$K$68+F55)^dispersió!$L$10)+dispersió!$C$24*dispersió!$D$68)*dispersió!$I$12),0)","v":1.0428806891506028},{"$f":"IFERROR(dispersió!$I$10*((dispersió!$J$68+'Càlculs interns'!F55)^dispersió!$J$10)*(2*LN('Càlculs interns'!G55/dispersió!$O$68))^(1/2),0)","v":37.145758813401692},-37.145758813401692,null,469.01800997567125,{"$f":"IFERROR((letalitat!$P$8*1000)/((3.14159*dispersió!$I$10*((dispersió!$J$67+K55)^dispersió!$J$10)*dispersió!$K$10*((dispersió!$K$67+K55)^dispersió!$L$10)+dispersió!$C$24*dispersió!$D$67)*dispersió!$I$12),0)","v":1.4728087853561456},{"$f":"IFERROR(dispersió!$I$10*((dispersió!$J$67+'Càlculs interns'!K55)^dispersió!$J$10)*(2*LN('Càlculs interns'!L55/dispersió!$O$67))^(1/2),0)","v":29.590452309818005},-29.590452309818005,null,277.12677727000727,{"$f":"IFERROR((letalitat!$P$8*1000)/((3.14159*dispersió!$I$10*((dispersió!$J$66+P55)^dispersió!$J$10)*dispersió!$K$10*((dispersió!$K$66+P55)^dispersió!$L$10)+dispersió!$C$24*dispersió!$D$66)*dispersió!$I$12),0)","v":2.6019678643320678},{"$f":"IFERROR(dispersió!$I$10*((dispersió!$J$66+'Càlculs interns'!P55)^dispersió!$J$10)*(2*LN('Càlculs interns'!Q55/dispersió!$O$66))^(1/2),0)","v":19.670505056430208},-19.670505056430208]
[846.44081262313262,{"$f":"IFERROR((letalitat!$P$8*1000)/((3.14159*dispersió!$I$10*((dispersió!$J$69+A56)^dispersió!$J$10)*dispersió!$K$10*((dispersió!$K$69+A56)^dispersió!$L$10)+dispersió!$C$24*dispersió!$D$69)*dispersió!$I$12),0)","v":0.70043530543747023},{"$f":"IFERROR(dispersió!$I$10*((dispersió!$J$69+'Càlculs interns'!A56)^dispersió!$J$10)*(2*LN('Càlculs interns'!B56/dispersió!$O$69))^(1/2),0)","v":45.488236977299692},-45.488236977299692,null,667.25797056723513,{"$f":"IFERROR((letalitat!$P$8*1000)/((3.14159*dispersió!$I$10*((dispersió!$J$68+F56)^dispersió!$J$10)*dispersió!$K$10*((dispersió!$K$68+F56)^dispersió!$L$10)+dispersió!$C$24*dispersió!$D$68)*dispersió!$I$12),0)","v":0.95555436636482649},{"$f":"IFERROR(dispersió!$I$10*((dispersió!$J$68+'Càlculs interns'!F56)^dispersió!$J$10)*(2*LN('Càlculs interns'!G56/dispersió!$O$68))^(1/2),0)","v":37.382760028065903},-37.382760028065903,null,502.51929640250489,{"$f":"IFERROR((letalitat!$P$8*1000)/((3.14159*dispersió!$I$10*((dispersió!$J$67+K56)^dispersió!$J$10)*dispersió!$K$10*((dispersió!$K$67+K56)^dispersió!$L$10)+dispersió!$C$24*dispersió!$D$67)*dispersió!$I$12),0)","v":1.3571824157501926},{"$f":"IFERROR(dispersió!$I$10*((dispersió!$J$67+'Càlculs interns'!K56)^dispersió!$J$10)*(2*LN('Càlculs interns'!L56/dispersió!$O$67))^(1/2),0)","v":29.717841373282884},-29.717841373282884,null,296.92154707500777,{"$f":"IFERROR((letalitat!$P$8*1000)/((3.14159*dispersió!$I$10*((dispersió!$J$66+P56)^dispersió!$J$10)*dispersió!$K$10*((dispersió!$K$66+P56)^dispersió!$L$10)+dispersió!$C$24*dispersió!$D$66)*dispersió!$I$12),0)","v":2.4291879936124903},{"$f":"IFERROR(dispersió!$I$10*((dispersió!$J$66+'Càlculs interns'!P56)^dispersió!$J$10)*(2*LN('Càlculs interns'!Q56/dispersió!$O$66))^(1/2),0)","v":19.658829959279796},-19.658829959279796]
[902.87020013134145,{"$f":"IFERROR((letalitat!$P$8*1000)/((3.14159*dispersió!$I$10*((dispersió!$J$69+A57)^dispersió!$J$10)*dispersió!$K$10*((dispersió!$K$69+A57)^dispersió!$L$10)+dispersió!$C$24*dispersió!$D$69)*dispersió!$I$12),0)","v":0.64239937803557723},{"$f":"IFERROR(dispersió!$I$10*((dispersió!$J$69+'Càlculs interns'!A57)^dispersió!$J$10)*(2*LN('Càlculs interns'!B57/dispersió!$O$69))^(1/2),0)","v":45.63550080539045},-45.63550080539045,null,711.74183527171749,{"$f":"IFERROR((letalitat!$P$8*1000)/((3.14159*dispersió!$I$10*((dispersió!$J$68+F57)^dispersió!$J$10)*dispersió!$K$10*((dispersió!$K$68+F57)^dispersió!$L$10)+dispersió!$C$24*dispersió!$D$68)*dispersió!$I$12),0)","v":0.87951439282934674},{"$f":"IFERROR(dispersió!$I$10*((dispersió!$J$68+'Càlculs interns'!F57)^dispersió!$J$10)*(2*LN('Càlculs interns'!G57/dispersió!$O$68))^(1/2),0)","v":37.454560865341158},-37.454560865341158,null,536.02058282933854,{"$f":"IFERROR((letalitat!$P$8*1000)/((3.14159*dispersió!$I$10*((dispersió!$J$67+K57)^dispersió!$J$10)*dispersió!$K$10*((dispersió!$K$67+K57)^dispersió!$L$10)+dispersió!$C$24*dispersió!$D$67)*dispersió!$I$12),0)","v":1.2555717101992783},{"$f":"IFERROR(dispersió!$I$10*((dispersió!$J$67+'Càlculs interns'!K57)^dispersió!$J$10)*(2*LN('Càlculs interns'!L57/dispersió!$O$67))^(1/2),0)","v":29.719965925436533},-29.719965925436533,null,316.71631688000826,{"$f":"IFERROR((letalitat!$P$8*1000)/((3.14159*dispersió!$I$10*((dispersió!$J$66+P57)^dispersió!$J$10)*dispersió!$K$10*((dispersió!$K$66+P57)^dispersió!$L$10)+dispersió!$C$24*dispersió!$D$66)*dispersió!$I$12),0)","v":2.2741091562346902},{"$f":"IFERROR(dispersió!$I$10*((dispersió!$J$66+'Càlculs interns'!P57)^dispersió!$J$10)*(2*LN('Càlculs interns'!Q57/dispersió!$O$66))^(1/2),0)","v":19.572687612033278},-19.572687612033278]
[959.29958763955028,{"$f":"IFERROR((letalitat!$P$8*1000)/((3.14159*dispersió!$I$10*((dispersió!$J$69+A58)^dispersió!$J$10)*dispersió!$K$10*((dispersió!$K$69+A58)^dispersió!$L$10)+dispersió!$C$24*dispersió!$D$69)*dispersió!$I$12),0)","v":0.59180501393816076},{"$f":"IFERROR(dispersió!$I$10*((dispersió!$J$69+'Càlculs interns'!A58)^dispersió!$J$10)*(2*LN('Càlculs interns'!B58/dispersió!$O$69))^(1/2),0)","v":45.56964947366189},-45.56964947366189,null,756.22569997619985,{"$f":"IFERROR((letalitat!$P$8*1000)/((3.14159*dispersió!$I$10*((dispersió!$J$68+F58)^dispersió!$J$10)*dispersió!$K$10*((dispersió!$K$68+F58)^dispersió!$L$10)+dispersió!$C$24*dispersió!$D$68)*dispersió!$I$12),0)","v":0.81284204019491357},{"$f":"IFERROR(dispersió!$I$10*((dispersió!$J$68+'Càlculs interns'!F58)^dispersió!$J$10)*(2*LN('Càlculs interns'!G58/dispersió!$O$68))^(1/2),0)","v":37.356536518703514},-37.356536518703514,null,569.52186925617218,{"$f":"IFERROR((letalitat!$P$8*1000)/((3.14159*dispersió!$I$10*((dispersió!$J$67+K58)^dispersió!$J$10)*dispersió!$K$10*((dispersió!$K$67+K58)^dispersió!$L$10)+dispersió!$C$24*dispersió!$D$67)*dispersió!$I$12),0)","v":1.1657407616865461},{"$f":"IFERROR(dispersió!$I$10*((dispersió!$J$67+'Càlculs interns'!K58)^dispersió!$J$10)*(2*LN('Càlculs interns'!L58/dispersió!$O$67))^(1/2),0)","v":29.592909078417694},-29.592909078417694,null,336.51108668500876,{"$f":"IFERROR((letalitat!$P$8*1000)/((3.14159*dispersió!$I$10*((dispersió!$J$66+P58)^dispersió!$J$10)*dispersió!$K$10*((dispersió!$K$66+P58)^dispersió!$L$10)+dispersió!$C$24*dispersió!$D$66)*dispersió!$I$12),0)","v":2.1343457481957646},{"$f":"IFERROR(dispersió!$I$10*((dispersió!$J$66+'Càlculs interns'!P58)^dispersió!$J$10)*(2*LN('Càlculs interns'!Q58/dispersió!$O$66))^(1/2),0)","v":19.409118925154626},-19.409118925154626]
[1015.7289751477591,{"$f":"IFERROR((letalitat!$P$8*1000)/((3.14159*dispersió!$I$10*((dispersió!$J$69+A59)^dispersió!$J$10)*dispersió!$K$10*((dispersió!$K$69+A59)^dispersió!$L$10)+dispersió!$C$24*dispersió!$D$69)*dispersió!$I$12),0)","v":0.54739442488399603},{"$f":"IFERROR(dispersió!$I$10*((dispersió!$J$69+'Càlculs interns'!A59)^dispersió!$J$10)*(2*LN('Càlculs interns'!B59/dispersió!$O$69))^(1/2),0)","v":45.282911133275405},-45.282911133275405,null,800.70956468068221,{"$f":"IFERROR((letalitat!$P$8*1000)/((3.14159*dispersió!$I$10*((dispersió!$J$68+F59)^dispersió!$J$10)*dispersió!$K$10*((dispersió!$K$68+F59)^dispersió!$L$10)+dispersió!$C$24*dispersió!$D$68)*dispersió!$I$12),0)","v":0.75401531967180158},{"$f":"IFERROR(dispersió!$I$10*((dispersió!$J$68+'Càlculs interns'!F59)^dispersió!$J$10)*(2*LN('Càlculs interns'!G59/dispersió!$O$68))^(1/2),0)","v":37.082135219372155},-37.082135219372155,null,603.02315568300583,{"$f":"IFERROR((letalitat!$P$8*1000)/((3.14159*dispersió!$I$10*((dispersió!$J$67+K59)^dispersió!$J$10)*dispersió!$K$10*((dispersió!$K$67+K59)^dispersió!$L$10)+dispersió!$C$24*dispersió!$D$67)*dispersió!$I$12),0)","v":1.085887755198873},{"$f":"IFERROR(dispersió!$I$10*((dispersió!$J$67+'Càlculs interns'!K59)^dispersió!$J$10)*(2*LN('Càlculs interns'!L59/dispersió!$O$67))^(1/2),0)","v":29.331292894381026},-29.331292894381026,null,356.30585649000926,{"$f":"IFERROR((letalitat!$P$8*1000)/((3.14159*dispersió!$I$10*((dispersió!$J$66+P59)^dispersió!$J$10)*dispersió!$K$10*((dispersió!$K$66+P59)^dispersió!$L$10)+dispersió!$C$24*dispersió!$D$66)*dispersió!$I$12),0)","v":2.0079032439611639},{"$f":"IFERROR(dispersió!$I$10*((dispersió!$J$66+'Càlculs interns'!P59)^dispersió!$J$10)*(2*LN('Càlculs interns'!Q59/dispersió!$O$66))^(1/2),0)","v":19.164274151743339},-19.164274151743339]
[1072.1583626559679,{"$f":"IFERROR((letalitat!$P$8*1000)/((3.14159*dispersió!$I$10*((dispersió!$J$69+A60)^dispersió!$J$10)*dispersió!$K$10*((dispersió!$K$69+A60)^dispersió!$L$10)+dispersió!$C$24*dispersió!$D$69)*dispersió!$I$12),0)","v":0.50816885862984562},{"$f":"IFERROR(dispersió!$I$10*((dispersió!$J$69+'Càlculs interns'!A60)^dispersió!$J$10)*(2*LN('Càlculs interns'!B60/dispersió!$O$69))^(1/2),0)","v":44.764620982525216},-44.764620982525216,null,845.19342938516456,{"$f":"IFERROR((letalitat!$P$8*1000)/((3.14159*dispersió!$I$10*((dispersió!$J$68+F60)^dispersió!$J$10)*dispersió!$K$10*((dispersió!$K$68+F60)^dispersió!$L$10)+dispersió!$C$24*dispersió!$D$68)*dispersió!$I$12),0)","v":0.70181371182260599},{"$f":"IFERROR(dispersió!$I$10*((dispersió!$J$68+'Càlculs interns'!F60)^dispersió!$J$10)*(2*LN('Càlculs interns'!G60/dispersió!$O$68))^(1/2),0)","v":36.622492296588391},-36.622492296588391,null,636.52444210983947,{"$f":"IFERROR((letalitat!$P$8*1000)/((3.14159*dispersió!$I$10*((dispersió!$J$67+K60)^dispersió!$J$10)*dispersió!$K$10*((dispersió!$K$67+K60)^dispersió!$L$10)+dispersió!$C$24*dispersió!$D$67)*dispersió!$I$12),0)","v":1.0145470367780718},{"$f":"IFERROR(dispersió!$I$10*((dispersió!$J$67+'Càlculs interns'!K60)^dispersió!$J$10)*(2*LN('Càlculs interns'!L60/dispersió!$O$67))^(1/2),0)","v":28.927968112241459},-28.927968112241459,null,376.10062629500976,{"$f":"IFERROR((letalitat!$P$8*1000)/((3.14159*dispersió!$I$10*((dispersió!$J$66+P60)^dispersió!$J$10)*dispersió!$K$10*((dispersió!$K$66+P60)^dispersió!$L$10)+dispersió!$C$24*dispersió!$D$66)*dispersió!$I$12),0)","v":1.8931037615371176},{"$f":"IFERROR(dispersió!$I$10*((dispersió!$J$66+'Càlculs interns'!P60)^dispersió!$J$10)*(2*LN('Càlculs interns'!Q60/dispersió!$O$66))^(1/2),0)","v":18.833198197824363},-18.833198197824363]
[1128.5877501641769,{"$f":"IFERROR((letalitat!$P$8*1000)/((3.14159*dispersió!$I$10*((dispersió!$J$69+A61)^dispersió!$J$10)*dispersió!$K$10*((dispersió!$K$69+A61)^dispersió!$L$10)+dispersió!$C$24*dispersió!$D$69)*dispersió!$I$12),0)","v":0.47332654875522001},{"$f":"IFERROR(dispersió!$I$10*((dispersió!$J$69+'Càlculs interns'!A61)^dispersió!$J$10)*(2*LN('Càlculs interns'!B61/dispersió!$O$69))^(1/2),0)","v":44.000516974318636},-44.000516974318636,null,889.67729408964692,{"$f":"IFERROR((letalitat!$P$8*1000)/((3.14159*dispersió!$I$10*((dispersió!$J$68+F61)^dispersió!$J$10)*dispersió!$K$10*((dispersió!$K$68+F61)^dispersió!$L$10)+dispersió!$C$24*dispersió!$D$68)*dispersió!$I$12),0)","v":0.655248672164776},{"$f":"IFERROR(dispersió!$I$10*((dispersió!$J$68+'Càlculs interns'!F61)^dispersió!$J$10)*(2*LN('Càlculs interns'!G61/dispersió!$O$68))^(1/2),0)","v":35.96585160240825},-35.96585160240825,null,670.02572853667311,{"$f":"IFERROR((letalitat!$P$8*1000)/((3.14159*dispersió!$I$10*((dispersió!$J$67+K61)^dispersió!$J$10)*dispersió!$K$10*((dispersió!$K$67+K61)^dispersió!$L$10)+dispersió!$C$24*dispersió!$D$67)*dispersió!$I$12),0)","v":0.95051608777203123},{"$f":"IFERROR(dispersió!$I$10*((dispersió!$J$67+'Càlculs interns'!K61)^dispersió!$J$10)*(2*LN('Càlculs interns'!L61/dispersió!$O$67))^(1/2),0)","v":28.37355479223416},-28.37355479223416,null,395.89539610001026,{"$f":"IFERROR((letalitat!$P$8*1000)/((3.14159*dispersió!$I$10*((dispersió!$J$66+P61)^dispersió!$J$10)*dispersió!$K$10*((dispersió!$K$66+P61)^dispersió!$L$10)+dispersió!$C$24*dispersió!$D$66)*dispersió!$I$12),0)","v":1.7885275766108422},{"$f":"IFERROR(dispersió!$I$10*((dispersió!$J$66+'Càlculs interns'!P61)^dispersió!$J$10)*(2*LN('Càlculs interns'!Q61/dispersió!$O$66))^(1/2),0)","v":18.409518830161993},-18.409518830161993]
[1185.0171376723858,{"$f":"IFERROR((letalitat!$P$8*1000)/((3.14159*dispersió!$I$10*((dispersió!$J$69+A62)^dispersió!$J$10)*dispersió!$K$10*((dispersió!$K$69+A62)^dispersió!$L$10)+dispersió!$C$24*dispersió!$D$69)*dispersió!$I$12),0)","v":0.44221743398324842},{"$f":"IFERROR(dispersió!$I$10*((dispersió!$J$69+'Càlculs interns'!A62)^dispersió!$J$10)*(2*LN('Càlculs interns'!B62/dispersió!$O$69))^(1/2),0)","v":42.971674311387517},-42.971674311387517,null,934.16115879412928,{"$f":"IFERROR((letalitat!$P$8*1000)/((3.14159*dispersió!$I$10*((dispersió!$J$68+F62)^dispersió!$J$10)*dispersió!$K$10*((dispersió!$K$68+F62)^dispersió!$L$10)+dispersió!$C$24*dispersió!$D$68)*dispersió!$I$12),0)","v":0.61351222059160893},{"$f":"IFERROR(dispersió!$I$10*((dispersió!$J$68+'Càlculs interns'!F62)^dispersió!$J$10)*(2*LN('Càlculs interns'!G62/dispersió!$O$68))^(1/2),0)","v":35.096694702593595},-35.096694702593595,null,703.52701496350676,{"$f":"IFERROR((letalitat!$P$8*1000)/((3.14159*dispersió!$I$10*((dispersió!$J$67+K62)^dispersió!$J$10)*dispersió!$K$10*((dispersió!$K$67+K62)^dispersió!$L$10)+dispersió!$C$24*dispersió!$D$67)*dispersió!$I$12),0)","v":0.89280041509171604},{"$f":"IFERROR(dispersió!$I$10*((dispersió!$J$67+'Càlculs interns'!K62)^dispersió!$J$10)*(2*LN('Càlculs interns'!L62/dispersió!$O$67))^(1/2),0)","v":27.655755290918723},-27.655755290918723,null,415.69016590501076,{"$f":"IFERROR((letalitat!$P$8*1000)/((3.14159*dispersió!$I$10*((dispersió!$J$66+P62)^dispersió!$J$10)*dispersió!$K$10*((dispersió!$K$66+P62)^dispersió!$L$10)+dispersió!$C$24*dispersió!$D$66)*dispersió!$I$12),0)","v":1.6929668224263754},{"$f":"IFERROR(dispersió!$I$10*((dispersió!$J$66+'Càlculs interns'!P62)^dispersió!$J$10)*(2*LN('Càlculs interns'!Q62/dispersió!$O$66))^(1/2),0)","v":17.884984254860875},-17.884984254860875]
[1241.4465251805948,{"$f":"IFERROR((letalitat!$P$8*1000)/((3.14159*dispersió!$I$10*((dispersió!$J$69+A63)^dispersió!$J$10)*dispersió!$K$10*((dispersió!$K$69+A63)^dispersió!$L$10)+dispersió!$C$24*dispersió!$D$69)*dispersió!$I$12),0)","v":0.41430964208457466},{"$f":"IFERROR(dispersió!$I$10*((dispersió!$J$69+'Càlculs interns'!A63)^dispersió!$J$10)*(2*LN('Càlculs interns'!B63/dispersió!$O$69))^(1/2),0)","v":41.65286299603153},-41.65286299603153,null,978.64502349861164,{"$f":"IFERROR((letalitat!$P$8*1000)/((3.14159*dispersió!$I$10*((dispersió!$J$68+F63)^dispersió!$J$10)*dispersió!$K$10*((dispersió!$K$68+F63)^dispersió!$L$10)+dispersió!$C$24*dispersió!$D$68)*dispersió!$I$12),0)","v":0.57593841513449728},{"$f":"IFERROR(dispersió!$I$10*((dispersió!$J$68+'Càlculs interns'!F63)^dispersió!$J$10)*(2*LN('Càlculs interns'!G63/dispersió!$O$68))^(1/2),0)","v":33.994402005832882},-33.994402005832882,null,737.0283013903404,{"$f":"IFERROR((letalitat!$P$8*1000)/((3.14159*dispersió!$I$10*((dispersió!$J$67+K63)^dispersió!$J$10)*dispersió!$K$10*((dispersió!$K$67+K63)^dispersió!$L$10)+dispersió!$C$24*dispersió!$D$67)*dispersió!$I$12),0)","v":0.84057149883532289},{"$f":"IFERROR(dispersió!$I$10*((dispersió!$J$67+'Càlculs interns'!K63)^dispersió!$J$10)*(2*LN('Càlculs interns'!L63/dispersió!$O$67))^(1/2),0)","v":26.758301261987647},-26.758301261987647,null,435.48493571001126,{"$f":"IFERROR((letalitat!$P$8*1000)/((3.14159*dispersió!$I$10*((dispersió!$J$66+P63)^dispersió!$J$10)*dispersió!$K$10*((dispersió!$K$66+P63)^dispersió!$L$10)+dispersió!$C$24*dispersió!$D$66)*dispersió!$I$12),0)","v":1.6053885738091362},{"$f":"IFERROR(dispersió!$I$10*((dispersió!$J$66+'Càlculs interns'!P63)^dispersió!$J$10)*(2*LN('Càlculs interns'!Q63/dispersió!$O$66))^(1/2),0)","v":17.2487558617205},-17.2487558617205]
[1297.8759126888037,{"$f":"IFERROR((letalitat!$P$8*1000)/((3.14159*dispersió!$I$10*((dispersió!$J$69+A64)^dispersió!$J$10)*dispersió!$K$10*((dispersió!$K$69+A64)^dispersió!$L$10)+dispersió!$C$24*dispersió!$D$69)*dispersió!$I$12),0)","v":0.38916435721855402},{"$f":"IFERROR(dispersió!$I$10*((dispersió!$J$69+'Càlculs interns'!A64)^dispersió!$J$10)*(2*LN('Càlculs interns'!B64/dispersió!$O$69))^(1/2),0)","v":40.009928706538709},-40.009928706538709,null,1023.128888203094,{"$f":"IFERROR((letalitat!$P$8*1000)/((3.14159*dispersió!$I$10*((dispersió!$J$68+F64)^dispersió!$J$10)*dispersió!$K$10*((dispersió!$K$68+F64)^dispersió!$L$10)+dispersió!$C$24*dispersió!$D$68)*dispersió!$I$12),0)","v":0.54197413650347237},{"$f":"IFERROR(dispersió!$I$10*((dispersió!$J$68+'Càlculs interns'!F64)^dispersió!$J$10)*(2*LN('Càlculs interns'!G64/dispersió!$O$68))^(1/2),0)","v":32.631120360970819},-32.631120360970819,null,770.52958781717405,{"$f":"IFERROR((letalitat!$P$8*1000)/((3.14159*dispersió!$I$10*((dispersió!$J$67+K64)^dispersió!$J$10)*dispersió!$K$10*((dispersió!$K$67+K64)^dispersió!$L$10)+dispersió!$C$24*dispersió!$D$67)*dispersió!$I$12),0)","v":0.79313437216488869},{"$f":"IFERROR(dispersió!$I$10*((dispersió!$J$67+'Càlculs interns'!K64)^dispersió!$J$10)*(2*LN('Càlculs interns'!L64/dispersió!$O$67))^(1/2),0)","v":25.659278912002577},-25.659278912002577,null,455.27970551501176,{"$f":"IFERROR((letalitat!$P$8*1000)/((3.14159*dispersió!$I$10*((dispersió!$J$66+P64)^dispersió!$J$10)*dispersió!$K$10*((dispersió!$K$66+P64)^dispersió!$L$10)+dispersió!$C$24*dispersió!$D$66)*dispersió!$I$12),0)","v":1.5249052127960767},{"$f":"IFERROR(dispersió!$I$10*((dispersió!$J$66+'Càlculs interns'!P64)^dispersió!$J$10)*(2*LN('Càlculs interns'!Q64/dispersió!$O$66))^(1/2),0)","v":16.48628113042745},-16.48628113042745]
[1354.3053001970127,{"$f":"IFERROR((letalitat!$P$8*1000)/((3.14159*dispersió!$I$10*((dispersió!$J$69+A65)^dispersió!$J$10)*dispersió!$K$10*((dispersió!$K$69+A65)^dispersió!$L$10)+dispersió!$C$24*dispersió!$D$69)*dispersió!$I$12),0)","v":0.36641674752514403},{"$f":"IFERROR(dispersió!$I$10*((dispersió!$J$69+'Càlculs interns'!A65)^dispersió!$J$10)*(2*LN('Càlculs interns'!B65/dispersió!$O$69))^(1/2),0)","v":37.995407964166525},-37.995407964166525,null,1067.6127529075764,{"$f":"IFERROR((letalitat!$P$8*1000)/((3.14159*dispersió!$I$10*((dispersió!$J$68+F65)^dispersió!$J$10)*dispersió!$K$10*((dispersió!$K$68+F65)^dispersió!$L$10)+dispersió!$C$24*dispersió!$D$68)*dispersió!$I$12),0)","v":0.51115668942089765},{"$f":"IFERROR(dispersió!$I$10*((dispersió!$J$68+'Càlculs interns'!F65)^dispersió!$J$10)*(2*LN('Càlculs interns'!G65/dispersió!$O$68))^(1/2),0)","v":30.968194789336355},-30.968194789336355,null,804.03087424400769,{"$f":"IFERROR((letalitat!$P$8*1000)/((3.14159*dispersió!$I$10*((dispersió!$J$67+K65)^dispersió!$J$10)*dispersió!$K$10*((dispersió!$K$67+K65)^dispersió!$L$10)+dispersió!$C$24*dispersió!$D$67)*dispersió!$I$12),0)","v":0.7499023872406958},{"$f":"IFERROR(dispersió!$I$10*((dispersió!$J$67+'Càlculs interns'!K65)^dispersió!$J$10)*(2*LN('Càlculs interns'!L65/dispersió!$O$67))^(1/2),0)","v":24.328327712328807},-24.328327712328807,null,475.07447532001225,{"$f":"IFERROR((letalitat!$P$8*1000)/((3.14159*dispersió!$I$10*((dispersió!$J$66+P65)^dispersió!$J$10)*dispersió!$K$10*((dispersió!$K$66+P65)^dispersió!$L$10)+dispersió!$C$24*dispersió!$D$66)*dispersió!$I$12),0)","v":1.4507504855295075},{"$f":"IFERROR(dispersió!$I$10*((dispersió!$J$66+'Càlculs interns'!P65)^dispersió!$J$10)*(2*LN('Càlculs interns'!Q65/dispersió!$O$66))^(1/2),0)","v":15.577398667465017},-15.577398667465017]
[1410.7346877052216,{"$f":"IFERROR((letalitat!$P$8*1000)/((3.14159*dispersió!$I$10*((dispersió!$J$69+A66)^dispersió!$J$10)*dispersió!$K$10*((dispersió!$K$69+A66)^dispersió!$L$10)+dispersió!$C$24*dispersió!$D$69)*dispersió!$I$12),0)","v":0.34576133168955847},{"$f":"IFERROR(dispersió!$I$10*((dispersió!$J$69+'Càlculs interns'!A66)^dispersió!$J$10)*(2*LN('Càlculs interns'!B66/dispersió!$O$69))^(1/2),0)","v":35.540684858926426},-35.540684858926426,null,1112.0966176120587,{"$f":"IFERROR((letalitat!$P$8*1000)/((3.14159*dispersió!$I$10*((dispersió!$J$68+F66)^dispersió!$J$10)*dispersió!$K$10*((dispersió!$K$68+F66)^dispersió!$L$10)+dispersió!$C$24*dispersió!$D$68)*dispersió!$I$12),0)","v":0.48309645540507773},{"$f":"IFERROR(dispersió!$I$10*((dispersió!$J$68+'Càlculs interns'!F66)^dispersió!$J$10)*(2*LN('Càlculs interns'!G66/dispersió!$O$68))^(1/2),0)","v":28.949786107371335},-28.949786107371335,null,837.53216067084134,{"$f":"IFERROR((letalitat!$P$8*1000)/((3.14159*dispersió!$I$10*((dispersió!$J$67+K66)^dispersió!$J$10)*dispersió!$K$10*((dispersió!$K$67+K66)^dispersió!$L$10)+dispersió!$C$24*dispersió!$D$67)*dispersió!$I$12),0)","v":0.7103773988105242},{"$f":"IFERROR(dispersió!$I$10*((dispersió!$J$67+'Càlculs interns'!K66)^dispersió!$J$10)*(2*LN('Càlculs interns'!L66/dispersió!$O$67))^(1/2),0)","v":22.7216288224515},-22.7216288224515,null,494.86924512501275,{"$f":"IFERROR((letalitat!$P$8*1000)/((3.14159*dispersió!$I$10*((dispersió!$J$66+P66)^dispersió!$J$10)*dispersió!$K$10*((dispersió!$K$66+P66)^dispersió!$L$10)+dispersió!$C$24*dispersió!$D$66)*dispersió!$I$12),0)","v":1.3822600383551713},{"$f":"IFERROR(dispersió!$I$10*((dispersió!$J$66+'Càlculs interns'!P66)^dispersió!$J$10)*(2*LN('Càlculs interns'!Q66/dispersió!$O$66))^(1/2),0)","v":14.49292021554117},-14.49292021554117]
[1467.1640752134306,{"$f":"IFERROR((letalitat!$P$8*1000)/((3.14159*dispersió!$I$10*((dispersió!$J$69+A67)^dispersió!$J$10)*dispersió!$K$10*((dispersió!$K$69+A67)^dispersió!$L$10)+dispersió!$C$24*dispersió!$D$69)*dispersió!$I$12),0)","v":0.32694063671608303},{"$f":"IFERROR(dispersió!$I$10*((dispersió!$J$69+'Càlculs interns'!A67)^dispersió!$J$10)*(2*LN('Càlculs interns'!B67/dispersió!$O$69))^(1/2),0)","v":32.54063330691212},-32.54063330691212,null,1156.5804823165411,{"$f":"IFERROR((letalitat!$P$8*1000)/((3.14159*dispersió!$I$10*((dispersió!$J$68+F67)^dispersió!$J$10)*dispersió!$K$10*((dispersió!$K$68+F67)^dispersió!$L$10)+dispersió!$C$24*dispersió!$D$68)*dispersió!$I$12),0)","v":0.45746333094593061},{"$f":"IFERROR(dispersió!$I$10*((dispersió!$J$68+'Càlculs interns'!F67)^dispersió!$J$10)*(2*LN('Càlculs interns'!G67/dispersió!$O$68))^(1/2),0)","v":26.490370685515078},-26.490370685515078,null,871.03344709767498,{"$f":"IFERROR((letalitat!$P$8*1000)/((3.14159*dispersió!$I$10*((dispersió!$J$67+K67)^dispersió!$J$10)*dispersió!$K$10*((dispersió!$K$67+K67)^dispersió!$L$10)+dispersió!$C$24*dispersió!$D$67)*dispersió!$I$12),0)","v":0.67413407245405554},{"$f":"IFERROR(dispersió!$I$10*((dispersió!$J$67+'Càlculs interns'!K67)^dispersió!$J$10)*(2*LN('Càlculs interns'!L67/dispersió!$O$67))^(1/2),0)","v":20.772082978653362},-20.772082978653362,null,514.66401493001331,{"$f":"IFERROR((letalitat!$P$8*1000)/((3.14159*dispersió!$I$10*((dispersió!$J$66+P67)^dispersió!$J$10)*dispersió!$K$10*((dispersió!$K$66+P67)^dispersió!$L$10)+dispersió!$C$24*dispersió!$D$66)*dispersió!$I$12),0)","v":1.3188555026117843},{"$f":"IFERROR(dispersió!$I$10*((dispersió!$J$66+'Càlculs interns'!P67)^dispersió!$J$10)*(2*LN('Càlculs interns'!Q67/dispersió!$O$66))^(1/2),0)","v":13.187851201950147},-13.187851201950147]
[1523.5934627216395,{"$f":"IFERROR((letalitat!$P$8*1000)/((3.14159*dispersió!$I$10*((dispersió!$J$69+A68)^dispersió!$J$10)*dispersió!$K$10*((dispersió!$K$69+A68)^dispersió!$L$10)+dispersió!$C$24*dispersió!$D$69)*dispersió!$I$12),0)","v":0.30973632353707375},{"$f":"IFERROR(dispersió!$I$10*((dispersió!$J$69+'Càlculs interns'!A68)^dispersió!$J$10)*(2*LN('Càlculs interns'!B68/dispersió!$O$69))^(1/2),0)","v":28.819415807597373},-28.819415807597373,null,1201.0643470210234,{"$f":"IFERROR((letalitat!$P$8*1000)/((3.14159*dispersió!$I$10*((dispersió!$J$68+F68)^dispersió!$J$10)*dispersió!$K$10*((dispersió!$K$68+F68)^dispersió!$L$10)+dispersió!$C$24*dispersió!$D$68)*dispersió!$I$12),0)","v":0.43397603197770401},{"$f":"IFERROR(dispersió!$I$10*((dispersió!$J$68+'Càlculs interns'!F68)^dispersió!$J$10)*(2*LN('Càlculs interns'!G68/dispersió!$O$68))^(1/2),0)","v":23.446889037752459},-23.446889037752459,null,904.53473352450862,{"$f":"IFERROR((letalitat!$P$8*1000)/((3.14159*dispersió!$I$10*((dispersió!$J$67+K68)^dispersió!$J$10)*dispersió!$K$10*((dispersió!$K$67+K68)^dispersió!$L$10)+dispersió!$C$24*dispersió!$D$67)*dispersió!$I$12),0)","v":0.64080736199337684},{"$f":"IFERROR(dispersió!$I$10*((dispersió!$J$67+'Càlculs interns'!K68)^dispersió!$J$10)*(2*LN('Càlculs interns'!L68/dispersió!$O$67))^(1/2),0)","v":18.367400701921127},-18.367400701921127,null,534.45878473501386,{"$f":"IFERROR((letalitat!$P$8*1000)/((3.14159*dispersió!$I$10*((dispersió!$J$66+P68)^dispersió!$J$10)*dispersió!$K$10*((dispersió!$K$66+P68)^dispersió!$L$10)+dispersió!$C$24*dispersió!$D$66)*dispersió!$I$12),0)","v":1.2600314087282085},{"$f":"IFERROR(dispersió!$I$10*((dispersió!$J$66+'Càlculs interns'!P68)^dispersió!$J$10)*(2*LN('Càlculs interns'!Q68/dispersió!$O$66))^(1/2),0)","v":11.585996032572803},-11.585996032572803]
[1580.0228502298485,{"$f":"IFERROR((letalitat!$P$8*1000)/((3.14159*dispersió!$I$10*((dispersió!$J$69+A69)^dispersió!$J$10)*dispersió!$K$10*((dispersió!$K$69+A69)^dispersió!$L$10)+dispersió!$C$24*dispersió!$D$69)*dispersió!$I$12),0)","v":0.29396218249895345},{"$f":"IFERROR(dispersió!$I$10*((dispersió!$J$69+'Càlculs interns'!A69)^dispersió!$J$10)*(2*LN('Càlculs interns'!B69/dispersió!$O$69))^(1/2),0)","v":24.037593963603175},-24.037593963603175,null,1245.5482117255058,{"$f":"IFERROR((letalitat!$P$8*1000)/((3.14159*dispersió!$I$10*((dispersió!$J$68+F69)^dispersió!$J$10)*dispersió!$K$10*((dispersió!$K$68+F69)^dispersió!$L$10)+dispersió!$C$24*dispersió!$D$68)*dispersió!$I$12),0)","v":0.41239358983478724},{"$f":"IFERROR(dispersió!$I$10*((dispersió!$J$68+'Càlculs interns'!F69)^dispersió!$J$10)*(2*LN('Càlculs interns'!G69/dispersió!$O$68))^(1/2),0)","v":19.543039377778396},-19.543039377778396,null,938.03601995134227,{"$f":"IFERROR((letalitat!$P$8*1000)/((3.14159*dispersió!$I$10*((dispersió!$J$67+K69)^dispersió!$J$10)*dispersió!$K$10*((dispersió!$K$67+K69)^dispersió!$L$10)+dispersió!$C$24*dispersió!$D$67)*dispersió!$I$12),0)","v":0.61008244293132108},{"$f":"IFERROR(dispersió!$I$10*((dispersió!$J$67+'Càlculs interns'!K69)^dispersió!$J$10)*(2*LN('Càlculs interns'!L69/dispersió!$O$67))^(1/2),0)","v":15.290432140609816},-15.290432140609816,null,554.25355454001442,{"$f":"IFERROR((letalitat!$P$8*1000)/((3.14159*dispersió!$I$10*((dispersió!$J$66+P69)^dispersió!$J$10)*dispersió!$K$10*((dispersió!$K$66+P69)^dispersió!$L$10)+dispersió!$C$24*dispersió!$D$66)*dispersió!$I$12),0)","v":1.2053443697224202},{"$f":"IFERROR(dispersió!$I$10*((dispersió!$J$66+'Càlculs interns'!P69)^dispersió!$J$10)*(2*LN('Càlculs interns'!Q69/dispersió!$O$66))^(1/2),0)","v":9.5367843363108431},-9.5367843363108431]
[1636.4522377380574,{"$f":"IFERROR((letalitat!$P$8*1000)/((3.14159*dispersió!$I$10*((dispersió!$J$69+A70)^dispersió!$J$10)*dispersió!$K$10*((dispersió!$K$69+A70)^dispersió!$L$10)+dispersió!$C$24*dispersió!$D$69)*dispersió!$I$12),0)","v":0.27945855949026521},{"$f":"IFERROR(dispersió!$I$10*((dispersió!$J$69+'Càlculs interns'!A70)^dispersió!$J$10)*(2*LN('Càlculs interns'!B70/dispersió!$O$69))^(1/2),0)","v":17.329705479115063},-17.329705479115063,null,1290.0320764299881,{"$f":"IFERROR((letalitat!$P$8*1000)/((3.14159*dispersió!$I$10*((dispersió!$J$68+F70)^dispersió!$J$10)*dispersió!$K$10*((dispersió!$K$68+F70)^dispersió!$L$10)+dispersió!$C$24*dispersió!$D$68)*dispersió!$I$12),0)","v":0.39250853797096058},{"$f":"IFERROR(dispersió!$I$10*((dispersió!$J$68+'Càlculs interns'!F70)^dispersió!$J$10)*(2*LN('Càlculs interns'!G70/dispersió!$O$68))^(1/2),0)","v":14.073411644124063},-14.073411644124063,null,971.53730637817591,{"$f":"IFERROR((letalitat!$P$8*1000)/((3.14159*dispersió!$I$10*((dispersió!$J$67+K70)^dispersió!$J$10)*dispersió!$K$10*((dispersió!$K$67+K70)^dispersió!$L$10)+dispersió!$C$24*dispersió!$D$67)*dispersió!$I$12),0)","v":0.58168656466563784},{"$f":"IFERROR(dispersió!$I$10*((dispersió!$J$67+'Càlculs interns'!K70)^dispersió!$J$10)*(2*LN('Càlculs interns'!L70/dispersió!$O$67))^(1/2),0)","v":10.98507079774545},-10.98507079774545,null,574.04832434501498,{"$f":"IFERROR((letalitat!$P$8*1000)/((3.14159*dispersió!$I$10*((dispersió!$J$66+P70)^dispersió!$J$10)*dispersió!$K$10*((dispersió!$K$66+P70)^dispersió!$L$10)+dispersió!$C$24*dispersió!$D$66)*dispersió!$I$12),0)","v":1.1544040955073442},{"$f":"IFERROR(dispersió!$I$10*((dispersió!$J$66+'Càlculs interns'!P70)^dispersió!$J$10)*(2*LN('Càlculs interns'!Q70/dispersió!$O$66))^(1/2),0)","v":6.6350552543610632},-6.6350552543610632]
[{"$f":"dispersió!L69","v":1692.8816252462652},{"$f":"IFERROR((letalitat!$P$8*1000)/((3.14159*dispersió!$I$10*((dispersió!$J$69+A71)^dispersió!$J$10)*dispersió!$K$10*((dispersió!$K$69+A71)^dispersió!$L$10)+dispersió!$C$24*dispersió!$D$69)*dispersió!$I$12),0)","v":0.26608788662219313},{"$f":"IFERROR(dispersió!$I$10*((dispersió!$J$69+'Càlculs interns'!A71)^dispersió!$J$10)*(2*LN('Càlculs interns'!B71/dispersió!$O$69))^(1/2),0)","v":0},0,null,{"$f":"dispersió!L68","v":1334.5159411344698},{"$f":"IFERROR((letalitat!$P$8*1000)/((3.14159*dispersió!$I$10*((dispersió!$J$68+F71)^dispersió!$J$10)*dispersió!$K$10*((dispersió!$K$68+F71)^dispersió!$L$10)+dispersió!$C$24*dispersió!$D$68)*dispersió!$I$12),0)","v":0.3741414142152491},{"$f":"IFERROR(dispersió!$I$10*((dispersió!$J$68+'Càlculs interns'!F71)^dispersió!$J$10)*(2*LN('Càlculs interns'!G71/dispersió!$O$68))^(1/2),0)","v":0},0,null,{"$f":"dispersió!L67","v":1005.0385928050102},{"$f":"IFERROR((letalitat!$P$8*1000)/((3.14159*dispersió!$I$10*((dispersió!$J$67+K71)^dispersió!$J$10)*dispersió!$K$10*((dispersió!$K$67+K71)^dispersió!$L$10)+dispersió!$C$24*dispersió!$D$67)*dispersió!$I$12),0)","v":0.55538241316293713},{"$f":"IFERROR(dispersió!$I$10*((dispersió!$J$67+'Càlculs interns'!K71)^dispersió!$J$10)*(2*LN('Càlculs interns'!L71/dispersió!$O$67))^(1/2),0)","v":0},0,null,{"$f":"dispersió!L66","v":593.84309415001553},{"$f":"IFERROR((letalitat!$P$8*1000)/((3.14159*dispersió!$I$10*((dispersió!$J$66+P71)^dispersió!$J$10)*dispersió!$K$10*((dispersió!$K$66+P71)^dispersió!$L$10)+dispersió!$C$24*dispersió!$D$66)*dispersió!$I$12),0)","v":1.1068658923120305},{"$f":"IFERROR(dispersió!$I$10*((dispersió!$J$66+'Càlculs interns'!P71)^dispersió!$J$10)*(2*LN('Càlculs interns'!Q71/dispersió!$O$66))^(1/2),0)","v":0},0]
[]
[]
["Area 20m2"]
["Est. D"]
["LC1",null,"LC1+","LC1-",null,"LC10",null,"LC10+","LC10-",null,"LC50",null,"LC50+","LC50-",null,"LC99",null,"LC99+","LC99-"]
["X","C(x)","y+","y-",null,"X","C(x)","y+","y-",null,"X","C(x)","y+","y-",null,"X","C(x)","y+","y-"]
[0,{"$f":"IFERROR((letalitat!$P$9*1000)/((3.14159*dispersió!$C$10*((dispersió!$E$38+A78)^dispersió!$D$10)*dispersió!$E$10*((dispersió!$F$38+A78)^dispersió!$F$10)+dispersió!$C$24*dispersió!$D$38)*dispersió!$C$12),0)","v":1.1506711637892169},{"$f":"IFERROR(dispersió!$C$10*((dispersió!$E$38+'Càlculs interns'!A78)^dispersió!$D$10)*(2*LN('Càlculs interns'!B78/dispersió!$O$38))^(1/2),0)","v":1.7796942394160067},{"$f":"-C78","v":-1.7796942394160067},null,0,{"$f":"IFERROR((letalitat!$P$9*1000)/((3.14159*dispersió!$C$10*((dispersió!$E$38+F78)^dispersió!$D$10)*dispersió!$E$10*((dispersió!$F$38+F78)^dispersió!$F$10)+dispersió!$C$24*dispersió!$D$38)*dispersió!$C$12),0)","v":1.1506711637892169},{"$f":"IFERROR(dispersió!$C$10*((dispersió!$E$38+'Càlculs interns'!F78)^dispersió!$D$10)*(2*LN('Càlculs interns'!G78/dispersió!$O$45))^(1/2),0)","v":1.559997808930957},{"$f":"-H78","v":-1.559997808930957},null,0,{"$f":"IFERROR((letalitat!$P$9*1000)/((3.14159*dispersió!$C$10*((dispersió!$E$38+K78)^dispersió!$D$10)*dispersió!$E$10*((dispersió!$F$38+K78)^dispersió!$F$10)+dispersió!$C$24*dispersió!$D$38)*dispersió!$C$12),0)","v":1.1506711637892169},{"$f":"IFERROR(dispersió!$C$10*((dispersió!$E$38+'Càlculs interns'!K78)^dispersió!$D$10)*(2*LN('Càlculs interns'!L78/dispersió!$O$52))^(1/2),0)","v":1.2547806720472188},{"$f":"-M78","v":-1.2547806720472188},null,0,{"$f":"IFERROR((letalitat!$P$9*1000)/((3.14159*dispersió!$C$10*((dispersió!$E$38+P78)^dispersió!$D$10)*dispersió!$E$10*((dispersió!$F$38+P78)^dispersió!$F$10)+dispersió!$C$24*dispersió!$D$38)*dispersió!$C$12),0)","v":1.1506711637892169},{"$f":"IFERROR(dispersió!$C$10*((dispersió!$E$38+'Càlculs interns'!P78)^dispersió!$D$10)*(2*LN('Càlculs interns'!Q78/dispersió!$O$59))^(1/2),0)","v":0.27685311814990282},{"$f":"-R78","v":-0.27685311814990282}]
[{"$f":"A108/30","v":1.090189240717564},{"$f":"IFERROR((letalitat!$P$9*1000)/((3.14159*dispersió!$C$10*((dispersió!$E$38+A79)^dispersió!$D$10)*dispersió!$E$10*((dispersió!$F$38+A79)^dispersió!$F$10)+dispersió!$C$24*dispersió!$D$38)*dispersió!$C$12),0)","v":1.06660883968585},{"$f":"IFERROR(dispersió!$C$10*((dispersió!$E$38+'Càlculs interns'!A79)^dispersió!$D$10)*(2*LN('Càlculs interns'!B79/dispersió!$O$38))^(1/2),0)","v":1.9010300779524913},-1.9010300779524913,null,{"$f":"F108/30","v":0.74879013747190848},{"$f":"IFERROR((letalitat!$P$9*1000)/((3.14159*dispersió!$C$10*((dispersió!$E$38+F79)^dispersió!$D$10)*dispersió!$E$10*((dispersió!$F$38+F79)^dispersió!$F$10)+dispersió!$C$24*dispersió!$D$38)*dispersió!$C$12),0)","v":1.0918493805292095},{"$f":"IFERROR(dispersió!$C$10*((dispersió!$E$38+'Càlculs interns'!F79)^dispersió!$D$10)*(2*LN('Càlculs interns'!G79/dispersió!$O$45))^(1/2),0)","v":1.6247879701020733},{"$f":"-H79","v":-1.6247879701020733},null,{"$f":"K108/30","v":0.42641609800799718},{"$f":"IFERROR((letalitat!$P$9*1000)/((3.14159*dispersió!$C$10*((dispersió!$E$38+K79)^dispersió!$D$10)*dispersió!$E$10*((dispersió!$F$38+K79)^dispersió!$F$10)+dispersió!$C$24*dispersió!$D$38)*dispersió!$C$12),0)","v":1.1165706417542052},{"$f":"IFERROR(dispersió!$C$10*((dispersió!$E$38+'Càlculs interns'!K79)^dispersió!$D$10)*(2*LN('Càlculs interns'!L79/dispersió!$O$52))^(1/2),0)","v":1.275313438502488},{"$f":"-M79","v":-1.275313438502488},null,{"$f":"P108/30","v":1.6767162450818433E-2},{"$f":"IFERROR((letalitat!$P$9*1000)/((3.14159*dispersió!$C$10*((dispersió!$E$38+P79)^dispersió!$D$10)*dispersió!$E$10*((dispersió!$F$38+P79)^dispersió!$F$10)+dispersió!$C$24*dispersió!$D$38)*dispersió!$C$12),0)","v":1.149298987111175},{"$f":"IFERROR(dispersió!$C$10*((dispersió!$E$38+'Càlculs interns'!P79)^dispersió!$D$10)*(2*LN('Càlculs interns'!Q79/dispersió!$O$59))^(1/2),0)","v":0.27255919498278874},{"$f":"-R79","v":-0.27255919498278874}]
[{"$f":"A$79+A79","v":2.1803784814351279},{"$f":"IFERROR((letalitat!$P$9*1000)/((3.14159*dispersió!$C$10*((dispersió!$E$38+A80)^dispersió!$D$10)*dispersió!$E$10*((dispersió!$F$38+A80)^dispersió!$F$10)+dispersió!$C$24*dispersió!$D$38)*dispersió!$C$12),0)","v":0.99193766638562353},{"$f":"IFERROR(dispersió!$C$10*((dispersió!$E$38+'Càlculs interns'!A80)^dispersió!$D$10)*(2*LN('Càlculs interns'!B80/dispersió!$O$38))^(1/2),0)","v":2.0127656436331232},-2.0127656436331232,null,{"$f":"F$79+F79","v":1.497580274943817},{"$f":"IFERROR((letalitat!$P$9*1000)/((3.14159*dispersió!$C$10*((dispersió!$E$38+F80)^dispersió!$D$10)*dispersió!$E$10*((dispersió!$F$38+F80)^dispersió!$F$10)+dispersió!$C$24*dispersió!$D$38)*dispersió!$C$12),0)","v":1.0376873926601129},{"$f":"IFERROR(dispersió!$C$10*((dispersió!$E$38+'Càlculs interns'!F80)^dispersió!$D$10)*(2*LN('Càlculs interns'!G80/dispersió!$O$45))^(1/2),0)","v":1.6843000145225044},-1.6843000145225044,null,{"$f":"K$79+K79","v":0.85283219601599436},{"$f":"IFERROR((letalitat!$P$9*1000)/((3.14159*dispersió!$C$10*((dispersió!$E$38+K80)^dispersió!$D$10)*dispersió!$E$10*((dispersió!$F$38+K80)^dispersió!$F$10)+dispersió!$C$24*dispersió!$D$38)*dispersió!$C$12),0)","v":1.084057099796591},{"$f":"IFERROR(dispersió!$C$10*((dispersió!$E$38+'Càlculs interns'!K80)^dispersió!$D$10)*(2*LN('Càlculs interns'!L80/dispersió!$O$52))^(1/2),0)","v":1.2935770898926098},-1.2935770898926098,null,{"$f":"P$79+P79","v":3.3534324901636867E-2},{"$f":"IFERROR((letalitat!$P$9*1000)/((3.14159*dispersió!$C$10*((dispersió!$E$38+P80)^dispersió!$D$10)*dispersió!$E$10*((dispersió!$F$38+P80)^dispersió!$F$10)+dispersió!$C$24*dispersió!$D$38)*dispersió!$C$12),0)","v":1.1479294265745772},{"$f":"IFERROR(dispersió!$C$10*((dispersió!$E$38+'Càlculs interns'!P80)^dispersió!$D$10)*(2*LN('Càlculs interns'!Q80/dispersió!$O$59))^(1/2),0)","v":0.26817165940680182},{"$f":"-R80","v":-0.26817165940680182}]
[{"$f":"A$79+A80","v":3.2705677221526921},{"$f":"IFERROR((letalitat!$P$9*1000)/((3.14159*dispersió!$C$10*((dispersió!$E$38+A81)^dispersió!$D$10)*dispersió!$E$10*((dispersió!$F$38+A81)^dispersió!$F$10)+dispersió!$C$24*dispersió!$D$38)*dispersió!$C$12),0)","v":0.92526077993367051},{"$f":"IFERROR(dispersió!$C$10*((dispersió!$E$38+'Càlculs interns'!A81)^dispersió!$D$10)*(2*LN('Càlculs interns'!B81/dispersió!$O$38))^(1/2),0)","v":2.1152435056936585},-2.1152435056936585,null,{"$f":"F$79+F80","v":2.2463704124157253},{"$f":"IFERROR((letalitat!$P$9*1000)/((3.14159*dispersió!$C$10*((dispersió!$E$38+F81)^dispersió!$D$10)*dispersió!$E$10*((dispersió!$F$38+F81)^dispersió!$F$10)+dispersió!$C$24*dispersió!$D$38)*dispersió!$C$12),0)","v":0.98768680067056502},{"$f":"IFERROR(dispersió!$C$10*((dispersió!$E$38+'Càlculs interns'!F81)^dispersió!$D$10)*(2*LN('Càlculs interns'!G81/dispersió!$O$45))^(1/2),0)","v":1.7386086341819098},-1.7386086341819098,null,{"$f":"K$79+K80","v":1.2792482940239915},{"$f":"IFERROR((letalitat!$P$9*1000)/((3.14159*dispersió!$C$10*((dispersió!$E$38+K81)^dispersió!$D$10)*dispersió!$E$10*((dispersió!$F$38+K81)^dispersió!$F$10)+dispersió!$C$24*dispersió!$D$38)*dispersió!$C$12),0)","v":1.0530293651251084},{"$f":"IFERROR(dispersió!$C$10*((dispersió!$E$38+'Càlculs interns'!K81)^dispersió!$D$10)*(2*LN('Càlculs interns'!L81/dispersió!$O$52))^(1/2),0)","v":1.3095526382224032},-1.3095526382224032,null,{"$f":"P$79+P80","v":5.03014873524553E-2},{"$f":"IFERROR((letalitat!$P$9*1000)/((3.14159*dispersió!$C$10*((dispersió!$E$38+P81)^dispersió!$D$10)*dispersió!$E$10*((dispersió!$F$38+P81)^dispersió!$F$10)+dispersió!$C$24*dispersió!$D$38)*dispersió!$C$12),0)","v":1.1465624752041612},{"$f":"IFERROR(dispersió!$C$10*((dispersió!$E$38+'Càlculs interns'!P81)^dispersió!$D$10)*(2*LN('Càlculs interns'!Q81/dispersió!$O$59))^(1/2),0)","v":0.26368580544528458},-0.26368580544528458]
[4.3607569628702558,{"$f":"IFERROR((letalitat!$P$9*1000)/((3.14159*dispersió!$C$10*((dispersió!$E$38+A82)^dispersió!$D$10)*dispersió!$E$10*((dispersió!$F$38+A82)^dispersió!$F$10)+dispersió!$C$24*dispersió!$D$38)*dispersió!$C$12),0)","v":0.86544019819771467},{"$f":"IFERROR(dispersió!$C$10*((dispersió!$E$38+'Càlculs interns'!A82)^dispersió!$D$10)*(2*LN('Càlculs interns'!B82/dispersió!$O$38))^(1/2),0)","v":2.2087340334081218},-2.2087340334081218,null,2.9951605498876339,{"$f":"IFERROR((letalitat!$P$9*1000)/((3.14159*dispersió!$C$10*((dispersió!$E$38+F82)^dispersió!$D$10)*dispersió!$E$10*((dispersió!$F$38+F82)^dispersió!$F$10)+dispersió!$C$24*dispersió!$D$38)*dispersió!$C$12),0)","v":0.94141665685924836},{"$f":"IFERROR(dispersió!$C$10*((dispersió!$E$38+'Càlculs interns'!F82)^dispersió!$D$10)*(2*LN('Càlculs interns'!G82/dispersió!$O$45))^(1/2),0)","v":1.7877658116437161},-1.7877658116437161,null,1.7056643920319887,{"$f":"IFERROR((letalitat!$P$9*1000)/((3.14159*dispersió!$C$10*((dispersió!$E$38+K82)^dispersió!$D$10)*dispersió!$E$10*((dispersió!$F$38+K82)^dispersió!$F$10)+dispersió!$C$24*dispersió!$D$38)*dispersió!$C$12),0)","v":1.0233945646641818},{"$f":"IFERROR(dispersió!$C$10*((dispersió!$E$38+'Càlculs interns'!K82)^dispersió!$D$10)*(2*LN('Càlculs interns'!L82/dispersió!$O$52))^(1/2),0)","v":1.3232149971510445},{"$f":"-M82","v":-1.3232149971510445},null,6.7068649803273733E-2,{"$f":"IFERROR((letalitat!$P$9*1000)/((3.14159*dispersió!$C$10*((dispersió!$E$38+P82)^dispersió!$D$10)*dispersió!$E$10*((dispersió!$F$38+P82)^dispersió!$F$10)+dispersió!$C$24*dispersió!$D$38)*dispersió!$C$12),0)","v":1.145198126049215},{"$f":"IFERROR(dispersió!$C$10*((dispersió!$E$38+'Càlculs interns'!P82)^dispersió!$D$10)*(2*LN('Càlculs interns'!Q82/dispersió!$O$59))^(1/2),0)","v":0.25909649283557618},-0.25909649283557618]
[5.4509462035878196,{"$f":"IFERROR((letalitat!$P$9*1000)/((3.14159*dispersió!$C$10*((dispersió!$E$38+A83)^dispersió!$D$10)*dispersió!$E$10*((dispersió!$F$38+A83)^dispersió!$F$10)+dispersió!$C$24*dispersió!$D$38)*dispersió!$C$12),0)","v":0.81153926807775301},{"$f":"IFERROR(dispersió!$C$10*((dispersió!$E$38+'Càlculs interns'!A83)^dispersió!$D$10)*(2*LN('Càlculs interns'!B83/dispersió!$O$38))^(1/2),0)","v":2.2934464162178703},-2.2934464162178703,null,3.7439506873595425,{"$f":"IFERROR((letalitat!$P$9*1000)/((3.14159*dispersió!$C$10*((dispersió!$E$38+F83)^dispersió!$D$10)*dispersió!$E$10*((dispersió!$F$38+F83)^dispersió!$F$10)+dispersió!$C$24*dispersió!$D$38)*dispersió!$C$12),0)","v":0.89850232475483238},{"$f":"IFERROR(dispersió!$C$10*((dispersió!$E$38+'Càlculs interns'!F83)^dispersió!$D$10)*(2*LN('Càlculs interns'!G83/dispersió!$O$45))^(1/2),0)","v":1.8318022169007213},{"$f":"-H83","v":-1.8318022169007213},null,2.1320804900399857,{"$f":"IFERROR((letalitat!$P$9*1000)/((3.14159*dispersió!$C$10*((dispersió!$E$38+K83)^dispersió!$D$10)*dispersió!$E$10*((dispersió!$F$38+K83)^dispersió!$F$10)+dispersió!$C$24*dispersió!$D$38)*dispersió!$C$12),0)","v":0.9950672775629108},{"$f":"IFERROR(dispersió!$C$10*((dispersió!$E$38+'Càlculs interns'!K83)^dispersió!$D$10)*(2*LN('Càlculs interns'!L83/dispersió!$O$52))^(1/2),0)","v":1.3345325987455312},-1.3345325987455312,null,8.3835812254092174E-2,{"$f":"IFERROR((letalitat!$P$9*1000)/((3.14159*dispersió!$C$10*((dispersió!$E$38+P83)^dispersió!$D$10)*dispersió!$E$10*((dispersió!$F$38+P83)^dispersió!$F$10)+dispersió!$C$24*dispersió!$D$38)*dispersió!$C$12),0)","v":1.1438363721834652},{"$f":"IFERROR(dispersió!$C$10*((dispersió!$E$38+'Càlculs interns'!P83)^dispersió!$D$10)*(2*LN('Càlculs interns'!Q83/dispersió!$O$59))^(1/2),0)","v":0.25439808831058075},-0.25439808831058075]
[6.5411354443053833,{"$f":"IFERROR((letalitat!$P$9*1000)/((3.14159*dispersió!$C$10*((dispersió!$E$38+A84)^dispersió!$D$10)*dispersió!$E$10*((dispersió!$F$38+A84)^dispersió!$F$10)+dispersió!$C$24*dispersió!$D$38)*dispersió!$C$12),0)","v":0.76278007989206342},{"$f":"IFERROR(dispersió!$C$10*((dispersió!$E$38+'Càlculs interns'!A84)^dispersió!$D$10)*(2*LN('Càlculs interns'!B84/dispersió!$O$38))^(1/2),0)","v":2.3695362551612869},-2.3695362551612869,null,4.4927408248314507,{"$f":"IFERROR((letalitat!$P$9*1000)/((3.14159*dispersió!$C$10*((dispersió!$E$38+F84)^dispersió!$D$10)*dispersió!$E$10*((dispersió!$F$38+F84)^dispersió!$F$10)+dispersió!$C$24*dispersió!$D$38)*dispersió!$C$12),0)","v":0.85861653160911822},{"$f":"IFERROR(dispersió!$C$10*((dispersió!$E$38+'Càlculs interns'!F84)^dispersió!$D$10)*(2*LN('Càlculs interns'!G84/dispersió!$O$45))^(1/2),0)","v":1.8707279800207774},-1.8707279800207774,null,2.5584965880479826,{"$f":"IFERROR((letalitat!$P$9*1000)/((3.14159*dispersió!$C$10*((dispersió!$E$38+K84)^dispersió!$D$10)*dispersió!$E$10*((dispersió!$F$38+K84)^dispersió!$F$10)+dispersió!$C$24*dispersió!$D$38)*dispersió!$C$12),0)","v":0.96796879317197504},{"$f":"IFERROR(dispersió!$C$10*((dispersió!$E$38+'Càlculs interns'!K84)^dispersió!$D$10)*(2*LN('Càlculs interns'!L84/dispersió!$O$52))^(1/2),0)","v":1.3434668906879572},-1.3434668906879572,null,0.10060297470491061,{"$f":"IFERROR((letalitat!$P$9*1000)/((3.14159*dispersió!$C$10*((dispersió!$E$38+P84)^dispersió!$D$10)*dispersió!$E$10*((dispersió!$F$38+P84)^dispersió!$F$10)+dispersió!$C$24*dispersió!$D$38)*dispersió!$C$12),0)","v":1.1424772067049651},{"$f":"IFERROR(dispersió!$C$10*((dispersió!$E$38+'Càlculs interns'!P84)^dispersió!$D$10)*(2*LN('Càlculs interns'!Q84/dispersió!$O$59))^(1/2),0)","v":0.24958439622961393},-0.24958439622961393]
[7.631324685022947,{"$f":"IFERROR((letalitat!$P$9*1000)/((3.14159*dispersió!$C$10*((dispersió!$E$38+A85)^dispersió!$D$10)*dispersió!$E$10*((dispersió!$F$38+A85)^dispersió!$F$10)+dispersió!$C$24*dispersió!$D$38)*dispersió!$C$12),0)","v":0.71851138291705097},{"$f":"IFERROR(dispersió!$C$10*((dispersió!$E$38+'Càlculs interns'!A85)^dispersió!$D$10)*(2*LN('Càlculs interns'!B85/dispersió!$O$38))^(1/2),0)","v":2.4371106781228256},-2.4371106781228256,null,5.2415309623033588,{"$f":"IFERROR((letalitat!$P$9*1000)/((3.14159*dispersió!$C$10*((dispersió!$E$38+F85)^dispersió!$D$10)*dispersió!$E$10*((dispersió!$F$38+F85)^dispersió!$F$10)+dispersió!$C$24*dispersió!$D$38)*dispersió!$C$12),0)","v":0.82147210906166956},{"$f":"IFERROR(dispersió!$C$10*((dispersió!$E$38+'Càlculs interns'!F85)^dispersió!$D$10)*(2*LN('Càlculs interns'!G85/dispersió!$O$45))^(1/2),0)","v":1.9045329159724911},-1.9045329159724911,null,2.9849126860559796,{"$f":"IFERROR((letalitat!$P$9*1000)/((3.14159*dispersió!$C$10*((dispersió!$E$38+K85)^dispersió!$D$10)*dispersió!$E$10*((dispersió!$F$38+K85)^dispersió!$F$10)+dispersió!$C$24*dispersió!$D$38)*dispersió!$C$12),0)","v":0.94202645877635605},{"$f":"IFERROR(dispersió!$C$10*((dispersió!$E$38+'Càlculs interns'!K85)^dispersió!$D$10)*(2*LN('Càlculs interns'!L85/dispersió!$O$52))^(1/2),0)","v":1.3499716951368357},-1.3499716951368357,null,0.11737013715572905,{"$f":"IFERROR((letalitat!$P$9*1000)/((3.14159*dispersió!$C$10*((dispersió!$E$38+P85)^dispersió!$D$10)*dispersió!$E$10*((dispersió!$F$38+P85)^dispersió!$F$10)+dispersió!$C$24*dispersió!$D$38)*dispersió!$C$12),0)","v":1.1411206227359874},{"$f":"IFERROR(dispersió!$C$10*((dispersió!$E$38+'Càlculs interns'!P85)^dispersió!$D$10)*(2*LN('Càlculs interns'!Q85/dispersió!$O$59))^(1/2),0)","v":0.2446485760942797},-0.2446485760942797]
[8.7215139257405117,{"$f":"IFERROR((letalitat!$P$9*1000)/((3.14159*dispersió!$C$10*((dispersió!$E$38+A86)^dispersió!$D$10)*dispersió!$E$10*((dispersió!$F$38+A86)^dispersió!$F$10)+dispersió!$C$24*dispersió!$D$38)*dispersió!$C$12),0)","v":0.67818403937171423},{"$f":"IFERROR(dispersió!$C$10*((dispersió!$E$38+'Càlculs interns'!A86)^dispersió!$D$10)*(2*LN('Càlculs interns'!B86/dispersió!$O$38))^(1/2),0)","v":2.4962315542331717},-2.4962315542331717,null,5.9903210997752669,{"$f":"IFERROR((letalitat!$P$9*1000)/((3.14159*dispersió!$C$10*((dispersió!$E$38+F86)^dispersió!$D$10)*dispersió!$E$10*((dispersió!$F$38+F86)^dispersió!$F$10)+dispersió!$C$24*dispersió!$D$38)*dispersió!$C$12),0)","v":0.78681605060674253},{"$f":"IFERROR(dispersió!$C$10*((dispersió!$E$38+'Càlculs interns'!F86)^dispersió!$D$10)*(2*LN('Càlculs interns'!G86/dispersió!$O$45))^(1/2),0)","v":1.9331862352396403},-1.9331862352396403,null,3.4113287840639765,{"$f":"IFERROR((letalitat!$P$9*1000)/((3.14159*dispersió!$C$10*((dispersió!$E$38+K86)^dispersió!$D$10)*dispersió!$E$10*((dispersió!$F$38+K86)^dispersió!$F$10)+dispersió!$C$24*dispersió!$D$38)*dispersió!$C$12),0)","v":0.91717310412121089},{"$f":"IFERROR(dispersió!$C$10*((dispersió!$E$38+'Càlculs interns'!K86)^dispersió!$D$10)*(2*LN('Càlculs interns'!L86/dispersió!$O$52))^(1/2),0)","v":1.3539924034877375},-1.3539924034877375,null,0.13413729960654749,{"$f":"IFERROR((letalitat!$P$9*1000)/((3.14159*dispersió!$C$10*((dispersió!$E$38+P86)^dispersió!$D$10)*dispersió!$E$10*((dispersió!$F$38+P86)^dispersió!$F$10)+dispersió!$C$24*dispersió!$D$38)*dispersió!$C$12),0)","v":1.1397666134229134},{"$f":"IFERROR(dispersió!$C$10*((dispersió!$E$38+'Càlculs interns'!P86)^dispersió!$D$10)*(2*LN('Càlculs interns'!Q86/dispersió!$O$59))^(1/2),0)","v":0.23958304378090636},-0.23958304378090636]
[9.8117031664580754,{"$f":"IFERROR((letalitat!$P$9*1000)/((3.14159*dispersió!$C$10*((dispersió!$E$38+A87)^dispersió!$D$10)*dispersió!$E$10*((dispersió!$F$38+A87)^dispersió!$F$10)+dispersió!$C$24*dispersió!$D$38)*dispersió!$C$12),0)","v":0.64133199553929465},{"$f":"IFERROR(dispersió!$C$10*((dispersió!$E$38+'Càlculs interns'!A87)^dispersió!$D$10)*(2*LN('Càlculs interns'!B87/dispersió!$O$38))^(1/2),0)","v":2.5469171459743722},-2.5469171459743722,null,6.7391112372471751,{"$f":"IFERROR((letalitat!$P$9*1000)/((3.14159*dispersió!$C$10*((dispersió!$E$38+F87)^dispersió!$D$10)*dispersió!$E$10*((dispersió!$F$38+F87)^dispersió!$F$10)+dispersió!$C$24*dispersió!$D$38)*dispersió!$C$12),0)","v":0.75442460817425017},{"$f":"IFERROR(dispersió!$C$10*((dispersió!$E$38+'Càlculs interns'!F87)^dispersió!$D$10)*(2*LN('Càlculs interns'!G87/dispersió!$O$45))^(1/2),0)","v":1.9566357379026664},-1.9566357379026664,null,3.8377448820719735,{"$f":"IFERROR((letalitat!$P$9*1000)/((3.14159*dispersió!$C$10*((dispersió!$E$38+K87)^dispersió!$D$10)*dispersió!$E$10*((dispersió!$F$38+K87)^dispersió!$F$10)+dispersió!$C$24*dispersió!$D$38)*dispersió!$C$12),0)","v":0.89334653196396596},{"$f":"IFERROR(dispersió!$C$10*((dispersió!$E$38+'Càlculs interns'!K87)^dispersió!$D$10)*(2*LN('Càlculs interns'!L87/dispersió!$O$52))^(1/2),0)","v":1.3554649723126},-1.3554649723126,null,0.15090446205736593,{"$f":"IFERROR((letalitat!$P$9*1000)/((3.14159*dispersió!$C$10*((dispersió!$E$38+P87)^dispersió!$D$10)*dispersió!$E$10*((dispersió!$F$38+P87)^dispersió!$F$10)+dispersió!$C$24*dispersió!$D$38)*dispersió!$C$12),0)","v":1.1384151719361251},{"$f":"IFERROR(dispersió!$C$10*((dispersió!$E$38+'Càlculs interns'!P87)^dispersió!$D$10)*(2*LN('Càlculs interns'!Q87/dispersió!$O$59))^(1/2),0)","v":0.23437935237401039},-0.23437935237401039]
[10.901892407175639,{"$f":"IFERROR((letalitat!$P$9*1000)/((3.14159*dispersió!$C$10*((dispersió!$E$38+A88)^dispersió!$D$10)*dispersió!$E$10*((dispersió!$F$38+A88)^dispersió!$F$10)+dispersió!$C$24*dispersió!$D$38)*dispersió!$C$12),0)","v":0.60755735803344124},{"$f":"IFERROR(dispersió!$C$10*((dispersió!$E$38+'Càlculs interns'!A88)^dispersió!$D$10)*(2*LN('Càlculs interns'!B88/dispersió!$O$38))^(1/2),0)","v":2.5891423757307623},-2.5891423757307623,null,7.4879013747190832,{"$f":"IFERROR((letalitat!$P$9*1000)/((3.14159*dispersió!$C$10*((dispersió!$E$38+F88)^dispersió!$D$10)*dispersió!$E$10*((dispersió!$F$38+F88)^dispersió!$F$10)+dispersió!$C$24*dispersió!$D$38)*dispersió!$C$12),0)","v":0.72409921715851944},{"$f":"IFERROR(dispersió!$C$10*((dispersió!$E$38+'Càlculs interns'!F88)^dispersió!$D$10)*(2*LN('Càlculs interns'!G88/dispersió!$O$45))^(1/2),0)","v":1.9748064546603894},-1.9748064546603894,null,4.2641609800799705,{"$f":"IFERROR((letalitat!$P$9*1000)/((3.14159*dispersió!$C$10*((dispersió!$E$38+K88)^dispersió!$D$10)*dispersió!$E$10*((dispersió!$F$38+K88)^dispersió!$F$10)+dispersió!$C$24*dispersió!$D$38)*dispersió!$C$12),0)","v":0.87048906565343365},{"$f":"IFERROR(dispersió!$C$10*((dispersió!$E$38+'Càlculs interns'!K88)^dispersió!$D$10)*(2*LN('Càlculs interns'!L88/dispersió!$O$52))^(1/2),0)","v":1.3543146738665999},-1.3543146738665999,null,0.16767162450818437,{"$f":"IFERROR((letalitat!$P$9*1000)/((3.14159*dispersió!$C$10*((dispersió!$E$38+P88)^dispersió!$D$10)*dispersió!$E$10*((dispersió!$F$38+P88)^dispersió!$F$10)+dispersió!$C$24*dispersió!$D$38)*dispersió!$C$12),0)","v":1.1370662914698975},{"$f":"IFERROR(dispersió!$C$10*((dispersió!$E$38+'Càlculs interns'!P88)^dispersió!$D$10)*(2*LN('Càlculs interns'!Q88/dispersió!$O$59))^(1/2),0)","v":0.22902804719540845},-0.22902804719540845]
[11.992081647893203,{"$f":"IFERROR((letalitat!$P$9*1000)/((3.14159*dispersió!$C$10*((dispersió!$E$38+A89)^dispersió!$D$10)*dispersió!$E$10*((dispersió!$F$38+A89)^dispersió!$F$10)+dispersió!$C$24*dispersió!$D$38)*dispersió!$C$12),0)","v":0.57651856876238772},{"$f":"IFERROR(dispersió!$C$10*((dispersió!$E$38+'Càlculs interns'!A89)^dispersió!$D$10)*(2*LN('Càlculs interns'!B89/dispersió!$O$38))^(1/2),0)","v":2.622837759839435},-2.622837759839435,null,8.2366915121909923,{"$f":"IFERROR((letalitat!$P$9*1000)/((3.14159*dispersió!$C$10*((dispersió!$E$38+F89)^dispersió!$D$10)*dispersió!$E$10*((dispersió!$F$38+F89)^dispersió!$F$10)+dispersió!$C$24*dispersió!$D$38)*dispersió!$C$12),0)","v":0.69566308801445864},{"$f":"IFERROR(dispersió!$C$10*((dispersió!$E$38+'Càlculs interns'!F89)^dispersió!$D$10)*(2*LN('Càlculs interns'!G89/dispersió!$O$45))^(1/2),0)","v":1.9875986613653762},-1.9875986613653762,null,4.6905770780879674,{"$f":"IFERROR((letalitat!$P$9*1000)/((3.14159*dispersió!$C$10*((dispersió!$E$38+K89)^dispersió!$D$10)*dispersió!$E$10*((dispersió!$F$38+K89)^dispersió!$F$10)+dispersió!$C$24*dispersió!$D$38)*dispersió!$C$12),0)","v":0.84854714617073768},{"$f":"IFERROR(dispersió!$C$10*((dispersió!$E$38+'Càlculs interns'!K89)^dispersió!$D$10)*(2*LN('Càlculs interns'!L89/dispersió!$O$52))^(1/2),0)","v":1.3504545384103557},-1.3504545384103557,null,0.18443878695900282,{"$f":"IFERROR((letalitat!$P$9*1000)/((3.14159*dispersió!$C$10*((dispersió!$E$38+P89)^dispersió!$D$10)*dispersió!$E$10*((dispersió!$F$38+P89)^dispersió!$F$10)+dispersió!$C$24*dispersió!$D$38)*dispersió!$C$12),0)","v":1.1357199652422905},{"$f":"IFERROR(dispersió!$C$10*((dispersió!$E$38+'Càlculs interns'!P89)^dispersió!$D$10)*(2*LN('Càlculs interns'!Q89/dispersió!$O$59))^(1/2),0)","v":0.22351848784331471},-0.22351848784331471]
[13.082270888610767,{"$f":"IFERROR((letalitat!$P$9*1000)/((3.14159*dispersió!$C$10*((dispersió!$E$38+A90)^dispersió!$D$10)*dispersió!$E$10*((dispersió!$F$38+A90)^dispersió!$F$10)+dispersió!$C$24*dispersió!$D$38)*dispersió!$C$12),0)","v":0.54792094859566431},{"$f":"IFERROR(dispersió!$C$10*((dispersió!$E$38+'Càlculs interns'!A90)^dispersió!$D$10)*(2*LN('Càlculs interns'!B90/dispersió!$O$38))^(1/2),0)","v":2.6478869542409251},-2.6478869542409251,null,8.9854816496629013,{"$f":"IFERROR((letalitat!$P$9*1000)/((3.14159*dispersió!$C$10*((dispersió!$E$38+F90)^dispersió!$D$10)*dispersió!$E$10*((dispersió!$F$38+F90)^dispersió!$F$10)+dispersió!$C$24*dispersió!$D$38)*dispersió!$C$12),0)","v":0.66895833860193854},{"$f":"IFERROR(dispersió!$C$10*((dispersió!$E$38+'Càlculs interns'!F90)^dispersió!$D$10)*(2*LN('Càlculs interns'!G90/dispersió!$O$45))^(1/2),0)","v":1.9948851493782047},-1.9948851493782047,null,5.1169931760959644,{"$f":"IFERROR((letalitat!$P$9*1000)/((3.14159*dispersió!$C$10*((dispersió!$E$38+K90)^dispersió!$D$10)*dispersió!$E$10*((dispersió!$F$38+K90)^dispersió!$F$10)+dispersió!$C$24*dispersió!$D$38)*dispersió!$C$12),0)","v":0.8274709722381659},{"$f":"IFERROR(dispersió!$C$10*((dispersió!$E$38+'Càlculs interns'!K90)^dispersió!$D$10)*(2*LN('Càlculs interns'!L90/dispersió!$O$52))^(1/2),0)","v":1.3437834032258762},-1.3437834032258762,null,0.20120594940982126,{"$f":"IFERROR((letalitat!$P$9*1000)/((3.14159*dispersió!$C$10*((dispersió!$E$38+P90)^dispersió!$D$10)*dispersió!$E$10*((dispersió!$F$38+P90)^dispersió!$F$10)+dispersió!$C$24*dispersió!$D$38)*dispersió!$C$12),0)","v":1.1343761864950423},{"$f":"IFERROR(dispersió!$C$10*((dispersió!$E$38+'Càlculs interns'!P90)^dispersió!$D$10)*(2*LN('Càlculs interns'!Q90/dispersió!$O$59))^(1/2),0)","v":0.217838627562354},-0.217838627562354]
[14.17246012932833,{"$f":"IFERROR((letalitat!$P$9*1000)/((3.14159*dispersió!$C$10*((dispersió!$E$38+A91)^dispersió!$D$10)*dispersió!$E$10*((dispersió!$F$38+A91)^dispersió!$F$10)+dispersió!$C$24*dispersió!$D$38)*dispersió!$C$12),0)","v":0.52150907212180675},{"$f":"IFERROR(dispersió!$C$10*((dispersió!$E$38+'Càlculs interns'!A91)^dispersió!$D$10)*(2*LN('Càlculs interns'!B91/dispersió!$O$38))^(1/2),0)","v":2.6641227437259642},-2.6641227437259642,null,9.7342717871348103,{"$f":"IFERROR((letalitat!$P$9*1000)/((3.14159*dispersió!$C$10*((dispersió!$E$38+F91)^dispersió!$D$10)*dispersió!$E$10*((dispersió!$F$38+F91)^dispersió!$F$10)+dispersió!$C$24*dispersió!$D$38)*dispersió!$C$12),0)","v":0.64384356848270086},{"$f":"IFERROR(dispersió!$C$10*((dispersió!$E$38+'Càlculs interns'!F91)^dispersió!$D$10)*(2*LN('Càlculs interns'!G91/dispersió!$O$45))^(1/2),0)","v":1.9965075765127436},-1.9965075765127436,null,5.5434092741039613,{"$f":"IFERROR((letalitat!$P$9*1000)/((3.14159*dispersió!$C$10*((dispersió!$E$38+K91)^dispersió!$D$10)*dispersió!$E$10*((dispersió!$F$38+K91)^dispersió!$F$10)+dispersió!$C$24*dispersió!$D$38)*dispersió!$C$12),0)","v":0.80721417806509954},{"$f":"IFERROR(dispersió!$C$10*((dispersió!$E$38+'Càlculs interns'!K91)^dispersió!$D$10)*(2*LN('Càlculs interns'!L91/dispersió!$O$52))^(1/2),0)","v":1.3341834515869693},-1.3341834515869693,null,0.2179731118606397,{"$f":"IFERROR((letalitat!$P$9*1000)/((3.14159*dispersió!$C$10*((dispersió!$E$38+P91)^dispersió!$D$10)*dispersió!$E$10*((dispersió!$F$38+P91)^dispersió!$F$10)+dispersió!$C$24*dispersió!$D$38)*dispersió!$C$12),0)","v":1.1330349484934648},{"$f":"IFERROR(dispersió!$C$10*((dispersió!$E$38+'Càlculs interns'!P91)^dispersió!$D$10)*(2*LN('Càlculs interns'!Q91/dispersió!$O$59))^(1/2),0)","v":0.2119747367164046},-0.2119747367164046]
[15.262649370045894,{"$f":"IFERROR((letalitat!$P$9*1000)/((3.14159*dispersió!$C$10*((dispersió!$E$38+A92)^dispersió!$D$10)*dispersió!$E$10*((dispersió!$F$38+A92)^dispersió!$F$10)+dispersió!$C$24*dispersió!$D$38)*dispersió!$C$12),0)","v":0.49706057220311783},{"$f":"IFERROR(dispersió!$C$10*((dispersió!$E$38+'Càlculs interns'!A92)^dispersió!$D$10)*(2*LN('Càlculs interns'!B92/dispersió!$O$38))^(1/2),0)","v":2.6713211740549534},-2.6713211740549534,null,10.483061924606719,{"$f":"IFERROR((letalitat!$P$9*1000)/((3.14159*dispersió!$C$10*((dispersió!$E$38+F92)^dispersió!$D$10)*dispersió!$E$10*((dispersió!$F$38+F92)^dispersió!$F$10)+dispersió!$C$24*dispersió!$D$38)*dispersió!$C$12),0)","v":0.62019179687565584},{"$f":"IFERROR(dispersió!$C$10*((dispersió!$E$38+'Càlculs interns'!F92)^dispersió!$D$10)*(2*LN('Càlculs interns'!G92/dispersió!$O$45))^(1/2),0)","v":1.9922716441536079},-1.9922716441536079,null,5.9698253721119583,{"$f":"IFERROR((letalitat!$P$9*1000)/((3.14159*dispersió!$C$10*((dispersió!$E$38+K92)^dispersió!$D$10)*dispersió!$E$10*((dispersió!$F$38+K92)^dispersió!$F$10)+dispersió!$C$24*dispersió!$D$38)*dispersió!$C$12),0)","v":0.7877335440967802},{"$f":"IFERROR(dispersió!$C$10*((dispersió!$E$38+'Càlculs interns'!K92)^dispersió!$D$10)*(2*LN('Càlculs interns'!L92/dispersió!$O$52))^(1/2),0)","v":1.321517079357676},-1.321517079357676,null,0.23474027431145814,{"$f":"IFERROR((letalitat!$P$9*1000)/((3.14159*dispersió!$C$10*((dispersió!$E$38+P92)^dispersió!$D$10)*dispersió!$E$10*((dispersió!$F$38+P92)^dispersió!$F$10)+dispersió!$C$24*dispersió!$D$38)*dispersió!$C$12),0)","v":1.1316962445263365},{"$f":"IFERROR(dispersió!$C$10*((dispersió!$E$38+'Càlculs interns'!P92)^dispersió!$D$10)*(2*LN('Càlculs interns'!Q92/dispersió!$O$59))^(1/2),0)","v":0.20591105199461815},-0.20591105199461815]
[16.35283861076346,{"$f":"IFERROR((letalitat!$P$9*1000)/((3.14159*dispersió!$C$10*((dispersió!$E$38+A93)^dispersió!$D$10)*dispersió!$E$10*((dispersió!$F$38+A93)^dispersió!$F$10)+dispersió!$C$24*dispersió!$D$38)*dispersió!$C$12),0)","v":0.47438107117091111},{"$f":"IFERROR(dispersió!$C$10*((dispersió!$E$38+'Càlculs interns'!A93)^dispersió!$D$10)*(2*LN('Càlculs interns'!B93/dispersió!$O$38))^(1/2),0)","v":2.6691933513352959},-2.6691933513352959,null,11.231852062078628,{"$f":"IFERROR((letalitat!$P$9*1000)/((3.14159*dispersió!$C$10*((dispersió!$E$38+F93)^dispersió!$D$10)*dispersió!$E$10*((dispersió!$F$38+F93)^dispersió!$F$10)+dispersió!$C$24*dispersió!$D$38)*dispersió!$C$12),0)","v":0.59788870170358488},{"$f":"IFERROR(dispersió!$C$10*((dispersió!$E$38+'Càlculs interns'!F93)^dispersió!$D$10)*(2*LN('Càlculs interns'!G93/dispersió!$O$45))^(1/2),0)","v":1.9819407323945277},-1.9819407323945277,null,6.3962414701199553,{"$f":"IFERROR((letalitat!$P$9*1000)/((3.14159*dispersió!$C$10*((dispersió!$E$38+K93)^dispersió!$D$10)*dispersió!$E$10*((dispersió!$F$38+K93)^dispersió!$F$10)+dispersió!$C$24*dispersió!$D$38)*dispersió!$C$12),0)","v":0.76898873679428537},{"$f":"IFERROR(dispersió!$C$10*((dispersió!$E$38+'Càlculs interns'!K93)^dispersió!$D$10)*(2*LN('Càlculs interns'!L93/dispersió!$O$52))^(1/2),0)","v":1.3056228597740496},-1.3056228597740496,null,0.25150743676227655,{"$f":"IFERROR((letalitat!$P$9*1000)/((3.14159*dispersió!$C$10*((dispersió!$E$38+P93)^dispersió!$D$10)*dispersió!$E$10*((dispersió!$F$38+P93)^dispersió!$F$10)+dispersió!$C$24*dispersió!$D$38)*dispersió!$C$12),0)","v":1.1303600679057981},{"$f":"IFERROR(dispersió!$C$10*((dispersió!$E$38+'Càlculs interns'!P93)^dispersió!$D$10)*(2*LN('Càlculs interns'!Q93/dispersió!$O$59))^(1/2),0)","v":0.19962932538459177},-0.19962932538459177]
[17.443027851481023,{"$f":"IFERROR((letalitat!$P$9*1000)/((3.14159*dispersió!$C$10*((dispersió!$E$38+A94)^dispersió!$D$10)*dispersió!$E$10*((dispersió!$F$38+A94)^dispersió!$F$10)+dispersió!$C$24*dispersió!$D$38)*dispersió!$C$12),0)","v":0.45330000715949009},{"$f":"IFERROR(dispersió!$C$10*((dispersió!$E$38+'Càlculs interns'!A94)^dispersió!$D$10)*(2*LN('Càlculs interns'!B94/dispersió!$O$38))^(1/2),0)","v":2.6573741845872187},-2.6573741845872187,null,11.980642199550537,{"$f":"IFERROR((letalitat!$P$9*1000)/((3.14159*dispersió!$C$10*((dispersió!$E$38+F94)^dispersió!$D$10)*dispersió!$E$10*((dispersió!$F$38+F94)^dispersió!$F$10)+dispersió!$C$24*dispersió!$D$38)*dispersió!$C$12),0)","v":0.57683110935069737},{"$f":"IFERROR(dispersió!$C$10*((dispersió!$E$38+'Càlculs interns'!F94)^dispersió!$D$10)*(2*LN('Càlculs interns'!G94/dispersió!$O$45))^(1/2),0)","v":1.9652274559781704},-1.9652274559781704,null,6.8226575681279522,{"$f":"IFERROR((letalitat!$P$9*1000)/((3.14159*dispersió!$C$10*((dispersió!$E$38+K94)^dispersió!$D$10)*dispersió!$E$10*((dispersió!$F$38+K94)^dispersió!$F$10)+dispersió!$C$24*dispersió!$D$38)*dispersió!$C$12),0)","v":0.75094207402819479},{"$f":"IFERROR(dispersió!$C$10*((dispersió!$E$38+'Càlculs interns'!K94)^dispersió!$D$10)*(2*LN('Càlculs interns'!L94/dispersió!$O$52))^(1/2),0)","v":1.2863102758833027},-1.2863102758833027,null,0.26827459921309499,{"$f":"IFERROR((letalitat!$P$9*1000)/((3.14159*dispersió!$C$10*((dispersió!$E$38+P94)^dispersió!$D$10)*dispersió!$E$10*((dispersió!$F$38+P94)^dispersió!$F$10)+dispersió!$C$24*dispersió!$D$38)*dispersió!$C$12),0)","v":1.1290264119672475},{"$f":"IFERROR(dispersió!$C$10*((dispersió!$E$38+'Càlculs interns'!P94)^dispersió!$D$10)*(2*LN('Càlculs interns'!Q94/dispersió!$O$59))^(1/2),0)","v":0.19310823547573661},-0.19310823547573661]
[18.533217092198587,{"$f":"IFERROR((letalitat!$P$9*1000)/((3.14159*dispersió!$C$10*((dispersió!$E$38+A95)^dispersió!$D$10)*dispersió!$E$10*((dispersió!$F$38+A95)^dispersió!$F$10)+dispersió!$C$24*dispersió!$D$38)*dispersió!$C$12),0)","v":0.43366717706096802},{"$f":"IFERROR(dispersió!$C$10*((dispersió!$E$38+'Càlculs interns'!A95)^dispersió!$D$10)*(2*LN('Càlculs interns'!B95/dispersió!$O$38))^(1/2),0)","v":2.6354069749364455},-2.6354069749364455,null,12.729432337022446,{"$f":"IFERROR((letalitat!$P$9*1000)/((3.14159*dispersió!$C$10*((dispersió!$E$38+F95)^dispersió!$D$10)*dispersió!$E$10*((dispersió!$F$38+F95)^dispersió!$F$10)+dispersió!$C$24*dispersió!$D$38)*dispersió!$C$12),0)","v":0.5569256942800872},{"$f":"IFERROR(dispersió!$C$10*((dispersió!$E$38+'Càlculs interns'!F95)^dispersió!$D$10)*(2*LN('Càlculs interns'!G95/dispersió!$O$45))^(1/2),0)","v":1.9417823444976117},-1.9417823444976117,null,7.2490736661359492,{"$f":"IFERROR((letalitat!$P$9*1000)/((3.14159*dispersió!$C$10*((dispersió!$E$38+K95)^dispersió!$D$10)*dispersió!$E$10*((dispersió!$F$38+K95)^dispersió!$F$10)+dispersió!$C$24*dispersió!$D$38)*dispersió!$C$12),0)","v":0.73355831313410491},{"$f":"IFERROR(dispersió!$C$10*((dispersió!$E$38+'Càlculs interns'!K95)^dispersió!$D$10)*(2*LN('Càlculs interns'!L95/dispersió!$O$52))^(1/2),0)","v":1.2633527340325341},-1.2633527340325341,null,0.28504176166391343,{"$f":"IFERROR((letalitat!$P$9*1000)/((3.14159*dispersió!$C$10*((dispersió!$E$38+P95)^dispersió!$D$10)*dispersió!$E$10*((dispersió!$F$38+P95)^dispersió!$F$10)+dispersió!$C$24*dispersió!$D$38)*dispersió!$C$12),0)","v":1.1276952700692386},{"$f":"IFERROR(dispersió!$C$10*((dispersió!$E$38+'Càlculs interns'!P95)^dispersió!$D$10)*(2*LN('Càlculs interns'!Q95/dispersió!$O$59))^(1/2),0)","v":0.18632260590497216},-0.18632260590497216]
[19.623406332916151,{"$f":"IFERROR((letalitat!$P$9*1000)/((3.14159*dispersió!$C$10*((dispersió!$E$38+A96)^dispersió!$D$10)*dispersió!$E$10*((dispersió!$F$38+A96)^dispersió!$F$10)+dispersió!$C$24*dispersió!$D$38)*dispersió!$C$12),0)","v":0.41534985720978507},{"$f":"IFERROR(dispersió!$C$10*((dispersió!$E$38+'Càlculs interns'!A96)^dispersió!$D$10)*(2*LN('Càlculs interns'!B96/dispersió!$O$38))^(1/2),0)","v":2.6027221719000924},-2.6027221719000924,null,13.478222474494356,{"$f":"IFERROR((letalitat!$P$9*1000)/((3.14159*dispersió!$C$10*((dispersió!$E$38+F96)^dispersió!$D$10)*dispersió!$E$10*((dispersió!$F$38+F96)^dispersió!$F$10)+dispersió!$C$24*dispersió!$D$38)*dispersió!$C$12),0)","v":0.53808785517456936},{"$f":"IFERROR(dispersió!$C$10*((dispersió!$E$38+'Càlculs interns'!F96)^dispersió!$D$10)*(2*LN('Càlculs interns'!G96/dispersió!$O$45))^(1/2),0)","v":1.9111784399124165},-1.9111784399124165,null,7.6754897641439461,{"$f":"IFERROR((letalitat!$P$9*1000)/((3.14159*dispersió!$C$10*((dispersió!$E$38+K96)^dispersió!$D$10)*dispersió!$E$10*((dispersió!$F$38+K96)^dispersió!$F$10)+dispersió!$C$24*dispersió!$D$38)*dispersió!$C$12),0)","v":0.71680445907127077},{"$f":"IFERROR(dispersió!$C$10*((dispersió!$E$38+'Càlculs interns'!K96)^dispersió!$D$10)*(2*LN('Càlculs interns'!L96/dispersió!$O$52))^(1/2),0)","v":1.2364781239497877},-1.2364781239497877,null,0.30180892411473187,{"$f":"IFERROR((letalitat!$P$9*1000)/((3.14159*dispersió!$C$10*((dispersió!$E$38+P96)^dispersió!$D$10)*dispersió!$E$10*((dispersió!$F$38+P96)^dispersió!$F$10)+dispersió!$C$24*dispersió!$D$38)*dispersió!$C$12),0)","v":1.1263666355933757},{"$f":"IFERROR(dispersió!$C$10*((dispersió!$E$38+'Càlculs interns'!P96)^dispersió!$D$10)*(2*LN('Càlculs interns'!Q96/dispersió!$O$59))^(1/2),0)","v":0.17924234751835985},-0.17924234751835985]
[20.713595573633715,{"$f":"IFERROR((letalitat!$P$9*1000)/((3.14159*dispersió!$C$10*((dispersió!$E$38+A97)^dispersió!$D$10)*dispersió!$E$10*((dispersió!$F$38+A97)^dispersió!$F$10)+dispersió!$C$24*dispersió!$D$38)*dispersió!$C$12),0)","v":0.39823039285078599},{"$f":"IFERROR(dispersió!$C$10*((dispersió!$E$38+'Càlculs interns'!A97)^dispersió!$D$10)*(2*LN('Càlculs interns'!B97/dispersió!$O$38))^(1/2),0)","v":2.5586076682992602},-2.5586076682992602,null,14.227012611966265,{"$f":"IFERROR((letalitat!$P$9*1000)/((3.14159*dispersió!$C$10*((dispersió!$E$38+F97)^dispersió!$D$10)*dispersió!$E$10*((dispersió!$F$38+F97)^dispersió!$F$10)+dispersió!$C$24*dispersió!$D$38)*dispersió!$C$12),0)","v":0.52024074023539713},{"$f":"IFERROR(dispersió!$C$10*((dispersió!$E$38+'Càlculs interns'!F97)^dispersió!$D$10)*(2*LN('Càlculs interns'!G97/dispersió!$O$45))^(1/2),0)","v":1.8728899327869952},-1.8728899327869952,null,8.1019058621519431,{"$f":"IFERROR((letalitat!$P$9*1000)/((3.14159*dispersió!$C$10*((dispersió!$E$38+K97)^dispersió!$D$10)*dispersió!$E$10*((dispersió!$F$38+K97)^dispersió!$F$10)+dispersió!$C$24*dispersió!$D$38)*dispersió!$C$12),0)","v":0.70064959045904029},{"$f":"IFERROR(dispersió!$C$10*((dispersió!$E$38+'Càlculs interns'!K97)^dispersió!$D$10)*(2*LN('Càlculs interns'!L97/dispersió!$O$52))^(1/2),0)","v":1.2053557846987994},-1.2053557846987994,null,0.31857608656555031,{"$f":"IFERROR((letalitat!$P$9*1000)/((3.14159*dispersió!$C$10*((dispersió!$E$38+P97)^dispersió!$D$10)*dispersió!$E$10*((dispersió!$F$38+P97)^dispersió!$F$10)+dispersió!$C$24*dispersió!$D$38)*dispersió!$C$12),0)","v":1.1250405019442105},{"$f":"IFERROR(dispersió!$C$10*((dispersió!$E$38+'Càlculs interns'!P97)^dispersió!$D$10)*(2*LN('Càlculs interns'!Q97/dispersió!$O$59))^(1/2),0)","v":0.17183099446463487},-0.17183099446463487]
[21.803784814351278,{"$f":"IFERROR((letalitat!$P$9*1000)/((3.14159*dispersió!$C$10*((dispersió!$E$38+A98)^dispersió!$D$10)*dispersió!$E$10*((dispersió!$F$38+A98)^dispersió!$F$10)+dispersió!$C$24*dispersió!$D$38)*dispersió!$C$12),0)","v":0.38220417028811188},{"$f":"IFERROR(dispersió!$C$10*((dispersió!$E$38+'Càlculs interns'!A98)^dispersió!$D$10)*(2*LN('Càlculs interns'!B98/dispersió!$O$38))^(1/2),0)","v":2.5021663973966941},-2.5021663973966941,null,14.975802749438174,{"$f":"IFERROR((letalitat!$P$9*1000)/((3.14159*dispersió!$C$10*((dispersió!$E$38+F98)^dispersió!$D$10)*dispersió!$E$10*((dispersió!$F$38+F98)^dispersió!$F$10)+dispersió!$C$24*dispersió!$D$38)*dispersió!$C$12),0)","v":0.50331439905154318},{"$f":"IFERROR(dispersió!$C$10*((dispersió!$E$38+'Càlculs interns'!F98)^dispersió!$D$10)*(2*LN('Càlculs interns'!G98/dispersió!$O$45))^(1/2),0)","v":1.8262618176434544},-1.8262618176434544,null,8.5283219601599409,{"$f":"IFERROR((letalitat!$P$9*1000)/((3.14159*dispersió!$C$10*((dispersió!$E$38+K98)^dispersió!$D$10)*dispersió!$E$10*((dispersió!$F$38+K98)^dispersió!$F$10)+dispersió!$C$24*dispersió!$D$38)*dispersió!$C$12),0)","v":0.68506470154956689},{"$f":"IFERROR(dispersió!$C$10*((dispersió!$E$38+'Càlculs interns'!K98)^dispersió!$D$10)*(2*LN('Càlculs interns'!L98/dispersió!$O$52))^(1/2),0)","v":1.1695780451701707},-1.1695780451701707,null,0.33534324901636875,{"$f":"IFERROR((letalitat!$P$9*1000)/((3.14159*dispersió!$C$10*((dispersió!$E$38+P98)^dispersió!$D$10)*dispersió!$E$10*((dispersió!$F$38+P98)^dispersió!$F$10)+dispersió!$C$24*dispersió!$D$38)*dispersió!$C$12),0)","v":1.1237168625491432},{"$f":"IFERROR(dispersió!$C$10*((dispersió!$E$38+'Càlculs interns'!P98)^dispersió!$D$10)*(2*LN('Càlculs interns'!Q98/dispersió!$O$59))^(1/2),0)","v":0.16404362553133334},-0.16404362553133334]
[22.893974055068842,{"$f":"IFERROR((letalitat!$P$9*1000)/((3.14159*dispersió!$C$10*((dispersió!$E$38+A99)^dispersió!$D$10)*dispersió!$E$10*((dispersió!$F$38+A99)^dispersió!$F$10)+dispersió!$C$24*dispersió!$D$38)*dispersió!$C$12),0)","v":0.36717790318981047},{"$f":"IFERROR(dispersió!$C$10*((dispersió!$E$38+'Càlculs interns'!A99)^dispersió!$D$10)*(2*LN('Càlculs interns'!B99/dispersió!$O$38))^(1/2),0)","v":2.4322541481381199},-2.4322541481381199,null,15.724592886910083,{"$f":"IFERROR((letalitat!$P$9*1000)/((3.14159*dispersió!$C$10*((dispersió!$E$38+F99)^dispersió!$D$10)*dispersió!$E$10*((dispersió!$F$38+F99)^dispersió!$F$10)+dispersió!$C$24*dispersió!$D$38)*dispersió!$C$12),0)","v":0.48724504230085591},{"$f":"IFERROR(dispersió!$C$10*((dispersió!$E$38+'Càlculs interns'!F99)^dispersió!$D$10)*(2*LN('Càlculs interns'!G99/dispersió!$O$45))^(1/2),0)","v":1.7704655245455412},-1.7704655245455412,null,8.9547380581679388,{"$f":"IFERROR((letalitat!$P$9*1000)/((3.14159*dispersió!$C$10*((dispersió!$E$38+K99)^dispersió!$D$10)*dispersió!$E$10*((dispersió!$F$38+K99)^dispersió!$F$10)+dispersió!$C$24*dispersió!$D$38)*dispersió!$C$12),0)","v":0.67002255843789194},{"$f":"IFERROR(dispersió!$C$10*((dispersió!$E$38+'Càlculs interns'!K99)^dispersió!$D$10)*(2*LN('Càlculs interns'!L99/dispersió!$O$52))^(1/2),0)","v":1.1286332830222845},-1.1286332830222845,null,0.35211041146718719,{"$f":"IFERROR((letalitat!$P$9*1000)/((3.14159*dispersió!$C$10*((dispersió!$E$38+P99)^dispersió!$D$10)*dispersió!$E$10*((dispersió!$F$38+P99)^dispersió!$F$10)+dispersió!$C$24*dispersió!$D$38)*dispersió!$C$12),0)","v":1.1223957108583182},{"$f":"IFERROR(dispersió!$C$10*((dispersió!$E$38+'Càlculs interns'!P99)^dispersió!$D$10)*(2*LN('Càlculs interns'!Q99/dispersió!$O$59))^(1/2),0)","v":0.15582382196429395},-0.15582382196429395]
[23.984163295786406,{"$f":"IFERROR((letalitat!$P$9*1000)/((3.14159*dispersió!$C$10*((dispersió!$E$38+A100)^dispersió!$D$10)*dispersió!$E$10*((dispersió!$F$38+A100)^dispersió!$F$10)+dispersió!$C$24*dispersió!$D$38)*dispersió!$C$12),0)","v":0.35306817815749791},{"$f":"IFERROR(dispersió!$C$10*((dispersió!$E$38+'Càlculs interns'!A100)^dispersió!$D$10)*(2*LN('Càlculs interns'!B100/dispersió!$O$38))^(1/2),0)","v":2.3473852077619144},-2.3473852077619144,null,16.473383024381992,{"$f":"IFERROR((letalitat!$P$9*1000)/((3.14159*dispersió!$C$10*((dispersió!$E$38+F100)^dispersió!$D$10)*dispersió!$E$10*((dispersió!$F$38+F100)^dispersió!$F$10)+dispersió!$C$24*dispersió!$D$38)*dispersió!$C$12),0)","v":0.47197439366315946},{"$f":"IFERROR(dispersió!$C$10*((dispersió!$E$38+'Càlculs interns'!F100)^dispersió!$D$10)*(2*LN('Càlculs interns'!G100/dispersió!$O$45))^(1/2),0)","v":1.7044317115093506},-1.7044317115093506,null,9.3811541561759366,{"$f":"IFERROR((letalitat!$P$9*1000)/((3.14159*dispersió!$C$10*((dispersió!$E$38+K100)^dispersió!$D$10)*dispersió!$E$10*((dispersió!$F$38+K100)^dispersió!$F$10)+dispersió!$C$24*dispersió!$D$38)*dispersió!$C$12),0)","v":0.65549756801860681},{"$f":"IFERROR(dispersió!$C$10*((dispersió!$E$38+'Càlculs interns'!K100)^dispersió!$D$10)*(2*LN('Càlculs interns'!L100/dispersió!$O$52))^(1/2),0)","v":1.0818651629448042},-1.0818651629448042,null,0.36887757391800563,{"$f":"IFERROR((letalitat!$P$9*1000)/((3.14159*dispersió!$C$10*((dispersió!$E$38+P100)^dispersió!$D$10)*dispersió!$E$10*((dispersió!$F$38+P100)^dispersió!$F$10)+dispersió!$C$24*dispersió!$D$38)*dispersió!$C$12),0)","v":1.1210770403445249},{"$f":"IFERROR(dispersió!$C$10*((dispersió!$E$38+'Càlculs interns'!P100)^dispersió!$D$10)*(2*LN('Càlculs interns'!Q100/dispersió!$O$59))^(1/2),0)","v":0.14709905173687579},-0.14709905173687579]
[25.074352536503969,{"$f":"IFERROR((letalitat!$P$9*1000)/((3.14159*dispersió!$C$10*((dispersió!$E$38+A101)^dispersió!$D$10)*dispersió!$E$10*((dispersió!$F$38+A101)^dispersió!$F$10)+dispersió!$C$24*dispersió!$D$38)*dispersió!$C$12),0)","v":0.33980021532481264},{"$f":"IFERROR(dispersió!$C$10*((dispersió!$E$38+'Càlculs interns'!A101)^dispersió!$D$10)*(2*LN('Càlculs interns'!B101/dispersió!$O$38))^(1/2),0)","v":2.2455829368678391},-2.2455829368678391,null,17.222173161853899,{"$f":"IFERROR((letalitat!$P$9*1000)/((3.14159*dispersió!$C$10*((dispersió!$E$38+F101)^dispersió!$D$10)*dispersió!$E$10*((dispersió!$F$38+F101)^dispersió!$F$10)+dispersió!$C$24*dispersió!$D$38)*dispersió!$C$12),0)","v":0.45744912086689804},{"$f":"IFERROR(dispersió!$C$10*((dispersió!$E$38+'Càlculs interns'!F101)^dispersió!$D$10)*(2*LN('Càlculs interns'!G101/dispersió!$O$45))^(1/2),0)","v":1.6267439327556008},-1.6267439327556008,null,9.8075702541839345,{"$f":"IFERROR((letalitat!$P$9*1000)/((3.14159*dispersió!$C$10*((dispersió!$E$38+K101)^dispersió!$D$10)*dispersió!$E$10*((dispersió!$F$38+K101)^dispersió!$F$10)+dispersió!$C$24*dispersió!$D$38)*dispersió!$C$12),0)","v":0.64146565837741887},{"$f":"IFERROR(dispersió!$C$10*((dispersió!$E$38+'Càlculs interns'!K101)^dispersió!$D$10)*(2*LN('Càlculs interns'!L101/dispersió!$O$52))^(1/2),0)","v":1.0284081972036985},-1.0284081972036985,null,0.38564473636882407,{"$f":"IFERROR((letalitat!$P$9*1000)/((3.14159*dispersió!$C$10*((dispersió!$E$38+P101)^dispersió!$D$10)*dispersió!$E$10*((dispersió!$F$38+P101)^dispersió!$F$10)+dispersió!$C$24*dispersió!$D$38)*dispersió!$C$12),0)","v":1.1197608445030958},{"$f":"IFERROR(dispersió!$C$10*((dispersió!$E$38+'Càlculs interns'!P101)^dispersió!$D$10)*(2*LN('Càlculs interns'!Q101/dispersió!$O$59))^(1/2),0)","v":0.13777335307949753},-0.13777335307949753]
[26.164541777221533,{"$f":"IFERROR((letalitat!$P$9*1000)/((3.14159*dispersió!$C$10*((dispersió!$E$38+A102)^dispersió!$D$10)*dispersió!$E$10*((dispersió!$F$38+A102)^dispersió!$F$10)+dispersió!$C$24*dispersió!$D$38)*dispersió!$C$12),0)","v":0.32730680813187613},{"$f":"IFERROR(dispersió!$C$10*((dispersió!$E$38+'Càlculs interns'!A102)^dispersió!$D$10)*(2*LN('Càlculs interns'!B102/dispersió!$O$38))^(1/2),0)","v":2.1241300006351604},-2.1241300006351604,null,17.970963299325806,{"$f":"IFERROR((letalitat!$P$9*1000)/((3.14159*dispersió!$C$10*((dispersió!$E$38+F102)^dispersió!$D$10)*dispersió!$E$10*((dispersió!$F$38+F102)^dispersió!$F$10)+dispersió!$C$24*dispersió!$D$38)*dispersió!$C$12),0)","v":0.44362033487297209},{"$f":"IFERROR(dispersió!$C$10*((dispersió!$E$38+'Càlculs interns'!F102)^dispersió!$D$10)*(2*LN('Càlculs interns'!G102/dispersió!$O$45))^(1/2),0)","v":1.5354609805687245},-1.5354609805687245,null,10.233986352191932,{"$f":"IFERROR((letalitat!$P$9*1000)/((3.14159*dispersió!$C$10*((dispersió!$E$38+K102)^dispersió!$D$10)*dispersió!$E$10*((dispersió!$F$38+K102)^dispersió!$F$10)+dispersió!$C$24*dispersió!$D$38)*dispersió!$C$12),0)","v":0.62790416946066951},{"$f":"IFERROR(dispersió!$C$10*((dispersió!$E$38+'Càlculs interns'!K102)^dispersió!$D$10)*(2*LN('Càlculs interns'!L102/dispersió!$O$52))^(1/2),0)","v":0.96708015243516332},-0.96708015243516332,null,0.40241189881964251,{"$f":"IFERROR((letalitat!$P$9*1000)/((3.14159*dispersió!$C$10*((dispersió!$E$38+P102)^dispersió!$D$10)*dispersió!$E$10*((dispersió!$F$38+P102)^dispersió!$F$10)+dispersió!$C$24*dispersió!$D$38)*dispersió!$C$12),0)","v":1.1184471168518098},{"$f":"IFERROR(dispersió!$C$10*((dispersió!$E$38+'Càlculs interns'!P102)^dispersió!$D$10)*(2*LN('Càlculs interns'!Q102/dispersió!$O$59))^(1/2),0)","v":0.12771508940553469},-0.12771508940553469]
[27.254731017939097,{"$f":"IFERROR((letalitat!$P$9*1000)/((3.14159*dispersió!$C$10*((dispersió!$E$38+A103)^dispersió!$D$10)*dispersió!$E$10*((dispersió!$F$38+A103)^dispersió!$F$10)+dispersió!$C$24*dispersió!$D$38)*dispersió!$C$12),0)","v":0.31552741306210463},{"$f":"IFERROR(dispersió!$C$10*((dispersió!$E$38+'Càlculs interns'!A103)^dispersió!$D$10)*(2*LN('Càlculs interns'!B103/dispersió!$O$38))^(1/2),0)","v":1.9791206705444766},-1.9791206705444766,null,18.719753436797713,{"$f":"IFERROR((letalitat!$P$9*1000)/((3.14159*dispersió!$C$10*((dispersió!$E$38+F103)^dispersió!$D$10)*dispersió!$E$10*((dispersió!$F$38+F103)^dispersió!$F$10)+dispersió!$C$24*dispersió!$D$38)*dispersió!$C$12),0)","v":0.43044314791349914},{"$f":"IFERROR(dispersió!$C$10*((dispersió!$E$38+'Càlculs interns'!F103)^dispersió!$D$10)*(2*LN('Càlculs interns'!G103/dispersió!$O$45))^(1/2),0)","v":1.4277984975653459},-1.4277984975653459,null,10.66040245019993,{"$f":"IFERROR((letalitat!$P$9*1000)/((3.14159*dispersió!$C$10*((dispersió!$E$38+K103)^dispersió!$D$10)*dispersió!$E$10*((dispersió!$F$38+K103)^dispersió!$F$10)+dispersió!$C$24*dispersió!$D$38)*dispersió!$C$12),0)","v":0.6147917529998459},{"$f":"IFERROR(dispersió!$C$10*((dispersió!$E$38+'Càlculs interns'!K103)^dispersió!$D$10)*(2*LN('Càlculs interns'!L103/dispersió!$O$52))^(1/2),0)","v":0.89618937476235705},-0.89618937476235705,null,0.41917906127046095,{"$f":"IFERROR((letalitat!$P$9*1000)/((3.14159*dispersió!$C$10*((dispersió!$E$38+P103)^dispersió!$D$10)*dispersió!$E$10*((dispersió!$F$38+P103)^dispersió!$F$10)+dispersió!$C$24*dispersió!$D$38)*dispersió!$C$12),0)","v":1.1171358509307889},{"$f":"IFERROR(dispersió!$C$10*((dispersió!$E$38+'Càlculs interns'!P103)^dispersió!$D$10)*(2*LN('Càlculs interns'!Q103/dispersió!$O$59))^(1/2),0)","v":0.11673498173254387},-0.11673498173254387]
[28.344920258656661,{"$f":"IFERROR((letalitat!$P$9*1000)/((3.14159*dispersió!$C$10*((dispersió!$E$38+A104)^dispersió!$D$10)*dispersió!$E$10*((dispersió!$F$38+A104)^dispersió!$F$10)+dispersió!$C$24*dispersió!$D$38)*dispersió!$C$12),0)","v":0.30440736541741814},{"$f":"IFERROR(dispersió!$C$10*((dispersió!$E$38+'Càlculs interns'!A104)^dispersió!$D$10)*(2*LN('Càlculs interns'!B104/dispersió!$O$38))^(1/2),0)","v":1.8045796865781294},-1.8045796865781294,null,19.468543574269621,{"$f":"IFERROR((letalitat!$P$9*1000)/((3.14159*dispersió!$C$10*((dispersió!$E$38+F104)^dispersió!$D$10)*dispersió!$E$10*((dispersió!$F$38+F104)^dispersió!$F$10)+dispersió!$C$24*dispersió!$D$38)*dispersió!$C$12),0)","v":0.4178762825208574},{"$f":"IFERROR(dispersió!$C$10*((dispersió!$E$38+'Càlculs interns'!F104)^dispersió!$D$10)*(2*LN('Càlculs interns'!G104/dispersió!$O$45))^(1/2),0)","v":1.2995023819050839},-1.2995023819050839,null,11.086818548207928,{"$f":"IFERROR((letalitat!$P$9*1000)/((3.14159*dispersió!$C$10*((dispersió!$E$38+K104)^dispersió!$D$10)*dispersió!$E$10*((dispersió!$F$38+K104)^dispersió!$F$10)+dispersió!$C$24*dispersió!$D$38)*dispersió!$C$12),0)","v":0.60210828078455769},{"$f":"IFERROR(dispersió!$C$10*((dispersió!$E$38+'Càlculs interns'!K104)^dispersió!$D$10)*(2*LN('Càlculs interns'!L104/dispersió!$O$52))^(1/2),0)","v":0.81315602813721832},-0.81315602813721832,null,0.43594622372127939,{"$f":"IFERROR((letalitat!$P$9*1000)/((3.14159*dispersió!$C$10*((dispersió!$E$38+P104)^dispersió!$D$10)*dispersió!$E$10*((dispersió!$F$38+P104)^dispersió!$F$10)+dispersió!$C$24*dispersió!$D$38)*dispersió!$C$12),0)","v":1.1158270403024042},{"$f":"IFERROR(dispersió!$C$10*((dispersió!$E$38+'Càlculs interns'!P104)^dispersió!$D$10)*(2*LN('Càlculs interns'!Q104/dispersió!$O$59))^(1/2),0)","v":0.10454288953140831},-0.10454288953140831]
[29.435109499374224,{"$f":"IFERROR((letalitat!$P$9*1000)/((3.14159*dispersió!$C$10*((dispersió!$E$38+A105)^dispersió!$D$10)*dispersió!$E$10*((dispersió!$F$38+A105)^dispersió!$F$10)+dispersió!$C$24*dispersió!$D$38)*dispersió!$C$12),0)","v":0.29389720144636328},{"$f":"IFERROR(dispersió!$C$10*((dispersió!$E$38+'Càlculs interns'!A105)^dispersió!$D$10)*(2*LN('Càlculs interns'!B105/dispersió!$O$38))^(1/2),0)","v":1.5904829185866785},-1.5904829185866785,null,20.217333711741528,{"$f":"IFERROR((letalitat!$P$9*1000)/((3.14159*dispersió!$C$10*((dispersió!$E$38+F105)^dispersió!$D$10)*dispersió!$E$10*((dispersió!$F$38+F105)^dispersió!$F$10)+dispersió!$C$24*dispersió!$D$38)*dispersió!$C$12),0)","v":0.40588172485997531},{"$f":"IFERROR(dispersió!$C$10*((dispersió!$E$38+'Càlculs interns'!F105)^dispersió!$D$10)*(2*LN('Càlculs interns'!G105/dispersió!$O$45))^(1/2),0)","v":1.143441379737812},-1.143441379737812,null,11.513234646215926,{"$f":"IFERROR((letalitat!$P$9*1000)/((3.14159*dispersió!$C$10*((dispersió!$E$38+K105)^dispersió!$D$10)*dispersió!$E$10*((dispersió!$F$38+K105)^dispersió!$F$10)+dispersió!$C$24*dispersió!$D$38)*dispersió!$C$12),0)","v":0.58983476047887895},{"$f":"IFERROR(dispersió!$C$10*((dispersió!$E$38+'Càlculs interns'!K105)^dispersió!$D$10)*(2*LN('Càlculs interns'!L105/dispersió!$O$52))^(1/2),0)","v":0.71366298476450329},-0.71366298476450329,null,0.45271338617209783,{"$f":"IFERROR((letalitat!$P$9*1000)/((3.14159*dispersió!$C$10*((dispersió!$E$38+P105)^dispersió!$D$10)*dispersió!$E$10*((dispersió!$F$38+P105)^dispersió!$F$10)+dispersió!$C$24*dispersió!$D$38)*dispersió!$C$12),0)","v":1.1145206785511728},{"$f":"IFERROR(dispersió!$C$10*((dispersió!$E$38+'Càlculs interns'!P105)^dispersió!$D$10)*(2*LN('Càlculs interns'!Q105/dispersió!$O$59))^(1/2),0)","v":9.0651016009223498E-2},-9.0651016009223498E-2]
[30.525298740091788,{"$f":"IFERROR((letalitat!$P$9*1000)/((3.14159*dispersió!$C$10*((dispersió!$E$38+A106)^dispersió!$D$10)*dispersió!$E$10*((dispersió!$F$38+A106)^dispersió!$F$10)+dispersió!$C$24*dispersió!$D$38)*dispersió!$C$12),0)","v":0.28395207055412236},{"$f":"IFERROR(dispersió!$C$10*((dispersió!$E$38+'Càlculs interns'!A106)^dispersió!$D$10)*(2*LN('Càlculs interns'!B106/dispersió!$O$38))^(1/2),0)","v":1.3173024809253089},-1.3173024809253089,null,20.966123849213435,{"$f":"IFERROR((letalitat!$P$9*1000)/((3.14159*dispersió!$C$10*((dispersió!$E$38+F106)^dispersió!$D$10)*dispersió!$E$10*((dispersió!$F$38+F106)^dispersió!$F$10)+dispersió!$C$24*dispersió!$D$38)*dispersió!$C$12),0)","v":0.39442441665903294},{"$f":"IFERROR(dispersió!$C$10*((dispersió!$E$38+'Càlculs interns'!F106)^dispersió!$D$10)*(2*LN('Càlculs interns'!G106/dispersió!$O$45))^(1/2),0)","v":0.94572973743534816},-0.94572973743534816,null,11.939650744223924,{"$f":"IFERROR((letalitat!$P$9*1000)/((3.14159*dispersió!$C$10*((dispersió!$E$38+K106)^dispersió!$D$10)*dispersió!$E$10*((dispersió!$F$38+K106)^dispersió!$F$10)+dispersió!$C$24*dispersió!$D$38)*dispersió!$C$12),0)","v":0.57795325826455435},{"$f":"IFERROR(dispersió!$C$10*((dispersió!$E$38+'Càlculs interns'!K106)^dispersió!$D$10)*(2*LN('Càlculs interns'!L106/dispersió!$O$52))^(1/2),0)","v":0.58932515023646048},-0.58932515023646048,null,0.46948054862291627,{"$f":"IFERROR((letalitat!$P$9*1000)/((3.14159*dispersió!$C$10*((dispersió!$E$38+P106)^dispersió!$D$10)*dispersió!$E$10*((dispersió!$F$38+P106)^dispersió!$F$10)+dispersió!$C$24*dispersió!$D$38)*dispersió!$C$12),0)","v":1.1132167592836655},{"$f":"IFERROR(dispersió!$C$10*((dispersió!$E$38+'Càlculs interns'!P106)^dispersió!$D$10)*(2*LN('Càlculs interns'!Q106/dispersió!$O$59))^(1/2),0)","v":7.4109460341531486E-2},-7.4109460341531486E-2]
[31.615487980809352,{"$f":"IFERROR((letalitat!$P$9*1000)/((3.14159*dispersió!$C$10*((dispersió!$E$38+A107)^dispersió!$D$10)*dispersió!$E$10*((dispersió!$F$38+A107)^dispersió!$F$10)+dispersió!$C$24*dispersió!$D$38)*dispersió!$C$12),0)","v":0.27453122408794961},{"$f":"IFERROR(dispersió!$C$10*((dispersió!$E$38+'Càlculs interns'!A107)^dispersió!$D$10)*(2*LN('Càlculs interns'!B107/dispersió!$O$38))^(1/2),0)","v":0.9340668140762155},-0.9340668140762155,null,21.714913986685342,{"$f":"IFERROR((letalitat!$P$9*1000)/((3.14159*dispersió!$C$10*((dispersió!$E$38+F107)^dispersió!$D$10)*dispersió!$E$10*((dispersió!$F$38+F107)^dispersió!$F$10)+dispersió!$C$24*dispersió!$D$38)*dispersió!$C$12),0)","v":0.38347198085618328},{"$f":"IFERROR(dispersió!$C$10*((dispersió!$E$38+'Càlculs interns'!F107)^dispersió!$D$10)*(2*LN('Càlculs interns'!G107/dispersió!$O$45))^(1/2),0)","v":0.67015143157602142},-0.67015143157602142,null,12.366066842231922,{"$f":"IFERROR((letalitat!$P$9*1000)/((3.14159*dispersió!$C$10*((dispersió!$E$38+K107)^dispersió!$D$10)*dispersió!$E$10*((dispersió!$F$38+K107)^dispersió!$F$10)+dispersió!$C$24*dispersió!$D$38)*dispersió!$C$12),0)","v":0.56644682767215637},{"$f":"IFERROR(dispersió!$C$10*((dispersió!$E$38+'Càlculs interns'!K107)^dispersió!$D$10)*(2*LN('Càlculs interns'!L107/dispersió!$O$52))^(1/2),0)","v":0.41840920783524116},-0.41840920783524116,null,0.48624771107373471,{"$f":"IFERROR((letalitat!$P$9*1000)/((3.14159*dispersió!$C$10*((dispersió!$E$38+P107)^dispersió!$D$10)*dispersió!$E$10*((dispersió!$F$38+P107)^dispersió!$F$10)+dispersió!$C$24*dispersió!$D$38)*dispersió!$C$12),0)","v":1.1119152761284061},{"$f":"IFERROR(dispersió!$C$10*((dispersió!$E$38+'Càlculs interns'!P107)^dispersió!$D$10)*(2*LN('Càlculs interns'!Q107/dispersió!$O$59))^(1/2),0)","v":5.2469184313945948E-2},-5.2469184313945948E-2]
[{"$f":"dispersió!G38","v":32.705677221526919},{"$f":"IFERROR((letalitat!$P$9*1000)/((3.14159*dispersió!$C$10*((dispersió!$E$38+A108)^dispersió!$D$10)*dispersió!$E$10*((dispersió!$F$38+A108)^dispersió!$F$10)+dispersió!$C$24*dispersió!$D$38)*dispersió!$C$12),0)","v":0.26559756944072638},{"$f":"IFERROR(dispersió!$C$10*((dispersió!$E$38+'Càlculs interns'!A108)^dispersió!$D$10)*(2*LN('Càlculs interns'!B108/dispersió!$O$38))^(1/2),0)","v":0},0,null,{"$f":"dispersió!G45","v":22.463704124157253},{"$f":"IFERROR((letalitat!$P$9*1000)/((3.14159*dispersió!$C$10*((dispersió!$E$38+F108)^dispersió!$D$10)*dispersió!$E$10*((dispersió!$F$38+F108)^dispersió!$F$10)+dispersió!$C$24*dispersió!$D$38)*dispersió!$C$12),0)","v":0.37299447677108027},{"$f":"IFERROR(dispersió!$C$10*((dispersió!$E$38+'Càlculs interns'!F108)^dispersió!$D$10)*(2*LN('Càlculs interns'!G108/dispersió!$O$45))^(1/2),0)","v":0},0,null,{"$f":"dispersió!G52","v":12.792482940239916},{"$f":"IFERROR((letalitat!$P$9*1000)/((3.14159*dispersió!$C$10*((dispersió!$E$38+K108)^dispersió!$D$10)*dispersió!$E$10*((dispersió!$F$38+K108)^dispersió!$F$10)+dispersió!$C$24*dispersió!$D$38)*dispersió!$C$12),0)","v":0.55529944402938647},{"$f":"IFERROR(dispersió!$C$10*((dispersió!$E$38+'Càlculs interns'!K108)^dispersió!$D$10)*(2*LN('Càlculs interns'!L108/dispersió!$O$52))^(1/2),0)","v":0},0,null,{"$f":"dispersió!G59","v":0.50301487352455299},{"$f":"IFERROR((letalitat!$P$9*1000)/((3.14159*dispersió!$C$10*((dispersió!$E$38+P108)^dispersió!$D$10)*dispersió!$E$10*((dispersió!$F$38+P108)^dispersió!$F$10)+dispersió!$C$24*dispersió!$D$38)*dispersió!$C$12),0)","v":1.1106162227357765},{"$f":"IFERROR(dispersió!$C$10*((dispersió!$E$38+'Càlculs interns'!P108)^dispersió!$D$10)*(2*LN('Càlculs interns'!Q108/dispersió!$O$59))^(1/2),0)","v":0},0]
[]
["Est. F"]
["LC1",null,"LC1+","LC1-",null,"LC10",null,"LC10+","LC10-",null,"LC50",null,"LC50+","LC50-",null,"LC99",null,"LC99+","LC99-"]
["X","C(x)","y+","y-",null,"X","C(x)","y+","y-",null,"X","C(x)","y+","y-",null,"X","C(x)","y+","y-"]
[0,{"$f":"IFERROR((letalitat!$P$9*1000)/((3.14159*dispersió!$I$10*((dispersió!$J$38+A113)^dispersió!$J$10)*dispersió!$K$10*((dispersió!$K$38+A113)^dispersió!$L$10)+dispersió!$C$24*dispersió!$D$38)*dispersió!$I$12),0)","v":3.5405266578129755},{"$f":"IFERROR(dispersió!$I$10*((dispersió!$J$38+'Càlculs interns'!A113)^dispersió!$J$10)*(2*LN('Càlculs interns'!B113/dispersió!$O$38))^(1/2),0)","v":2.3661667316655213},{"$f":"-C113","v":-2.3661667316655213},null,0,{"$f":"IFERROR((letalitat!$P$9*1000)/((3.14159*dispersió!$I$10*((dispersió!$J$38+F113)^dispersió!$J$10)*dispersió!$K$10*((dispersió!$K$38+F113)^dispersió!$L$10)+dispersió!$C$24*dispersió!$D$38)*dispersió!$I$12),0)","v":3.5405266578129755},{"$f":"IFERROR(dispersió!$I$10*((dispersió!$J$38+'Càlculs interns'!F113)^dispersió!$J$10)*(2*LN('Càlculs interns'!G113/dispersió!$O$45))^(1/2),0)","v":2.205680525393368},{"$f":"-H113","v":-2.205680525393368},null,0,{"$f":"IFERROR((letalitat!$P$9*1000)/((3.14159*dispersió!$I$10*((dispersió!$J$38+K113)^dispersió!$J$10)*dispersió!$K$10*((dispersió!$K$38+K113)^dispersió!$L$10)+dispersió!$C$24*dispersió!$D$38)*dispersió!$I$12),0)","v":3.5405266578129755},{"$f":"IFERROR(dispersió!$I$10*((dispersió!$J$38+'Càlculs interns'!K113)^dispersió!$J$10)*(2*LN('Càlculs interns'!L113/dispersió!$O$52))^(1/2),0)","v":2.00147644282251},{"$f":"-M113","v":-2.00147644282251},null,0,{"$f":"IFERROR((letalitat!$P$9*1000)/((3.14159*dispersió!$I$10*((dispersió!$J$38+P113)^dispersió!$J$10)*dispersió!$K$10*((dispersió!$K$38+P113)^dispersió!$L$10)+dispersió!$C$24*dispersió!$D$38)*dispersió!$I$12),0)","v":3.5405266578129755},{"$f":"IFERROR(dispersió!$I$10*((dispersió!$J$38+'Càlculs interns'!P113)^dispersió!$J$10)*(2*LN('Càlculs interns'!Q113/dispersió!$O$59))^(1/2),0)","v":1.5836922255474712},{"$f":"-R113","v":-1.5836922255474712}]
[{"$f":"A143/30","v":8.0023805234557717},{"$f":"IFERROR((letalitat!$P$9*1000)/((3.14159*dispersió!$I$10*((dispersió!$J$38+A114)^dispersió!$J$10)*dispersió!$K$10*((dispersió!$K$38+A114)^dispersió!$L$10)+dispersió!$C$24*dispersió!$D$38)*dispersió!$I$12),0)","v":2.8387950511912505},{"$f":"IFERROR(dispersió!$I$10*((dispersió!$J$38+'Càlculs interns'!A114)^dispersió!$J$10)*(2*LN('Càlculs interns'!B114/dispersió!$O$38))^(1/2),0)","v":3.0061330811756783},-3.0061330811756783,null,{"$f":"F143/30","v":6.0735563432688329},{"$f":"IFERROR((letalitat!$P$9*1000)/((3.14159*dispersió!$I$10*((dispersió!$J$38+F114)^dispersió!$J$10)*dispersió!$K$10*((dispersió!$K$38+F114)^dispersió!$L$10)+dispersió!$C$24*dispersió!$D$38)*dispersió!$I$12),0)","v":2.9841388539521314},{"$f":"IFERROR(dispersió!$I$10*((dispersió!$J$38+'Càlculs interns'!F114)^dispersió!$J$10)*(2*LN('Càlculs interns'!G114/dispersió!$O$45))^(1/2),0)","v":2.6505656960506849},{"$f":"-H114","v":-2.6505656960506849},null,{"$f":"K143/30","v":4.2453844515678227},{"$f":"IFERROR((letalitat!$P$9*1000)/((3.14159*dispersió!$I$10*((dispersió!$J$38+K114)^dispersió!$J$10)*dispersió!$K$10*((dispersió!$K$38+K114)^dispersió!$L$10)+dispersió!$C$24*dispersió!$D$38)*dispersió!$I$12),0)","v":3.1344259283603479},{"$f":"IFERROR(dispersió!$I$10*((dispersió!$J$38+'Càlculs interns'!K114)^dispersió!$J$10)*(2*LN('Càlculs interns'!L114/dispersió!$O$52))^(1/2),0)","v":2.2739952695804626},{"$f":"-M114","v":-2.2739952695804626},null,{"$f":"P143/30","v":2.018927495511039},{"$f":"IFERROR((letalitat!$P$9*1000)/((3.14159*dispersió!$I$10*((dispersió!$J$38+P114)^dispersió!$J$10)*dispersió!$K$10*((dispersió!$K$38+P114)^dispersió!$L$10)+dispersió!$C$24*dispersió!$D$38)*dispersió!$I$12),0)","v":3.3364188314041381},{"$f":"IFERROR(dispersió!$I$10*((dispersió!$J$38+'Càlculs interns'!P114)^dispersió!$J$10)*(2*LN('Càlculs interns'!Q114/dispersió!$O$59))^(1/2),0)","v":1.6719333914329679},{"$f":"-R114","v":-1.6719333914329679}]
[{"$f":"A$114+A114","v":16.004761046911543},{"$f":"IFERROR((letalitat!$P$9*1000)/((3.14159*dispersió!$I$10*((dispersió!$J$38+A115)^dispersió!$J$10)*dispersió!$K$10*((dispersió!$K$38+A115)^dispersió!$L$10)+dispersió!$C$24*dispersió!$D$38)*dispersió!$I$12),0)","v":2.3489631579486483},{"$f":"IFERROR(dispersió!$I$10*((dispersió!$J$38+'Càlculs interns'!A115)^dispersió!$J$10)*(2*LN('Càlculs interns'!B115/dispersió!$O$38))^(1/2),0)","v":3.5773397169407688},-3.5773397169407688,null,{"$f":"F$114+F114","v":12.147112686537666},{"$f":"IFERROR((letalitat!$P$9*1000)/((3.14159*dispersió!$I$10*((dispersió!$J$38+F115)^dispersió!$J$10)*dispersió!$K$10*((dispersió!$K$38+F115)^dispersió!$L$10)+dispersió!$C$24*dispersió!$D$38)*dispersió!$I$12),0)","v":2.5650952136902005},{"$f":"IFERROR(dispersió!$I$10*((dispersió!$J$38+'Càlculs interns'!F115)^dispersió!$J$10)*(2*LN('Càlculs interns'!G115/dispersió!$O$45))^(1/2),0)","v":3.0519894055985195},-3.0519894055985195,null,{"$f":"K$114+K114","v":8.4907689031356455},{"$f":"IFERROR((letalitat!$P$9*1000)/((3.14159*dispersió!$I$10*((dispersió!$J$38+K115)^dispersió!$J$10)*dispersió!$K$10*((dispersió!$K$38+K115)^dispersió!$L$10)+dispersió!$C$24*dispersió!$D$38)*dispersió!$I$12),0)","v":2.8039479007810937},{"$f":"IFERROR(dispersió!$I$10*((dispersió!$J$38+'Càlculs interns'!K115)^dispersió!$J$10)*(2*LN('Càlculs interns'!L115/dispersió!$O$52))^(1/2),0)","v":2.5226481211076126},-2.5226481211076126,null,{"$f":"P$114+P114","v":4.037854991022078},{"$f":"IFERROR((letalitat!$P$9*1000)/((3.14159*dispersió!$I$10*((dispersió!$J$38+P115)^dispersió!$J$10)*dispersió!$K$10*((dispersió!$K$38+P115)^dispersió!$L$10)+dispersió!$C$24*dispersió!$D$38)*dispersió!$I$12),0)","v":3.1523303247753658},{"$f":"IFERROR(dispersió!$I$10*((dispersió!$J$38+'Càlculs interns'!P115)^dispersió!$J$10)*(2*LN('Càlculs interns'!Q115/dispersió!$O$59))^(1/2),0)","v":1.7531261549224364},-1.7531261549224364]
[{"$f":"A$114+A115","v":24.007141570367317},{"$f":"IFERROR((letalitat!$P$9*1000)/((3.14159*dispersió!$I$10*((dispersió!$J$38+A116)^dispersió!$J$10)*dispersió!$K$10*((dispersió!$K$38+A116)^dispersió!$L$10)+dispersió!$C$24*dispersió!$D$38)*dispersió!$I$12),0)","v":1.9886233998491196},{"$f":"IFERROR(dispersió!$I$10*((dispersió!$J$38+'Càlculs interns'!A116)^dispersió!$J$10)*(2*LN('Càlculs interns'!B116/dispersió!$O$38))^(1/2),0)","v":4.0908937879144753},-4.0908937879144753,null,{"$f":"F$114+F115","v":18.220669029806498},{"$f":"IFERROR((letalitat!$P$9*1000)/((3.14159*dispersió!$I$10*((dispersió!$J$38+F116)^dispersió!$J$10)*dispersió!$K$10*((dispersió!$K$38+F116)^dispersió!$L$10)+dispersió!$C$24*dispersió!$D$38)*dispersió!$I$12),0)","v":2.2385784378532869},{"$f":"IFERROR(dispersió!$I$10*((dispersió!$J$38+'Càlculs interns'!F116)^dispersió!$J$10)*(2*LN('Càlculs interns'!G116/dispersió!$O$45))^(1/2),0)","v":3.4154787382215361},-3.4154787382215361,null,{"$f":"K$114+K115","v":12.736153354703468},{"$f":"IFERROR((letalitat!$P$9*1000)/((3.14159*dispersió!$I$10*((dispersió!$J$38+K116)^dispersió!$J$10)*dispersió!$K$10*((dispersió!$K$38+K116)^dispersió!$L$10)+dispersió!$C$24*dispersió!$D$38)*dispersió!$I$12),0)","v":2.5299105068651992},{"$f":"IFERROR(dispersió!$I$10*((dispersió!$J$38+'Càlculs interns'!K116)^dispersió!$J$10)*(2*LN('Càlculs interns'!L116/dispersió!$O$52))^(1/2),0)","v":2.74954691188392},-2.74954691188392,null,{"$f":"P$114+P115","v":6.056782486533117},{"$f":"IFERROR((letalitat!$P$9*1000)/((3.14159*dispersió!$I$10*((dispersió!$J$38+P116)^dispersió!$J$10)*dispersió!$K$10*((dispersió!$K$38+P116)^dispersió!$L$10)+dispersió!$C$24*dispersió!$D$38)*dispersió!$I$12),0)","v":2.9854598738608327},{"$f":"IFERROR(dispersió!$I$10*((dispersió!$J$38+'Càlculs interns'!P116)^dispersió!$J$10)*(2*LN('Càlculs interns'!Q116/dispersió!$O$59))^(1/2),0)","v":1.8274785880384394},-1.8274785880384394]
[32.009522093823087,{"$f":"IFERROR((letalitat!$P$9*1000)/((3.14159*dispersió!$I$10*((dispersió!$J$38+A117)^dispersió!$J$10)*dispersió!$K$10*((dispersió!$K$38+A117)^dispersió!$L$10)+dispersió!$C$24*dispersió!$D$38)*dispersió!$I$12),0)","v":1.713332707361318},{"$f":"IFERROR(dispersió!$I$10*((dispersió!$J$38+'Càlculs interns'!A117)^dispersió!$J$10)*(2*LN('Càlculs interns'!B117/dispersió!$O$38))^(1/2),0)","v":4.5540702288518009},-4.5540702288518009,null,24.294225373075331,{"$f":"IFERROR((letalitat!$P$9*1000)/((3.14159*dispersió!$I$10*((dispersió!$J$38+F117)^dispersió!$J$10)*dispersió!$K$10*((dispersió!$K$38+F117)^dispersió!$L$10)+dispersió!$C$24*dispersió!$D$38)*dispersió!$I$12),0)","v":1.9774724517945377},{"$f":"IFERROR(dispersió!$I$10*((dispersió!$J$38+'Càlculs interns'!F117)^dispersió!$J$10)*(2*LN('Càlculs interns'!G117/dispersió!$O$45))^(1/2),0)","v":3.7448868864872344},-3.7448868864872344,null,16.981537806271291,{"$f":"IFERROR((letalitat!$P$9*1000)/((3.14159*dispersió!$I$10*((dispersió!$J$38+K117)^dispersió!$J$10)*dispersió!$K$10*((dispersió!$K$38+K117)^dispersió!$L$10)+dispersió!$C$24*dispersió!$D$38)*dispersió!$I$12),0)","v":2.2991763571950243},{"$f":"IFERROR(dispersió!$I$10*((dispersió!$J$38+'Càlculs interns'!K117)^dispersió!$J$10)*(2*LN('Càlculs interns'!L117/dispersió!$O$52))^(1/2),0)","v":2.9562635648370166},-2.9562635648370166,null,8.075709982044156,{"$f":"IFERROR((letalitat!$P$9*1000)/((3.14159*dispersió!$I$10*((dispersió!$J$38+P117)^dispersió!$J$10)*dispersió!$K$10*((dispersió!$K$38+P117)^dispersió!$L$10)+dispersió!$C$24*dispersió!$D$38)*dispersió!$I$12),0)","v":2.8335147129199623},{"$f":"IFERROR(dispersió!$I$10*((dispersió!$J$38+'Càlculs interns'!P117)^dispersió!$J$10)*(2*LN('Càlculs interns'!Q117/dispersió!$O$59))^(1/2),0)","v":1.8951508939673221},-1.8951508939673221]
[40.011902617278857,{"$f":"IFERROR((letalitat!$P$9*1000)/((3.14159*dispersió!$I$10*((dispersió!$J$38+A118)^dispersió!$J$10)*dispersió!$K$10*((dispersió!$K$38+A118)^dispersió!$L$10)+dispersió!$C$24*dispersió!$D$38)*dispersió!$I$12),0)","v":1.4968791291209553},{"$f":"IFERROR(dispersió!$I$10*((dispersió!$J$38+'Càlculs interns'!A118)^dispersió!$J$10)*(2*LN('Càlculs interns'!B118/dispersió!$O$38))^(1/2),0)","v":4.9719624304603824},-4.9719624304603824,null,30.367781716344165,{"$f":"IFERROR((letalitat!$P$9*1000)/((3.14159*dispersió!$I$10*((dispersió!$J$38+F118)^dispersió!$J$10)*dispersió!$K$10*((dispersió!$K$38+F118)^dispersió!$L$10)+dispersió!$C$24*dispersió!$D$38)*dispersió!$I$12),0)","v":1.7643343400553824},{"$f":"IFERROR(dispersió!$I$10*((dispersió!$J$38+'Càlculs interns'!F118)^dispersió!$J$10)*(2*LN('Càlculs interns'!G118/dispersió!$O$45))^(1/2),0)","v":4.0430198708019462},-4.0430198708019462,null,21.226922257839114,{"$f":"IFERROR((letalitat!$P$9*1000)/((3.14159*dispersió!$I$10*((dispersió!$J$38+K118)^dispersió!$J$10)*dispersió!$K$10*((dispersió!$K$38+K118)^dispersió!$L$10)+dispersió!$C$24*dispersió!$D$38)*dispersió!$I$12),0)","v":2.1024163909119649},{"$f":"IFERROR(dispersió!$I$10*((dispersió!$J$38+'Càlculs interns'!K118)^dispersió!$J$10)*(2*LN('Càlculs interns'!L118/dispersió!$O$52))^(1/2),0)","v":3.1439917340589045},-3.1439917340589045,null,10.094637477555196,{"$f":"IFERROR((letalitat!$P$9*1000)/((3.14159*dispersió!$I$10*((dispersió!$J$38+P118)^dispersió!$J$10)*dispersió!$K$10*((dispersió!$K$38+P118)^dispersió!$L$10)+dispersió!$C$24*dispersió!$D$38)*dispersió!$I$12),0)","v":2.6945978475877785},{"$f":"IFERROR(dispersió!$I$10*((dispersió!$J$38+'Càlculs interns'!P118)^dispersió!$J$10)*(2*LN('Càlculs interns'!Q118/dispersió!$O$59))^(1/2),0)","v":1.9562618503332305},-1.9562618503332305]
[48.014283140734626,{"$f":"IFERROR((letalitat!$P$9*1000)/((3.14159*dispersió!$I$10*((dispersió!$J$38+A119)^dispersió!$J$10)*dispersió!$K$10*((dispersió!$K$38+A119)^dispersió!$L$10)+dispersió!$C$24*dispersió!$D$38)*dispersió!$I$12),0)","v":1.3227694097225173},{"$f":"IFERROR(dispersió!$I$10*((dispersió!$J$38+'Càlculs interns'!A119)^dispersió!$J$10)*(2*LN('Càlculs interns'!B119/dispersió!$O$38))^(1/2),0)","v":5.3482841268224588},-5.3482841268224588,null,36.441338059612995,{"$f":"IFERROR((letalitat!$P$9*1000)/((3.14159*dispersió!$I$10*((dispersió!$J$38+F119)^dispersió!$J$10)*dispersió!$K$10*((dispersió!$K$38+F119)^dispersió!$L$10)+dispersió!$C$24*dispersió!$D$38)*dispersió!$I$12),0)","v":1.5874072362783209},{"$f":"IFERROR(dispersió!$I$10*((dispersió!$J$38+'Càlculs interns'!F119)^dispersió!$J$10)*(2*LN('Càlculs interns'!G119/dispersió!$O$45))^(1/2),0)","v":4.3119749349981831},-4.3119749349981831,null,25.472306709406936,{"$f":"IFERROR((letalitat!$P$9*1000)/((3.14159*dispersió!$I$10*((dispersió!$J$38+K119)^dispersió!$J$10)*dispersió!$K$10*((dispersió!$K$38+K119)^dispersió!$L$10)+dispersió!$C$24*dispersió!$D$38)*dispersió!$I$12),0)","v":1.9328092767357092},{"$f":"IFERROR(dispersió!$I$10*((dispersió!$J$38+'Càlculs interns'!K119)^dispersió!$J$10)*(2*LN('Càlculs interns'!L119/dispersió!$O$52))^(1/2),0)","v":3.3136453705670106},-3.3136453705670106,null,12.113564973066236,{"$f":"IFERROR((letalitat!$P$9*1000)/((3.14159*dispersió!$I$10*((dispersió!$J$38+P119)^dispersió!$J$10)*dispersió!$K$10*((dispersió!$K$38+P119)^dispersió!$L$10)+dispersió!$C$24*dispersió!$D$38)*dispersió!$I$12),0)","v":2.5671246136315347},{"$f":"IFERROR(dispersió!$I$10*((dispersió!$J$38+'Càlculs interns'!P119)^dispersió!$J$10)*(2*LN('Càlculs interns'!Q119/dispersió!$O$59))^(1/2),0)","v":2.0108932612297479},{"$f":"-R119","v":-2.0108932612297479}]
[56.016663664190396,{"$f":"IFERROR((letalitat!$P$9*1000)/((3.14159*dispersió!$I$10*((dispersió!$J$38+A120)^dispersió!$J$10)*dispersió!$K$10*((dispersió!$K$38+A120)^dispersió!$L$10)+dispersió!$C$24*dispersió!$D$38)*dispersió!$I$12),0)","v":1.1801002412320039},{"$f":"IFERROR(dispersió!$I$10*((dispersió!$J$38+'Càlculs interns'!A120)^dispersió!$J$10)*(2*LN('Càlculs interns'!B120/dispersió!$O$38))^(1/2),0)","v":5.6858073642363651},-5.6858073642363651,null,42.514894402881829,{"$f":"IFERROR((letalitat!$P$9*1000)/((3.14159*dispersió!$I$10*((dispersió!$J$38+F120)^dispersió!$J$10)*dispersió!$K$10*((dispersió!$K$38+F120)^dispersió!$L$10)+dispersió!$C$24*dispersió!$D$38)*dispersió!$I$12),0)","v":1.438468361846716},{"$f":"IFERROR(dispersió!$I$10*((dispersió!$J$38+'Càlculs interns'!F120)^dispersió!$J$10)*(2*LN('Càlculs interns'!G120/dispersió!$O$45))^(1/2),0)","v":4.5533391033780903},-4.5533391033780903,null,29.717691160974759,{"$f":"IFERROR((letalitat!$P$9*1000)/((3.14159*dispersió!$I$10*((dispersió!$J$38+K120)^dispersió!$J$10)*dispersió!$K$10*((dispersió!$K$38+K120)^dispersió!$L$10)+dispersió!$C$24*dispersió!$D$38)*dispersió!$I$12),0)","v":1.7852450635880528},{"$f":"IFERROR(dispersió!$I$10*((dispersió!$J$38+'Càlculs interns'!K120)^dispersió!$J$10)*(2*LN('Càlculs interns'!L120/dispersió!$O$52))^(1/2),0)","v":3.4659217059558354},-3.4659217059558354,null,14.132492468577276,{"$f":"IFERROR((letalitat!$P$9*1000)/((3.14159*dispersió!$I$10*((dispersió!$J$38+P120)^dispersió!$J$10)*dispersió!$K$10*((dispersió!$K$38+P120)^dispersió!$L$10)+dispersió!$C$24*dispersió!$D$38)*dispersió!$I$12),0)","v":2.4497598639102094},{"$f":"IFERROR(dispersió!$I$10*((dispersió!$J$38+'Càlculs interns'!P120)^dispersió!$J$10)*(2*LN('Càlculs interns'!Q120/dispersió!$O$59))^(1/2),0)","v":2.0590928948131406},-2.0590928948131406]
[64.019044187646173,{"$f":"IFERROR((letalitat!$P$9*1000)/((3.14159*dispersió!$I$10*((dispersió!$J$38+A121)^dispersió!$J$10)*dispersió!$K$10*((dispersió!$K$38+A121)^dispersió!$L$10)+dispersió!$C$24*dispersió!$D$38)*dispersió!$I$12),0)","v":1.0613762975920986},{"$f":"IFERROR(dispersió!$I$10*((dispersió!$J$38+'Càlculs interns'!A121)^dispersió!$J$10)*(2*LN('Càlculs interns'!B121/dispersió!$O$38))^(1/2),0)","v":5.9866213398483259},-5.9866213398483259,null,48.588450746150663,{"$f":"IFERROR((letalitat!$P$9*1000)/((3.14159*dispersió!$I$10*((dispersió!$J$38+F121)^dispersió!$J$10)*dispersió!$K$10*((dispersió!$K$38+F121)^dispersió!$L$10)+dispersió!$C$24*dispersió!$D$38)*dispersió!$I$12),0)","v":1.3115909573582929},{"$f":"IFERROR(dispersió!$I$10*((dispersió!$J$38+'Càlculs interns'!F121)^dispersió!$J$10)*(2*LN('Càlculs interns'!G121/dispersió!$O$45))^(1/2),0)","v":4.7683124896191016},-4.7683124896191016,null,33.963075612542582,{"$f":"IFERROR((letalitat!$P$9*1000)/((3.14159*dispersió!$I$10*((dispersió!$J$38+K121)^dispersió!$J$10)*dispersió!$K$10*((dispersió!$K$38+K121)^dispersió!$L$10)+dispersió!$C$24*dispersió!$D$38)*dispersió!$I$12),0)","v":1.6558168181390172},{"$f":"IFERROR(dispersió!$I$10*((dispersió!$J$38+'Càlculs interns'!K121)^dispersió!$J$10)*(2*LN('Càlculs interns'!L121/dispersió!$O$52))^(1/2),0)","v":3.6013426945517719},-3.6013426945517719,null,16.151419964088316,{"$f":"IFERROR((letalitat!$P$9*1000)/((3.14159*dispersió!$I$10*((dispersió!$J$38+P121)^dispersió!$J$10)*dispersió!$K$10*((dispersió!$K$38+P121)^dispersió!$L$10)+dispersió!$C$24*dispersió!$D$38)*dispersió!$I$12),0)","v":2.3413699757284885},{"$f":"IFERROR(dispersió!$I$10*((dispersió!$J$38+'Càlculs interns'!P121)^dispersió!$J$10)*(2*LN('Càlculs interns'!Q121/dispersió!$O$59))^(1/2),0)","v":2.1008762011977904},-2.1008762011977904]
[72.021424711101943,{"$f":"IFERROR((letalitat!$P$9*1000)/((3.14159*dispersió!$I$10*((dispersió!$J$38+A122)^dispersió!$J$10)*dispersió!$K$10*((dispersió!$K$38+A122)^dispersió!$L$10)+dispersió!$C$24*dispersió!$D$38)*dispersió!$I$12),0)","v":0.961278350641811},{"$f":"IFERROR(dispersió!$I$10*((dispersió!$J$38+'Càlculs interns'!A122)^dispersió!$J$10)*(2*LN('Càlculs interns'!B122/dispersió!$O$38))^(1/2),0)","v":6.2522937273227557},-6.2522937273227557,null,54.662007089419497,{"$f":"IFERROR((letalitat!$P$9*1000)/((3.14159*dispersió!$I$10*((dispersió!$J$38+F122)^dispersió!$J$10)*dispersió!$K$10*((dispersió!$K$38+F122)^dispersió!$L$10)+dispersió!$C$24*dispersió!$D$38)*dispersió!$I$12),0)","v":1.2023948242885996},{"$f":"IFERROR(dispersió!$I$10*((dispersió!$J$38+'Càlculs interns'!F122)^dispersió!$J$10)*(2*LN('Càlculs interns'!G122/dispersió!$O$45))^(1/2),0)","v":4.9577876763940081},-4.9577876763940081,null,38.208460064110405,{"$f":"IFERROR((letalitat!$P$9*1000)/((3.14159*dispersió!$I$10*((dispersió!$J$38+K122)^dispersió!$J$10)*dispersió!$K$10*((dispersió!$K$38+K122)^dispersió!$L$10)+dispersió!$C$24*dispersió!$D$38)*dispersió!$I$12),0)","v":1.5414846774666771},{"$f":"IFERROR(dispersió!$I$10*((dispersió!$J$38+'Càlculs interns'!K122)^dispersió!$J$10)*(2*LN('Càlculs interns'!L122/dispersió!$O$52))^(1/2),0)","v":3.7202825594053981},-3.7202825594053981,null,18.170347459599355,{"$f":"IFERROR((letalitat!$P$9*1000)/((3.14159*dispersió!$I$10*((dispersió!$J$38+P122)^dispersió!$J$10)*dispersió!$K$10*((dispersió!$K$38+P122)^dispersió!$L$10)+dispersió!$C$24*dispersió!$D$38)*dispersió!$I$12),0)","v":2.2409856932011585},{"$f":"IFERROR(dispersió!$I$10*((dispersió!$J$38+'Càlculs interns'!P122)^dispersió!$J$10)*(2*LN('Càlculs interns'!Q122/dispersió!$O$59))^(1/2),0)","v":2.1362269815029524},-2.1362269815029524]
[80.023805234557713,{"$f":"IFERROR((letalitat!$P$9*1000)/((3.14159*dispersió!$I$10*((dispersió!$J$38+A123)^dispersió!$J$10)*dispersió!$K$10*((dispersió!$K$38+A123)^dispersió!$L$10)+dispersió!$C$24*dispersió!$D$38)*dispersió!$I$12),0)","v":0.87593014843412798},{"$f":"IFERROR(dispersió!$I$10*((dispersió!$J$38+'Càlculs interns'!A123)^dispersió!$J$10)*(2*LN('Càlculs interns'!B123/dispersió!$O$38))^(1/2),0)","v":6.4839744652979059},-6.4839744652979059,null,60.73556343268833,{"$f":"IFERROR((letalitat!$P$9*1000)/((3.14159*dispersió!$I$10*((dispersió!$J$38+F123)^dispersió!$J$10)*dispersió!$K$10*((dispersió!$K$38+F123)^dispersió!$L$10)+dispersió!$C$24*dispersió!$D$38)*dispersió!$I$12),0)","v":1.1075733579848657},{"$f":"IFERROR(dispersió!$I$10*((dispersió!$J$38+'Càlculs interns'!F123)^dispersió!$J$10)*(2*LN('Càlculs interns'!G123/dispersió!$O$45))^(1/2),0)","v":5.1224015809126522},-5.1224015809126522,null,42.453844515678227,{"$f":"IFERROR((letalitat!$P$9*1000)/((3.14159*dispersió!$I$10*((dispersió!$J$38+K123)^dispersió!$J$10)*dispersió!$K$10*((dispersió!$K$38+K123)^dispersió!$L$10)+dispersió!$C$24*dispersió!$D$38)*dispersió!$I$12),0)","v":1.4398472500413286},{"$f":"IFERROR(dispersió!$I$10*((dispersió!$J$38+'Càlculs interns'!K123)^dispersió!$J$10)*(2*LN('Càlculs interns'!L123/dispersió!$O$52))^(1/2),0)","v":3.8229857980944173},-3.8229857980944173,null,20.189274955110395,{"$f":"IFERROR((letalitat!$P$9*1000)/((3.14159*dispersió!$I$10*((dispersió!$J$38+P123)^dispersió!$J$10)*dispersió!$K$10*((dispersió!$K$38+P123)^dispersió!$L$10)+dispersió!$C$24*dispersió!$D$38)*dispersió!$I$12),0)","v":2.1477730147398235},{"$f":"IFERROR(dispersió!$I$10*((dispersió!$J$38+'Càlculs interns'!P123)^dispersió!$J$10)*(2*LN('Càlculs interns'!Q123/dispersió!$O$59))^(1/2),0)","v":2.1650970867612811},-2.1650970867612811]
[88.026185758013483,{"$f":"IFERROR((letalitat!$P$9*1000)/((3.14159*dispersió!$I$10*((dispersió!$J$38+A124)^dispersió!$J$10)*dispersió!$K$10*((dispersió!$K$38+A124)^dispersió!$L$10)+dispersió!$C$24*dispersió!$D$38)*dispersió!$I$12),0)","v":0.80244288211982906},{"$f":"IFERROR(dispersió!$I$10*((dispersió!$J$38+'Càlculs interns'!A124)^dispersió!$J$10)*(2*LN('Càlculs interns'!B124/dispersió!$O$38))^(1/2),0)","v":6.6824630828168283},-6.6824630828168283,null,66.809119775957157,{"$f":"IFERROR((letalitat!$P$9*1000)/((3.14159*dispersió!$I$10*((dispersió!$J$38+F124)^dispersió!$J$10)*dispersió!$K$10*((dispersió!$K$38+F124)^dispersió!$L$10)+dispersió!$C$24*dispersió!$D$38)*dispersió!$I$12),0)","v":1.0245845023093509},{"$f":"IFERROR(dispersió!$I$10*((dispersió!$J$38+'Càlculs interns'!F124)^dispersió!$J$10)*(2*LN('Càlculs interns'!G124/dispersió!$O$45))^(1/2),0)","v":5.2625688773865562},{"$f":"-H124","v":-5.2625688773865562},null,46.69922896724605,{"$f":"IFERROR((letalitat!$P$9*1000)/((3.14159*dispersió!$I$10*((dispersió!$J$38+K124)^dispersió!$J$10)*dispersió!$K$10*((dispersió!$K$38+K124)^dispersió!$L$10)+dispersió!$C$24*dispersió!$D$38)*dispersió!$I$12),0)","v":1.3489821082985987},{"$f":"IFERROR(dispersió!$I$10*((dispersió!$J$38+'Càlculs interns'!K124)^dispersió!$J$10)*(2*LN('Càlculs interns'!L124/dispersió!$O$52))^(1/2),0)","v":3.9095781799017955},{"$f":"-M124","v":-3.9095781799017955},null,22.208202450621435,{"$f":"IFERROR((letalitat!$P$9*1000)/((3.14159*dispersió!$I$10*((dispersió!$J$38+P124)^dispersió!$J$10)*dispersió!$K$10*((dispersió!$K$38+P124)^dispersió!$L$10)+dispersió!$C$24*dispersió!$D$38)*dispersió!$I$12),0)","v":2.0610101377510466},{"$f":"IFERROR(dispersió!$I$10*((dispersió!$J$38+'Càlculs interns'!P124)^dispersió!$J$10)*(2*LN('Càlculs interns'!Q124/dispersió!$O$59))^(1/2),0)","v":2.1874051484345221},-2.1874051484345221]
[96.028566281469253,{"$f":"IFERROR((letalitat!$P$9*1000)/((3.14159*dispersió!$I$10*((dispersió!$J$38+A125)^dispersió!$J$10)*dispersió!$K$10*((dispersió!$K$38+A125)^dispersió!$L$10)+dispersió!$C$24*dispersió!$D$38)*dispersió!$I$12),0)","v":0.73862174270731662},{"$f":"IFERROR(dispersió!$I$10*((dispersió!$J$38+'Càlculs interns'!A125)^dispersió!$J$10)*(2*LN('Càlculs interns'!B125/dispersió!$O$38))^(1/2),0)","v":6.8482512080896392},-6.8482512080896392,null,72.882676119225991,{"$f":"IFERROR((letalitat!$P$9*1000)/((3.14159*dispersió!$I$10*((dispersió!$J$38+F125)^dispersió!$J$10)*dispersió!$K$10*((dispersió!$K$38+F125)^dispersió!$L$10)+dispersió!$C$24*dispersió!$D$38)*dispersió!$I$12),0)","v":0.95144275626794905},{"$f":"IFERROR(dispersió!$I$10*((dispersió!$J$38+'Càlculs interns'!F125)^dispersió!$J$10)*(2*LN('Càlculs interns'!G125/dispersió!$O$45))^(1/2),0)","v":5.3785021144116651},-5.3785021144116651,null,50.944613418813873,{"$f":"IFERROR((letalitat!$P$9*1000)/((3.14159*dispersió!$I$10*((dispersió!$J$38+K125)^dispersió!$J$10)*dispersió!$K$10*((dispersió!$K$38+K125)^dispersió!$L$10)+dispersió!$C$24*dispersió!$D$38)*dispersió!$I$12),0)","v":1.2673320363698026},{"$f":"IFERROR(dispersió!$I$10*((dispersió!$J$38+'Càlculs interns'!K125)^dispersió!$J$10)*(2*LN('Càlculs interns'!L125/dispersió!$O$52))^(1/2),0)","v":3.9800721716349909},-3.9800721716349909,null,24.227129946132475,{"$f":"IFERROR((letalitat!$P$9*1000)/((3.14159*dispersió!$I$10*((dispersió!$J$38+P125)^dispersió!$J$10)*dispersió!$K$10*((dispersió!$K$38+P125)^dispersió!$L$10)+dispersió!$C$24*dispersió!$D$38)*dispersió!$I$12),0)","v":1.9800690214196492},{"$f":"IFERROR(dispersió!$I$10*((dispersió!$J$38+'Càlculs interns'!P125)^dispersió!$J$10)*(2*LN('Càlculs interns'!Q125/dispersió!$O$59))^(1/2),0)","v":2.2030342684714692},-2.2030342684714692]
[104.03094680492502,{"$f":"IFERROR((letalitat!$P$9*1000)/((3.14159*dispersió!$I$10*((dispersió!$J$38+A126)^dispersió!$J$10)*dispersió!$K$10*((dispersió!$K$38+A126)^dispersió!$L$10)+dispersió!$C$24*dispersió!$D$38)*dispersió!$I$12),0)","v":0.68277101067444157},{"$f":"IFERROR(dispersió!$I$10*((dispersió!$J$38+'Càlculs interns'!A126)^dispersió!$J$10)*(2*LN('Càlculs interns'!B126/dispersió!$O$38))^(1/2),0)","v":6.9815467830747986},{"$f":"-C126","v":-6.9815467830747986},null,78.956232462494825,{"$f":"IFERROR((letalitat!$P$9*1000)/((3.14159*dispersió!$I$10*((dispersió!$J$38+F126)^dispersió!$J$10)*dispersió!$K$10*((dispersió!$K$38+F126)^dispersió!$L$10)+dispersió!$C$24*dispersió!$D$38)*dispersió!$I$12),0)","v":0.88657558131197634},{"$f":"IFERROR(dispersió!$I$10*((dispersió!$J$38+'Càlculs interns'!F126)^dispersió!$J$10)*(2*LN('Càlculs interns'!G126/dispersió!$O$45))^(1/2),0)","v":5.4702213711879102},-5.4702213711879102,null,55.189997870381696,{"$f":"IFERROR((letalitat!$P$9*1000)/((3.14159*dispersió!$I$10*((dispersió!$J$38+K126)^dispersió!$J$10)*dispersió!$K$10*((dispersió!$K$38+K126)^dispersió!$L$10)+dispersió!$C$24*dispersió!$D$38)*dispersió!$I$12),0)","v":1.1936223398511876},{"$f":"IFERROR(dispersió!$I$10*((dispersió!$J$38+'Càlculs interns'!K126)^dispersió!$J$10)*(2*LN('Càlculs interns'!L126/dispersió!$O$52))^(1/2),0)","v":4.0343675058217796},-4.0343675058217796,null,26.246057441643515,{"$f":"IFERROR((letalitat!$P$9*1000)/((3.14159*dispersió!$I$10*((dispersió!$J$38+P126)^dispersió!$J$10)*dispersió!$K$10*((dispersió!$K$38+P126)^dispersió!$L$10)+dispersió!$C$24*dispersió!$D$38)*dispersió!$I$12),0)","v":1.9044005107159021},{"$f":"IFERROR(dispersió!$I$10*((dispersió!$J$38+'Càlculs interns'!P126)^dispersió!$J$10)*(2*LN('Càlculs interns'!Q126/dispersió!$O$59))^(1/2),0)","v":2.2118285154939561},-2.2118285154939561]
[112.03332732838079,{"$f":"IFERROR((letalitat!$P$9*1000)/((3.14159*dispersió!$I$10*((dispersió!$J$38+A127)^dispersió!$J$10)*dispersió!$K$10*((dispersió!$K$38+A127)^dispersió!$L$10)+dispersió!$C$24*dispersió!$D$38)*dispersió!$I$12),0)","v":0.63356113041758244},{"$f":"IFERROR(dispersió!$I$10*((dispersió!$J$38+'Càlculs interns'!A127)^dispersió!$J$10)*(2*LN('Càlculs interns'!B127/dispersió!$O$38))^(1/2),0)","v":7.0822834458701385},-7.0822834458701385,null,85.029788805763658,{"$f":"IFERROR((letalitat!$P$9*1000)/((3.14159*dispersió!$I$10*((dispersió!$J$38+F127)^dispersió!$J$10)*dispersió!$K$10*((dispersió!$K$38+F127)^dispersió!$L$10)+dispersió!$C$24*dispersió!$D$38)*dispersió!$I$12),0)","v":0.82872204582913922},{"$f":"IFERROR(dispersió!$I$10*((dispersió!$J$38+'Càlculs interns'!F127)^dispersió!$J$10)*(2*LN('Càlculs interns'!G127/dispersió!$O$45))^(1/2),0)","v":5.5375548071858063},-5.5375548071858063,null,59.435382321949518,{"$f":"IFERROR((letalitat!$P$9*1000)/((3.14159*dispersió!$I$10*((dispersió!$J$38+K127)^dispersió!$J$10)*dispersió!$K$10*((dispersió!$K$38+K127)^dispersió!$L$10)+dispersió!$C$24*dispersió!$D$38)*dispersió!$I$12),0)","v":1.126799707713855},{"$f":"IFERROR(dispersió!$I$10*((dispersió!$J$38+'Càlculs interns'!K127)^dispersió!$J$10)*(2*LN('Càlculs interns'!L127/dispersió!$O$52))^(1/2),0)","v":4.0722470576343941},-4.0722470576343941,null,28.264984937154555,{"$f":"IFERROR((letalitat!$P$9*1000)/((3.14159*dispersió!$I$10*((dispersió!$J$38+P127)^dispersió!$J$10)*dispersió!$K$10*((dispersió!$K$38+P127)^dispersió!$L$10)+dispersió!$C$24*dispersió!$D$38)*dispersió!$I$12),0)","v":1.8335222353417422},{"$f":"IFERROR(dispersió!$I$10*((dispersió!$J$38+'Càlculs interns'!P127)^dispersió!$J$10)*(2*LN('Càlculs interns'!Q127/dispersió!$O$59))^(1/2),0)","v":2.2135879728671486},-2.2135879728671486]
[120.03570785183656,{"$f":"IFERROR((letalitat!$P$9*1000)/((3.14159*dispersió!$I$10*((dispersió!$J$38+A128)^dispersió!$J$10)*dispersió!$K$10*((dispersió!$K$38+A128)^dispersió!$L$10)+dispersió!$C$24*dispersió!$D$38)*dispersió!$I$12),0)","v":0.58993594819652861},{"$f":"IFERROR(dispersió!$I$10*((dispersió!$J$38+'Càlculs interns'!A128)^dispersió!$J$10)*(2*LN('Càlculs interns'!B128/dispersió!$O$38))^(1/2),0)","v":7.1501164690906389},-7.1501164690906389,null,91.103345149032492,{"$f":"IFERROR((letalitat!$P$9*1000)/((3.14159*dispersió!$I$10*((dispersió!$J$38+F128)^dispersió!$J$10)*dispersió!$K$10*((dispersió!$K$38+F128)^dispersió!$L$10)+dispersió!$C$24*dispersió!$D$38)*dispersió!$I$12),0)","v":0.77685987318514294},{"$f":"IFERROR(dispersió!$I$10*((dispersió!$J$38+'Càlculs interns'!F128)^dispersió!$J$10)*(2*LN('Càlculs interns'!G128/dispersió!$O$45))^(1/2),0)","v":5.5801303358111687},-5.5801303358111687,null,63.680766773517341,{"$f":"IFERROR((letalitat!$P$9*1000)/((3.14159*dispersió!$I$10*((dispersió!$J$38+K128)^dispersió!$J$10)*dispersió!$K$10*((dispersió!$K$38+K128)^dispersió!$L$10)+dispersió!$C$24*dispersió!$D$38)*dispersió!$I$12),0)","v":1.0659863199217527},{"$f":"IFERROR(dispersió!$I$10*((dispersió!$J$38+'Càlculs interns'!K128)^dispersió!$J$10)*(2*LN('Càlculs interns'!L128/dispersió!$O$52))^(1/2),0)","v":4.0933677025645858},-4.0933677025645858,null,30.283912432665595,{"$f":"IFERROR((letalitat!$P$9*1000)/((3.14159*dispersió!$I$10*((dispersió!$J$38+P128)^dispersió!$J$10)*dispersió!$K$10*((dispersió!$K$38+P128)^dispersió!$L$10)+dispersió!$C$24*dispersió!$D$38)*dispersió!$I$12),0)","v":1.7670086916580998},{"$f":"IFERROR(dispersió!$I$10*((dispersió!$J$38+'Càlculs interns'!P128)^dispersió!$J$10)*(2*LN('Càlculs interns'!Q128/dispersió!$O$59))^(1/2),0)","v":2.2080619480510086},-2.2080619480510086]
[128.03808837529235,{"$f":"IFERROR((letalitat!$P$9*1000)/((3.14159*dispersió!$I$10*((dispersió!$J$38+A129)^dispersió!$J$10)*dispersió!$K$10*((dispersió!$K$38+A129)^dispersió!$L$10)+dispersió!$C$24*dispersió!$D$38)*dispersió!$I$12),0)","v":0.55104665463878044},{"$f":"IFERROR(dispersió!$I$10*((dispersió!$J$38+'Càlculs interns'!A129)^dispersió!$J$10)*(2*LN('Càlculs interns'!B129/dispersió!$O$38))^(1/2),0)","v":7.1844049624135335},-7.1844049624135335,null,97.176901492301326,{"$f":"IFERROR((letalitat!$P$9*1000)/((3.14159*dispersió!$I$10*((dispersió!$J$38+F129)^dispersió!$J$10)*dispersió!$K$10*((dispersió!$K$38+F129)^dispersió!$L$10)+dispersió!$C$24*dispersió!$D$38)*dispersió!$I$12),0)","v":0.73015201652335515},{"$f":"IFERROR(dispersió!$I$10*((dispersió!$J$38+'Càlculs interns'!F129)^dispersió!$J$10)*(2*LN('Càlculs interns'!G129/dispersió!$O$45))^(1/2),0)","v":5.5973576176022428},-5.5973576176022428,null,67.926151225085164,{"$f":"IFERROR((letalitat!$P$9*1000)/((3.14159*dispersió!$I$10*((dispersió!$J$38+K129)^dispersió!$J$10)*dispersió!$K$10*((dispersió!$K$38+K129)^dispersió!$L$10)+dispersió!$C$24*dispersió!$D$38)*dispersió!$I$12),0)","v":1.0104449275526601},{"$f":"IFERROR(dispersió!$I$10*((dispersió!$J$38+'Càlculs interns'!K129)^dispersió!$J$10)*(2*LN('Càlculs interns'!L129/dispersió!$O$52))^(1/2),0)","v":4.0972452857933588},-4.0972452857933588,null,32.302839928176631,{"$f":"IFERROR((letalitat!$P$9*1000)/((3.14159*dispersió!$I$10*((dispersió!$J$38+P129)^dispersió!$J$10)*dispersió!$K$10*((dispersió!$K$38+P129)^dispersió!$L$10)+dispersió!$C$24*dispersió!$D$38)*dispersió!$I$12),0)","v":1.7044830570642258},{"$f":"IFERROR(dispersió!$I$10*((dispersió!$J$38+'Càlculs interns'!P129)^dispersió!$J$10)*(2*LN('Càlculs interns'!Q129/dispersió!$O$59))^(1/2),0)","v":2.1949397564017925},-2.1949397564017925]
[136.04046889874812,{"$f":"IFERROR((letalitat!$P$9*1000)/((3.14159*dispersió!$I$10*((dispersió!$J$38+A130)^dispersió!$J$10)*dispersió!$K$10*((dispersió!$K$38+A130)^dispersió!$L$10)+dispersió!$C$24*dispersió!$D$38)*dispersió!$I$12),0)","v":0.51620389140985889},{"$f":"IFERROR(dispersió!$I$10*((dispersió!$J$38+'Càlculs interns'!A130)^dispersió!$J$10)*(2*LN('Càlculs interns'!B130/dispersió!$O$38))^(1/2),0)","v":7.1841783512560218},-7.1841783512560218,null,103.25045783557016,{"$f":"IFERROR((letalitat!$P$9*1000)/((3.14159*dispersió!$I$10*((dispersió!$J$38+F130)^dispersió!$J$10)*dispersió!$K$10*((dispersió!$K$38+F130)^dispersió!$L$10)+dispersió!$C$24*dispersió!$D$38)*dispersió!$I$12),0)","v":0.68790692339815362},{"$f":"IFERROR(dispersió!$I$10*((dispersió!$J$38+'Càlculs interns'!F130)^dispersió!$J$10)*(2*LN('Càlculs interns'!G130/dispersió!$O$45))^(1/2),0)","v":5.5883983915391084},-5.5883983915391084,null,72.171535676652979,{"$f":"IFERROR((letalitat!$P$9*1000)/((3.14159*dispersió!$I$10*((dispersió!$J$38+K130)^dispersió!$J$10)*dispersió!$K$10*((dispersió!$K$38+K130)^dispersió!$L$10)+dispersió!$C$24*dispersió!$D$38)*dispersió!$I$12),0)","v":0.95955195355507683},{"$f":"IFERROR(dispersió!$I$10*((dispersió!$J$38+'Càlculs interns'!K130)^dispersió!$J$10)*(2*LN('Càlculs interns'!L130/dispersió!$O$52))^(1/2),0)","v":4.0832321361130708},-4.0832321361130708,null,34.321767423687668,{"$f":"IFERROR((letalitat!$P$9*1000)/((3.14159*dispersió!$I$10*((dispersió!$J$38+P130)^dispersió!$J$10)*dispersió!$K$10*((dispersió!$K$38+P130)^dispersió!$L$10)+dispersió!$C$24*dispersió!$D$38)*dispersió!$I$12),0)","v":1.6456103904899833},{"$f":"IFERROR(dispersió!$I$10*((dispersió!$J$38+'Càlculs interns'!P130)^dispersió!$J$10)*(2*LN('Càlculs interns'!Q130/dispersió!$O$59))^(1/2),0)","v":2.173838196730721},-2.173838196730721]
[144.04284942220389,{"$f":"IFERROR((letalitat!$P$9*1000)/((3.14159*dispersió!$I$10*((dispersió!$J$38+A131)^dispersió!$J$10)*dispersió!$K$10*((dispersió!$K$38+A131)^dispersió!$L$10)+dispersió!$C$24*dispersió!$D$38)*dispersió!$I$12),0)","v":0.48484246514241586},{"$f":"IFERROR(dispersió!$I$10*((dispersió!$J$38+'Càlculs interns'!A131)^dispersió!$J$10)*(2*LN('Càlculs interns'!B131/dispersió!$O$38))^(1/2),0)","v":7.1480830325910185},-7.1480830325910185,null,109.32401417883899,{"$f":"IFERROR((letalitat!$P$9*1000)/((3.14159*dispersió!$I$10*((dispersió!$J$38+F131)^dispersió!$J$10)*dispersió!$K$10*((dispersió!$K$38+F131)^dispersió!$L$10)+dispersió!$C$24*dispersió!$D$38)*dispersió!$I$12),0)","v":0.64954856786553528},{"$f":"IFERROR(dispersió!$I$10*((dispersió!$J$38+'Càlculs interns'!F131)^dispersió!$J$10)*(2*LN('Càlculs interns'!G131/dispersió!$O$45))^(1/2),0)","v":5.5521215722778408},-5.5521215722778408,null,76.416920128220795,{"$f":"IFERROR((letalitat!$P$9*1000)/((3.14159*dispersió!$I$10*((dispersió!$J$38+K131)^dispersió!$J$10)*dispersió!$K$10*((dispersió!$K$38+K131)^dispersió!$L$10)+dispersió!$C$24*dispersió!$D$38)*dispersió!$I$12),0)","v":0.91277653933655334},{"$f":"IFERROR(dispersió!$I$10*((dispersió!$J$38+'Càlculs interns'!K131)^dispersió!$J$10)*(2*LN('Càlculs interns'!L131/dispersió!$O$52))^(1/2),0)","v":4.0504845444937798},-4.0504845444937798,null,36.340694919198704,{"$f":"IFERROR((letalitat!$P$9*1000)/((3.14159*dispersió!$I$10*((dispersió!$J$38+P131)^dispersió!$J$10)*dispersió!$K$10*((dispersió!$K$38+P131)^dispersió!$L$10)+dispersió!$C$24*dispersió!$D$38)*dispersió!$I$12),0)","v":1.5900919502825261},{"$f":"IFERROR(dispersió!$I$10*((dispersió!$J$38+'Càlculs interns'!P131)^dispersió!$J$10)*(2*LN('Càlculs interns'!Q131/dispersió!$O$59))^(1/2),0)","v":2.1442843719786273},-2.1442843719786273]
[152.04522994565966,{"$f":"IFERROR((letalitat!$P$9*1000)/((3.14159*dispersió!$I$10*((dispersió!$J$38+A132)^dispersió!$J$10)*dispersió!$K$10*((dispersió!$K$38+A132)^dispersió!$L$10)+dispersió!$C$24*dispersió!$D$38)*dispersió!$I$12),0)","v":0.45649497140459067},{"$f":"IFERROR(dispersió!$I$10*((dispersió!$J$38+'Càlculs interns'!A132)^dispersió!$J$10)*(2*LN('Càlculs interns'!B132/dispersió!$O$38))^(1/2),0)","v":7.0743020408240662},-7.0743020408240662,null,115.39757052210783,{"$f":"IFERROR((letalitat!$P$9*1000)/((3.14159*dispersió!$I$10*((dispersió!$J$38+F132)^dispersió!$J$10)*dispersió!$K$10*((dispersió!$K$38+F132)^dispersió!$L$10)+dispersió!$C$24*dispersió!$D$38)*dispersió!$I$12),0)","v":0.61459356240270568},{"$f":"IFERROR(dispersió!$I$10*((dispersió!$J$38+'Càlculs interns'!F132)^dispersió!$J$10)*(2*LN('Càlculs interns'!G132/dispersió!$O$45))^(1/2),0)","v":5.4870371199030297},-5.4870371199030297,null,80.662304579788611,{"$f":"IFERROR((letalitat!$P$9*1000)/((3.14159*dispersió!$I$10*((dispersió!$J$38+K132)^dispersió!$J$10)*dispersió!$K$10*((dispersió!$K$38+K132)^dispersió!$L$10)+dispersió!$C$24*dispersió!$D$38)*dispersió!$I$12),0)","v":0.86966405575216499},{"$f":"IFERROR(dispersió!$I$10*((dispersió!$J$38+'Càlculs interns'!K132)^dispersió!$J$10)*(2*LN('Càlculs interns'!L132/dispersió!$O$52))^(1/2),0)","v":3.9979160358475982},-3.9979160358475982,null,38.35962241470974,{"$f":"IFERROR((letalitat!$P$9*1000)/((3.14159*dispersió!$I$10*((dispersió!$J$38+P132)^dispersió!$J$10)*dispersió!$K$10*((dispersió!$K$38+P132)^dispersió!$L$10)+dispersió!$C$24*dispersió!$D$38)*dispersió!$I$12),0)","v":1.5376604191968053},{"$f":"IFERROR(dispersió!$I$10*((dispersió!$J$38+'Càlculs interns'!P132)^dispersió!$J$10)*(2*LN('Càlculs interns'!Q132/dispersió!$O$59))^(1/2),0)","v":2.1056917531058352},-2.1056917531058352]
[160.04761046911543,{"$f":"IFERROR((letalitat!$P$9*1000)/((3.14159*dispersió!$I$10*((dispersió!$J$38+A133)^dispersió!$J$10)*dispersió!$K$10*((dispersió!$K$38+A133)^dispersió!$L$10)+dispersió!$C$24*dispersió!$D$38)*dispersió!$I$12),0)","v":0.43077181915275514},{"$f":"IFERROR(dispersió!$I$10*((dispersió!$J$38+'Càlculs interns'!A133)^dispersió!$J$10)*(2*LN('Càlculs interns'!B133/dispersió!$O$38))^(1/2),0)","v":6.9604356129101861},-6.9604356129101861,null,121.47112686537666,{"$f":"IFERROR((letalitat!$P$9*1000)/((3.14159*dispersió!$I$10*((dispersió!$J$38+F133)^dispersió!$J$10)*dispersió!$K$10*((dispersió!$K$38+F133)^dispersió!$L$10)+dispersió!$C$24*dispersió!$D$38)*dispersió!$I$12),0)","v":0.58263347547819588},{"$f":"IFERROR(dispersió!$I$10*((dispersió!$J$38+'Càlculs interns'!F133)^dispersió!$J$10)*(2*LN('Càlculs interns'!G133/dispersió!$O$45))^(1/2),0)","v":5.3911986934727922},-5.3911986934727922,null,84.907689031356426,{"$f":"IFERROR((letalitat!$P$9*1000)/((3.14159*dispersió!$I$10*((dispersió!$J$38+K133)^dispersió!$J$10)*dispersió!$K$10*((dispersió!$K$38+K133)^dispersió!$L$10)+dispersió!$C$24*dispersió!$D$38)*dispersió!$I$12),0)","v":0.82982300550317922},{"$f":"IFERROR(dispersió!$I$10*((dispersió!$J$38+'Càlculs interns'!K133)^dispersió!$J$10)*(2*LN('Càlculs interns'!L133/dispersió!$O$52))^(1/2),0)","v":3.9241296069088967},-3.9241296069088967,null,40.378549910220777,{"$f":"IFERROR((letalitat!$P$9*1000)/((3.14159*dispersió!$I$10*((dispersió!$J$38+P133)^dispersió!$J$10)*dispersió!$K$10*((dispersió!$K$38+P133)^dispersió!$L$10)+dispersió!$C$24*dispersió!$D$38)*dispersió!$I$12),0)","v":1.4880758706044646},{"$f":"IFERROR(dispersió!$I$10*((dispersió!$J$38+'Càlculs interns'!P133)^dispersió!$J$10)*(2*LN('Càlculs interns'!Q133/dispersió!$O$59))^(1/2),0)","v":2.0573261057017156},-2.0573261057017156]
[168.0499909925712,{"$f":"IFERROR((letalitat!$P$9*1000)/((3.14159*dispersió!$I$10*((dispersió!$J$38+A134)^dispersió!$J$10)*dispersió!$K$10*((dispersió!$K$38+A134)^dispersió!$L$10)+dispersió!$C$24*dispersió!$D$38)*dispersió!$I$12),0)","v":0.4073459212909305},{"$f":"IFERROR(dispersió!$I$10*((dispersió!$J$38+'Càlculs interns'!A134)^dispersió!$J$10)*(2*LN('Càlculs interns'!B134/dispersió!$O$38))^(1/2),0)","v":6.8033219651991379},-6.8033219651991379,null,127.54468320864549,{"$f":"IFERROR((letalitat!$P$9*1000)/((3.14159*dispersió!$I$10*((dispersió!$J$38+F134)^dispersió!$J$10)*dispersió!$K$10*((dispersió!$K$38+F134)^dispersió!$L$10)+dispersió!$C$24*dispersió!$D$38)*dispersió!$I$12),0)","v":0.5533210268832639},{"$f":"IFERROR(dispersió!$I$10*((dispersió!$J$38+'Càlculs interns'!F134)^dispersió!$J$10)*(2*LN('Càlculs interns'!G134/dispersió!$O$45))^(1/2),0)","v":5.2620580759006117},-5.2620580759006117,null,89.153073482924242,{"$f":"IFERROR((letalitat!$P$9*1000)/((3.14159*dispersió!$I$10*((dispersió!$J$38+K134)^dispersió!$J$10)*dispersió!$K$10*((dispersió!$K$38+K134)^dispersió!$L$10)+dispersió!$C$24*dispersió!$D$38)*dispersió!$I$12),0)","v":0.79291452956182995},{"$f":"IFERROR(dispersió!$I$10*((dispersió!$J$38+'Càlculs interns'!K134)^dispersió!$J$10)*(2*LN('Càlculs interns'!L134/dispersió!$O$52))^(1/2),0)","v":3.827317429366472},-3.827317429366472,null,42.397477405731813,{"$f":"IFERROR((letalitat!$P$9*1000)/((3.14159*dispersió!$I$10*((dispersió!$J$38+P134)^dispersió!$J$10)*dispersió!$K$10*((dispersió!$K$38+P134)^dispersió!$L$10)+dispersió!$C$24*dispersió!$D$38)*dispersió!$I$12),0)","v":1.4411223440861012},{"$f":"IFERROR(dispersió!$I$10*((dispersió!$J$38+'Càlculs interns'!P134)^dispersió!$J$10)*(2*LN('Càlculs interns'!Q134/dispersió!$O$59))^(1/2),0)","v":1.9982556378707019},-1.9982556378707019]
[176.05237151602697,{"$f":"IFERROR((letalitat!$P$9*1000)/((3.14159*dispersió!$I$10*((dispersió!$J$38+A135)^dispersió!$J$10)*dispersió!$K$10*((dispersió!$K$38+A135)^dispersió!$L$10)+dispersió!$C$24*dispersió!$D$38)*dispersió!$I$12),0)","v":0.38594083294815185},{"$f":"IFERROR(dispersió!$I$10*((dispersió!$J$38+'Càlculs interns'!A135)^dispersió!$J$10)*(2*LN('Càlculs interns'!B135/dispersió!$O$38))^(1/2),0)","v":6.598761733460714},-6.598761733460714,null,133.61823955191431,{"$f":"IFERROR((letalitat!$P$9*1000)/((3.14159*dispersió!$I$10*((dispersió!$J$38+F135)^dispersió!$J$10)*dispersió!$K$10*((dispersió!$K$38+F135)^dispersió!$L$10)+dispersió!$C$24*dispersió!$D$38)*dispersió!$I$12),0)","v":0.52635920625604971},{"$f":"IFERROR(dispersió!$I$10*((dispersió!$J$38+'Càlculs interns'!F135)^dispersió!$J$10)*(2*LN('Càlculs interns'!G135/dispersió!$O$45))^(1/2),0)","v":5.0962412477896741},-5.0962412477896741,null,93.398457934492058,{"$f":"IFERROR((letalitat!$P$9*1000)/((3.14159*dispersió!$I$10*((dispersió!$J$38+K135)^dispersió!$J$10)*dispersió!$K$10*((dispersió!$K$38+K135)^dispersió!$L$10)+dispersió!$C$24*dispersió!$D$38)*dispersió!$I$12),0)","v":0.75864393284720111},{"$f":"IFERROR(dispersió!$I$10*((dispersió!$J$38+'Càlculs interns'!K135)^dispersió!$J$10)*(2*LN('Càlculs interns'!L135/dispersió!$O$52))^(1/2),0)","v":3.7051078270264521},-3.7051078270264521,null,44.416404901242849,{"$f":"IFERROR((letalitat!$P$9*1000)/((3.14159*dispersió!$I$10*((dispersió!$J$38+P135)^dispersió!$J$10)*dispersió!$K$10*((dispersió!$K$38+P135)^dispersió!$L$10)+dispersió!$C$24*dispersió!$D$38)*dispersió!$I$12),0)","v":1.396604924900577},{"$f":"IFERROR(dispersió!$I$10*((dispersió!$J$38+'Càlculs interns'!P135)^dispersió!$J$10)*(2*LN('Càlculs interns'!Q135/dispersió!$O$59))^(1/2),0)","v":1.9272755234416552},-1.9272755234416552]
[184.05475203948274,{"$f":"IFERROR((letalitat!$P$9*1000)/((3.14159*dispersió!$I$10*((dispersió!$J$38+A136)^dispersió!$J$10)*dispersió!$K$10*((dispersió!$K$38+A136)^dispersió!$L$10)+dispersió!$C$24*dispersió!$D$38)*dispersió!$I$12),0)","v":0.36632146872681171},{"$f":"IFERROR(dispersió!$I$10*((dispersió!$J$38+'Càlculs interns'!A136)^dispersió!$J$10)*(2*LN('Càlculs interns'!B136/dispersió!$O$38))^(1/2),0)","v":6.3410781939674328},-6.3410781939674328,null,139.69179589518313,{"$f":"IFERROR((letalitat!$P$9*1000)/((3.14159*dispersió!$I$10*((dispersió!$J$38+F136)^dispersió!$J$10)*dispersió!$K$10*((dispersió!$K$38+F136)^dispersió!$L$10)+dispersió!$C$24*dispersió!$D$38)*dispersió!$I$12),0)","v":0.50149261943406831},{"$f":"IFERROR(dispersió!$I$10*((dispersió!$J$38+'Càlculs interns'!F136)^dispersió!$J$10)*(2*LN('Càlculs interns'!G136/dispersió!$O$45))^(1/2),0)","v":4.8891898686076543},-4.8891898686076543,null,97.643842386059873,{"$f":"IFERROR((letalitat!$P$9*1000)/((3.14159*dispersió!$I$10*((dispersió!$J$38+K136)^dispersió!$J$10)*dispersió!$K$10*((dispersió!$K$38+K136)^dispersió!$L$10)+dispersió!$C$24*dispersió!$D$38)*dispersió!$I$12),0)","v":0.72675379002256801},{"$f":"IFERROR(dispersió!$I$10*((dispersió!$J$38+'Càlculs interns'!K136)^dispersió!$J$10)*(2*LN('Càlculs interns'!L136/dispersió!$O$52))^(1/2),0)","v":3.5543221390201292},-3.5543221390201292,null,46.435332396753886,{"$f":"IFERROR((letalitat!$P$9*1000)/((3.14159*dispersió!$I$10*((dispersió!$J$38+P136)^dispersió!$J$10)*dispersió!$K$10*((dispersió!$K$38+P136)^dispersió!$L$10)+dispersió!$C$24*dispersió!$D$38)*dispersió!$I$12),0)","v":1.3543472423423282},{"$f":"IFERROR(dispersió!$I$10*((dispersió!$J$38+'Càlculs interns'!P136)^dispersió!$J$10)*(2*LN('Càlculs interns'!Q136/dispersió!$O$59))^(1/2),0)","v":1.8427886535945095},-1.8427886535945095]
[192.05713256293851,{"$f":"IFERROR((letalitat!$P$9*1000)/((3.14159*dispersió!$I$10*((dispersió!$J$38+A137)^dispersió!$J$10)*dispersió!$K$10*((dispersió!$K$38+A137)^dispersió!$L$10)+dispersió!$C$24*dispersió!$D$38)*dispersió!$I$12),0)","v":0.34828677098131872},{"$f":"IFERROR(dispersió!$I$10*((dispersió!$J$38+'Càlculs interns'!A137)^dispersió!$J$10)*(2*LN('Càlculs interns'!B137/dispersió!$O$38))^(1/2),0)","v":6.0223785821348557},-6.0223785821348557,null,145.76535223845195,{"$f":"IFERROR((letalitat!$P$9*1000)/((3.14159*dispersió!$I$10*((dispersió!$J$38+F137)^dispersió!$J$10)*dispersió!$K$10*((dispersió!$K$38+F137)^dispersió!$L$10)+dispersió!$C$24*dispersió!$D$38)*dispersió!$I$12),0)","v":0.47850054987933505},{"$f":"IFERROR(dispersió!$I$10*((dispersió!$J$38+'Càlculs interns'!F137)^dispersió!$J$10)*(2*LN('Càlculs interns'!G137/dispersió!$O$45))^(1/2),0)","v":4.6345557131385657},-4.6345557131385657,null,101.88922683762769,{"$f":"IFERROR((letalitat!$P$9*1000)/((3.14159*dispersió!$I$10*((dispersió!$J$38+K137)^dispersió!$J$10)*dispersió!$K$10*((dispersió!$K$38+K137)^dispersió!$L$10)+dispersió!$C$24*dispersió!$D$38)*dispersió!$I$12),0)","v":0.69701829826668782},{"$f":"IFERROR(dispersió!$I$10*((dispersió!$J$38+'Càlculs interns'!K137)^dispersió!$J$10)*(2*LN('Càlculs interns'!L137/dispersió!$O$52))^(1/2),0)","v":3.3705674156502154},-3.3705674156502154,null,48.454259892264922,{"$f":"IFERROR((letalitat!$P$9*1000)/((3.14159*dispersió!$I$10*((dispersió!$J$38+P137)^dispersió!$J$10)*dispersió!$K$10*((dispersió!$K$38+P137)^dispersió!$L$10)+dispersió!$C$24*dispersió!$D$38)*dispersió!$I$12),0)","v":1.3141893181035555},{"$f":"IFERROR(dispersió!$I$10*((dispersió!$J$38+'Càlculs interns'!P137)^dispersió!$J$10)*(2*LN('Càlculs interns'!Q137/dispersió!$O$59))^(1/2),0)","v":1.7426068410922875},-1.7426068410922875]
[200.05951308639428,{"$f":"IFERROR((letalitat!$P$9*1000)/((3.14159*dispersió!$I$10*((dispersió!$J$38+A138)^dispersió!$J$10)*dispersió!$K$10*((dispersió!$K$38+A138)^dispersió!$L$10)+dispersió!$C$24*dispersió!$D$38)*dispersió!$I$12),0)","v":0.33166386952399302},{"$f":"IFERROR(dispersió!$I$10*((dispersió!$J$38+'Càlculs interns'!A138)^dispersió!$J$10)*(2*LN('Càlculs interns'!B138/dispersió!$O$38))^(1/2),0)","v":5.6312253792912728},-5.6312253792912728,null,151.83890858172077,{"$f":"IFERROR((letalitat!$P$9*1000)/((3.14159*dispersió!$I$10*((dispersió!$J$38+F138)^dispersió!$J$10)*dispersió!$K$10*((dispersió!$K$38+F138)^dispersió!$L$10)+dispersió!$C$24*dispersió!$D$38)*dispersió!$I$12),0)","v":0.45719135280085621},{"$f":"IFERROR(dispersió!$I$10*((dispersió!$J$38+'Càlculs interns'!F138)^dispersió!$J$10)*(2*LN('Càlculs interns'!G138/dispersió!$O$45))^(1/2),0)","v":4.323102434759293},-4.323102434759293,null,106.1346112891955,{"$f":"IFERROR((letalitat!$P$9*1000)/((3.14159*dispersió!$I$10*((dispersió!$J$38+K138)^dispersió!$J$10)*dispersió!$K$10*((dispersió!$K$38+K138)^dispersió!$L$10)+dispersió!$C$24*dispersió!$D$38)*dispersió!$I$12),0)","v":0.6692386218672991},{"$f":"IFERROR(dispersió!$I$10*((dispersió!$J$38+'Càlculs interns'!K138)^dispersió!$J$10)*(2*LN('Càlculs interns'!L138/dispersió!$O$52))^(1/2),0)","v":3.1475050862534815},-3.1475050862534815,null,50.473187387775958,{"$f":"IFERROR((letalitat!$P$9*1000)/((3.14159*dispersió!$I$10*((dispersió!$J$38+P138)^dispersió!$J$10)*dispersió!$K$10*((dispersió!$K$38+P138)^dispersió!$L$10)+dispersió!$C$24*dispersió!$D$38)*dispersió!$I$12),0)","v":1.2759857084882111},{"$f":"IFERROR(dispersió!$I$10*((dispersió!$J$38+'Càlculs interns'!P138)^dispersió!$J$10)*(2*LN('Càlculs interns'!Q138/dispersió!$O$59))^(1/2),0)","v":1.623595673652837},-1.623595673652837]
[208.06189360985005,{"$f":"IFERROR((letalitat!$P$9*1000)/((3.14159*dispersió!$I$10*((dispersió!$J$38+A139)^dispersió!$J$10)*dispersió!$K$10*((dispersió!$K$38+A139)^dispersió!$L$10)+dispersió!$C$24*dispersió!$D$38)*dispersió!$I$12),0)","v":0.31630339245599232},{"$f":"IFERROR(dispersió!$I$10*((dispersió!$J$38+'Càlculs interns'!A139)^dispersió!$J$10)*(2*LN('Càlculs interns'!B139/dispersió!$O$38))^(1/2),0)","v":5.1500125554530056},-5.1500125554530056,null,157.91246492498959,{"$f":"IFERROR((letalitat!$P$9*1000)/((3.14159*dispersió!$I$10*((dispersió!$J$38+F139)^dispersió!$J$10)*dispersió!$K$10*((dispersió!$K$38+F139)^dispersió!$L$10)+dispersió!$C$24*dispersió!$D$38)*dispersió!$I$12),0)","v":0.43739789384588035},{"$f":"IFERROR(dispersió!$I$10*((dispersió!$J$38+'Càlculs interns'!F139)^dispersió!$J$10)*(2*LN('Càlculs interns'!G139/dispersió!$O$45))^(1/2),0)","v":3.940511264473789},-3.940511264473789,null,110.37999574076332,{"$f":"IFERROR((letalitat!$P$9*1000)/((3.14159*dispersió!$I$10*((dispersió!$J$38+K139)^dispersió!$J$10)*dispersió!$K$10*((dispersió!$K$38+K139)^dispersió!$L$10)+dispersió!$C$24*dispersió!$D$38)*dispersió!$I$12),0)","v":0.64323903148928741},{"$f":"IFERROR(dispersió!$I$10*((dispersió!$J$38+'Càlculs interns'!K139)^dispersió!$J$10)*(2*LN('Càlculs interns'!L139/dispersió!$O$52))^(1/2),0)","v":2.8754090293489245},-2.8754090293489245,null,52.492114883286995,{"$f":"IFERROR((letalitat!$P$9*1000)/((3.14159*dispersió!$I$10*((dispersió!$J$38+P139)^dispersió!$J$10)*dispersió!$K$10*((dispersió!$K$38+P139)^dispersió!$L$10)+dispersió!$C$24*dispersió!$D$38)*dispersió!$I$12),0)","v":1.2396038944518712},{"$f":"IFERROR(dispersió!$I$10*((dispersió!$J$38+'Càlculs interns'!P139)^dispersió!$J$10)*(2*LN('Càlculs interns'!Q139/dispersió!$O$59))^(1/2),0)","v":1.4809786477398321},-1.4809786477398321]
[216.06427413330582,{"$f":"IFERROR((letalitat!$P$9*1000)/((3.14159*dispersió!$I$10*((dispersió!$J$38+A140)^dispersió!$J$10)*dispersió!$K$10*((dispersió!$K$38+A140)^dispersió!$L$10)+dispersió!$C$24*dispersió!$D$38)*dispersió!$I$12),0)","v":0.30207567344548042},{"$f":"IFERROR(dispersió!$I$10*((dispersió!$J$38+'Càlculs interns'!A140)^dispersió!$J$10)*(2*LN('Càlculs interns'!B140/dispersió!$O$38))^(1/2),0)","v":4.5490470273767478},-4.5490470273767478,null,163.98602126825841,{"$f":"IFERROR((letalitat!$P$9*1000)/((3.14159*dispersió!$I$10*((dispersió!$J$38+F140)^dispersió!$J$10)*dispersió!$K$10*((dispersió!$K$38+F140)^dispersió!$L$10)+dispersió!$C$24*dispersió!$D$38)*dispersió!$I$12),0)","v":0.41897381314187315},{"$f":"IFERROR(dispersió!$I$10*((dispersió!$J$38+'Càlculs interns'!F140)^dispersió!$J$10)*(2*LN('Càlculs interns'!G140/dispersió!$O$45))^(1/2),0)","v":3.4623433737721618},-3.4623433737721618,null,114.62538019233114,{"$f":"IFERROR((letalitat!$P$9*1000)/((3.14159*dispersió!$I$10*((dispersió!$J$38+K140)^dispersió!$J$10)*dispersió!$K$10*((dispersió!$K$38+K140)^dispersió!$L$10)+dispersió!$C$24*dispersió!$D$38)*dispersió!$I$12),0)","v":0.61886368452940088},{"$f":"IFERROR(dispersió!$I$10*((dispersió!$J$38+'Càlculs interns'!K140)^dispersió!$J$10)*(2*LN('Càlculs interns'!L140/dispersió!$O$52))^(1/2),0)","v":2.5379187190430157},-2.5379187190430157,null,54.511042378798031,{"$f":"IFERROR((letalitat!$P$9*1000)/((3.14159*dispersió!$I$10*((dispersió!$J$38+P140)^dispersió!$J$10)*dispersió!$K$10*((dispersió!$K$38+P140)^dispersió!$L$10)+dispersió!$C$24*dispersió!$D$38)*dispersió!$I$12),0)","v":1.2049228815473469},{"$f":"IFERROR(dispersió!$I$10*((dispersió!$J$38+'Càlculs interns'!P140)^dispersió!$J$10)*(2*LN('Càlculs interns'!Q140/dispersió!$O$59))^(1/2),0)","v":1.306784146726363},-1.306784146726363]
[224.06665465676159,{"$f":"IFERROR((letalitat!$P$9*1000)/((3.14159*dispersió!$I$10*((dispersió!$J$38+A141)^dispersió!$J$10)*dispersió!$K$10*((dispersió!$K$38+A141)^dispersió!$L$10)+dispersió!$C$24*dispersió!$D$38)*dispersió!$I$12),0)","v":0.28886766295334232},{"$f":"IFERROR(dispersió!$I$10*((dispersió!$J$38+'Càlculs interns'!A141)^dispersió!$J$10)*(2*LN('Càlculs interns'!B141/dispersió!$O$38))^(1/2),0)","v":3.7701257169448259},-3.7701257169448259,null,170.05957761152723,{"$f":"IFERROR((letalitat!$P$9*1000)/((3.14159*dispersió!$I$10*((dispersió!$J$38+F141)^dispersió!$J$10)*dispersió!$K$10*((dispersió!$K$38+F141)^dispersió!$L$10)+dispersió!$C$24*dispersió!$D$38)*dispersió!$I$12),0)","v":0.40179044639455191},{"$f":"IFERROR(dispersió!$I$10*((dispersió!$J$38+'Càlculs interns'!F141)^dispersió!$J$10)*(2*LN('Càlculs interns'!G141/dispersió!$O$45))^(1/2),0)","v":2.839644643906833},-2.839644643906833,null,118.87076464389895,{"$f":"IFERROR((letalitat!$P$9*1000)/((3.14159*dispersió!$I$10*((dispersió!$J$38+K141)^dispersió!$J$10)*dispersió!$K$10*((dispersió!$K$38+K141)^dispersió!$L$10)+dispersió!$C$24*dispersió!$D$38)*dispersió!$I$12),0)","v":0.59597392598029575},{"$f":"IFERROR(dispersió!$I$10*((dispersió!$J$38+'Càlculs interns'!K141)^dispersió!$J$10)*(2*LN('Càlculs interns'!L141/dispersió!$O$52))^(1/2),0)","v":2.1030548225587569},-2.1030548225587569,null,56.529969874309067,{"$f":"IFERROR((letalitat!$P$9*1000)/((3.14159*dispersió!$I$10*((dispersió!$J$38+P141)^dispersió!$J$10)*dispersió!$K$10*((dispersió!$K$38+P141)^dispersió!$L$10)+dispersió!$C$24*dispersió!$D$38)*dispersió!$I$12),0)","v":1.1718319783812303},{"$f":"IFERROR(dispersió!$I$10*((dispersió!$J$38+'Càlculs interns'!P141)^dispersió!$J$10)*(2*LN('Càlculs interns'!Q141/dispersió!$O$59))^(1/2),0)","v":1.0856109018734419},-1.0856109018734419]
[232.06903518021736,{"$f":"IFERROR((letalitat!$P$9*1000)/((3.14159*dispersió!$I$10*((dispersió!$J$38+A142)^dispersió!$J$10)*dispersió!$K$10*((dispersió!$K$38+A142)^dispersió!$L$10)+dispersió!$C$24*dispersió!$D$38)*dispersió!$I$12),0)","v":0.27658039655276595},{"$f":"IFERROR(dispersió!$I$10*((dispersió!$J$38+'Càlculs interns'!A142)^dispersió!$J$10)*(2*LN('Càlculs interns'!B142/dispersió!$O$38))^(1/2),0)","v":2.6594637719443925},-2.6594637719443925,null,176.13313395479605,{"$f":"IFERROR((letalitat!$P$9*1000)/((3.14159*dispersió!$I$10*((dispersió!$J$38+F142)^dispersió!$J$10)*dispersió!$K$10*((dispersió!$K$38+F142)^dispersió!$L$10)+dispersió!$C$24*dispersió!$D$38)*dispersió!$I$12),0)","v":0.38573427275271999},{"$f":"IFERROR(dispersió!$I$10*((dispersió!$J$38+'Càlculs interns'!F142)^dispersió!$J$10)*(2*LN('Càlculs interns'!G142/dispersió!$O$45))^(1/2),0)","v":1.936231261150303},-1.936231261150303,null,123.11614909546677,{"$f":"IFERROR((letalitat!$P$9*1000)/((3.14159*dispersió!$I$10*((dispersió!$J$38+K142)^dispersió!$J$10)*dispersió!$K$10*((dispersió!$K$38+K142)^dispersió!$L$10)+dispersió!$C$24*dispersió!$D$38)*dispersió!$I$12),0)","v":0.57444601445744159},{"$f":"IFERROR(dispersió!$I$10*((dispersió!$J$38+'Càlculs interns'!K142)^dispersió!$J$10)*(2*LN('Càlculs interns'!L142/dispersió!$O$52))^(1/2),0)","v":1.4867506058881863},-1.4867506058881863,null,58.548897369820104,{"$f":"IFERROR((letalitat!$P$9*1000)/((3.14159*dispersió!$I$10*((dispersió!$J$38+P142)^dispersió!$J$10)*dispersió!$K$10*((dispersió!$K$38+P142)^dispersió!$L$10)+dispersió!$C$24*dispersió!$D$38)*dispersió!$I$12),0)","v":1.1402297274685269},{"$f":"IFERROR(dispersió!$I$10*((dispersió!$J$38+'Càlculs interns'!P142)^dispersió!$J$10)*(2*LN('Càlculs interns'!Q142/dispersió!$O$59))^(1/2),0)","v":0.77797637393102104},-0.77797637393102104]
[{"$f":"dispersió!L38","v":240.07141570367315},{"$f":"IFERROR((letalitat!$P$9*1000)/((3.14159*dispersió!$I$10*((dispersió!$J$38+A143)^dispersió!$J$10)*dispersió!$K$10*((dispersió!$K$38+A143)^dispersió!$L$10)+dispersió!$C$24*dispersió!$D$38)*dispersió!$I$12),0)","v":0.26512690733980826},{"$f":"IFERROR(dispersió!$I$10*((dispersió!$J$38+'Càlculs interns'!A143)^dispersió!$J$10)*(2*LN('Càlculs interns'!B143/dispersió!$O$38))^(1/2),0)","v":0},0,null,{"$f":"dispersió!L45","v":182.20669029806498},{"$f":"IFERROR((letalitat!$P$9*1000)/((3.14159*dispersió!$I$10*((dispersió!$J$38+F143)^dispersió!$J$10)*dispersió!$K$10*((dispersió!$K$38+F143)^dispersió!$L$10)+dispersió!$C$24*dispersió!$D$38)*dispersió!$I$12),0)","v":0.37070478777818572},{"$f":"IFERROR(dispersió!$I$10*((dispersió!$J$38+'Càlculs interns'!F143)^dispersió!$J$10)*(2*LN('Càlculs interns'!G143/dispersió!$O$45))^(1/2),0)","v":0},0,null,{"$f":"dispersió!L52","v":127.36153354703468},{"$f":"IFERROR((letalitat!$P$9*1000)/((3.14159*dispersió!$I$10*((dispersió!$J$38+K143)^dispersió!$J$10)*dispersió!$K$10*((dispersió!$K$38+K143)^dispersió!$L$10)+dispersió!$C$24*dispersió!$D$38)*dispersió!$I$12),0)","v":0.55416919748114257},{"$f":"IFERROR(dispersió!$I$10*((dispersió!$J$38+'Càlculs interns'!K143)^dispersió!$J$10)*(2*LN('Càlculs interns'!L143/dispersió!$O$52))^(1/2),0)","v":0},0,null,{"$f":"dispersió!L59","v":60.567824865331175},{"$f":"IFERROR((letalitat!$P$9*1000)/((3.14159*dispersió!$I$10*((dispersió!$J$38+P143)^dispersió!$J$10)*dispersió!$K$10*((dispersió!$K$38+P143)^dispersió!$L$10)+dispersió!$C$24*dispersió!$D$38)*dispersió!$I$12),0)","v":1.11002296667008},{"$f":"IFERROR(dispersió!$I$10*((dispersió!$J$38+'Càlculs interns'!P143)^dispersió!$J$10)*(2*LN('Càlculs interns'!Q143/dispersió!$O$59))^(1/2),0)","v":0},0]
[]
["Area 50m2"]
["Est. D"]
["LC1",null,"LC1+","LC1-",null,"LC10",null,"LC10+","LC10-",null,"LC50",null,"LC50+","LC50-",null,"LC99",null,"LC99+","LC99-"]
["X","C(x)","y+","y-",null,"X","C(x)","y+","y-",null,"X","C(x)","y+","y-",null,"X","C(x)","y+","y-"]
[0,{"$f":"IFERROR((letalitat!$P$10*1000)/((3.14159*dispersió!$C$10*((dispersió!$E$39+A149)^dispersió!$D$10)*dispersió!$E$10*((dispersió!$F$39+A149)^dispersió!$F$10)+dispersió!$C$24*dispersió!$D$39)*dispersió!$C$12),0)","v":1.0381949565322268},{"$f":"IFERROR(dispersió!$C$10*((dispersió!$E$39+'Càlculs interns'!A149)^dispersió!$D$10)*(2*LN('Càlculs interns'!B149/dispersió!$O$39))^(1/2),0)","v":2.7132947669358534},{"$f":"-C149","v":-2.7132947669358534},null,0,{"$f":"IFERROR((letalitat!$P$10*1000)/((3.14159*dispersió!$C$10*((dispersió!$E$39+F149)^dispersió!$D$10)*dispersió!$E$10*((dispersió!$F$39+F149)^dispersió!$F$10)+dispersió!$C$24*dispersió!$D$39)*dispersió!$C$12),0)","v":1.0381949565322268},{"$f":"IFERROR(dispersió!$C$10*((dispersió!$E$39+'Càlculs interns'!F149)^dispersió!$D$10)*(2*LN('Càlculs interns'!G149/dispersió!$O$46))^(1/2),0)","v":2.3511002610328338},{"$f":"-H149","v":-2.3511002610328338},null,0,{"$f":"IFERROR((letalitat!$P$10*1000)/((3.14159*dispersió!$C$10*((dispersió!$E$39+K149)^dispersió!$D$10)*dispersió!$E$10*((dispersió!$F$39+K149)^dispersió!$F$10)+dispersió!$C$24*dispersió!$D$39)*dispersió!$C$12),0)","v":1.0381949565322268},{"$f":"IFERROR(dispersió!$C$10*((dispersió!$E$39+'Càlculs interns'!K149)^dispersió!$D$10)*(2*LN('Càlculs interns'!L149/dispersió!$O$53))^(1/2),0)","v":1.8384438705365385},{"$f":"-M149","v":-1.8384438705365385},null,0,{"$f":"IFERROR((letalitat!$P$10*1000)/((3.14159*dispersió!$C$10*((dispersió!$E$39+P149)^dispersió!$D$10)*dispersió!$E$10*((dispersió!$F$39+P149)^dispersió!$F$10)+dispersió!$C$24*dispersió!$D$39)*dispersió!$C$12),0)","v":1.0381949565322268},{"$f":"IFERROR(dispersió!$C$10*((dispersió!$E$39+'Càlculs interns'!P149)^dispersió!$D$10)*(2*LN('Càlculs interns'!Q149/dispersió!$O$60))^(1/2),0)","v":0},{"$f":"-R149","v":0}]
[{"$f":"A179/30","v":1.3415861010560757},{"$f":"IFERROR((letalitat!$P$10*1000)/((3.14159*dispersió!$C$10*((dispersió!$E$39+A150)^dispersió!$D$10)*dispersió!$E$10*((dispersió!$F$39+A150)^dispersió!$F$10)+dispersió!$C$24*dispersió!$D$39)*dispersió!$C$12),0)","v":0.97329192058183478},{"$f":"IFERROR(dispersió!$C$10*((dispersió!$E$39+'Càlculs interns'!A150)^dispersió!$D$10)*(2*LN('Càlculs interns'!B150/dispersió!$O$39))^(1/2),0)","v":2.8389012329931615},-2.8389012329931615,null,{"$f":"F179/30","v":0.91030747583153626},{"$f":"IFERROR((letalitat!$P$10*1000)/((3.14159*dispersió!$C$10*((dispersió!$E$39+F150)^dispersió!$D$10)*dispersió!$E$10*((dispersió!$F$39+F150)^dispersió!$F$10)+dispersió!$C$24*dispersió!$D$39)*dispersió!$C$12),0)","v":0.99349429979781334},{"$f":"IFERROR(dispersió!$C$10*((dispersió!$E$39+'Càlculs interns'!F150)^dispersió!$D$10)*(2*LN('Càlculs interns'!G150/dispersió!$O$46))^(1/2),0)","v":2.4124493381519256},{"$f":"-H150","v":-2.4124493381519256},null,{"$f":"K179/30","v":0.49821421734855897},{"$f":"IFERROR((letalitat!$P$10*1000)/((3.14159*dispersió!$C$10*((dispersió!$E$39+K150)^dispersió!$D$10)*dispersió!$E$10*((dispersió!$F$39+K150)^dispersió!$F$10)+dispersió!$C$24*dispersió!$D$39)*dispersió!$C$12),0)","v":1.0133754966395492},{"$f":"IFERROR(dispersió!$C$10*((dispersió!$E$39+'Càlculs interns'!K150)^dispersió!$D$10)*(2*LN('Càlculs interns'!L150/dispersió!$O$53))^(1/2),0)","v":1.8508223348519848},{"$f":"-M150","v":-1.8508223348519848},null,{"$f":"P179/30","v":0},{"$f":"IFERROR((letalitat!$P$10*1000)/((3.14159*dispersió!$C$10*((dispersió!$E$39+P150)^dispersió!$D$10)*dispersió!$E$10*((dispersió!$F$39+P150)^dispersió!$F$10)+dispersió!$C$24*dispersió!$D$39)*dispersió!$C$12),0)","v":1.0381949565322268},{"$f":"IFERROR(dispersió!$C$10*((dispersió!$E$39+'Càlculs interns'!P150)^dispersió!$D$10)*(2*LN('Càlculs interns'!Q150/dispersió!$O$60))^(1/2),0)","v":0},{"$f":"-R150","v":0}]
[{"$f":"A$150+A150","v":2.6831722021121513},{"$f":"IFERROR((letalitat!$P$10*1000)/((3.14159*dispersió!$C$10*((dispersió!$E$39+A151)^dispersió!$D$10)*dispersió!$E$10*((dispersió!$F$39+A151)^dispersió!$F$10)+dispersió!$C$24*dispersió!$D$39)*dispersió!$C$12),0)","v":0.91416151996190176},{"$f":"IFERROR(dispersió!$C$10*((dispersió!$E$39+'Càlculs interns'!A151)^dispersió!$D$10)*(2*LN('Càlculs interns'!B151/dispersió!$O$39))^(1/2),0)","v":2.9541948073881477},-2.9541948073881477,null,{"$f":"F$150+F150","v":1.8206149516630725},{"$f":"IFERROR((letalitat!$P$10*1000)/((3.14159*dispersió!$C$10*((dispersió!$E$39+F151)^dispersió!$D$10)*dispersió!$E$10*((dispersió!$F$39+F151)^dispersió!$F$10)+dispersió!$C$24*dispersió!$D$39)*dispersió!$C$12),0)","v":0.95155034927810767},{"$f":"IFERROR(dispersió!$C$10*((dispersió!$E$39+'Càlculs interns'!F151)^dispersió!$D$10)*(2*LN('Càlculs interns'!G151/dispersió!$O$46))^(1/2),0)","v":2.4681307205859686},-2.4681307205859686,null,{"$f":"K$150+K150","v":0.99642843469711795},{"$f":"IFERROR((letalitat!$P$10*1000)/((3.14159*dispersió!$C$10*((dispersió!$E$39+K151)^dispersió!$D$10)*dispersió!$E$10*((dispersió!$F$39+K151)^dispersió!$F$10)+dispersió!$C$24*dispersió!$D$39)*dispersió!$C$12),0)","v":0.98941145038929479},{"$f":"IFERROR(dispersió!$C$10*((dispersió!$E$39+'Càlculs interns'!K151)^dispersió!$D$10)*(2*LN('Càlculs interns'!L151/dispersió!$O$53))^(1/2),0)","v":1.860801052772685},-1.860801052772685,null,{"$f":"P$150+P150","v":0},{"$f":"IFERROR((letalitat!$P$10*1000)/((3.14159*dispersió!$C$10*((dispersió!$E$39+P151)^dispersió!$D$10)*dispersió!$E$10*((dispersió!$F$39+P151)^dispersió!$F$10)+dispersió!$C$24*dispersió!$D$39)*dispersió!$C$12),0)","v":1.0381949565322268},{"$f":"IFERROR(dispersió!$C$10*((dispersió!$E$39+'Càlculs interns'!P151)^dispersió!$D$10)*(2*LN('Càlculs interns'!Q151/dispersió!$O$60))^(1/2),0)","v":0},0]
[{"$f":"A$150+A151","v":4.0247583031682268},{"$f":"IFERROR((letalitat!$P$10*1000)/((3.14159*dispersió!$C$10*((dispersió!$E$39+A152)^dispersió!$D$10)*dispersió!$E$10*((dispersió!$F$39+A152)^dispersió!$F$10)+dispersió!$C$24*dispersió!$D$39)*dispersió!$C$12),0)","v":0.86017753626067006},{"$f":"IFERROR(dispersió!$C$10*((dispersió!$E$39+'Càlculs interns'!A152)^dispersió!$D$10)*(2*LN('Càlculs interns'!B152/dispersió!$O$39))^(1/2),0)","v":3.0593784691408166},-3.0593784691408166,null,{"$f":"F$150+F151","v":2.7309224274946087},{"$f":"IFERROR((letalitat!$P$10*1000)/((3.14159*dispersió!$C$10*((dispersió!$E$39+F152)^dispersió!$D$10)*dispersió!$E$10*((dispersió!$F$39+F152)^dispersió!$F$10)+dispersió!$C$24*dispersió!$D$39)*dispersió!$C$12),0)","v":0.91215524696874539},{"$f":"IFERROR(dispersió!$C$10*((dispersió!$E$39+'Càlculs interns'!F152)^dispersió!$D$10)*(2*LN('Càlculs interns'!G152/dispersió!$O$46))^(1/2),0)","v":2.5181533013141535},-2.5181533013141535,null,{"$f":"K$150+K151","v":1.4946426520456768},{"$f":"IFERROR((letalitat!$P$10*1000)/((3.14159*dispersió!$C$10*((dispersió!$E$39+K152)^dispersió!$D$10)*dispersió!$E$10*((dispersió!$F$39+K152)^dispersió!$F$10)+dispersió!$C$24*dispersió!$D$39)*dispersió!$C$12),0)","v":0.96626670030381812},{"$f":"IFERROR(dispersió!$C$10*((dispersió!$E$39+'Càlculs interns'!K152)^dispersió!$D$10)*(2*LN('Càlculs interns'!L152/dispersió!$O$53))^(1/2),0)","v":1.8683377719975076},-1.8683377719975076,null,{"$f":"P$150+P151","v":0},{"$f":"IFERROR((letalitat!$P$10*1000)/((3.14159*dispersió!$C$10*((dispersió!$E$39+P152)^dispersió!$D$10)*dispersió!$E$10*((dispersió!$F$39+P152)^dispersió!$F$10)+dispersió!$C$24*dispersió!$D$39)*dispersió!$C$12),0)","v":1.0381949565322268},{"$f":"IFERROR(dispersió!$C$10*((dispersió!$E$39+'Càlculs interns'!P152)^dispersió!$D$10)*(2*LN('Càlculs interns'!Q152/dispersió!$O$60))^(1/2),0)","v":0},0]
[5.3663444042243027,{"$f":"IFERROR((letalitat!$P$10*1000)/((3.14159*dispersió!$C$10*((dispersió!$E$39+A153)^dispersió!$D$10)*dispersió!$E$10*((dispersió!$F$39+A153)^dispersió!$F$10)+dispersió!$C$24*dispersió!$D$39)*dispersió!$C$12),0)","v":0.8107890936883474},{"$f":"IFERROR(dispersió!$C$10*((dispersió!$E$39+'Càlculs interns'!A153)^dispersió!$D$10)*(2*LN('Càlculs interns'!B153/dispersió!$O$39))^(1/2),0)","v":3.1546095535884691},-3.1546095535884691,null,3.641229903326145,{"$f":"IFERROR((letalitat!$P$10*1000)/((3.14159*dispersió!$C$10*((dispersió!$E$39+F153)^dispersió!$D$10)*dispersió!$E$10*((dispersió!$F$39+F153)^dispersió!$F$10)+dispersió!$C$24*dispersió!$D$39)*dispersió!$C$12),0)","v":0.87511842864432277},{"$f":"IFERROR(dispersió!$C$10*((dispersió!$E$39+'Càlculs interns'!F153)^dispersió!$D$10)*(2*LN('Càlculs interns'!G153/dispersió!$O$46))^(1/2),0)","v":2.562509625748091},-2.562509625748091,null,1.9928568693942359,{"$f":"IFERROR((letalitat!$P$10*1000)/((3.14159*dispersió!$C$10*((dispersió!$E$39+K153)^dispersió!$D$10)*dispersió!$E$10*((dispersió!$F$39+K153)^dispersió!$F$10)+dispersió!$C$24*dispersió!$D$39)*dispersió!$C$12),0)","v":0.9439068002553519},{"$f":"IFERROR(dispersió!$C$10*((dispersió!$E$39+'Càlculs interns'!K153)^dispersió!$D$10)*(2*LN('Càlculs interns'!L153/dispersió!$O$53))^(1/2),0)","v":1.8733842655001434},-1.8733842655001434,null,0,{"$f":"IFERROR((letalitat!$P$10*1000)/((3.14159*dispersió!$C$10*((dispersió!$E$39+P153)^dispersió!$D$10)*dispersió!$E$10*((dispersió!$F$39+P153)^dispersió!$F$10)+dispersió!$C$24*dispersió!$D$39)*dispersió!$C$12),0)","v":1.0381949565322268},{"$f":"IFERROR(dispersió!$C$10*((dispersió!$E$39+'Càlculs interns'!P153)^dispersió!$D$10)*(2*LN('Càlculs interns'!Q153/dispersió!$O$60))^(1/2),0)","v":0},0]
[6.7079305052803786,{"$f":"IFERROR((letalitat!$P$10*1000)/((3.14159*dispersió!$C$10*((dispersió!$E$39+A154)^dispersió!$D$10)*dispersió!$E$10*((dispersió!$F$39+A154)^dispersió!$F$10)+dispersió!$C$24*dispersió!$D$39)*dispersió!$C$12),0)","v":0.7655115400400937},{"$f":"IFERROR(dispersió!$C$10*((dispersió!$E$39+'Càlculs interns'!A154)^dispersió!$D$10)*(2*LN('Càlculs interns'!B154/dispersió!$O$39))^(1/2),0)","v":3.240002525714536},-3.240002525714536,null,4.551537379157681,{"$f":"IFERROR((letalitat!$P$10*1000)/((3.14159*dispersió!$C$10*((dispersió!$E$39+F154)^dispersió!$D$10)*dispersió!$E$10*((dispersió!$F$39+F154)^dispersió!$F$10)+dispersió!$C$24*dispersió!$D$39)*dispersió!$C$12),0)","v":0.84026521246755892},{"$f":"IFERROR(dispersió!$C$10*((dispersió!$E$39+'Càlculs interns'!F154)^dispersió!$D$10)*(2*LN('Càlculs interns'!G154/dispersió!$O$46))^(1/2),0)","v":2.6011754374228584},-2.6011754374228584,null,2.491071086742795,{"$f":"IFERROR((letalitat!$P$10*1000)/((3.14159*dispersió!$C$10*((dispersió!$E$39+K154)^dispersió!$D$10)*dispersió!$E$10*((dispersió!$F$39+K154)^dispersió!$F$10)+dispersió!$C$24*dispersió!$D$39)*dispersió!$C$12),0)","v":0.9222989020704544},{"$f":"IFERROR(dispersió!$C$10*((dispersió!$E$39+'Càlculs interns'!K154)^dispersió!$D$10)*(2*LN('Càlculs interns'!L154/dispersió!$O$53))^(1/2),0)","v":1.875885680150734},-1.875885680150734,null,0,{"$f":"IFERROR((letalitat!$P$10*1000)/((3.14159*dispersió!$C$10*((dispersió!$E$39+P154)^dispersió!$D$10)*dispersió!$E$10*((dispersió!$F$39+P154)^dispersió!$F$10)+dispersió!$C$24*dispersió!$D$39)*dispersió!$C$12),0)","v":1.0381949565322268},{"$f":"IFERROR(dispersió!$C$10*((dispersió!$E$39+'Càlculs interns'!P154)^dispersió!$D$10)*(2*LN('Càlculs interns'!Q154/dispersió!$O$60))^(1/2),0)","v":0},0]
[8.0495166063364536,{"$f":"IFERROR((letalitat!$P$10*1000)/((3.14159*dispersió!$C$10*((dispersió!$E$39+A155)^dispersió!$D$10)*dispersió!$E$10*((dispersió!$F$39+A155)^dispersió!$F$10)+dispersió!$C$24*dispersió!$D$39)*dispersió!$C$12),0)","v":0.72391823282525758},{"$f":"IFERROR(dispersió!$C$10*((dispersió!$E$39+'Càlculs interns'!A155)^dispersió!$D$10)*(2*LN('Càlculs interns'!B155/dispersió!$O$39))^(1/2),0)","v":3.3156306590634932},-3.3156306590634932,null,5.4618448549892173,{"$f":"IFERROR((letalitat!$P$10*1000)/((3.14159*dispersió!$C$10*((dispersió!$E$39+F155)^dispersió!$D$10)*dispersió!$E$10*((dispersió!$F$39+F155)^dispersió!$F$10)+dispersió!$C$24*dispersió!$D$39)*dispersió!$C$12),0)","v":0.80743547027635387},{"$f":"IFERROR(dispersió!$C$10*((dispersió!$E$39+'Càlculs interns'!F155)^dispersió!$D$10)*(2*LN('Càlculs interns'!G155/dispersió!$O$46))^(1/2),0)","v":2.6341089244980718},-2.6341089244980718,null,2.9892853040913541,{"$f":"IFERROR((letalitat!$P$10*1000)/((3.14159*dispersió!$C$10*((dispersió!$E$39+K155)^dispersió!$D$10)*dispersió!$E$10*((dispersió!$F$39+K155)^dispersió!$F$10)+dispersió!$C$24*dispersió!$D$39)*dispersió!$C$12),0)","v":0.90141168396904325},{"$f":"IFERROR(dispersió!$C$10*((dispersió!$E$39+'Càlculs interns'!K155)^dispersió!$D$10)*(2*LN('Càlculs interns'!L155/dispersió!$O$53))^(1/2),0)","v":1.8757797602454951},-1.8757797602454951,null,0,{"$f":"IFERROR((letalitat!$P$10*1000)/((3.14159*dispersió!$C$10*((dispersió!$E$39+P155)^dispersió!$D$10)*dispersió!$E$10*((dispersió!$F$39+P155)^dispersió!$F$10)+dispersió!$C$24*dispersió!$D$39)*dispersió!$C$12),0)","v":1.0381949565322268},{"$f":"IFERROR(dispersió!$C$10*((dispersió!$E$39+'Càlculs interns'!P155)^dispersió!$D$10)*(2*LN('Càlculs interns'!Q155/dispersió!$O$60))^(1/2),0)","v":0},{"$f":"-R155","v":0}]
[9.3911027073925286,{"$f":"IFERROR((letalitat!$P$10*1000)/((3.14159*dispersió!$C$10*((dispersió!$E$39+A156)^dispersió!$D$10)*dispersió!$E$10*((dispersió!$F$39+A156)^dispersió!$F$10)+dispersió!$C$24*dispersió!$D$39)*dispersió!$C$12),0)","v":0.68563323352769967},{"$f":"IFERROR(dispersió!$C$10*((dispersió!$E$39+'Càlculs interns'!A156)^dispersió!$D$10)*(2*LN('Càlculs interns'!B156/dispersió!$O$39))^(1/2),0)","v":3.381526750582621},-3.381526750582621,null,6.3721523308207537,{"$f":"IFERROR((letalitat!$P$10*1000)/((3.14159*dispersió!$C$10*((dispersió!$E$39+F156)^dispersió!$D$10)*dispersió!$E$10*((dispersió!$F$39+F156)^dispersió!$F$10)+dispersió!$C$24*dispersió!$D$39)*dispersió!$C$12),0)","v":0.77648238703188133},{"$f":"IFERROR(dispersió!$C$10*((dispersió!$E$39+'Càlculs interns'!F156)^dispersió!$D$10)*(2*LN('Càlculs interns'!G156/dispersió!$O$46))^(1/2),0)","v":2.6612496385383753},-2.6612496385383753,null,3.4874995214399132,{"$f":"IFERROR((letalitat!$P$10*1000)/((3.14159*dispersió!$C$10*((dispersió!$E$39+K156)^dispersió!$D$10)*dispersió!$E$10*((dispersió!$F$39+K156)^dispersió!$F$10)+dispersió!$C$24*dispersió!$D$39)*dispersió!$C$12),0)","v":0.88121528103863911},{"$f":"IFERROR(dispersió!$C$10*((dispersió!$E$39+'Càlculs interns'!K156)^dispersió!$D$10)*(2*LN('Càlculs interns'!L156/dispersió!$O$53))^(1/2),0)","v":1.8729959184852032},{"$f":"-M156","v":-1.8729959184852032},null,0,{"$f":"IFERROR((letalitat!$P$10*1000)/((3.14159*dispersió!$C$10*((dispersió!$E$39+P156)^dispersió!$D$10)*dispersió!$E$10*((dispersió!$F$39+P156)^dispersió!$F$10)+dispersió!$C$24*dispersió!$D$39)*dispersió!$C$12),0)","v":1.0381949565322268},{"$f":"IFERROR(dispersió!$C$10*((dispersió!$E$39+'Càlculs interns'!P156)^dispersió!$D$10)*(2*LN('Càlculs interns'!Q156/dispersió!$O$60))^(1/2),0)","v":0},0]
[10.732688808448604,{"$f":"IFERROR((letalitat!$P$10*1000)/((3.14159*dispersió!$C$10*((dispersió!$E$39+A157)^dispersió!$D$10)*dispersió!$E$10*((dispersió!$F$39+A157)^dispersió!$F$10)+dispersió!$C$24*dispersió!$D$39)*dispersió!$C$12),0)","v":0.65032486793540301},{"$f":"IFERROR(dispersió!$C$10*((dispersió!$E$39+'Càlculs interns'!A157)^dispersió!$D$10)*(2*LN('Càlculs interns'!B157/dispersió!$O$39))^(1/2),0)","v":3.4376829240338571},-3.4376829240338571,null,7.2824598066522901,{"$f":"IFERROR((letalitat!$P$10*1000)/((3.14159*dispersió!$C$10*((dispersió!$E$39+F157)^dispersió!$D$10)*dispersió!$E$10*((dispersió!$F$39+F157)^dispersió!$F$10)+dispersió!$C$24*dispersió!$D$39)*dispersió!$C$12),0)","v":0.74727131019528781},{"$f":"IFERROR(dispersió!$C$10*((dispersió!$E$39+'Càlculs interns'!F157)^dispersió!$D$10)*(2*LN('Càlculs interns'!G157/dispersió!$O$46))^(1/2),0)","v":2.6825170397249352},-2.6825170397249352,null,3.9857137387884722,{"$f":"IFERROR((letalitat!$P$10*1000)/((3.14159*dispersió!$C$10*((dispersió!$E$39+K157)^dispersió!$D$10)*dispersió!$E$10*((dispersió!$F$39+K157)^dispersió!$F$10)+dispersió!$C$24*dispersió!$D$39)*dispersió!$C$12),0)","v":0.86168121789598573},{"$f":"IFERROR(dispersió!$C$10*((dispersió!$E$39+'Càlculs interns'!K157)^dispersió!$D$10)*(2*LN('Càlculs interns'!L157/dispersió!$O$53))^(1/2),0)","v":1.8674541190269081},{"$f":"-M157","v":-1.8674541190269081},null,0,{"$f":"IFERROR((letalitat!$P$10*1000)/((3.14159*dispersió!$C$10*((dispersió!$E$39+P157)^dispersió!$D$10)*dispersió!$E$10*((dispersió!$F$39+P157)^dispersió!$F$10)+dispersió!$C$24*dispersió!$D$39)*dispersió!$C$12),0)","v":1.0381949565322268},{"$f":"IFERROR(dispersió!$C$10*((dispersió!$E$39+'Càlculs interns'!P157)^dispersió!$D$10)*(2*LN('Càlculs interns'!Q157/dispersió!$O$60))^(1/2),0)","v":0},0]
[12.074274909504679,{"$f":"IFERROR((letalitat!$P$10*1000)/((3.14159*dispersió!$C$10*((dispersió!$E$39+A158)^dispersió!$D$10)*dispersió!$E$10*((dispersió!$F$39+A158)^dispersió!$F$10)+dispersió!$C$24*dispersió!$D$39)*dispersió!$C$12),0)","v":0.61770008600012105},{"$f":"IFERROR(dispersió!$C$10*((dispersió!$E$39+'Càlculs interns'!A158)^dispersió!$D$10)*(2*LN('Càlculs interns'!B158/dispersió!$O$39))^(1/2),0)","v":3.4840495117089754},-3.4840495117089754,null,8.1927672824838265,{"$f":"IFERROR((letalitat!$P$10*1000)/((3.14159*dispersió!$C$10*((dispersió!$E$39+F158)^dispersió!$D$10)*dispersió!$E$10*((dispersió!$F$39+F158)^dispersió!$F$10)+dispersió!$C$24*dispersió!$D$39)*dispersió!$C$12),0)","v":0.71967868810729896},{"$f":"IFERROR(dispersió!$C$10*((dispersió!$E$39+'Càlculs interns'!F158)^dispersió!$D$10)*(2*LN('Càlculs interns'!G158/dispersió!$O$46))^(1/2),0)","v":2.6978086020709142},-2.6978086020709142,null,4.4839279561370313,{"$f":"IFERROR((letalitat!$P$10*1000)/((3.14159*dispersió!$C$10*((dispersió!$E$39+K158)^dispersió!$D$10)*dispersió!$E$10*((dispersió!$F$39+K158)^dispersió!$F$10)+dispersió!$C$24*dispersió!$D$39)*dispersió!$C$12),0)","v":0.84278234364588689},{"$f":"IFERROR(dispersió!$C$10*((dispersió!$E$39+'Càlculs interns'!K158)^dispersió!$D$10)*(2*LN('Càlculs interns'!L158/dispersió!$O$53))^(1/2),0)","v":1.8590635266361994},-1.8590635266361994,null,0,{"$f":"IFERROR((letalitat!$P$10*1000)/((3.14159*dispersió!$C$10*((dispersió!$E$39+P158)^dispersió!$D$10)*dispersió!$E$10*((dispersió!$F$39+P158)^dispersió!$F$10)+dispersió!$C$24*dispersió!$D$39)*dispersió!$C$12),0)","v":1.0381949565322268},{"$f":"IFERROR(dispersió!$C$10*((dispersió!$E$39+'Càlculs interns'!P158)^dispersió!$D$10)*(2*LN('Càlculs interns'!Q158/dispersió!$O$60))^(1/2),0)","v":0},0]
[13.415861010560754,{"$f":"IFERROR((letalitat!$P$10*1000)/((3.14159*dispersió!$C$10*((dispersió!$E$39+A159)^dispersió!$D$10)*dispersió!$E$10*((dispersió!$F$39+A159)^dispersió!$F$10)+dispersió!$C$24*dispersió!$D$39)*dispersió!$C$12),0)","v":0.58749954380891201},{"$f":"IFERROR(dispersió!$C$10*((dispersió!$E$39+'Càlculs interns'!A159)^dispersió!$D$10)*(2*LN('Càlculs interns'!B159/dispersió!$O$39))^(1/2),0)","v":3.5205329452245273},-3.5205329452245273,null,9.1030747583153619,{"$f":"IFERROR((letalitat!$P$10*1000)/((3.14159*dispersió!$C$10*((dispersió!$E$39+F159)^dispersió!$D$10)*dispersió!$E$10*((dispersió!$F$39+F159)^dispersió!$F$10)+dispersió!$C$24*dispersió!$D$39)*dispersió!$C$12),0)","v":0.6935910945710404},{"$f":"IFERROR(dispersió!$C$10*((dispersió!$E$39+'Càlculs interns'!F159)^dispersió!$D$10)*(2*LN('Càlculs interns'!G159/dispersió!$O$46))^(1/2),0)","v":2.7069973861867322},{"$f":"-H159","v":-2.7069973861867322},null,4.98214217348559,{"$f":"IFERROR((letalitat!$P$10*1000)/((3.14159*dispersió!$C$10*((dispersió!$E$39+K159)^dispersió!$D$10)*dispersió!$E$10*((dispersió!$F$39+K159)^dispersió!$F$10)+dispersió!$C$24*dispersió!$D$39)*dispersió!$C$12),0)","v":0.82449276921065773},{"$f":"IFERROR(dispersió!$C$10*((dispersió!$E$39+'Càlculs interns'!K159)^dispersió!$D$10)*(2*LN('Càlculs interns'!L159/dispersió!$O$53))^(1/2),0)","v":1.8477208615910385},-1.8477208615910385,null,0,{"$f":"IFERROR((letalitat!$P$10*1000)/((3.14159*dispersió!$C$10*((dispersió!$E$39+P159)^dispersió!$D$10)*dispersió!$E$10*((dispersió!$F$39+P159)^dispersió!$F$10)+dispersió!$C$24*dispersió!$D$39)*dispersió!$C$12),0)","v":1.0381949565322268},{"$f":"IFERROR(dispersió!$C$10*((dispersió!$E$39+'Càlculs interns'!P159)^dispersió!$D$10)*(2*LN('Càlculs interns'!Q159/dispersió!$O$60))^(1/2),0)","v":0},0]
[14.757447111616829,{"$f":"IFERROR((letalitat!$P$10*1000)/((3.14159*dispersió!$C$10*((dispersió!$E$39+A160)^dispersió!$D$10)*dispersió!$E$10*((dispersió!$F$39+A160)^dispersió!$F$10)+dispersió!$C$24*dispersió!$D$39)*dispersió!$C$12),0)","v":0.55949332791597139},{"$f":"IFERROR(dispersió!$C$10*((dispersió!$E$39+'Càlculs interns'!A160)^dispersió!$D$10)*(2*LN('Càlculs interns'!B160/dispersió!$O$39))^(1/2),0)","v":3.5469925226200716},-3.5469925226200716,null,10.013382234146897,{"$f":"IFERROR((letalitat!$P$10*1000)/((3.14159*dispersió!$C$10*((dispersió!$E$39+F160)^dispersió!$D$10)*dispersió!$E$10*((dispersió!$F$39+F160)^dispersió!$F$10)+dispersió!$C$24*dispersió!$D$39)*dispersió!$C$12),0)","v":0.6689043356005967},{"$f":"IFERROR(dispersió!$C$10*((dispersió!$E$39+'Càlculs interns'!F160)^dispersió!$D$10)*(2*LN('Càlculs interns'!G160/dispersió!$O$46))^(1/2),0)","v":2.7099289527337374},-2.7099289527337374,null,5.4803563908341486,{"$f":"IFERROR((letalitat!$P$10*1000)/((3.14159*dispersió!$C$10*((dispersió!$E$39+K160)^dispersió!$D$10)*dispersió!$E$10*((dispersió!$F$39+K160)^dispersió!$F$10)+dispersió!$C$24*dispersió!$D$39)*dispersió!$C$12),0)","v":0.80678780707249165},{"$f":"IFERROR(dispersió!$C$10*((dispersió!$E$39+'Càlculs interns'!K160)^dispersió!$D$10)*(2*LN('Càlculs interns'!L160/dispersió!$O$53))^(1/2),0)","v":1.8333083802082943},-1.8333083802082943,null,0,{"$f":"IFERROR((letalitat!$P$10*1000)/((3.14159*dispersió!$C$10*((dispersió!$E$39+P160)^dispersió!$D$10)*dispersió!$E$10*((dispersió!$F$39+P160)^dispersió!$F$10)+dispersió!$C$24*dispersió!$D$39)*dispersió!$C$12),0)","v":1.0381949565322268},{"$f":"IFERROR(dispersió!$C$10*((dispersió!$E$39+'Càlculs interns'!P160)^dispersió!$D$10)*(2*LN('Càlculs interns'!Q160/dispersió!$O$60))^(1/2),0)","v":0},0]
[16.099033212672904,{"$f":"IFERROR((letalitat!$P$10*1000)/((3.14159*dispersió!$C$10*((dispersió!$E$39+A161)^dispersió!$D$10)*dispersió!$E$10*((dispersió!$F$39+A161)^dispersió!$F$10)+dispersió!$C$24*dispersió!$D$39)*dispersió!$C$12),0)","v":0.53347724501393989},{"$f":"IFERROR(dispersió!$C$10*((dispersió!$E$39+'Càlculs interns'!A161)^dispersió!$D$10)*(2*LN('Càlculs interns'!B161/dispersió!$O$39))^(1/2),0)","v":3.5632358423258093},-3.5632358423258093,null,10.923689709978433,{"$f":"IFERROR((letalitat!$P$10*1000)/((3.14159*dispersió!$C$10*((dispersió!$E$39+F161)^dispersió!$D$10)*dispersió!$E$10*((dispersió!$F$39+F161)^dispersió!$F$10)+dispersió!$C$24*dispersió!$D$39)*dispersió!$C$12),0)","v":0.64552263354172579},{"$f":"IFERROR(dispersió!$C$10*((dispersió!$E$39+'Càlculs interns'!F161)^dispersió!$D$10)*(2*LN('Càlculs interns'!G161/dispersió!$O$46))^(1/2),0)","v":2.7064174427131671},-2.7064174427131671,null,5.9785706081827072,{"$f":"IFERROR((letalitat!$P$10*1000)/((3.14159*dispersió!$C$10*((dispersió!$E$39+K161)^dispersió!$D$10)*dispersió!$E$10*((dispersió!$F$39+K161)^dispersió!$F$10)+dispersió!$C$24*dispersió!$D$39)*dispersió!$C$12),0)","v":0.78964391344485929},{"$f":"IFERROR(dispersió!$C$10*((dispersió!$E$39+'Càlculs interns'!K161)^dispersió!$D$10)*(2*LN('Càlculs interns'!L161/dispersió!$O$53))^(1/2),0)","v":1.8156913732368831},-1.8156913732368831,null,0,{"$f":"IFERROR((letalitat!$P$10*1000)/((3.14159*dispersió!$C$10*((dispersió!$E$39+P161)^dispersió!$D$10)*dispersió!$E$10*((dispersió!$F$39+P161)^dispersió!$F$10)+dispersió!$C$24*dispersió!$D$39)*dispersió!$C$12),0)","v":1.0381949565322268},{"$f":"IFERROR(dispersió!$C$10*((dispersió!$E$39+'Càlculs interns'!P161)^dispersió!$D$10)*(2*LN('Càlculs interns'!Q161/dispersió!$O$60))^(1/2),0)","v":0},0]
[17.44061931372898,{"$f":"IFERROR((letalitat!$P$10*1000)/((3.14159*dispersió!$C$10*((dispersió!$E$39+A162)^dispersió!$D$10)*dispersió!$E$10*((dispersió!$F$39+A162)^dispersió!$F$10)+dispersió!$C$24*dispersió!$D$39)*dispersió!$C$12),0)","v":0.50926960541175603},{"$f":"IFERROR(dispersió!$C$10*((dispersió!$E$39+'Càlculs interns'!A162)^dispersió!$D$10)*(2*LN('Càlculs interns'!B162/dispersió!$O$39))^(1/2),0)","v":3.569012594380534},{"$f":"-C162","v":-3.569012594380534},null,11.833997185809968,{"$f":"IFERROR((letalitat!$P$10*1000)/((3.14159*dispersió!$C$10*((dispersió!$E$39+F162)^dispersió!$D$10)*dispersió!$E$10*((dispersió!$F$39+F162)^dispersió!$F$10)+dispersió!$C$24*dispersió!$D$39)*dispersió!$C$12),0)","v":0.62335788337153719},{"$f":"IFERROR(dispersió!$C$10*((dispersió!$E$39+'Càlculs interns'!F162)^dispersió!$D$10)*(2*LN('Càlculs interns'!G162/dispersió!$O$46))^(1/2),0)","v":2.6962405848560129},-2.6962405848560129,null,6.4767848255312659,{"$f":"IFERROR((letalitat!$P$10*1000)/((3.14159*dispersió!$C$10*((dispersió!$E$39+K162)^dispersió!$D$10)*dispersió!$E$10*((dispersió!$F$39+K162)^dispersió!$F$10)+dispersió!$C$24*dispersió!$D$39)*dispersió!$C$12),0)","v":0.77303863286718966},{"$f":"IFERROR(dispersió!$C$10*((dispersió!$E$39+'Càlculs interns'!K162)^dispersió!$D$10)*(2*LN('Càlculs interns'!L162/dispersió!$O$53))^(1/2),0)","v":1.7947150351385319},-1.7947150351385319,null,0,{"$f":"IFERROR((letalitat!$P$10*1000)/((3.14159*dispersió!$C$10*((dispersió!$E$39+P162)^dispersió!$D$10)*dispersió!$E$10*((dispersió!$F$39+P162)^dispersió!$F$10)+dispersió!$C$24*dispersió!$D$39)*dispersió!$C$12),0)","v":1.0381949565322268},{"$f":"IFERROR(dispersió!$C$10*((dispersió!$E$39+'Càlculs interns'!P162)^dispersió!$D$10)*(2*LN('Càlculs interns'!Q162/dispersió!$O$60))^(1/2),0)","v":0},0]
[18.782205414785057,{"$f":"IFERROR((letalitat!$P$10*1000)/((3.14159*dispersió!$C$10*((dispersió!$E$39+A163)^dispersió!$D$10)*dispersió!$E$10*((dispersió!$F$39+A163)^dispersió!$F$10)+dispersió!$C$24*dispersió!$D$39)*dispersió!$C$12),0)","v":0.48670843555364574},{"$f":"IFERROR(dispersió!$C$10*((dispersió!$E$39+'Càlculs interns'!A163)^dispersió!$D$10)*(2*LN('Càlculs interns'!B163/dispersió!$O$39))^(1/2),0)","v":3.5640062608810821},-3.5640062608810821,null,12.744304661641504,{"$f":"IFERROR((letalitat!$P$10*1000)/((3.14159*dispersió!$C$10*((dispersió!$E$39+F163)^dispersió!$D$10)*dispersió!$E$10*((dispersió!$F$39+F163)^dispersió!$F$10)+dispersió!$C$24*dispersió!$D$39)*dispersió!$C$12),0)","v":0.60232897584189038},{"$f":"IFERROR(dispersió!$C$10*((dispersió!$E$39+'Càlculs interns'!F163)^dispersió!$D$10)*(2*LN('Càlculs interns'!G163/dispersió!$O$46))^(1/2),0)","v":2.6791332958380623},-2.6791332958380623,null,6.9749990428798245,{"$f":"IFERROR((letalitat!$P$10*1000)/((3.14159*dispersió!$C$10*((dispersió!$E$39+K163)^dispersió!$D$10)*dispersió!$E$10*((dispersió!$F$39+K163)^dispersió!$F$10)+dispersió!$C$24*dispersió!$D$39)*dispersió!$C$12),0)","v":0.75695054519912086},{"$f":"IFERROR(dispersió!$C$10*((dispersió!$E$39+'Càlculs interns'!K163)^dispersió!$D$10)*(2*LN('Càlculs interns'!L163/dispersió!$O$53))^(1/2),0)","v":1.7702005005886565},-1.7702005005886565,null,0,{"$f":"IFERROR((letalitat!$P$10*1000)/((3.14159*dispersió!$C$10*((dispersió!$E$39+P163)^dispersió!$D$10)*dispersió!$E$10*((dispersió!$F$39+P163)^dispersió!$F$10)+dispersió!$C$24*dispersió!$D$39)*dispersió!$C$12),0)","v":1.0381949565322268},{"$f":"IFERROR(dispersió!$C$10*((dispersió!$E$39+'Càlculs interns'!P163)^dispersió!$D$10)*(2*LN('Càlculs interns'!Q163/dispersió!$O$60))^(1/2),0)","v":0},0]
[20.123791515841134,{"$f":"IFERROR((letalitat!$P$10*1000)/((3.14159*dispersió!$C$10*((dispersió!$E$39+A164)^dispersió!$D$10)*dispersió!$E$10*((dispersió!$F$39+A164)^dispersió!$F$10)+dispersió!$C$24*dispersió!$D$39)*dispersió!$C$12),0)","v":0.46564906194928513},{"$f":"IFERROR(dispersió!$C$10*((dispersió!$E$39+'Càlculs interns'!A164)^dispersió!$D$10)*(2*LN('Càlculs interns'!B164/dispersió!$O$39))^(1/2),0)","v":3.54782307855139},-3.54782307855139,null,13.654612137473039,{"$f":"IFERROR((letalitat!$P$10*1000)/((3.14159*dispersió!$C$10*((dispersió!$E$39+F164)^dispersió!$D$10)*dispersió!$E$10*((dispersió!$F$39+F164)^dispersió!$F$10)+dispersió!$C$24*dispersió!$D$39)*dispersió!$C$12),0)","v":0.58236118217061661},{"$f":"IFERROR(dispersió!$C$10*((dispersió!$E$39+'Càlculs interns'!F164)^dispersió!$D$10)*(2*LN('Càlculs interns'!G164/dispersió!$O$46))^(1/2),0)","v":2.6547794002640988},-2.6547794002640988,null,7.4732132602283832,{"$f":"IFERROR((letalitat!$P$10*1000)/((3.14159*dispersió!$C$10*((dispersió!$E$39+K164)^dispersió!$D$10)*dispersió!$E$10*((dispersió!$F$39+K164)^dispersió!$F$10)+dispersió!$C$24*dispersió!$D$39)*dispersió!$C$12),0)","v":0.74135921497595114},{"$f":"IFERROR(dispersió!$C$10*((dispersió!$E$39+'Càlculs interns'!K164)^dispersió!$D$10)*(2*LN('Càlculs interns'!L164/dispersió!$O$53))^(1/2),0)","v":1.7419397609688545},-1.7419397609688545,null,0,{"$f":"IFERROR((letalitat!$P$10*1000)/((3.14159*dispersió!$C$10*((dispersió!$E$39+P164)^dispersió!$D$10)*dispersió!$E$10*((dispersió!$F$39+P164)^dispersió!$F$10)+dispersió!$C$24*dispersió!$D$39)*dispersió!$C$12),0)","v":1.0381949565322268},{"$f":"IFERROR(dispersió!$C$10*((dispersió!$E$39+'Càlculs interns'!P164)^dispersió!$D$10)*(2*LN('Càlculs interns'!Q164/dispersió!$O$60))^(1/2),0)","v":0},0]
[21.465377616897211,{"$f":"IFERROR((letalitat!$P$10*1000)/((3.14159*dispersió!$C$10*((dispersió!$E$39+A165)^dispersió!$D$10)*dispersió!$E$10*((dispersió!$F$39+A165)^dispersió!$F$10)+dispersió!$C$24*dispersió!$D$39)*dispersió!$C$12),0)","v":0.44596201585189599},{"$f":"IFERROR(dispersió!$C$10*((dispersió!$E$39+'Càlculs interns'!A165)^dispersió!$D$10)*(2*LN('Càlculs interns'!B165/dispersió!$O$39))^(1/2),0)","v":3.5199773202924738},-3.5199773202924738,null,14.564919613304575,{"$f":"IFERROR((letalitat!$P$10*1000)/((3.14159*dispersió!$C$10*((dispersió!$E$39+F165)^dispersió!$D$10)*dispersió!$E$10*((dispersió!$F$39+F165)^dispersió!$F$10)+dispersió!$C$24*dispersió!$D$39)*dispersió!$C$12),0)","v":0.56338559514733033},{"$f":"IFERROR(dispersió!$C$10*((dispersió!$E$39+'Càlculs interns'!F165)^dispersió!$D$10)*(2*LN('Càlculs interns'!G165/dispersió!$O$46))^(1/2),0)","v":2.6228007887998523},-2.6228007887998523,null,7.9714274775769418,{"$f":"IFERROR((letalitat!$P$10*1000)/((3.14159*dispersió!$C$10*((dispersió!$E$39+K165)^dispersió!$D$10)*dispersió!$E$10*((dispersió!$F$39+K165)^dispersió!$F$10)+dispersió!$C$24*dispersió!$D$39)*dispersió!$C$12),0)","v":0.72624514307525234},{"$f":"IFERROR(dispersió!$C$10*((dispersió!$E$39+'Càlculs interns'!K165)^dispersió!$D$10)*(2*LN('Càlculs interns'!L165/dispersió!$O$53))^(1/2),0)","v":1.7096890477254023},-1.7096890477254023,null,0,{"$f":"IFERROR((letalitat!$P$10*1000)/((3.14159*dispersió!$C$10*((dispersió!$E$39+P165)^dispersió!$D$10)*dispersió!$E$10*((dispersió!$F$39+P165)^dispersió!$F$10)+dispersió!$C$24*dispersió!$D$39)*dispersió!$C$12),0)","v":1.0381949565322268},{"$f":"IFERROR(dispersió!$C$10*((dispersió!$E$39+'Càlculs interns'!P165)^dispersió!$D$10)*(2*LN('Càlculs interns'!Q165/dispersió!$O$60))^(1/2),0)","v":0},0]
[22.806963717953288,{"$f":"IFERROR((letalitat!$P$10*1000)/((3.14159*dispersió!$C$10*((dispersió!$E$39+A166)^dispersió!$D$10)*dispersió!$E$10*((dispersió!$F$39+A166)^dispersió!$F$10)+dispersió!$C$24*dispersió!$D$39)*dispersió!$C$12),0)","v":0.42753121452556492},{"$f":"IFERROR(dispersió!$C$10*((dispersió!$E$39+'Càlculs interns'!A166)^dispersió!$D$10)*(2*LN('Càlculs interns'!B166/dispersió!$O$39))^(1/2),0)","v":3.4798714988272912},-3.4798714988272912,null,15.47522708913611,{"$f":"IFERROR((letalitat!$P$10*1000)/((3.14159*dispersió!$C$10*((dispersió!$E$39+F166)^dispersió!$D$10)*dispersió!$E$10*((dispersió!$F$39+F166)^dispersió!$F$10)+dispersió!$C$24*dispersió!$D$39)*dispersió!$C$12),0)","v":0.54533862176331693},{"$f":"IFERROR(dispersió!$C$10*((dispersió!$E$39+'Càlculs interns'!F166)^dispersió!$D$10)*(2*LN('Càlculs interns'!G166/dispersió!$O$46))^(1/2),0)","v":2.5827430113338639},-2.5827430113338639,null,8.4696416949255013,{"$f":"IFERROR((letalitat!$P$10*1000)/((3.14159*dispersió!$C$10*((dispersió!$E$39+K166)^dispersió!$D$10)*dispersió!$E$10*((dispersió!$F$39+K166)^dispersió!$F$10)+dispersió!$C$24*dispersió!$D$39)*dispersió!$C$12),0)","v":0.71158972063541182},{"$f":"IFERROR(dispersió!$C$10*((dispersió!$E$39+'Càlculs interns'!K166)^dispersió!$D$10)*(2*LN('Càlculs interns'!L166/dispersió!$O$53))^(1/2),0)","v":1.6731600750809401},-1.6731600750809401,null,0,{"$f":"IFERROR((letalitat!$P$10*1000)/((3.14159*dispersió!$C$10*((dispersió!$E$39+P166)^dispersió!$D$10)*dispersió!$E$10*((dispersió!$F$39+P166)^dispersió!$F$10)+dispersió!$C$24*dispersió!$D$39)*dispersió!$C$12),0)","v":1.0381949565322268},{"$f":"IFERROR(dispersió!$C$10*((dispersió!$E$39+'Càlculs interns'!P166)^dispersió!$D$10)*(2*LN('Càlculs interns'!Q166/dispersió!$O$60))^(1/2),0)","v":0},0]
[24.148549819009364,{"$f":"IFERROR((letalitat!$P$10*1000)/((3.14159*dispersió!$C$10*((dispersió!$E$39+A167)^dispersió!$D$10)*dispersió!$E$10*((dispersió!$F$39+A167)^dispersió!$F$10)+dispersió!$C$24*dispersió!$D$39)*dispersió!$C$12),0)","v":0.41025238084535426},{"$f":"IFERROR(dispersió!$C$10*((dispersió!$E$39+'Càlculs interns'!A167)^dispersió!$D$10)*(2*LN('Càlculs interns'!B167/dispersió!$O$39))^(1/2),0)","v":3.4267693783339692},-3.4267693783339692,null,16.385534564967646,{"$f":"IFERROR((letalitat!$P$10*1000)/((3.14159*dispersió!$C$10*((dispersió!$E$39+F167)^dispersió!$D$10)*dispersió!$E$10*((dispersió!$F$39+F167)^dispersió!$F$10)+dispersió!$C$24*dispersió!$D$39)*dispersió!$C$12),0)","v":0.52816152276587192},{"$f":"IFERROR(dispersió!$C$10*((dispersió!$E$39+'Càlculs interns'!F167)^dispersió!$D$10)*(2*LN('Càlculs interns'!G167/dispersió!$O$46))^(1/2),0)","v":2.5340557923479601},-2.5340557923479601,null,8.9678559122740609,{"$f":"IFERROR((letalitat!$P$10*1000)/((3.14159*dispersió!$C$10*((dispersió!$E$39+K167)^dispersió!$D$10)*dispersió!$E$10*((dispersió!$F$39+K167)^dispersió!$F$10)+dispersió!$C$24*dispersió!$D$39)*dispersió!$C$12),0)","v":0.69737518515986685},{"$f":"IFERROR(dispersió!$C$10*((dispersió!$E$39+'Càlculs interns'!K167)^dispersió!$D$10)*(2*LN('Càlculs interns'!L167/dispersió!$O$53))^(1/2),0)","v":1.6320082260378999},-1.6320082260378999,null,0,{"$f":"IFERROR((letalitat!$P$10*1000)/((3.14159*dispersió!$C$10*((dispersió!$E$39+P167)^dispersió!$D$10)*dispersió!$E$10*((dispersió!$F$39+P167)^dispersió!$F$10)+dispersió!$C$24*dispersió!$D$39)*dispersió!$C$12),0)","v":1.0381949565322268},{"$f":"IFERROR(dispersió!$C$10*((dispersió!$E$39+'Càlculs interns'!P167)^dispersió!$D$10)*(2*LN('Càlculs interns'!Q167/dispersió!$O$60))^(1/2),0)","v":0},0]
[25.490135920065441,{"$f":"IFERROR((letalitat!$P$10*1000)/((3.14159*dispersió!$C$10*((dispersió!$E$39+A168)^dispersió!$D$10)*dispersió!$E$10*((dispersió!$F$39+A168)^dispersió!$F$10)+dispersió!$C$24*dispersió!$D$39)*dispersió!$C$12),0)","v":0.39403166822785263},{"$f":"IFERROR(dispersió!$C$10*((dispersió!$E$39+'Càlculs interns'!A168)^dispersió!$D$10)*(2*LN('Càlculs interns'!B168/dispersió!$O$39))^(1/2),0)","v":3.3597585081399997},-3.3597585081399997,null,17.295842040799183,{"$f":"IFERROR((letalitat!$P$10*1000)/((3.14159*dispersió!$C$10*((dispersió!$E$39+F168)^dispersió!$D$10)*dispersió!$E$10*((dispersió!$F$39+F168)^dispersió!$F$10)+dispersió!$C$24*dispersió!$D$39)*dispersió!$C$12),0)","v":0.51179999485334837},{"$f":"IFERROR(dispersió!$C$10*((dispersió!$E$39+'Càlculs interns'!F168)^dispersió!$D$10)*(2*LN('Càlculs interns'!G168/dispersió!$O$46))^(1/2),0)","v":2.4760661215561064},-2.4760661215561064,null,9.4660701296226204,{"$f":"IFERROR((letalitat!$P$10*1000)/((3.14159*dispersió!$C$10*((dispersió!$E$39+K168)^dispersió!$D$10)*dispersió!$E$10*((dispersió!$F$39+K168)^dispersió!$F$10)+dispersió!$C$24*dispersió!$D$39)*dispersió!$C$12),0)","v":0.68358457873558187},{"$f":"IFERROR(dispersió!$C$10*((dispersió!$E$39+'Càlculs interns'!K168)^dispersió!$D$10)*(2*LN('Càlculs interns'!L168/dispersió!$O$53))^(1/2),0)","v":1.5858162602043029},-1.5858162602043029,null,0,{"$f":"IFERROR((letalitat!$P$10*1000)/((3.14159*dispersió!$C$10*((dispersió!$E$39+P168)^dispersió!$D$10)*dispersió!$E$10*((dispersió!$F$39+P168)^dispersió!$F$10)+dispersió!$C$24*dispersió!$D$39)*dispersió!$C$12),0)","v":1.0381949565322268},{"$f":"IFERROR(dispersió!$C$10*((dispersió!$E$39+'Càlculs interns'!P168)^dispersió!$D$10)*(2*LN('Càlculs interns'!Q168/dispersió!$O$60))^(1/2),0)","v":0},0]
[26.831722021121518,{"$f":"IFERROR((letalitat!$P$10*1000)/((3.14159*dispersió!$C$10*((dispersió!$E$39+A169)^dispersió!$D$10)*dispersió!$E$10*((dispersió!$F$39+A169)^dispersió!$F$10)+dispersió!$C$24*dispersió!$D$39)*dispersió!$C$12),0)","v":0.37878446250485404},{"$f":"IFERROR(dispersió!$C$10*((dispersió!$E$39+'Càlculs interns'!A169)^dispersió!$D$10)*(2*LN('Càlculs interns'!B169/dispersió!$O$39))^(1/2),0)","v":3.2776970058090842},-3.2776970058090842,null,18.20614951663072,{"$f":"IFERROR((letalitat!$P$10*1000)/((3.14159*dispersió!$C$10*((dispersió!$E$39+F169)^dispersió!$D$10)*dispersió!$E$10*((dispersió!$F$39+F169)^dispersió!$F$10)+dispersió!$C$24*dispersió!$D$39)*dispersió!$C$12),0)","v":0.49620379155172695},{"$f":"IFERROR(dispersió!$C$10*((dispersió!$E$39+'Càlculs interns'!F169)^dispersió!$D$10)*(2*LN('Càlculs interns'!G169/dispersió!$O$46))^(1/2),0)","v":2.4079401574221468},-2.4079401574221468,null,9.9642843469711799,{"$f":"IFERROR((letalitat!$P$10*1000)/((3.14159*dispersió!$C$10*((dispersió!$E$39+K169)^dispersió!$D$10)*dispersió!$E$10*((dispersió!$F$39+K169)^dispersió!$F$10)+dispersió!$C$24*dispersió!$D$39)*dispersió!$C$12),0)","v":0.67020170829071379},{"$f":"IFERROR(dispersió!$C$10*((dispersió!$E$39+'Càlculs interns'!K169)^dispersió!$D$10)*(2*LN('Càlculs interns'!L169/dispersió!$O$53))^(1/2),0)","v":1.5340712636255036},-1.5340712636255036,null,0,{"$f":"IFERROR((letalitat!$P$10*1000)/((3.14159*dispersió!$C$10*((dispersió!$E$39+P169)^dispersió!$D$10)*dispersió!$E$10*((dispersió!$F$39+P169)^dispersió!$F$10)+dispersió!$C$24*dispersió!$D$39)*dispersió!$C$12),0)","v":1.0381949565322268},{"$f":"IFERROR(dispersió!$C$10*((dispersió!$E$39+'Càlculs interns'!P169)^dispersió!$D$10)*(2*LN('Càlculs interns'!Q169/dispersió!$O$60))^(1/2),0)","v":0},0]
[28.173308122177595,{"$f":"IFERROR((letalitat!$P$10*1000)/((3.14159*dispersió!$C$10*((dispersió!$E$39+A170)^dispersió!$D$10)*dispersió!$E$10*((dispersió!$F$39+A170)^dispersió!$F$10)+dispersió!$C$24*dispersió!$D$39)*dispersió!$C$12),0)","v":0.36443433636855149},{"$f":"IFERROR(dispersió!$C$10*((dispersió!$E$39+'Càlculs interns'!A170)^dispersió!$D$10)*(2*LN('Càlculs interns'!B170/dispersió!$O$39))^(1/2),0)","v":3.1791358024192826},-3.1791358024192826,null,19.116456992462258,{"$f":"IFERROR((letalitat!$P$10*1000)/((3.14159*dispersió!$C$10*((dispersió!$E$39+F170)^dispersió!$D$10)*dispersió!$E$10*((dispersió!$F$39+F170)^dispersió!$F$10)+dispersió!$C$24*dispersió!$D$39)*dispersió!$C$12),0)","v":0.48132637913526349},{"$f":"IFERROR(dispersió!$C$10*((dispersió!$E$39+'Càlculs interns'!F170)^dispersió!$D$10)*(2*LN('Càlculs interns'!G170/dispersió!$O$46))^(1/2),0)","v":2.3286276759779923},-2.3286276759779923,null,10.462498564319739,{"$f":"IFERROR((letalitat!$P$10*1000)/((3.14159*dispersió!$C$10*((dispersió!$E$39+K170)^dispersió!$D$10)*dispersió!$E$10*((dispersió!$F$39+K170)^dispersió!$F$10)+dispersió!$C$24*dispersió!$D$39)*dispersió!$C$12),0)","v":0.65721110781404668},{"$f":"IFERROR(dispersió!$C$10*((dispersió!$E$39+'Càlculs interns'!K170)^dispersió!$D$10)*(2*LN('Càlculs interns'!L170/dispersió!$O$53))^(1/2),0)","v":1.476131040470414},-1.476131040470414,null,0,{"$f":"IFERROR((letalitat!$P$10*1000)/((3.14159*dispersió!$C$10*((dispersió!$E$39+P170)^dispersió!$D$10)*dispersió!$E$10*((dispersió!$F$39+P170)^dispersió!$F$10)+dispersió!$C$24*dispersió!$D$39)*dispersió!$C$12),0)","v":1.0381949565322268},{"$f":"IFERROR(dispersió!$C$10*((dispersió!$E$39+'Càlculs interns'!P170)^dispersió!$D$10)*(2*LN('Càlculs interns'!Q170/dispersió!$O$60))^(1/2),0)","v":0},0]
[29.514894223233672,{"$f":"IFERROR((letalitat!$P$10*1000)/((3.14159*dispersió!$C$10*((dispersió!$E$39+A171)^dispersió!$D$10)*dispersió!$E$10*((dispersió!$F$39+A171)^dispersió!$F$10)+dispersió!$C$24*dispersió!$D$39)*dispersió!$C$12),0)","v":0.35091213548734013},{"$f":"IFERROR(dispersió!$C$10*((dispersió!$E$39+'Càlculs interns'!A171)^dispersió!$D$10)*(2*LN('Càlculs interns'!B171/dispersió!$O$39))^(1/2),0)","v":3.0622010284248771},-3.0622010284248771,null,20.026764468293795,{"$f":"IFERROR((letalitat!$P$10*1000)/((3.14159*dispersió!$C$10*((dispersió!$E$39+F171)^dispersió!$D$10)*dispersió!$E$10*((dispersió!$F$39+F171)^dispersió!$F$10)+dispersió!$C$24*dispersió!$D$39)*dispersió!$C$12),0)","v":0.46712462426514484},{"$f":"IFERROR(dispersió!$C$10*((dispersió!$E$39+'Càlculs interns'!F171)^dispersió!$D$10)*(2*LN('Càlculs interns'!G171/dispersió!$O$46))^(1/2),0)","v":2.2367781382066148},-2.2367781382066148,null,10.960712781668299,{"$f":"IFERROR((letalitat!$P$10*1000)/((3.14159*dispersió!$C$10*((dispersió!$E$39+K171)^dispersió!$D$10)*dispersió!$E$10*((dispersió!$F$39+K171)^dispersió!$F$10)+dispersió!$C$24*dispersió!$D$39)*dispersió!$C$12),0)","v":0.64459800245751586},{"$f":"IFERROR(dispersió!$C$10*((dispersió!$E$39+'Càlculs interns'!K171)^dispersió!$D$10)*(2*LN('Càlculs interns'!L171/dispersió!$O$53))^(1/2),0)","v":1.4111733167975222},-1.4111733167975222,null,0,{"$f":"IFERROR((letalitat!$P$10*1000)/((3.14159*dispersió!$C$10*((dispersió!$E$39+P171)^dispersió!$D$10)*dispersió!$E$10*((dispersió!$F$39+P171)^dispersió!$F$10)+dispersió!$C$24*dispersió!$D$39)*dispersió!$C$12),0)","v":1.0381949565322268},{"$f":"IFERROR(dispersió!$C$10*((dispersió!$E$39+'Càlculs interns'!P171)^dispersió!$D$10)*(2*LN('Càlculs interns'!Q171/dispersió!$O$60))^(1/2),0)","v":0},0]
[30.856480324289748,{"$f":"IFERROR((letalitat!$P$10*1000)/((3.14159*dispersió!$C$10*((dispersió!$E$39+A172)^dispersió!$D$10)*dispersió!$E$10*((dispersió!$F$39+A172)^dispersió!$F$10)+dispersió!$C$24*dispersió!$D$39)*dispersió!$C$12),0)","v":0.33815517837668535},{"$f":"IFERROR(dispersió!$C$10*((dispersió!$E$39+'Càlculs interns'!A172)^dispersió!$D$10)*(2*LN('Càlculs interns'!B172/dispersió!$O$39))^(1/2),0)","v":2.9244083250008455},-2.9244083250008455,null,20.937071944125332,{"$f":"IFERROR((letalitat!$P$10*1000)/((3.14159*dispersió!$C$10*((dispersió!$E$39+F172)^dispersió!$D$10)*dispersió!$E$10*((dispersió!$F$39+F172)^dispersió!$F$10)+dispersió!$C$24*dispersió!$D$39)*dispersió!$C$12),0)","v":0.45355851031611361},{"$f":"IFERROR(dispersió!$C$10*((dispersió!$E$39+'Càlculs interns'!F172)^dispersió!$D$10)*(2*LN('Càlculs interns'!G172/dispersió!$O$46))^(1/2),0)","v":2.1306082543941449},-2.1306082543941449,null,11.458926999016859,{"$f":"IFERROR((letalitat!$P$10*1000)/((3.14159*dispersió!$C$10*((dispersió!$E$39+K172)^dispersió!$D$10)*dispersió!$E$10*((dispersió!$F$39+K172)^dispersió!$F$10)+dispersió!$C$24*dispersió!$D$39)*dispersió!$C$12),0)","v":0.63234827444279285},{"$f":"IFERROR(dispersió!$C$10*((dispersió!$E$39+'Càlculs interns'!K172)^dispersió!$D$10)*(2*LN('Càlculs interns'!L172/dispersió!$O$53))^(1/2),0)","v":1.3381155381841097},-1.3381155381841097,null,0,{"$f":"IFERROR((letalitat!$P$10*1000)/((3.14159*dispersió!$C$10*((dispersió!$E$39+P172)^dispersió!$D$10)*dispersió!$E$10*((dispersió!$F$39+P172)^dispersió!$F$10)+dispersió!$C$24*dispersió!$D$39)*dispersió!$C$12),0)","v":1.0381949565322268},{"$f":"IFERROR(dispersió!$C$10*((dispersió!$E$39+'Càlculs interns'!P172)^dispersió!$D$10)*(2*LN('Càlculs interns'!Q172/dispersió!$O$60))^(1/2),0)","v":0},0]
[32.198066425345822,{"$f":"IFERROR((letalitat!$P$10*1000)/((3.14159*dispersió!$C$10*((dispersió!$E$39+A173)^dispersió!$D$10)*dispersió!$E$10*((dispersió!$F$39+A173)^dispersió!$F$10)+dispersió!$C$24*dispersió!$D$39)*dispersió!$C$12),0)","v":0.32610655466886518},{"$f":"IFERROR(dispersió!$C$10*((dispersió!$E$39+'Càlculs interns'!A173)^dispersió!$D$10)*(2*LN('Càlculs interns'!B173/dispersió!$O$39))^(1/2),0)","v":2.7623535078117101},-2.7623535078117101,null,21.847379419956869,{"$f":"IFERROR((letalitat!$P$10*1000)/((3.14159*dispersió!$C$10*((dispersió!$E$39+F173)^dispersió!$D$10)*dispersió!$E$10*((dispersió!$F$39+F173)^dispersió!$F$10)+dispersió!$C$24*dispersió!$D$39)*dispersió!$C$12),0)","v":0.44059087963889826},{"$f":"IFERROR(dispersió!$C$10*((dispersió!$E$39+'Càlculs interns'!F173)^dispersió!$D$10)*(2*LN('Càlculs interns'!G173/dispersió!$O$46))^(1/2),0)","v":2.0076814123712499},-2.0076814123712499,null,11.957141216365418,{"$f":"IFERROR((letalitat!$P$10*1000)/((3.14159*dispersió!$C$10*((dispersió!$E$39+K173)^dispersió!$D$10)*dispersió!$E$10*((dispersió!$F$39+K173)^dispersió!$F$10)+dispersió!$C$24*dispersió!$D$39)*dispersió!$C$12),0)","v":0.62044843069323286},{"$f":"IFERROR(dispersió!$C$10*((dispersió!$E$39+'Càlculs interns'!K173)^dispersió!$D$10)*(2*LN('Càlculs interns'!L173/dispersió!$O$53))^(1/2),0)","v":1.2554811752290904},-1.2554811752290904,null,0,{"$f":"IFERROR((letalitat!$P$10*1000)/((3.14159*dispersió!$C$10*((dispersió!$E$39+P173)^dispersió!$D$10)*dispersió!$E$10*((dispersió!$F$39+P173)^dispersió!$F$10)+dispersió!$C$24*dispersió!$D$39)*dispersió!$C$12),0)","v":1.0381949565322268},{"$f":"IFERROR(dispersió!$C$10*((dispersió!$E$39+'Càlculs interns'!P173)^dispersió!$D$10)*(2*LN('Càlculs interns'!Q173/dispersió!$O$60))^(1/2),0)","v":0},0]
[33.539652526401895,{"$f":"IFERROR((letalitat!$P$10*1000)/((3.14159*dispersió!$C$10*((dispersió!$E$39+A174)^dispersió!$D$10)*dispersió!$E$10*((dispersió!$F$39+A174)^dispersió!$F$10)+dispersió!$C$24*dispersió!$D$39)*dispersió!$C$12),0)","v":0.31471450861452938},{"$f":"IFERROR(dispersió!$C$10*((dispersió!$E$39+'Càlculs interns'!A174)^dispersió!$D$10)*(2*LN('Càlculs interns'!B174/dispersió!$O$39))^(1/2),0)","v":2.5711604191151696},-2.5711604191151696,null,22.757686895788407,{"$f":"IFERROR((letalitat!$P$10*1000)/((3.14159*dispersió!$C$10*((dispersió!$E$39+F174)^dispersió!$D$10)*dispersió!$E$10*((dispersió!$F$39+F174)^dispersió!$F$10)+dispersió!$C$24*dispersió!$D$39)*dispersió!$C$12),0)","v":0.42818719926447102},{"$f":"IFERROR(dispersió!$C$10*((dispersió!$E$39+'Càlculs interns'!F174)^dispersió!$D$10)*(2*LN('Càlculs interns'!G174/dispersió!$O$46))^(1/2),0)","v":1.8645139849125183},-1.8645139849125183,null,12.455355433713978,{"$f":"IFERROR((letalitat!$P$10*1000)/((3.14159*dispersió!$C$10*((dispersió!$E$39+K174)^dispersió!$D$10)*dispersió!$E$10*((dispersió!$F$39+K174)^dispersió!$F$10)+dispersió!$C$24*dispersió!$D$39)*dispersió!$C$12),0)","v":0.60888557211346661},{"$f":"IFERROR(dispersió!$C$10*((dispersió!$E$39+'Càlculs interns'!K174)^dispersió!$D$10)*(2*LN('Càlculs interns'!L174/dispersió!$O$53))^(1/2),0)","v":1.1611608438585805},-1.1611608438585805,null,0,{"$f":"IFERROR((letalitat!$P$10*1000)/((3.14159*dispersió!$C$10*((dispersió!$E$39+P174)^dispersió!$D$10)*dispersió!$E$10*((dispersió!$F$39+P174)^dispersió!$F$10)+dispersió!$C$24*dispersió!$D$39)*dispersió!$C$12),0)","v":1.0381949565322268},{"$f":"IFERROR(dispersió!$C$10*((dispersió!$E$39+'Càlculs interns'!P174)^dispersió!$D$10)*(2*LN('Càlculs interns'!Q174/dispersió!$O$60))^(1/2),0)","v":0},0]
[34.881238627457968,{"$f":"IFERROR((letalitat!$P$10*1000)/((3.14159*dispersió!$C$10*((dispersió!$E$39+A175)^dispersió!$D$10)*dispersió!$E$10*((dispersió!$F$39+A175)^dispersió!$F$10)+dispersió!$C$24*dispersió!$D$39)*dispersió!$C$12),0)","v":0.30393189651885638},{"$f":"IFERROR(dispersió!$C$10*((dispersió!$E$39+'Càlculs interns'!A175)^dispersió!$D$10)*(2*LN('Càlculs interns'!B175/dispersió!$O$39))^(1/2),0)","v":2.3434003730174622},-2.3434003730174622,null,23.667994371619944,{"$f":"IFERROR((letalitat!$P$10*1000)/((3.14159*dispersió!$C$10*((dispersió!$E$39+F175)^dispersió!$D$10)*dispersió!$E$10*((dispersió!$F$39+F175)^dispersió!$F$10)+dispersió!$C$24*dispersió!$D$39)*dispersió!$C$12),0)","v":0.41631534779427226},{"$f":"IFERROR(dispersió!$C$10*((dispersió!$E$39+'Càlculs interns'!F175)^dispersió!$D$10)*(2*LN('Càlculs interns'!G175/dispersió!$O$46))^(1/2),0)","v":1.6958048543847584},-1.6958048543847584,null,12.953569651062537,{"$f":"IFERROR((letalitat!$P$10*1000)/((3.14159*dispersió!$C$10*((dispersió!$E$39+K175)^dispersió!$D$10)*dispersió!$E$10*((dispersió!$F$39+K175)^dispersió!$F$10)+dispersió!$C$24*dispersió!$D$39)*dispersió!$C$12),0)","v":0.59764736444031052},{"$f":"IFERROR(dispersió!$C$10*((dispersió!$E$39+'Càlculs interns'!K175)^dispersió!$D$10)*(2*LN('Càlculs interns'!L175/dispersió!$O$53))^(1/2),0)","v":1.0519442426796606},-1.0519442426796606,null,0,{"$f":"IFERROR((letalitat!$P$10*1000)/((3.14159*dispersió!$C$10*((dispersió!$E$39+P175)^dispersió!$D$10)*dispersió!$E$10*((dispersió!$F$39+P175)^dispersió!$F$10)+dispersió!$C$24*dispersió!$D$39)*dispersió!$C$12),0)","v":1.0381949565322268},{"$f":"IFERROR(dispersió!$C$10*((dispersió!$E$39+'Càlculs interns'!P175)^dispersió!$D$10)*(2*LN('Càlculs interns'!Q175/dispersió!$O$60))^(1/2),0)","v":0},0]
[36.222824728514041,{"$f":"IFERROR((letalitat!$P$10*1000)/((3.14159*dispersió!$C$10*((dispersió!$E$39+A176)^dispersió!$D$10)*dispersió!$E$10*((dispersió!$F$39+A176)^dispersió!$F$10)+dispersió!$C$24*dispersió!$D$39)*dispersió!$C$12),0)","v":0.29371570841092726},{"$f":"IFERROR(dispersió!$C$10*((dispersió!$E$39+'Càlculs interns'!A176)^dispersió!$D$10)*(2*LN('Càlculs interns'!B176/dispersió!$O$39))^(1/2),0)","v":2.0666851203950993},-2.0666851203950993,null,24.578301847451481,{"$f":"IFERROR((letalitat!$P$10*1000)/((3.14159*dispersió!$C$10*((dispersió!$E$39+F176)^dispersió!$D$10)*dispersió!$E$10*((dispersió!$F$39+F176)^dispersió!$F$10)+dispersió!$C$24*dispersió!$D$39)*dispersió!$C$12),0)","v":0.40494542143878054},{"$f":"IFERROR(dispersió!$C$10*((dispersió!$E$39+'Càlculs interns'!F176)^dispersió!$D$10)*(2*LN('Càlculs interns'!G176/dispersió!$O$46))^(1/2),0)","v":1.4927191885403837},-1.4927191885403837,null,13.451783868411097,{"$f":"IFERROR((letalitat!$P$10*1000)/((3.14159*dispersió!$C$10*((dispersió!$E$39+K176)^dispersió!$D$10)*dispersió!$E$10*((dispersió!$F$39+K176)^dispersió!$F$10)+dispersió!$C$24*dispersió!$D$39)*dispersió!$C$12),0)","v":0.5867220105904889},{"$f":"IFERROR(dispersió!$C$10*((dispersió!$E$39+'Càlculs interns'!K176)^dispersió!$D$10)*(2*LN('Càlculs interns'!L176/dispersió!$O$53))^(1/2),0)","v":0.92247613632336256},-0.92247613632336256,null,0,{"$f":"IFERROR((letalitat!$P$10*1000)/((3.14159*dispersió!$C$10*((dispersió!$E$39+P176)^dispersió!$D$10)*dispersió!$E$10*((dispersió!$F$39+P176)^dispersió!$F$10)+dispersió!$C$24*dispersió!$D$39)*dispersió!$C$12),0)","v":1.0381949565322268},{"$f":"IFERROR(dispersió!$C$10*((dispersió!$E$39+'Càlculs interns'!P176)^dispersió!$D$10)*(2*LN('Càlculs interns'!Q176/dispersió!$O$60))^(1/2),0)","v":0},0]
[37.564410829570114,{"$f":"IFERROR((letalitat!$P$10*1000)/((3.14159*dispersió!$C$10*((dispersió!$E$39+A177)^dispersió!$D$10)*dispersió!$E$10*((dispersió!$F$39+A177)^dispersió!$F$10)+dispersió!$C$24*dispersió!$D$39)*dispersió!$C$12),0)","v":0.2840266456065495},{"$f":"IFERROR(dispersió!$C$10*((dispersió!$E$39+'Càlculs interns'!A177)^dispersió!$D$10)*(2*LN('Càlculs interns'!B177/dispersió!$O$39))^(1/2),0)","v":1.7171251279016493},-1.7171251279016493,null,25.488609323283018,{"$f":"IFERROR((letalitat!$P$10*1000)/((3.14159*dispersió!$C$10*((dispersió!$E$39+F177)^dispersió!$D$10)*dispersió!$E$10*((dispersió!$F$39+F177)^dispersió!$F$10)+dispersió!$C$24*dispersió!$D$39)*dispersió!$C$12),0)","v":0.39404955736589453},{"$f":"IFERROR(dispersió!$C$10*((dispersió!$E$39+'Càlculs interns'!F177)^dispersió!$D$10)*(2*LN('Càlculs interns'!G177/dispersió!$O$46))^(1/2),0)","v":1.2382257229895275},-1.2382257229895275,null,13.949998085759656,{"$f":"IFERROR((letalitat!$P$10*1000)/((3.14159*dispersió!$C$10*((dispersió!$E$39+K177)^dispersió!$D$10)*dispersió!$E$10*((dispersió!$F$39+K177)^dispersió!$F$10)+dispersió!$C$24*dispersió!$D$39)*dispersió!$C$12),0)","v":0.57609822443271397},{"$f":"IFERROR(dispersió!$C$10*((dispersió!$E$39+'Càlculs interns'!K177)^dispersió!$D$10)*(2*LN('Càlculs interns'!L177/dispersió!$O$53))^(1/2),0)","v":0.76241551088255122},-0.76241551088255122,null,0,{"$f":"IFERROR((letalitat!$P$10*1000)/((3.14159*dispersió!$C$10*((dispersió!$E$39+P177)^dispersió!$D$10)*dispersió!$E$10*((dispersió!$F$39+P177)^dispersió!$F$10)+dispersió!$C$24*dispersió!$D$39)*dispersió!$C$12),0)","v":1.0381949565322268},{"$f":"IFERROR(dispersió!$C$10*((dispersió!$E$39+'Càlculs interns'!P177)^dispersió!$D$10)*(2*LN('Càlculs interns'!Q177/dispersió!$O$60))^(1/2),0)","v":0},0]
[38.905996930626188,{"$f":"IFERROR((letalitat!$P$10*1000)/((3.14159*dispersió!$C$10*((dispersió!$E$39+A178)^dispersió!$D$10)*dispersió!$E$10*((dispersió!$F$39+A178)^dispersió!$F$10)+dispersió!$C$24*dispersió!$D$39)*dispersió!$C$12),0)","v":0.27482874698667009},{"$f":"IFERROR(dispersió!$C$10*((dispersió!$E$39+'Càlculs interns'!A178)^dispersió!$D$10)*(2*LN('Càlculs interns'!B178/dispersió!$O$39))^(1/2),0)","v":1.2337895914875832},-1.2337895914875832,null,26.398916799114556,{"$f":"IFERROR((letalitat!$P$10*1000)/((3.14159*dispersió!$C$10*((dispersió!$E$39+F178)^dispersió!$D$10)*dispersió!$E$10*((dispersió!$F$39+F178)^dispersió!$F$10)+dispersió!$C$24*dispersió!$D$39)*dispersió!$C$12),0)","v":0.38360177270153373},{"$f":"IFERROR(dispersió!$C$10*((dispersió!$E$39+'Càlculs interns'!F178)^dispersió!$D$10)*(2*LN('Càlculs interns'!G178/dispersió!$O$46))^(1/2),0)","v":0.88891594856927669},-0.88891594856927669,null,14.448212303108216,{"$f":"IFERROR((letalitat!$P$10*1000)/((3.14159*dispersió!$C$10*((dispersió!$E$39+K178)^dispersió!$D$10)*dispersió!$E$10*((dispersió!$F$39+K178)^dispersió!$F$10)+dispersió!$C$24*dispersió!$D$39)*dispersió!$C$12),0)","v":0.56576520591397106},{"$f":"IFERROR(dispersió!$C$10*((dispersió!$E$39+'Càlculs interns'!K178)^dispersió!$D$10)*(2*LN('Càlculs interns'!L178/dispersió!$O$53))^(1/2),0)","v":0.545336641047939},-0.545336641047939,null,0,{"$f":"IFERROR((letalitat!$P$10*1000)/((3.14159*dispersió!$C$10*((dispersió!$E$39+P178)^dispersió!$D$10)*dispersió!$E$10*((dispersió!$F$39+P178)^dispersió!$F$10)+dispersió!$C$24*dispersió!$D$39)*dispersió!$C$12),0)","v":1.0381949565322268},{"$f":"IFERROR(dispersió!$C$10*((dispersió!$E$39+'Càlculs interns'!P178)^dispersió!$D$10)*(2*LN('Càlculs interns'!Q178/dispersió!$O$60))^(1/2),0)","v":0},0]
[{"$f":"dispersió!G39","v":40.247583031682268},{"$f":"IFERROR((letalitat!$P$10*1000)/((3.14159*dispersió!$C$10*((dispersió!$E$39+A179)^dispersió!$D$10)*dispersió!$E$10*((dispersió!$F$39+A179)^dispersió!$F$10)+dispersió!$C$24*dispersió!$D$39)*dispersió!$C$12),0)","v":0.26608905780542108},{"$f":"IFERROR(dispersió!$C$10*((dispersió!$E$39+'Càlculs interns'!A179)^dispersió!$D$10)*(2*LN('Càlculs interns'!B179/dispersió!$O$39))^(1/2),0)","v":0},0,null,{"$f":"dispersió!G46","v":27.309224274946089},{"$f":"IFERROR((letalitat!$P$10*1000)/((3.14159*dispersió!$C$10*((dispersió!$E$39+F179)^dispersió!$D$10)*dispersió!$E$10*((dispersió!$F$39+F179)^dispersió!$F$10)+dispersió!$C$24*dispersió!$D$39)*dispersió!$C$12),0)","v":0.37357781768878728},{"$f":"IFERROR(dispersió!$C$10*((dispersió!$E$39+'Càlculs interns'!F179)^dispersió!$D$10)*(2*LN('Càlculs interns'!G179/dispersió!$O$46))^(1/2),0)","v":0},0,null,{"$f":"dispersió!G53","v":14.94642652045677},{"$f":"IFERROR((letalitat!$P$10*1000)/((3.14159*dispersió!$C$10*((dispersió!$E$39+K179)^dispersió!$D$10)*dispersió!$E$10*((dispersió!$F$39+K179)^dispersió!$F$10)+dispersió!$C$24*dispersió!$D$39)*dispersió!$C$12),0)","v":0.55571261747230138},{"$f":"IFERROR(dispersió!$C$10*((dispersió!$E$39+'Càlculs interns'!K179)^dispersió!$D$10)*(2*LN('Càlculs interns'!L179/dispersió!$O$53))^(1/2),0)","v":0},0,null,{"$f":"dispersió!G60","v":0},{"$f":"IFERROR((letalitat!$P$10*1000)/((3.14159*dispersió!$C$10*((dispersió!$E$39+P179)^dispersió!$D$10)*dispersió!$E$10*((dispersió!$F$39+P179)^dispersió!$F$10)+dispersió!$C$24*dispersió!$D$39)*dispersió!$C$12),0)","v":1.0381949565322268},{"$f":"IFERROR(dispersió!$C$10*((dispersió!$E$39+'Càlculs interns'!P179)^dispersió!$D$10)*(2*LN('Càlculs interns'!Q179/dispersió!$O$60))^(1/2),0)","v":0},0]
[]
[]
["Est. F"]
["LC1",null,"LC1+","LC1-",null,"LC10",null,"LC10+","LC10-",null,"LC50",null,"LC50+","LC50-",null,"LC99",null,"LC99+","LC99-"]
["X","C(x)","y+","y-",null,"X","C(x)","y+","y-",null,"X","C(x)","y+","y-",null,"X","C(x)","y+","y-"]
[0,{"$f":"IFERROR((letalitat!$P$10*1000)/((3.14159*dispersió!$I$10*((dispersió!$J$39+A185)^dispersió!$J$10)*dispersió!$K$10*((dispersió!$K$39+A185)^dispersió!$L$10)+dispersió!$C$24*dispersió!$D$39)*dispersió!$I$12),0)","v":3.1944460200991589},{"$f":"IFERROR(dispersió!$I$10*((dispersió!$J$39+'Càlculs interns'!A185)^dispersió!$J$10)*(2*LN('Càlculs interns'!B185/dispersió!$O$39))^(1/2),0)","v":3.666135844844943},{"$f":"-C185","v":-3.666135844844943},null,0,{"$f":"IFERROR((letalitat!$P$10*1000)/((3.14159*dispersió!$I$10*((dispersió!$J$39+F185)^dispersió!$J$10)*dispersió!$K$10*((dispersió!$K$39+F185)^dispersió!$L$10)+dispersió!$C$24*dispersió!$D$39)*dispersió!$I$12),0)","v":3.1944460200991589},{"$f":"IFERROR(dispersió!$I$10*((dispersió!$J$39+'Càlculs interns'!F185)^dispersió!$J$10)*(2*LN('Càlculs interns'!G185/dispersió!$O$46))^(1/2),0)","v":3.4067955585864134},{"$f":"-H185","v":-3.4067955585864134},null,0,{"$f":"IFERROR((letalitat!$P$10*1000)/((3.14159*dispersió!$I$10*((dispersió!$J$39+K185)^dispersió!$J$10)*dispersió!$K$10*((dispersió!$K$39+K185)^dispersió!$L$10)+dispersió!$C$24*dispersió!$D$39)*dispersió!$I$12),0)","v":3.1944460200991589},{"$f":"IFERROR(dispersió!$I$10*((dispersió!$J$39+'Càlculs interns'!K185)^dispersió!$J$10)*(2*LN('Càlculs interns'!L185/dispersió!$O$53))^(1/2),0)","v":3.0754608444408498},{"$f":"-M185","v":-3.0754608444408498},null,0,{"$f":"IFERROR((letalitat!$P$10*1000)/((3.14159*dispersió!$I$10*((dispersió!$J$39+P185)^dispersió!$J$10)*dispersió!$K$10*((dispersió!$K$39+P185)^dispersió!$L$10)+dispersió!$C$24*dispersió!$D$39)*dispersió!$I$12),0)","v":3.1944460200991589},{"$f":"IFERROR(dispersió!$I$10*((dispersió!$J$39+'Càlculs interns'!P185)^dispersió!$J$10)*(2*LN('Càlculs interns'!Q185/dispersió!$O$60))^(1/2),0)","v":2.3903749059308574},{"$f":"-R185","v":-2.3903749059308574}]
[{"$f":"A215/30","v":10.133083244256232},{"$f":"IFERROR((letalitat!$P$10*1000)/((3.14159*dispersió!$I$10*((dispersió!$J$39+A186)^dispersió!$J$10)*dispersió!$K$10*((dispersió!$K$39+A186)^dispersió!$L$10)+dispersió!$C$24*dispersió!$D$39)*dispersió!$I$12),0)","v":2.6483871762052864},{"$f":"IFERROR(dispersió!$I$10*((dispersió!$J$39+'Càlculs interns'!A186)^dispersió!$J$10)*(2*LN('Càlculs interns'!B186/dispersió!$O$39))^(1/2),0)","v":4.4104406960617712},-4.4104406960617712,null,{"$f":"F215/30","v":7.6762868837097766},{"$f":"IFERROR((letalitat!$P$10*1000)/((3.14159*dispersió!$I$10*((dispersió!$J$39+F186)^dispersió!$J$10)*dispersió!$K$10*((dispersió!$K$39+F186)^dispersió!$L$10)+dispersió!$C$24*dispersió!$D$39)*dispersió!$I$12),0)","v":2.765984006668587},{"$f":"IFERROR(dispersió!$I$10*((dispersió!$J$39+'Càlculs interns'!F186)^dispersió!$J$10)*(2*LN('Càlculs interns'!G186/dispersió!$O$46))^(1/2),0)","v":3.9183030610183143},{"$f":"-H186","v":-3.9183030610183143},null,{"$f":"K215/30","v":5.3909587688819753},{"$f":"IFERROR((letalitat!$P$10*1000)/((3.14159*dispersió!$I$10*((dispersió!$J$39+K186)^dispersió!$J$10)*dispersió!$K$10*((dispersió!$K$39+K186)^dispersió!$L$10)+dispersió!$C$24*dispersió!$D$39)*dispersió!$I$12),0)","v":2.8832288163419264},{"$f":"IFERROR(dispersió!$I$10*((dispersió!$J$39+'Càlculs interns'!K186)^dispersió!$J$10)*(2*LN('Càlculs interns'!L186/dispersió!$O$53))^(1/2),0)","v":3.3849130297276506},{"$f":"-M186","v":-3.3849130297276506},null,{"$f":"P215/30","v":2.5440078063791085},{"$f":"IFERROR((letalitat!$P$10*1000)/((3.14159*dispersió!$I$10*((dispersió!$J$39+P186)^dispersió!$J$10)*dispersió!$K$10*((dispersió!$K$39+P186)^dispersió!$L$10)+dispersió!$C$24*dispersió!$D$39)*dispersió!$I$12),0)","v":3.0410612616106523},{"$f":"IFERROR(dispersió!$I$10*((dispersió!$J$39+'Càlculs interns'!P186)^dispersió!$J$10)*(2*LN('Càlculs interns'!Q186/dispersió!$O$60))^(1/2),0)","v":2.4825751669915475},{"$f":"-R186","v":-2.4825751669915475}]
[{"$f":"A$186+A186","v":20.266166488512464},{"$f":"IFERROR((letalitat!$P$10*1000)/((3.14159*dispersió!$I$10*((dispersió!$J$39+A187)^dispersió!$J$10)*dispersió!$K$10*((dispersió!$K$39+A187)^dispersió!$L$10)+dispersió!$C$24*dispersió!$D$39)*dispersió!$I$12),0)","v":2.2397111501104137},{"$f":"IFERROR(dispersió!$I$10*((dispersió!$J$39+'Càlculs interns'!A187)^dispersió!$J$10)*(2*LN('Càlculs interns'!B187/dispersió!$O$39))^(1/2),0)","v":5.0805946675130906},-5.0805946675130906,null,{"$f":"F$186+F186","v":15.352573767419553},{"$f":"IFERROR((letalitat!$P$10*1000)/((3.14159*dispersió!$I$10*((dispersió!$J$39+F187)^dispersió!$J$10)*dispersió!$K$10*((dispersió!$K$39+F187)^dispersió!$L$10)+dispersió!$C$24*dispersió!$D$39)*dispersió!$I$12),0)","v":2.4240002894273291},{"$f":"IFERROR(dispersió!$I$10*((dispersió!$J$39+'Càlculs interns'!F187)^dispersió!$J$10)*(2*LN('Càlculs interns'!G187/dispersió!$O$46))^(1/2),0)","v":4.3832756958591093},-4.3832756958591093,null,{"$f":"K$186+K186","v":10.781917537763951},{"$f":"IFERROR((letalitat!$P$10*1000)/((3.14159*dispersió!$I$10*((dispersió!$J$39+K187)^dispersió!$J$10)*dispersió!$K$10*((dispersió!$K$39+K187)^dispersió!$L$10)+dispersió!$C$24*dispersió!$D$39)*dispersió!$I$12),0)","v":2.6186871554680962},{"$f":"IFERROR(dispersió!$I$10*((dispersió!$J$39+'Càlculs interns'!K187)^dispersió!$J$10)*(2*LN('Càlculs interns'!L187/dispersió!$O$53))^(1/2),0)","v":3.6685811645567212},-3.6685811645567212,null,{"$f":"P$186+P186","v":5.088015612758217},{"$f":"IFERROR((letalitat!$P$10*1000)/((3.14159*dispersió!$I$10*((dispersió!$J$39+P187)^dispersió!$J$10)*dispersió!$K$10*((dispersió!$K$39+P187)^dispersió!$L$10)+dispersió!$C$24*dispersió!$D$39)*dispersió!$I$12),0)","v":2.8993798656933927},{"$f":"IFERROR(dispersió!$I$10*((dispersió!$J$39+'Càlculs interns'!P187)^dispersió!$J$10)*(2*LN('Càlculs interns'!Q187/dispersió!$O$60))^(1/2),0)","v":2.5671027982323809},-2.5671027982323809]
[{"$f":"A$186+A187","v":30.399249732768695},{"$f":"IFERROR((letalitat!$P$10*1000)/((3.14159*dispersió!$I$10*((dispersió!$J$39+A188)^dispersió!$J$10)*dispersió!$K$10*((dispersió!$K$39+A188)^dispersió!$L$10)+dispersió!$C$24*dispersió!$D$39)*dispersió!$I$12),0)","v":1.9245172272649802},{"$f":"IFERROR(dispersió!$I$10*((dispersió!$J$39+'Càlculs interns'!A188)^dispersió!$J$10)*(2*LN('Càlculs interns'!B188/dispersió!$O$39))^(1/2),0)","v":5.6860319618623478},-5.6860319618623478,null,{"$f":"F$186+F187","v":23.028860651129328},{"$f":"IFERROR((letalitat!$P$10*1000)/((3.14159*dispersió!$I$10*((dispersió!$J$39+F188)^dispersió!$J$10)*dispersió!$K$10*((dispersió!$K$39+F188)^dispersió!$L$10)+dispersió!$C$24*dispersió!$D$39)*dispersió!$I$12),0)","v":2.1458796462121081},{"$f":"IFERROR(dispersió!$I$10*((dispersió!$J$39+'Càlculs interns'!F188)^dispersió!$J$10)*(2*LN('Càlculs interns'!G188/dispersió!$O$46))^(1/2),0)","v":4.806180129382863},-4.806180129382863,null,{"$f":"K$186+K187","v":16.172876306645925},{"$f":"IFERROR((letalitat!$P$10*1000)/((3.14159*dispersió!$I$10*((dispersió!$J$39+K188)^dispersió!$J$10)*dispersió!$K$10*((dispersió!$K$39+K188)^dispersió!$L$10)+dispersió!$C$24*dispersió!$D$39)*dispersió!$I$12),0)","v":2.3915525900594683},{"$f":"IFERROR(dispersió!$I$10*((dispersió!$J$39+'Càlculs interns'!K188)^dispersió!$J$10)*(2*LN('Càlculs interns'!L188/dispersió!$O$53))^(1/2),0)","v":3.9280790830133183},-3.9280790830133183,null,{"$f":"P$186+P187","v":7.632023419137326},{"$f":"IFERROR((letalitat!$P$10*1000)/((3.14159*dispersió!$I$10*((dispersió!$J$39+P188)^dispersió!$J$10)*dispersió!$K$10*((dispersió!$K$39+P188)^dispersió!$L$10)+dispersió!$C$24*dispersió!$D$39)*dispersió!$I$12),0)","v":2.768180497694344},{"$f":"IFERROR(dispersió!$I$10*((dispersió!$J$39+'Càlculs interns'!P188)^dispersió!$J$10)*(2*LN('Càlculs interns'!Q188/dispersió!$O$60))^(1/2),0)","v":2.644059827186545},-2.644059827186545]
[40.532332977024929,{"$f":"IFERROR((letalitat!$P$10*1000)/((3.14159*dispersió!$I$10*((dispersió!$J$39+A189)^dispersió!$J$10)*dispersió!$K$10*((dispersió!$K$39+A189)^dispersió!$L$10)+dispersió!$C$24*dispersió!$D$39)*dispersió!$I$12),0)","v":1.6755149161686238},{"$f":"IFERROR(dispersió!$I$10*((dispersió!$J$39+'Càlculs interns'!A189)^dispersió!$J$10)*(2*LN('Càlculs interns'!B189/dispersió!$O$39))^(1/2),0)","v":6.2334570321923426},-6.2334570321923426,null,30.705147534839107,{"$f":"IFERROR((letalitat!$P$10*1000)/((3.14159*dispersió!$I$10*((dispersió!$J$39+F189)^dispersió!$J$10)*dispersió!$K$10*((dispersió!$K$39+F189)^dispersió!$L$10)+dispersió!$C$24*dispersió!$D$39)*dispersió!$I$12),0)","v":1.9161395206813781},{"$f":"IFERROR(dispersió!$I$10*((dispersió!$J$39+'Càlculs interns'!F189)^dispersió!$J$10)*(2*LN('Càlculs interns'!G189/dispersió!$O$46))^(1/2),0)","v":5.1903584600497217},-5.1903584600497217,null,21.563835075527901,{"$f":"IFERROR((letalitat!$P$10*1000)/((3.14159*dispersió!$I$10*((dispersió!$J$39+K189)^dispersió!$J$10)*dispersió!$K$10*((dispersió!$K$39+K189)^dispersió!$L$10)+dispersió!$C$24*dispersió!$D$39)*dispersió!$I$12),0)","v":2.1948237463012985},{"$f":"IFERROR(dispersió!$I$10*((dispersió!$J$39+'Càlculs interns'!K189)^dispersió!$J$10)*(2*LN('Càlculs interns'!L189/dispersió!$O$53))^(1/2),0)","v":4.1646701317861377},-4.1646701317861377,null,10.176031225516434,{"$f":"IFERROR((letalitat!$P$10*1000)/((3.14159*dispersió!$I$10*((dispersió!$J$39+P189)^dispersió!$J$10)*dispersió!$K$10*((dispersió!$K$39+P189)^dispersió!$L$10)+dispersió!$C$24*dispersió!$D$39)*dispersió!$I$12),0)","v":2.6464043140361868},{"$f":"IFERROR(dispersió!$I$10*((dispersió!$J$39+'Càlculs interns'!P189)^dispersió!$J$10)*(2*LN('Càlculs interns'!Q189/dispersió!$O$60))^(1/2),0)","v":2.7135160686988913},-2.7135160686988913]
[50.665416221281163,{"$f":"IFERROR((letalitat!$P$10*1000)/((3.14159*dispersió!$I$10*((dispersió!$J$39+A190)^dispersió!$J$10)*dispersió!$K$10*((dispersió!$K$39+A190)^dispersió!$L$10)+dispersió!$C$24*dispersió!$D$39)*dispersió!$I$12),0)","v":1.4748792719776722},{"$f":"IFERROR(dispersió!$I$10*((dispersió!$J$39+'Càlculs interns'!A190)^dispersió!$J$10)*(2*LN('Càlculs interns'!B190/dispersió!$O$39))^(1/2),0)","v":6.7278268873965059},-6.7278268873965059,null,38.381434418548885,{"$f":"IFERROR((letalitat!$P$10*1000)/((3.14159*dispersió!$I$10*((dispersió!$J$39+F190)^dispersió!$J$10)*dispersió!$K$10*((dispersió!$K$39+F190)^dispersió!$L$10)+dispersió!$C$24*dispersió!$D$39)*dispersió!$I$12),0)","v":1.7238282822110294},{"$f":"IFERROR(dispersió!$I$10*((dispersió!$J$39+'Càlculs interns'!F190)^dispersió!$J$10)*(2*LN('Càlculs interns'!G190/dispersió!$O$46))^(1/2),0)","v":5.5383691123577687},-5.5383691123577687,null,26.954793844409878,{"$f":"IFERROR((letalitat!$P$10*1000)/((3.14159*dispersió!$I$10*((dispersió!$J$39+K190)^dispersió!$J$10)*dispersió!$K$10*((dispersió!$K$39+K190)^dispersió!$L$10)+dispersió!$C$24*dispersió!$D$39)*dispersió!$I$12),0)","v":2.0231115050805548},{"$f":"IFERROR(dispersió!$I$10*((dispersió!$J$39+'Càlculs interns'!K190)^dispersió!$J$10)*(2*LN('Càlculs interns'!L190/dispersió!$O$53))^(1/2),0)","v":4.3793476390611747},-4.3793476390611747,null,12.720039031895542,{"$f":"IFERROR((letalitat!$P$10*1000)/((3.14159*dispersió!$I$10*((dispersió!$J$39+P190)^dispersió!$J$10)*dispersió!$K$10*((dispersió!$K$39+P190)^dispersió!$L$10)+dispersió!$C$24*dispersió!$D$39)*dispersió!$I$12),0)","v":2.5331284841672836},{"$f":"IFERROR(dispersió!$I$10*((dispersió!$J$39+'Càlculs interns'!P190)^dispersió!$J$10)*(2*LN('Càlculs interns'!Q190/dispersió!$O$60))^(1/2),0)","v":2.7755109188075338},-2.7755109188075338]
[60.798499465537397,{"$f":"IFERROR((letalitat!$P$10*1000)/((3.14159*dispersió!$I$10*((dispersió!$J$39+A191)^dispersió!$J$10)*dispersió!$K$10*((dispersió!$K$39+A191)^dispersió!$L$10)+dispersió!$C$24*dispersió!$D$39)*dispersió!$I$12),0)","v":1.3105087057932829},{"$f":"IFERROR(dispersió!$I$10*((dispersió!$J$39+'Càlculs interns'!A191)^dispersió!$J$10)*(2*LN('Càlculs interns'!B191/dispersió!$O$39))^(1/2),0)","v":7.1728937868202856},-7.1728937868202856,null,46.057721302258663,{"$f":"IFERROR((letalitat!$P$10*1000)/((3.14159*dispersió!$I$10*((dispersió!$J$39+F191)^dispersió!$J$10)*dispersió!$K$10*((dispersió!$K$39+F191)^dispersió!$L$10)+dispersió!$C$24*dispersió!$D$39)*dispersió!$I$12),0)","v":1.5609911128282805},{"$f":"IFERROR(dispersió!$I$10*((dispersió!$J$39+'Càlculs interns'!F191)^dispersió!$J$10)*(2*LN('Càlculs interns'!G191/dispersió!$O$46))^(1/2),0)","v":5.8521928512028003},-5.8521928512028003,null,32.34575261329185,{"$f":"IFERROR((letalitat!$P$10*1000)/((3.14159*dispersió!$I$10*((dispersió!$J$39+K191)^dispersió!$J$10)*dispersió!$K$10*((dispersió!$K$39+K191)^dispersió!$L$10)+dispersió!$C$24*dispersió!$D$39)*dispersió!$I$12),0)","v":1.8722013054503861},{"$f":"IFERROR(dispersió!$I$10*((dispersió!$J$39+'Càlculs interns'!K191)^dispersió!$J$10)*(2*LN('Càlculs interns'!L191/dispersió!$O$53))^(1/2),0)","v":4.5728882363706846},-4.5728882363706846,null,15.26404683827465,{"$f":"IFERROR((letalitat!$P$10*1000)/((3.14159*dispersió!$I$10*((dispersió!$J$39+P191)^dispersió!$J$10)*dispersió!$K$10*((dispersió!$K$39+P191)^dispersió!$L$10)+dispersió!$C$24*dispersió!$D$39)*dispersió!$I$12),0)","v":2.4275448566639413},{"$f":"IFERROR(dispersió!$I$10*((dispersió!$J$39+'Càlculs interns'!P191)^dispersió!$J$10)*(2*LN('Càlculs interns'!Q191/dispersió!$O$60))^(1/2),0)","v":2.8300543022463924},-2.8300543022463924]
[70.931582709793631,{"$f":"IFERROR((letalitat!$P$10*1000)/((3.14159*dispersió!$I$10*((dispersió!$J$39+A192)^dispersió!$J$10)*dispersió!$K$10*((dispersió!$K$39+A192)^dispersió!$L$10)+dispersió!$C$24*dispersió!$D$39)*dispersió!$I$12),0)","v":1.1739244621401614},{"$f":"IFERROR(dispersió!$I$10*((dispersió!$J$39+'Càlculs interns'!A192)^dispersió!$J$10)*(2*LN('Càlculs interns'!B192/dispersió!$O$39))^(1/2),0)","v":7.5715311126008551},-7.5715311126008551,null,53.734008185968442,{"$f":"IFERROR((letalitat!$P$10*1000)/((3.14159*dispersió!$I$10*((dispersió!$J$39+F192)^dispersió!$J$10)*dispersió!$K$10*((dispersió!$K$39+F192)^dispersió!$L$10)+dispersió!$C$24*dispersió!$D$39)*dispersió!$I$12),0)","v":1.4217204017679874},{"$f":"IFERROR(dispersió!$I$10*((dispersió!$J$39+'Càlculs interns'!F192)^dispersió!$J$10)*(2*LN('Càlculs interns'!G192/dispersió!$O$46))^(1/2),0)","v":6.1333644847143107},-6.1333644847143107,null,37.736711382173823,{"$f":"IFERROR((letalitat!$P$10*1000)/((3.14159*dispersió!$I$10*((dispersió!$J$39+K192)^dispersió!$J$10)*dispersió!$K$10*((dispersió!$K$39+K192)^dispersió!$L$10)+dispersió!$C$24*dispersió!$D$39)*dispersió!$I$12),0)","v":1.7387516424420646},{"$f":"IFERROR(dispersió!$I$10*((dispersió!$J$39+'Càlculs interns'!K192)^dispersió!$J$10)*(2*LN('Càlculs interns'!L192/dispersió!$O$53))^(1/2),0)","v":4.7458880599276636},-4.7458880599276636,null,17.808054644653758,{"$f":"IFERROR((letalitat!$P$10*1000)/((3.14159*dispersió!$I$10*((dispersió!$J$39+P192)^dispersió!$J$10)*dispersió!$K$10*((dispersió!$K$39+P192)^dispersió!$L$10)+dispersió!$C$24*dispersió!$D$39)*dispersió!$I$12),0)","v":2.3289426030721834},{"$f":"IFERROR(dispersió!$I$10*((dispersió!$J$39+'Càlculs interns'!P192)^dispersió!$J$10)*(2*LN('Càlculs interns'!Q192/dispersió!$O$60))^(1/2),0)","v":2.877126863926482},-2.877126863926482]
[81.064665954049858,{"$f":"IFERROR((letalitat!$P$10*1000)/((3.14159*dispersió!$I$10*((dispersió!$J$39+A193)^dispersió!$J$10)*dispersió!$K$10*((dispersió!$K$39+A193)^dispersió!$L$10)+dispersió!$C$24*dispersió!$D$39)*dispersió!$I$12),0)","v":1.059027487996578},{"$f":"IFERROR(dispersió!$I$10*((dispersió!$J$39+'Càlculs interns'!A193)^dispersió!$J$10)*(2*LN('Càlculs interns'!B193/dispersió!$O$39))^(1/2),0)","v":7.9259402339346812},-7.9259402339346812,null,61.41029506967822,{"$f":"IFERROR((letalitat!$P$10*1000)/((3.14159*dispersió!$I$10*((dispersió!$J$39+F193)^dispersió!$J$10)*dispersió!$K$10*((dispersió!$K$39+F193)^dispersió!$L$10)+dispersió!$C$24*dispersió!$D$39)*dispersió!$I$12),0)","v":1.3015449432754418},{"$f":"IFERROR(dispersió!$I$10*((dispersió!$J$39+'Càlculs interns'!F193)^dispersió!$J$10)*(2*LN('Càlculs interns'!G193/dispersió!$O$46))^(1/2),0)","v":6.3830601453776374},-6.3830601453776374,null,43.127670151055796,{"$f":"IFERROR((letalitat!$P$10*1000)/((3.14159*dispersió!$I$10*((dispersió!$J$39+K193)^dispersió!$J$10)*dispersió!$K$10*((dispersió!$K$39+K193)^dispersió!$L$10)+dispersió!$C$24*dispersió!$D$39)*dispersió!$I$12),0)","v":1.6200811721124619},{"$f":"IFERROR(dispersió!$I$10*((dispersió!$J$39+'Càlculs interns'!K193)^dispersió!$J$10)*(2*LN('Càlculs interns'!L193/dispersió!$O$53))^(1/2),0)","v":4.8987874685170576},-4.8987874685170576,null,20.352062451032868,{"$f":"IFERROR((letalitat!$P$10*1000)/((3.14159*dispersió!$I$10*((dispersió!$J$39+P193)^dispersió!$J$10)*dispersió!$K$10*((dispersió!$K$39+P193)^dispersió!$L$10)+dispersió!$C$24*dispersió!$D$39)*dispersió!$I$12),0)","v":2.2366939759198776},{"$f":"IFERROR(dispersió!$I$10*((dispersió!$J$39+'Càlculs interns'!P193)^dispersió!$J$10)*(2*LN('Càlculs interns'!Q193/dispersió!$O$60))^(1/2),0)","v":2.9166794395721651},-2.9166794395721651]
[91.197749198306084,{"$f":"IFERROR((letalitat!$P$10*1000)/((3.14159*dispersió!$I$10*((dispersió!$J$39+A194)^dispersió!$J$10)*dispersió!$K$10*((dispersió!$K$39+A194)^dispersió!$L$10)+dispersió!$C$24*dispersió!$D$39)*dispersió!$I$12),0)","v":0.96133081116978414},{"$f":"IFERROR(dispersió!$I$10*((dispersió!$J$39+'Càlculs interns'!A194)^dispersió!$J$10)*(2*LN('Càlculs interns'!B194/dispersió!$O$39))^(1/2),0)","v":8.2377864991590624},-8.2377864991590624,null,69.086581953387991,{"$f":"IFERROR((letalitat!$P$10*1000)/((3.14159*dispersió!$I$10*((dispersió!$J$39+F194)^dispersió!$J$10)*dispersió!$K$10*((dispersió!$K$39+F194)^dispersió!$L$10)+dispersió!$C$24*dispersió!$D$39)*dispersió!$I$12),0)","v":1.197024498215483},{"$f":"IFERROR(dispersió!$I$10*((dispersió!$J$39+'Càlculs interns'!F194)^dispersió!$J$10)*(2*LN('Càlculs interns'!G194/dispersió!$O$46))^(1/2),0)","v":6.6021561350922902},-6.6021561350922902,null,48.518628919937768,{"$f":"IFERROR((letalitat!$P$10*1000)/((3.14159*dispersió!$I$10*((dispersió!$J$39+K194)^dispersió!$J$10)*dispersió!$K$10*((dispersió!$K$39+K194)^dispersió!$L$10)+dispersió!$C$24*dispersió!$D$39)*dispersió!$I$12),0)","v":1.5140152094974466},{"$f":"IFERROR(dispersió!$I$10*((dispersió!$J$39+'Càlculs interns'!K194)^dispersió!$J$10)*(2*LN('Càlculs interns'!L194/dispersió!$O$53))^(1/2),0)","v":5.0318875763195203},-5.0318875763195203,null,22.896070257411978,{"$f":"IFERROR((letalitat!$P$10*1000)/((3.14159*dispersió!$I$10*((dispersió!$J$39+P194)^dispersió!$J$10)*dispersió!$K$10*((dispersió!$K$39+P194)^dispersió!$L$10)+dispersió!$C$24*dispersió!$D$39)*dispersió!$I$12),0)","v":2.1502425317268705},{"$f":"IFERROR(dispersió!$I$10*((dispersió!$J$39+'Càlculs interns'!P194)^dispersió!$J$10)*(2*LN('Càlculs interns'!Q194/dispersió!$O$60))^(1/2),0)","v":2.9486317927809984},-2.9486317927809984]
[101.33083244256231,{"$f":"IFERROR((letalitat!$P$10*1000)/((3.14159*dispersió!$I$10*((dispersió!$J$39+A195)^dispersió!$J$10)*dispersió!$K$10*((dispersió!$K$39+A195)^dispersió!$L$10)+dispersió!$C$24*dispersió!$D$39)*dispersió!$I$12),0)","v":0.87746856396112749},{"$f":"IFERROR(dispersió!$I$10*((dispersió!$J$39+'Càlculs interns'!A195)^dispersió!$J$10)*(2*LN('Càlculs interns'!B195/dispersió!$O$39))^(1/2),0)","v":8.5082900368946532},-8.5082900368946532,null,76.76286883709777,{"$f":"IFERROR((letalitat!$P$10*1000)/((3.14159*dispersió!$I$10*((dispersió!$J$39+F195)^dispersió!$J$10)*dispersió!$K$10*((dispersió!$K$39+F195)^dispersió!$L$10)+dispersió!$C$24*dispersió!$D$39)*dispersió!$I$12),0)","v":1.10547344529821},{"$f":"IFERROR(dispersió!$I$10*((dispersió!$J$39+'Càlculs interns'!F195)^dispersió!$J$10)*(2*LN('Càlculs interns'!G195/dispersió!$O$46))^(1/2),0)","v":6.7912683744093831},-6.7912683744093831,null,53.909587688819741,{"$f":"IFERROR((letalitat!$P$10*1000)/((3.14159*dispersió!$I$10*((dispersió!$J$39+K195)^dispersió!$J$10)*dispersió!$K$10*((dispersió!$K$39+K195)^dispersió!$L$10)+dispersió!$C$24*dispersió!$D$39)*dispersió!$I$12),0)","v":1.4187730436271599},{"$f":"IFERROR(dispersió!$I$10*((dispersió!$J$39+'Càlculs interns'!K195)^dispersió!$J$10)*(2*LN('Càlculs interns'!L195/dispersió!$O$53))^(1/2),0)","v":5.1453605576667583},-5.1453605576667583,null,25.440078063791088,{"$f":"IFERROR((letalitat!$P$10*1000)/((3.14159*dispersió!$I$10*((dispersió!$J$39+P195)^dispersió!$J$10)*dispersió!$K$10*((dispersió!$K$39+P195)^dispersió!$L$10)+dispersió!$C$24*dispersió!$D$39)*dispersió!$I$12),0)","v":2.069093324375876},{"$f":"IFERROR(dispersió!$I$10*((dispersió!$J$39+'Càlculs interns'!P195)^dispersió!$J$10)*(2*LN('Càlculs interns'!Q195/dispersió!$O$60))^(1/2),0)","v":2.9728705587554831},-2.9728705587554831]
[111.46391568681854,{"$f":"IFERROR((letalitat!$P$10*1000)/((3.14159*dispersió!$I$10*((dispersió!$J$39+A196)^dispersió!$J$10)*dispersió!$K$10*((dispersió!$K$39+A196)^dispersió!$L$10)+dispersió!$C$24*dispersió!$D$39)*dispersió!$I$12),0)","v":0.8048724347356645},{"$f":"IFERROR(dispersió!$I$10*((dispersió!$J$39+'Càlculs interns'!A196)^dispersió!$J$10)*(2*LN('Càlculs interns'!B196/dispersió!$O$39))^(1/2),0)","v":8.7382858351742616},-8.7382858351742616,null,84.439155720807548,{"$f":"IFERROR((letalitat!$P$10*1000)/((3.14159*dispersió!$I$10*((dispersió!$J$39+F196)^dispersió!$J$10)*dispersió!$K$10*((dispersió!$K$39+F196)^dispersió!$L$10)+dispersió!$C$24*dispersió!$D$39)*dispersió!$I$12),0)","v":1.0247680821337148},{"$f":"IFERROR(dispersió!$I$10*((dispersió!$J$39+'Càlculs interns'!F196)^dispersió!$J$10)*(2*LN('Càlculs interns'!G196/dispersió!$O$46))^(1/2),0)","v":6.9507777251671952},-6.9507777251671952,null,59.300546457701714,{"$f":"IFERROR((letalitat!$P$10*1000)/((3.14159*dispersió!$I$10*((dispersió!$J$39+K196)^dispersió!$J$10)*dispersió!$K$10*((dispersió!$K$39+K196)^dispersió!$L$10)+dispersió!$C$24*dispersió!$D$39)*dispersió!$I$12),0)","v":1.3328839076437378},{"$f":"IFERROR(dispersió!$I$10*((dispersió!$J$39+'Càlculs interns'!K196)^dispersió!$J$10)*(2*LN('Càlculs interns'!L196/dispersió!$O$53))^(1/2),0)","v":5.2392548483426733},-5.2392548483426733,null,27.984085870170198,{"$f":"IFERROR((letalitat!$P$10*1000)/((3.14159*dispersió!$I$10*((dispersió!$J$39+P196)^dispersió!$J$10)*dispersió!$K$10*((dispersió!$K$39+P196)^dispersió!$L$10)+dispersió!$C$24*dispersió!$D$39)*dispersió!$I$12),0)","v":1.992804687389331},{"$f":"IFERROR(dispersió!$I$10*((dispersió!$J$39+'Càlculs interns'!P196)^dispersió!$J$10)*(2*LN('Càlculs interns'!Q196/dispersió!$O$60))^(1/2),0)","v":2.989246283012823},-2.989246283012823]
[121.59699893107476,{"$f":"IFERROR((letalitat!$P$10*1000)/((3.14159*dispersió!$I$10*((dispersió!$J$39+A197)^dispersió!$J$10)*dispersió!$K$10*((dispersió!$K$39+A197)^dispersió!$L$10)+dispersió!$C$24*dispersió!$D$39)*dispersió!$I$12),0)","v":0.74155288627322857},{"$f":"IFERROR(dispersió!$I$10*((dispersió!$J$39+'Càlculs interns'!A197)^dispersió!$J$10)*(2*LN('Càlculs interns'!B197/dispersió!$O$39))^(1/2),0)","v":8.9282614711318367},-8.9282614711318367,null,92.115442604517327,{"$f":"IFERROR((letalitat!$P$10*1000)/((3.14159*dispersió!$I$10*((dispersió!$J$39+F197)^dispersió!$J$10)*dispersió!$K$10*((dispersió!$K$39+F197)^dispersió!$L$10)+dispersió!$C$24*dispersió!$D$39)*dispersió!$I$12),0)","v":0.95320955819225406},{"$f":"IFERROR(dispersió!$I$10*((dispersió!$J$39+'Càlculs interns'!F197)^dispersió!$J$10)*(2*LN('Càlculs interns'!G197/dispersió!$O$46))^(1/2),0)","v":7.0808442337017352},-7.0808442337017352,null,64.691505226583686,{"$f":"IFERROR((letalitat!$P$10*1000)/((3.14159*dispersió!$I$10*((dispersió!$J$39+K197)^dispersió!$J$10)*dispersió!$K$10*((dispersió!$K$39+K197)^dispersió!$L$10)+dispersió!$C$24*dispersió!$D$39)*dispersió!$I$12),0)","v":1.255123441120769},{"$f":"IFERROR(dispersió!$I$10*((dispersió!$J$39+'Càlculs interns'!K197)^dispersió!$J$10)*(2*LN('Càlculs interns'!L197/dispersió!$O$53))^(1/2),0)","v":5.313495798291207},-5.313495798291207,null,30.528093676549307,{"$f":"IFERROR((letalitat!$P$10*1000)/((3.14159*dispersió!$I$10*((dispersió!$J$39+P197)^dispersió!$J$10)*dispersió!$K$10*((dispersió!$K$39+P197)^dispersió!$L$10)+dispersió!$C$24*dispersió!$D$39)*dispersió!$I$12),0)","v":1.9209813077456313},{"$f":"IFERROR(dispersió!$I$10*((dispersió!$J$39+'Càlculs interns'!P197)^dispersió!$J$10)*(2*LN('Càlculs interns'!Q197/dispersió!$O$60))^(1/2),0)","v":2.9975693800879943},-2.9975693800879943]
[131.73008217533101,{"$f":"IFERROR((letalitat!$P$10*1000)/((3.14159*dispersió!$I$10*((dispersió!$J$39+A198)^dispersió!$J$10)*dispersió!$K$10*((dispersió!$K$39+A198)^dispersió!$L$10)+dispersió!$C$24*dispersió!$D$39)*dispersió!$I$12),0)","v":0.68594784261512309},{"$f":"IFERROR(dispersió!$I$10*((dispersió!$J$39+'Càlculs interns'!A198)^dispersió!$J$10)*(2*LN('Càlculs interns'!B198/dispersió!$O$39))^(1/2),0)","v":9.0783772551754396},-9.0783772551754396,null,99.791729488227105,{"$f":"IFERROR((letalitat!$P$10*1000)/((3.14159*dispersió!$I$10*((dispersió!$J$39+F198)^dispersió!$J$10)*dispersió!$K$10*((dispersió!$K$39+F198)^dispersió!$L$10)+dispersió!$C$24*dispersió!$D$39)*dispersió!$I$12),0)","v":0.88942465114034386},{"$f":"IFERROR(dispersió!$I$10*((dispersió!$J$39+'Càlculs interns'!F198)^dispersió!$J$10)*(2*LN('Càlculs interns'!G198/dispersió!$O$46))^(1/2),0)","v":7.1814119007427104},-7.1814119007427104,null,70.082463995465659,{"$f":"IFERROR((letalitat!$P$10*1000)/((3.14159*dispersió!$I$10*((dispersió!$J$39+K198)^dispersió!$J$10)*dispersió!$K$10*((dispersió!$K$39+K198)^dispersió!$L$10)+dispersió!$C$24*dispersió!$D$39)*dispersió!$I$12),0)","v":1.1844650471028102},{"$f":"IFERROR(dispersió!$I$10*((dispersió!$J$39+'Càlculs interns'!K198)^dispersió!$J$10)*(2*LN('Càlculs interns'!L198/dispersió!$O$53))^(1/2),0)","v":5.3678818858727961},-5.3678818858727961,null,33.072101482928417,{"$f":"IFERROR((letalitat!$P$10*1000)/((3.14159*dispersió!$I$10*((dispersió!$J$39+P198)^dispersió!$J$10)*dispersió!$K$10*((dispersió!$K$39+P198)^dispersió!$L$10)+dispersió!$C$24*dispersió!$D$39)*dispersió!$I$12),0)","v":1.8532683571486126},{"$f":"IFERROR(dispersió!$I$10*((dispersió!$J$39+'Càlculs interns'!P198)^dispersió!$J$10)*(2*LN('Càlculs interns'!Q198/dispersió!$O$60))^(1/2),0)","v":2.9976047542681759},{"$f":"-R198","v":-2.9976047542681759}]
[141.86316541958723,{"$f":"IFERROR((letalitat!$P$10*1000)/((3.14159*dispersió!$I$10*((dispersió!$J$39+A199)^dispersió!$J$10)*dispersió!$K$10*((dispersió!$K$39+A199)^dispersió!$L$10)+dispersió!$C$24*dispersió!$D$39)*dispersió!$I$12),0)","v":0.63681592972840306},{"$f":"IFERROR(dispersió!$I$10*((dispersió!$J$39+'Càlculs interns'!A199)^dispersió!$J$10)*(2*LN('Càlculs interns'!B199/dispersió!$O$39))^(1/2),0)","v":9.1884711856346524},-9.1884711856346524,null,107.46801637193688,{"$f":"IFERROR((letalitat!$P$10*1000)/((3.14159*dispersió!$I$10*((dispersió!$J$39+F199)^dispersió!$J$10)*dispersió!$K$10*((dispersió!$K$39+F199)^dispersió!$L$10)+dispersió!$C$24*dispersió!$D$39)*dispersió!$I$12),0)","v":0.83229280308469777},{"$f":"IFERROR(dispersió!$I$10*((dispersió!$J$39+'Càlculs interns'!F199)^dispersió!$J$10)*(2*LN('Càlculs interns'!G199/dispersió!$O$46))^(1/2),0)","v":7.252204521516135},-7.252204521516135,null,75.473422764347632,{"$f":"IFERROR((letalitat!$P$10*1000)/((3.14159*dispersió!$I$10*((dispersió!$J$39+K199)^dispersió!$J$10)*dispersió!$K$10*((dispersió!$K$39+K199)^dispersió!$L$10)+dispersió!$C$24*dispersió!$D$39)*dispersió!$I$12),0)","v":1.120042232912579},{"$f":"IFERROR(dispersió!$I$10*((dispersió!$J$39+'Càlculs interns'!K199)^dispersió!$J$10)*(2*LN('Càlculs interns'!L199/dispersió!$O$53))^(1/2),0)","v":5.4020761945081111},-5.4020761945081111,null,35.616109289307524,{"$f":"IFERROR((letalitat!$P$10*1000)/((3.14159*dispersió!$I$10*((dispersió!$J$39+P199)^dispersió!$J$10)*dispersió!$K$10*((dispersió!$K$39+P199)^dispersió!$L$10)+dispersió!$C$24*dispersió!$D$39)*dispersió!$I$12),0)","v":1.7893464948409072},{"$f":"IFERROR(dispersió!$I$10*((dispersió!$J$39+'Càlculs interns'!P199)^dispersió!$J$10)*(2*LN('Càlculs interns'!Q199/dispersió!$O$60))^(1/2),0)","v":2.9890647096999072},-2.9890647096999072]
[151.99624866384346,{"$f":"IFERROR((letalitat!$P$10*1000)/((3.14159*dispersió!$I$10*((dispersió!$J$39+A200)^dispersió!$J$10)*dispersió!$K$10*((dispersió!$K$39+A200)^dispersió!$L$10)+dispersió!$C$24*dispersió!$D$39)*dispersió!$I$12),0)","v":0.59315979828552734},{"$f":"IFERROR(dispersió!$I$10*((dispersió!$J$39+'Càlculs interns'!A200)^dispersió!$J$10)*(2*LN('Càlculs interns'!B200/dispersió!$O$39))^(1/2),0)","v":9.2580493192721054},-9.2580493192721054,null,115.14430325564666,{"$f":"IFERROR((letalitat!$P$10*1000)/((3.14159*dispersió!$I$10*((dispersió!$J$39+F200)^dispersió!$J$10)*dispersió!$K$10*((dispersió!$K$39+F200)^dispersió!$L$10)+dispersió!$C$24*dispersió!$D$39)*dispersió!$I$12),0)","v":0.78089170436544386},{"$f":"IFERROR(dispersió!$I$10*((dispersió!$J$39+'Càlculs interns'!F200)^dispersió!$J$10)*(2*LN('Càlculs interns'!G200/dispersió!$O$46))^(1/2),0)","v":7.2927122107976956},{"$f":"-H200","v":-7.2927122107976956},null,80.864381533229604,{"$f":"IFERROR((letalitat!$P$10*1000)/((3.14159*dispersió!$I$10*((dispersió!$J$39+K200)^dispersió!$J$10)*dispersió!$K$10*((dispersió!$K$39+K200)^dispersió!$L$10)+dispersió!$C$24*dispersió!$D$39)*dispersió!$I$12),0)","v":1.0611191564339015},{"$f":"IFERROR(dispersió!$I$10*((dispersió!$J$39+'Càlculs interns'!K200)^dispersió!$J$10)*(2*LN('Càlculs interns'!L200/dispersió!$O$53))^(1/2),0)","v":5.415592404719578},{"$f":"-M200","v":-5.415592404719578},null,38.16011709568663,{"$f":"IFERROR((letalitat!$P$10*1000)/((3.14159*dispersió!$I$10*((dispersió!$J$39+P200)^dispersió!$J$10)*dispersió!$K$10*((dispersió!$K$39+P200)^dispersió!$L$10)+dispersió!$C$24*dispersió!$D$39)*dispersió!$I$12),0)","v":1.7289275931180346},{"$f":"IFERROR(dispersió!$I$10*((dispersió!$J$39+'Càlculs interns'!P200)^dispersió!$J$10)*(2*LN('Càlculs interns'!Q200/dispersió!$O$60))^(1/2),0)","v":2.9715996122233763},-2.9715996122233763]
[162.12933190809969,{"$f":"IFERROR((letalitat!$P$10*1000)/((3.14159*dispersió!$I$10*((dispersió!$J$39+A201)^dispersió!$J$10)*dispersió!$K$10*((dispersió!$K$39+A201)^dispersió!$L$10)+dispersió!$C$24*dispersió!$D$39)*dispersió!$I$12),0)","v":0.55417016365379379},{"$f":"IFERROR(dispersió!$I$10*((dispersió!$J$39+'Càlculs interns'!A201)^dispersió!$J$10)*(2*LN('Càlculs interns'!B201/dispersió!$O$39))^(1/2),0)","v":9.2862605301594101},{"$f":"-C201","v":-9.2862605301594101},null,122.82059013935644,{"$f":"IFERROR((letalitat!$P$10*1000)/((3.14159*dispersió!$I$10*((dispersió!$J$39+F201)^dispersió!$J$10)*dispersió!$K$10*((dispersió!$K$39+F201)^dispersió!$L$10)+dispersió!$C$24*dispersió!$D$39)*dispersió!$I$12),0)","v":0.73445618764289988},{"$f":"IFERROR(dispersió!$I$10*((dispersió!$J$39+'Càlculs interns'!F201)^dispersió!$J$10)*(2*LN('Càlculs interns'!G201/dispersió!$O$46))^(1/2),0)","v":7.3021672441091683},-7.3021672441091683,null,86.255340302111577,{"$f":"IFERROR((letalitat!$P$10*1000)/((3.14159*dispersió!$I$10*((dispersió!$J$39+K201)^dispersió!$J$10)*dispersió!$K$10*((dispersió!$K$39+K201)^dispersió!$L$10)+dispersió!$C$24*dispersió!$D$39)*dispersió!$I$12),0)","v":1.0070673747183339},{"$f":"IFERROR(dispersió!$I$10*((dispersió!$J$39+'Càlculs interns'!K201)^dispersió!$J$10)*(2*LN('Càlculs interns'!L201/dispersió!$O$53))^(1/2),0)","v":5.4077739871831652},-5.4077739871831652,null,40.704124902065736,{"$f":"IFERROR((letalitat!$P$10*1000)/((3.14159*dispersió!$I$10*((dispersió!$J$39+P201)^dispersió!$J$10)*dispersió!$K$10*((dispersió!$K$39+P201)^dispersió!$L$10)+dispersió!$C$24*dispersió!$D$39)*dispersió!$I$12),0)","v":1.6717510654925669},{"$f":"IFERROR(dispersió!$I$10*((dispersió!$J$39+'Càlculs interns'!P201)^dispersió!$J$10)*(2*LN('Càlculs interns'!Q201/dispersió!$O$60))^(1/2),0)","v":2.9447855199950839},-2.9447855199950839]
[172.26241515235591,{"$f":"IFERROR((letalitat!$P$10*1000)/((3.14159*dispersió!$I$10*((dispersió!$J$39+A202)^dispersió!$J$10)*dispersió!$K$10*((dispersió!$K$39+A202)^dispersió!$L$10)+dispersió!$C$24*dispersió!$D$39)*dispersió!$I$12),0)","v":0.51918436985465599},{"$f":"IFERROR(dispersió!$I$10*((dispersió!$J$39+'Càlculs interns'!A202)^dispersió!$J$10)*(2*LN('Càlculs interns'!B202/dispersió!$O$39))^(1/2),0)","v":9.2718528045507984},-9.2718528045507984,null,130.49687702306622,{"$f":"IFERROR((letalitat!$P$10*1000)/((3.14159*dispersió!$I$10*((dispersió!$J$39+F202)^dispersió!$J$10)*dispersió!$K$10*((dispersió!$K$39+F202)^dispersió!$L$10)+dispersió!$C$24*dispersió!$D$39)*dispersió!$I$12),0)","v":0.69234681234899853},{"$f":"IFERROR(dispersió!$I$10*((dispersió!$J$39+'Càlculs interns'!F202)^dispersió!$J$10)*(2*LN('Càlculs interns'!G202/dispersió!$O$46))^(1/2),0)","v":7.2795066095635326},-7.2795066095635326,null,91.64629907099355,{"$f":"IFERROR((letalitat!$P$10*1000)/((3.14159*dispersió!$I$10*((dispersió!$J$39+K202)^dispersió!$J$10)*dispersió!$K$10*((dispersió!$K$39+K202)^dispersió!$L$10)+dispersió!$C$24*dispersió!$D$39)*dispersió!$I$12),0)","v":0.95734733120081827},{"$f":"IFERROR(dispersió!$I$10*((dispersió!$J$39+'Càlculs interns'!K202)^dispersió!$J$10)*(2*LN('Càlculs interns'!L202/dispersió!$O$53))^(1/2),0)","v":5.377764483000818},-5.377764483000818,null,43.248132708444842,{"$f":"IFERROR((letalitat!$P$10*1000)/((3.14159*dispersió!$I$10*((dispersió!$J$39+P202)^dispersió!$J$10)*dispersió!$K$10*((dispersió!$K$39+P202)^dispersió!$L$10)+dispersió!$C$24*dispersió!$D$39)*dispersió!$I$12),0)","v":1.6175807000204774},{"$f":"IFERROR(dispersió!$I$10*((dispersió!$J$39+'Càlculs interns'!P202)^dispersió!$J$10)*(2*LN('Càlculs interns'!Q202/dispersió!$O$60))^(1/2),0)","v":2.9081076239810808},-2.9081076239810808]
[182.39549839661214,{"$f":"IFERROR((letalitat!$P$10*1000)/((3.14159*dispersió!$I$10*((dispersió!$J$39+A203)^dispersió!$J$10)*dispersió!$K$10*((dispersió!$K$39+A203)^dispersió!$L$10)+dispersió!$C$24*dispersió!$D$39)*dispersió!$I$12),0)","v":0.48765530103123628},{"$f":"IFERROR(dispersió!$I$10*((dispersió!$J$39+'Càlculs interns'!A203)^dispersió!$J$10)*(2*LN('Càlculs interns'!B203/dispersió!$O$39))^(1/2),0)","v":9.2131057965113143},-9.2131057965113143,null,138.17316390677598,{"$f":"IFERROR((letalitat!$P$10*1000)/((3.14159*dispersió!$I$10*((dispersió!$J$39+F203)^dispersió!$J$10)*dispersió!$K$10*((dispersió!$K$39+F203)^dispersió!$L$10)+dispersió!$C$24*dispersió!$D$39)*dispersió!$I$12),0)","v":0.65402559715834041},{"$f":"IFERROR(dispersió!$I$10*((dispersió!$J$39+'Càlculs interns'!F203)^dispersió!$J$10)*(2*LN('Càlculs interns'!G203/dispersió!$O$46))^(1/2),0)","v":7.223316900305389},-7.223316900305389,null,97.037257839875522,{"$f":"IFERROR((letalitat!$P$10*1000)/((3.14159*dispersió!$I$10*((dispersió!$J$39+K203)^dispersió!$J$10)*dispersió!$K$10*((dispersió!$K$39+K203)^dispersió!$L$10)+dispersió!$C$24*dispersió!$D$39)*dispersió!$I$12),0)","v":0.91149349891413245},{"$f":"IFERROR(dispersió!$I$10*((dispersió!$J$39+'Càlculs interns'!K203)^dispersió!$J$10)*(2*LN('Càlculs interns'!L203/dispersió!$O$53))^(1/2),0)","v":5.3244655453175973},-5.3244655453175973,null,45.792140514823949,{"$f":"IFERROR((letalitat!$P$10*1000)/((3.14159*dispersió!$I$10*((dispersió!$J$39+P203)^dispersió!$J$10)*dispersió!$K$10*((dispersió!$K$39+P203)^dispersió!$L$10)+dispersió!$C$24*dispersió!$D$39)*dispersió!$I$12),0)","v":1.566201918125719},{"$f":"IFERROR(dispersió!$I$10*((dispersió!$J$39+'Càlculs interns'!P203)^dispersió!$J$10)*(2*LN('Càlculs interns'!Q203/dispersió!$O$60))^(1/2),0)","v":2.8609377450761615},-2.8609377450761615]
[192.52858164086837,{"$f":"IFERROR((letalitat!$P$10*1000)/((3.14159*dispersió!$I$10*((dispersió!$J$39+A204)^dispersió!$J$10)*dispersió!$K$10*((dispersió!$K$39+A204)^dispersió!$L$10)+dispersió!$C$24*dispersió!$D$39)*dispersió!$I$12),0)","v":0.45912777380959052},{"$f":"IFERROR(dispersió!$I$10*((dispersió!$J$39+'Càlculs interns'!A204)^dispersió!$J$10)*(2*LN('Càlculs interns'!B204/dispersió!$O$39))^(1/2),0)","v":9.1077307355235639},-9.1077307355235639,null,145.84945079048575,{"$f":"IFERROR((letalitat!$P$10*1000)/((3.14159*dispersió!$I$10*((dispersió!$J$39+F204)^dispersió!$J$10)*dispersió!$K$10*((dispersió!$K$39+F204)^dispersió!$L$10)+dispersió!$C$24*dispersió!$D$39)*dispersió!$I$12),0)","v":0.61903708880782515},{"$f":"IFERROR(dispersió!$I$10*((dispersió!$J$39+'Càlculs interns'!F204)^dispersió!$J$10)*(2*LN('Càlculs interns'!G204/dispersió!$O$46))^(1/2),0)","v":7.131754432297825},-7.131754432297825,null,102.4282166087575,{"$f":"IFERROR((letalitat!$P$10*1000)/((3.14159*dispersió!$I$10*((dispersió!$J$39+K204)^dispersió!$J$10)*dispersió!$K$10*((dispersió!$K$39+K204)^dispersió!$L$10)+dispersió!$C$24*dispersió!$D$39)*dispersió!$I$12),0)","v":0.869102370033215},{"$f":"IFERROR(dispersió!$I$10*((dispersió!$J$39+'Càlculs interns'!K204)^dispersió!$J$10)*(2*LN('Càlculs interns'!L204/dispersió!$O$53))^(1/2),0)","v":5.2464774749344683},-5.2464774749344683,null,48.336148321203055,{"$f":"IFERROR((letalitat!$P$10*1000)/((3.14159*dispersió!$I$10*((dispersió!$J$39+P204)^dispersió!$J$10)*dispersió!$K$10*((dispersió!$K$39+P204)^dispersió!$L$10)+dispersió!$C$24*dispersió!$D$39)*dispersió!$I$12),0)","v":1.5174193934445133},{"$f":"IFERROR(dispersió!$I$10*((dispersió!$J$39+'Càlculs interns'!P204)^dispersió!$J$10)*(2*LN('Càlculs interns'!Q204/dispersió!$O$60))^(1/2),0)","v":2.8025031634897868},-2.8025031634897868]
[202.66166488512459,{"$f":"IFERROR((letalitat!$P$10*1000)/((3.14159*dispersió!$I$10*((dispersió!$J$39+A205)^dispersió!$J$10)*dispersió!$K$10*((dispersió!$K$39+A205)^dispersió!$L$10)+dispersió!$C$24*dispersió!$D$39)*dispersió!$I$12),0)","v":0.43322041109915843},{"$f":"IFERROR(dispersió!$I$10*((dispersió!$J$39+'Càlculs interns'!A205)^dispersió!$J$10)*(2*LN('Càlculs interns'!B205/dispersió!$O$39))^(1/2),0)","v":8.9527228542294655},-8.9527228542294655,null,153.52573767419551,{"$f":"IFERROR((letalitat!$P$10*1000)/((3.14159*dispersió!$I$10*((dispersió!$J$39+F205)^dispersió!$J$10)*dispersió!$K$10*((dispersió!$K$39+F205)^dispersió!$L$10)+dispersió!$C$24*dispersió!$D$39)*dispersió!$I$12),0)","v":0.5869934589972019},{"$f":"IFERROR(dispersió!$I$10*((dispersió!$J$39+'Càlculs interns'!F205)^dispersió!$J$10)*(2*LN('Càlculs interns'!G205/dispersió!$O$46))^(1/2),0)","v":7.002428921263121},{"$f":"-H205","v":-7.002428921263121},null,107.81917537763947,{"$f":"IFERROR((letalitat!$P$10*1000)/((3.14159*dispersió!$I$10*((dispersió!$J$39+K205)^dispersió!$J$10)*dispersió!$K$10*((dispersió!$K$39+K205)^dispersió!$L$10)+dispersió!$C$24*dispersió!$D$39)*dispersió!$I$12),0)","v":0.82982268000186776},{"$f":"IFERROR(dispersió!$I$10*((dispersió!$J$39+'Càlculs interns'!K205)^dispersió!$J$10)*(2*LN('Càlculs interns'!L205/dispersió!$O$53))^(1/2),0)","v":5.14201372143871},-5.14201372143871,null,50.880156127582161,{"$f":"IFERROR((letalitat!$P$10*1000)/((3.14159*dispersió!$I$10*((dispersió!$J$39+P205)^dispersió!$J$10)*dispersió!$K$10*((dispersió!$K$39+P205)^dispersió!$L$10)+dispersió!$C$24*dispersió!$D$39)*dispersió!$I$12),0)","v":1.4710549765782894},{"$f":"IFERROR(dispersió!$I$10*((dispersió!$J$39+'Càlculs interns'!P205)^dispersió!$J$10)*(2*LN('Càlculs interns'!Q205/dispersió!$O$60))^(1/2),0)","v":2.7318424094270104},-2.7318424094270104]
[212.79474812938082,{"$f":"IFERROR((letalitat!$P$10*1000)/((3.14159*dispersió!$I$10*((dispersió!$J$39+A206)^dispersió!$J$10)*dispersió!$K$10*((dispersió!$K$39+A206)^dispersió!$L$10)+dispersió!$C$24*dispersió!$D$39)*dispersió!$I$12),0)","v":0.40961158205779236},{"$f":"IFERROR(dispersió!$I$10*((dispersió!$J$39+'Càlculs interns'!A206)^dispersió!$J$10)*(2*LN('Càlculs interns'!B206/dispersió!$O$39))^(1/2),0)","v":8.7441412077729499},-8.7441412077729499,null,161.20202455790528,{"$f":"IFERROR((letalitat!$P$10*1000)/((3.14159*dispersió!$I$10*((dispersió!$J$39+F206)^dispersió!$J$10)*dispersió!$K$10*((dispersió!$K$39+F206)^dispersió!$L$10)+dispersió!$C$24*dispersió!$D$39)*dispersió!$I$12),0)","v":0.55756267301279261},{"$f":"IFERROR(dispersió!$I$10*((dispersió!$J$39+'Càlculs interns'!F206)^dispersió!$J$10)*(2*LN('Càlculs interns'!G206/dispersió!$O$46))^(1/2),0)","v":6.8322310829310977},-6.8322310829310977,null,113.21013414652144,{"$f":"IFERROR((letalitat!$P$10*1000)/((3.14159*dispersió!$I$10*((dispersió!$J$39+K206)^dispersió!$J$10)*dispersió!$K$10*((dispersió!$K$39+K206)^dispersió!$L$10)+dispersió!$C$24*dispersió!$D$39)*dispersió!$I$12),0)","v":0.79334739966014423},{"$f":"IFERROR(dispersió!$I$10*((dispersió!$J$39+'Càlculs interns'!K206)^dispersió!$J$10)*(2*LN('Càlculs interns'!L206/dispersió!$O$53))^(1/2),0)","v":5.0087750777935209},-5.0087750777935209,null,53.424163933961268,{"$f":"IFERROR((letalitat!$P$10*1000)/((3.14159*dispersió!$I$10*((dispersió!$J$39+P206)^dispersió!$J$10)*dispersió!$K$10*((dispersió!$K$39+P206)^dispersió!$L$10)+dispersió!$C$24*dispersió!$D$39)*dispersió!$I$12),0)","v":1.4269458808118998},{"$f":"IFERROR(dispersió!$I$10*((dispersió!$J$39+'Càlculs interns'!P206)^dispersió!$J$10)*(2*LN('Càlculs interns'!Q206/dispersió!$O$60))^(1/2),0)","v":2.6477407309662211},-2.6477407309662211]
[222.92783137363705,{"$f":"IFERROR((letalitat!$P$10*1000)/((3.14159*dispersió!$I$10*((dispersió!$J$39+A207)^dispersió!$J$10)*dispersió!$K$10*((dispersió!$K$39+A207)^dispersió!$L$10)+dispersió!$C$24*dispersió!$D$39)*dispersió!$I$12),0)","v":0.38802839281732693},{"$f":"IFERROR(dispersió!$I$10*((dispersió!$J$39+'Càlculs interns'!A207)^dispersió!$J$10)*(2*LN('Càlculs interns'!B207/dispersió!$O$39))^(1/2),0)","v":8.476771759904544},-8.476771759904544,null,168.87831144161504,{"$f":"IFERROR((letalitat!$P$10*1000)/((3.14159*dispersió!$I$10*((dispersió!$J$39+F207)^dispersió!$J$10)*dispersió!$K$10*((dispersió!$K$39+F207)^dispersió!$L$10)+dispersió!$C$24*dispersió!$D$39)*dispersió!$I$12),0)","v":0.5304590230350672},{"$f":"IFERROR(dispersió!$I$10*((dispersió!$J$39+'Càlculs interns'!F207)^dispersió!$J$10)*(2*LN('Càlculs interns'!G207/dispersió!$O$46))^(1/2),0)","v":6.6170697707346315},-6.6170697707346315,null,118.60109291540341,{"$f":"IFERROR((letalitat!$P$10*1000)/((3.14159*dispersió!$I$10*((dispersió!$J$39+K207)^dispersió!$J$10)*dispersió!$K$10*((dispersió!$K$39+K207)^dispersió!$L$10)+dispersió!$C$24*dispersió!$D$39)*dispersió!$I$12),0)","v":0.75940713638679314},{"$f":"IFERROR(dispersió!$I$10*((dispersió!$J$39+'Càlculs interns'!K207)^dispersió!$J$10)*(2*LN('Càlculs interns'!L207/dispersió!$O$53))^(1/2),0)","v":4.8437586407232684},-4.8437586407232684,null,55.968171740340374,{"$f":"IFERROR((letalitat!$P$10*1000)/((3.14159*dispersió!$I$10*((dispersió!$J$39+P207)^dispersió!$J$10)*dispersió!$K$10*((dispersió!$K$39+P207)^dispersió!$L$10)+dispersió!$C$24*dispersió!$D$39)*dispersió!$I$12),0)","v":1.3849430912913212},{"$f":"IFERROR(dispersió!$I$10*((dispersió!$J$39+'Càlculs interns'!P207)^dispersió!$J$10)*(2*LN('Càlculs interns'!Q207/dispersió!$O$60))^(1/2),0)","v":2.5486325382781665},-2.5486325382781665]
[233.06091461789327,{"$f":"IFERROR((letalitat!$P$10*1000)/((3.14159*dispersió!$I$10*((dispersió!$J$39+A208)^dispersió!$J$10)*dispersió!$K$10*((dispersió!$K$39+A208)^dispersió!$L$10)+dispersió!$C$24*dispersió!$D$39)*dispersió!$I$12),0)","v":0.3682379903176593},{"$f":"IFERROR(dispersió!$I$10*((dispersió!$J$39+'Càlculs interns'!A208)^dispersió!$J$10)*(2*LN('Càlculs interns'!B208/dispersió!$O$39))^(1/2),0)","v":8.1435922639076139},-8.1435922639076139,null,176.5545983253248,{"$f":"IFERROR((letalitat!$P$10*1000)/((3.14159*dispersió!$I$10*((dispersió!$J$39+F208)^dispersió!$J$10)*dispersió!$K$10*((dispersió!$K$39+F208)^dispersió!$L$10)+dispersió!$C$24*dispersió!$D$39)*dispersió!$I$12),0)","v":0.50543549791876996},{"$f":"IFERROR(dispersió!$I$10*((dispersió!$J$39+'Càlculs interns'!F208)^dispersió!$J$10)*(2*LN('Càlculs interns'!G208/dispersió!$O$46))^(1/2),0)","v":6.3514552236720023},-6.3514552236720023,null,123.99205168428539,{"$f":"IFERROR((letalitat!$P$10*1000)/((3.14159*dispersió!$I$10*((dispersió!$J$39+K208)^dispersió!$J$10)*dispersió!$K$10*((dispersió!$K$39+K208)^dispersió!$L$10)+dispersió!$C$24*dispersió!$D$39)*dispersió!$I$12),0)","v":0.72776466579936083},{"$f":"IFERROR(dispersió!$I$10*((dispersió!$J$39+'Càlculs interns'!K208)^dispersió!$J$10)*(2*LN('Càlculs interns'!L208/dispersió!$O$53))^(1/2),0)","v":4.6429556088613513},-4.6429556088613513,null,58.51217954671948,{"$f":"IFERROR((letalitat!$P$10*1000)/((3.14159*dispersió!$I$10*((dispersió!$J$39+P208)^dispersió!$J$10)*dispersió!$K$10*((dispersió!$K$39+P208)^dispersió!$L$10)+dispersió!$C$24*dispersió!$D$39)*dispersió!$I$12),0)","v":1.3449099662226114},{"$f":"IFERROR(dispersió!$I$10*((dispersió!$J$39+'Càlculs interns'!P208)^dispersió!$J$10)*(2*LN('Càlculs interns'!Q208/dispersió!$O$60))^(1/2),0)","v":2.4324474340987217},-2.4324474340987217]
[243.1939978621495,{"$f":"IFERROR((letalitat!$P$10*1000)/((3.14159*dispersió!$I$10*((dispersió!$J$39+A209)^dispersió!$J$10)*dispersió!$K$10*((dispersió!$K$39+A209)^dispersió!$L$10)+dispersió!$C$24*dispersió!$D$39)*dispersió!$I$12),0)","v":0.35004063715226752},{"$f":"IFERROR(dispersió!$I$10*((dispersió!$J$39+'Càlculs interns'!A209)^dispersió!$J$10)*(2*LN('Càlculs interns'!B209/dispersió!$O$39))^(1/2),0)","v":7.7348783766643754},-7.7348783766643754,null,184.23088520903457,{"$f":"IFERROR((letalitat!$P$10*1000)/((3.14159*dispersió!$I$10*((dispersió!$J$39+F209)^dispersió!$J$10)*dispersió!$K$10*((dispersió!$K$39+F209)^dispersió!$L$10)+dispersió!$C$24*dispersió!$D$39)*dispersió!$I$12),0)","v":0.48227759097636186},{"$f":"IFERROR(dispersió!$I$10*((dispersió!$J$39+'Càlculs interns'!F209)^dispersió!$J$10)*(2*LN('Càlculs interns'!G209/dispersió!$O$46))^(1/2),0)","v":6.02780344580668},-6.02780344580668,null,129.38301045316737,{"$f":"IFERROR((letalitat!$P$10*1000)/((3.14159*dispersió!$I$10*((dispersió!$J$39+K209)^dispersió!$J$10)*dispersió!$K$10*((dispersió!$K$39+K209)^dispersió!$L$10)+dispersió!$C$24*dispersió!$D$39)*dispersió!$I$12),0)","v":0.69821037637143879},{"$f":"IFERROR(dispersió!$I$10*((dispersió!$J$39+'Càlculs interns'!K209)^dispersió!$J$10)*(2*LN('Càlculs interns'!L209/dispersió!$O$53))^(1/2),0)","v":4.4008474655226459},-4.4008474655226459,null,61.056187353098586,{"$f":"IFERROR((letalitat!$P$10*1000)/((3.14159*dispersió!$I$10*((dispersió!$J$39+P209)^dispersió!$J$10)*dispersió!$K$10*((dispersió!$K$39+P209)^dispersió!$L$10)+dispersió!$C$24*dispersió!$D$39)*dispersió!$I$12),0)","v":1.306721003629588},{"$f":"IFERROR(dispersió!$I$10*((dispersió!$J$39+'Càlculs interns'!P209)^dispersió!$J$10)*(2*LN('Càlculs interns'!Q209/dispersió!$O$60))^(1/2),0)","v":2.2963537571250123},-2.2963537571250123]
[253.32708110640573,{"$f":"IFERROR((letalitat!$P$10*1000)/((3.14159*dispersió!$I$10*((dispersió!$J$39+A210)^dispersió!$J$10)*dispersió!$K$10*((dispersió!$K$39+A210)^dispersió!$L$10)+dispersió!$C$24*dispersió!$D$39)*dispersió!$I$12),0)","v":0.33326415474671439},{"$f":"IFERROR(dispersió!$I$10*((dispersió!$J$39+'Càlculs interns'!A210)^dispersió!$J$10)*(2*LN('Càlculs interns'!B210/dispersió!$O$39))^(1/2),0)","v":7.2366068527902909},-7.2366068527902909,null,191.90717209274433,{"$f":"IFERROR((letalitat!$P$10*1000)/((3.14159*dispersió!$I$10*((dispersió!$J$39+F210)^dispersió!$J$10)*dispersió!$K$10*((dispersió!$K$39+F210)^dispersió!$L$10)+dispersió!$C$24*dispersió!$D$39)*dispersió!$I$12),0)","v":0.46079824243064477},{"$f":"IFERROR(dispersió!$I$10*((dispersió!$J$39+'Càlculs interns'!F210)^dispersió!$J$10)*(2*LN('Càlculs interns'!G210/dispersió!$O$46))^(1/2),0)","v":5.6351937696463725},-5.6351937696463725,null,134.77396922204935,{"$f":"IFERROR((letalitat!$P$10*1000)/((3.14159*dispersió!$I$10*((dispersió!$J$39+K210)^dispersió!$J$10)*dispersió!$K$10*((dispersió!$K$39+K210)^dispersió!$L$10)+dispersió!$C$24*dispersió!$D$39)*dispersió!$I$12),0)","v":0.67055845564533834},{"$f":"IFERROR(dispersió!$I$10*((dispersió!$J$39+'Càlculs interns'!K210)^dispersió!$J$10)*(2*LN('Càlculs interns'!L210/dispersió!$O$53))^(1/2),0)","v":4.1095066615905758},-4.1095066615905758,null,63.600195159477693,{"$f":"IFERROR((letalitat!$P$10*1000)/((3.14159*dispersió!$I$10*((dispersió!$J$39+P210)^dispersió!$J$10)*dispersió!$K$10*((dispersió!$K$39+P210)^dispersió!$L$10)+dispersió!$C$24*dispersió!$D$39)*dispersió!$I$12),0)","v":1.2702607513079365},{"$f":"IFERROR(dispersió!$I$10*((dispersió!$J$39+'Càlculs interns'!P210)^dispersió!$J$10)*(2*LN('Càlculs interns'!Q210/dispersió!$O$60))^(1/2),0)","v":2.1363008337316258},-2.1363008337316258]
[263.46016435066196,{"$f":"IFERROR((letalitat!$P$10*1000)/((3.14159*dispersió!$I$10*((dispersió!$J$39+A211)^dispersió!$J$10)*dispersió!$K$10*((dispersió!$K$39+A211)^dispersió!$L$10)+dispersió!$C$24*dispersió!$D$39)*dispersió!$I$12),0)","v":0.31775943275207885},{"$f":"IFERROR(dispersió!$I$10*((dispersió!$J$39+'Càlculs interns'!A211)^dispersió!$J$10)*(2*LN('Càlculs interns'!B211/dispersió!$O$39))^(1/2),0)","v":6.6273317299959356},-6.6273317299959356,null,199.5834589764541,{"$f":"IFERROR((letalitat!$P$10*1000)/((3.14159*dispersió!$I$10*((dispersió!$J$39+F211)^dispersió!$J$10)*dispersió!$K$10*((dispersió!$K$39+F211)^dispersió!$L$10)+dispersió!$C$24*dispersió!$D$39)*dispersió!$I$12),0)","v":0.44083368365630071},{"$f":"IFERROR(dispersió!$I$10*((dispersió!$J$39+'Càlculs interns'!F211)^dispersió!$J$10)*(2*LN('Càlculs interns'!G211/dispersió!$O$46))^(1/2),0)","v":5.1569376660654518},-5.1569376660654518,null,140.16492799093132,{"$f":"IFERROR((letalitat!$P$10*1000)/((3.14159*dispersió!$I$10*((dispersió!$J$39+K211)^dispersió!$J$10)*dispersió!$K$10*((dispersió!$K$39+K211)^dispersió!$L$10)+dispersió!$C$24*dispersió!$D$39)*dispersió!$I$12),0)","v":0.64464368227471491},{"$f":"IFERROR(dispersió!$I$10*((dispersió!$J$39+'Càlculs interns'!K211)^dispersió!$J$10)*(2*LN('Càlculs interns'!L211/dispersió!$O$53))^(1/2),0)","v":3.7568373643311457},-3.7568373643311457,null,66.144202965856806,{"$f":"IFERROR((letalitat!$P$10*1000)/((3.14159*dispersió!$I$10*((dispersió!$J$39+P211)^dispersió!$J$10)*dispersió!$K$10*((dispersió!$K$39+P211)^dispersió!$L$10)+dispersió!$C$24*dispersió!$D$39)*dispersió!$I$12),0)","v":1.2354228410078356},{"$f":"IFERROR(dispersió!$I$10*((dispersió!$J$39+'Càlculs interns'!P211)^dispersió!$J$10)*(2*LN('Càlculs interns'!Q211/dispersió!$O$60))^(1/2),0)","v":1.9461231056023949},-1.9461231056023949]
[273.59324759491818,{"$f":"IFERROR((letalitat!$P$10*1000)/((3.14159*dispersió!$I$10*((dispersió!$J$39+A212)^dispersió!$J$10)*dispersió!$K$10*((dispersió!$K$39+A212)^dispersió!$L$10)+dispersió!$C$24*dispersió!$D$39)*dispersió!$I$12),0)","v":0.30339677585894459},{"$f":"IFERROR(dispersió!$I$10*((dispersió!$J$39+'Càlculs interns'!A212)^dispersió!$J$10)*(2*LN('Càlculs interns'!B212/dispersió!$O$39))^(1/2),0)","v":5.871233399214753},-5.871233399214753,null,207.25974586016386,{"$f":"IFERROR((letalitat!$P$10*1000)/((3.14159*dispersió!$I$10*((dispersió!$J$39+F212)^dispersió!$J$10)*dispersió!$K$10*((dispersió!$K$39+F212)^dispersió!$L$10)+dispersió!$C$24*dispersió!$D$39)*dispersió!$I$12),0)","v":0.42224000299167019},{"$f":"IFERROR(dispersió!$I$10*((dispersió!$J$39+'Càlculs interns'!F212)^dispersió!$J$10)*(2*LN('Càlculs interns'!G212/dispersió!$O$46))^(1/2),0)","v":4.5651657096330585},-4.5651657096330585,null,145.55588675981329,{"$f":"IFERROR((letalitat!$P$10*1000)/((3.14159*dispersió!$I$10*((dispersió!$J$39+K212)^dispersió!$J$10)*dispersió!$K$10*((dispersió!$K$39+K212)^dispersió!$L$10)+dispersió!$C$24*dispersió!$D$39)*dispersió!$I$12),0)","v":0.6203187156287131},{"$f":"IFERROR(dispersió!$I$10*((dispersió!$J$39+'Càlculs interns'!K212)^dispersió!$J$10)*(2*LN('Càlculs interns'!L212/dispersió!$O$53))^(1/2),0)","v":3.3226592278383515},-3.3226592278383515,null,68.688210772235919,{"$f":"IFERROR((letalitat!$P$10*1000)/((3.14159*dispersió!$I$10*((dispersió!$J$39+P212)^dispersió!$J$10)*dispersió!$K$10*((dispersió!$K$39+P212)^dispersió!$L$10)+dispersió!$C$24*dispersió!$D$39)*dispersió!$I$12),0)","v":1.2021091306994482},{"$f":"IFERROR(dispersió!$I$10*((dispersió!$J$39+'Càlculs interns'!P212)^dispersió!$J$10)*(2*LN('Càlculs interns'!Q212/dispersió!$O$60))^(1/2),0)","v":1.7155442095710782},-1.7155442095710782]
[283.72633083917441,{"$f":"IFERROR((letalitat!$P$10*1000)/((3.14159*dispersió!$I$10*((dispersió!$J$39+A213)^dispersió!$J$10)*dispersió!$K$10*((dispersió!$K$39+A213)^dispersió!$L$10)+dispersió!$C$24*dispersió!$D$39)*dispersió!$I$12),0)","v":0.29006291324607003},{"$f":"IFERROR(dispersió!$I$10*((dispersió!$J$39+'Càlculs interns'!A213)^dispersió!$J$10)*(2*LN('Càlculs interns'!B213/dispersió!$O$39))^(1/2),0)","v":4.8992594906189639},-4.8992594906189639,null,214.93603274387362,{"$f":"IFERROR((letalitat!$P$10*1000)/((3.14159*dispersió!$I$10*((dispersió!$J$39+F213)^dispersió!$J$10)*dispersió!$K$10*((dispersió!$K$39+F213)^dispersió!$L$10)+dispersió!$C$24*dispersió!$D$39)*dispersió!$I$12),0)","v":0.40489029260830123},{"$f":"IFERROR(dispersió!$I$10*((dispersió!$J$39+'Càlculs interns'!F213)^dispersió!$J$10)*(2*LN('Càlculs interns'!G213/dispersió!$O$46))^(1/2),0)","v":3.8061253474368009},-3.8061253474368009,null,150.94684552869526,{"$f":"IFERROR((letalitat!$P$10*1000)/((3.14159*dispersió!$I$10*((dispersió!$J$39+K213)^dispersió!$J$10)*dispersió!$K$10*((dispersió!$K$39+K213)^dispersió!$L$10)+dispersió!$C$24*dispersió!$D$39)*dispersió!$I$12),0)","v":0.59745179610233401},{"$f":"IFERROR(dispersió!$I$10*((dispersió!$J$39+'Càlculs interns'!K213)^dispersió!$J$10)*(2*LN('Càlculs interns'!L213/dispersió!$O$53))^(1/2),0)","v":2.7680733285002304},-2.7680733285002304,null,71.232218578615033,{"$f":"IFERROR((letalitat!$P$10*1000)/((3.14159*dispersió!$I$10*((dispersió!$J$39+P213)^dispersió!$J$10)*dispersió!$K$10*((dispersió!$K$39+P213)^dispersió!$L$10)+dispersió!$C$24*dispersió!$D$39)*dispersió!$I$12),0)","v":1.1702289411316944},{"$f":"IFERROR(dispersió!$I$10*((dispersió!$J$39+'Càlculs interns'!P213)^dispersió!$J$10)*(2*LN('Càlculs interns'!Q213/dispersió!$O$60))^(1/2),0)","v":1.424751321500388},-1.424751321500388]
[293.85941408343064,{"$f":"IFERROR((letalitat!$P$10*1000)/((3.14159*dispersió!$I$10*((dispersió!$J$39+A214)^dispersió!$J$10)*dispersió!$K$10*((dispersió!$K$39+A214)^dispersió!$L$10)+dispersió!$C$24*dispersió!$D$39)*dispersió!$I$12),0)","v":0.27765853603876078},{"$f":"IFERROR(dispersió!$I$10*((dispersió!$J$39+'Càlculs interns'!A214)^dispersió!$J$10)*(2*LN('Càlculs interns'!B214/dispersió!$O$39))^(1/2),0)","v":3.5356819458230895},-3.5356819458230895,null,222.61231962758339,{"$f":"IFERROR((letalitat!$P$10*1000)/((3.14159*dispersió!$I$10*((dispersió!$J$39+F214)^dispersió!$J$10)*dispersió!$K$10*((dispersió!$K$39+F214)^dispersió!$L$10)+dispersió!$C$24*dispersió!$D$39)*dispersió!$I$12),0)","v":0.38867226610936068},{"$f":"IFERROR(dispersió!$I$10*((dispersió!$J$39+'Càlculs interns'!F214)^dispersió!$J$10)*(2*LN('Càlculs interns'!G214/dispersió!$O$46))^(1/2),0)","v":2.7428029484201248},-2.7428029484201248,null,156.33780429757724,{"$f":"IFERROR((letalitat!$P$10*1000)/((3.14159*dispersió!$I$10*((dispersió!$J$39+K214)^dispersió!$J$10)*dispersió!$K$10*((dispersió!$K$39+K214)^dispersió!$L$10)+dispersió!$C$24*dispersió!$D$39)*dispersió!$I$12),0)","v":0.5759247860628528},{"$f":"IFERROR(dispersió!$I$10*((dispersió!$J$39+'Càlculs interns'!K214)^dispersió!$J$10)*(2*LN('Càlculs interns'!L214/dispersió!$O$53))^(1/2),0)","v":1.9939895923067779},-1.9939895923067779,null,73.776226384994146,{"$f":"IFERROR((letalitat!$P$10*1000)/((3.14159*dispersió!$I$10*((dispersió!$J$39+P214)^dispersió!$J$10)*dispersió!$K$10*((dispersió!$K$39+P214)^dispersió!$L$10)+dispersió!$C$24*dispersió!$D$39)*dispersió!$I$12),0)","v":1.1396983748694871},{"$f":"IFERROR(dispersió!$I$10*((dispersió!$J$39+'Càlculs interns'!P214)^dispersió!$J$10)*(2*LN('Càlculs interns'!Q214/dispersió!$O$60))^(1/2),0)","v":1.023203844271358},-1.023203844271358]
[{"$f":"dispersió!L39","v":303.99249732768698},{"$f":"IFERROR((letalitat!$P$10*1000)/((3.14159*dispersió!$I$10*((dispersió!$J$39+A215)^dispersió!$J$10)*dispersió!$K$10*((dispersió!$K$39+A215)^dispersió!$L$10)+dispersió!$C$24*dispersió!$D$39)*dispersió!$I$12),0)","v":0.26609625828299038},{"$f":"IFERROR(dispersió!$I$10*((dispersió!$J$39+'Càlculs interns'!A215)^dispersió!$J$10)*(2*LN('Càlculs interns'!B215/dispersió!$O$39))^(1/2),0)","v":0},0,null,{"$f":"dispersió!L46","v":230.2886065112933},{"$f":"IFERROR((letalitat!$P$10*1000)/((3.14159*dispersió!$I$10*((dispersió!$J$39+F215)^dispersió!$J$10)*dispersió!$K$10*((dispersió!$K$39+F215)^dispersió!$L$10)+dispersió!$C$24*dispersió!$D$39)*dispersió!$I$12),0)","v":0.37348625964996501},{"$f":"IFERROR(dispersió!$I$10*((dispersió!$J$39+'Càlculs interns'!F215)^dispersió!$J$10)*(2*LN('Càlculs interns'!G215/dispersió!$O$46))^(1/2),0)","v":0},0,null,{"$f":"dispersió!L53","v":161.72876306645927},{"$f":"IFERROR((letalitat!$P$10*1000)/((3.14159*dispersió!$I$10*((dispersió!$J$39+K215)^dispersió!$J$10)*dispersió!$K$10*((dispersió!$K$39+K215)^dispersió!$L$10)+dispersió!$C$24*dispersió!$D$39)*dispersió!$I$12),0)","v":0.55563149460145078},{"$f":"IFERROR(dispersió!$I$10*((dispersió!$J$39+'Càlculs interns'!K215)^dispersió!$J$10)*(2*LN('Càlculs interns'!L215/dispersió!$O$53))^(1/2),0)","v":0},0,null,{"$f":"dispersió!L60","v":76.32023419137326},{"$f":"IFERROR((letalitat!$P$10*1000)/((3.14159*dispersió!$I$10*((dispersió!$J$39+P215)^dispersió!$J$10)*dispersió!$K$10*((dispersió!$K$39+P215)^dispersió!$L$10)+dispersió!$C$24*dispersió!$D$39)*dispersió!$I$12),0)","v":1.1104397076556065},{"$f":"IFERROR(dispersió!$I$10*((dispersió!$J$39+'Càlculs interns'!P215)^dispersió!$J$10)*(2*LN('Càlculs interns'!Q215/dispersió!$O$60))^(1/2),0)","v":0},0]
[]
["Area 100m2"]
["Est. D"]
["LC1",null,"LC1+","LC1-",null,"LC10",null,"LC10+","LC10-",null,"LC50",null,"LC50+","LC50-",null,"LC99",null,"LC99+","LC99-"]
["X","C(x)","y+","y-",null,"X","C(x)","y+","y-",null,"X","C(x)","y+","y-",null,"X","C(x)","y+","y-"]
[0,{"$f":"IFERROR((letalitat!$P$11*1000)/((3.14159*dispersió!$C$10*((dispersió!$E$40+A221)^dispersió!$D$10)*dispersió!$E$10*((dispersió!$F$40+A221)^dispersió!$F$10)+dispersió!$C$24*dispersió!$D$40)*dispersió!$C$12),0)","v":1.4682293879152208},{"$f":"IFERROR(dispersió!$C$10*((dispersió!$E$40+'Càlculs interns'!A221)^dispersió!$D$10)*(2*LN('Càlculs interns'!B221/dispersió!$O$39))^(1/2),0)","v":4.2979884669596462},{"$f":"-C221","v":-4.2979884669596462},null,0,{"$f":"IFERROR((letalitat!$P$11*1000)/((3.14159*dispersió!$C$10*((dispersió!$E$40+F221)^dispersió!$D$10)*dispersió!$E$10*((dispersió!$F$40+F221)^dispersió!$F$10)+dispersió!$C$24*dispersió!$D$40)*dispersió!$C$12),0)","v":1.4682293879152208},{"$f":"IFERROR(dispersió!$C$10*((dispersió!$E$40+'Càlculs interns'!F221)^dispersió!$D$10)*(2*LN('Càlculs interns'!G221/dispersió!$O$46))^(1/2),0)","v":3.8476113047464224},{"$f":"-H221","v":-3.8476113047464224},null,0,{"$f":"IFERROR((letalitat!$P$11*1000)/((3.14159*dispersió!$C$10*((dispersió!$E$40+K221)^dispersió!$D$10)*dispersió!$E$10*((dispersió!$F$40+K221)^dispersió!$F$10)+dispersió!$C$24*dispersió!$D$40)*dispersió!$C$12),0)","v":1.4682293879152208},{"$f":"IFERROR(dispersió!$C$10*((dispersió!$E$40+'Càlculs interns'!K221)^dispersió!$D$10)*(2*LN('Càlculs interns'!L221/dispersió!$O$54))^(1/2),0)","v":3.2416846866686289},{"$f":"-M221","v":-3.2416846866686289},null,0,{"$f":"IFERROR((letalitat!$P$11*1000)/((3.14159*dispersió!$C$10*((dispersió!$E$40+P221)^dispersió!$D$10)*dispersió!$E$10*((dispersió!$F$40+P221)^dispersió!$F$10)+dispersió!$C$24*dispersió!$D$40)*dispersió!$C$12),0)","v":1.4682293879152208},{"$f":"IFERROR(dispersió!$C$10*((dispersió!$E$40+'Càlculs interns'!P221)^dispersió!$D$10)*(2*LN('Càlculs interns'!Q221/dispersió!$O$61))^(1/2),0)","v":1.7376378156025936},{"$f":"-R221","v":-1.7376378156025936}]
[{"$f":"A251/30","v":2.3406096819593971},{"$f":"IFERROR((letalitat!$P$11*1000)/((3.14159*dispersió!$C$10*((dispersió!$E$40+A222)^dispersió!$D$10)*dispersió!$E$10*((dispersió!$F$40+A222)^dispersió!$F$10)+dispersió!$C$24*dispersió!$D$40)*dispersió!$C$12),0)","v":1.3451784055378506},{"$f":"IFERROR(dispersió!$C$10*((dispersió!$E$40+'Càlculs interns'!A222)^dispersió!$D$10)*(2*LN('Càlculs interns'!B222/dispersió!$O$39))^(1/2),0)","v":4.5448254566197157},-4.5448254566197157,null,{"$f":"F251/30","v":1.6913479838076253},{"$f":"IFERROR((letalitat!$P$11*1000)/((3.14159*dispersió!$C$10*((dispersió!$E$40+F222)^dispersió!$D$10)*dispersió!$E$10*((dispersió!$F$40+F222)^dispersió!$F$10)+dispersió!$C$24*dispersió!$D$40)*dispersió!$C$12),0)","v":1.3778208541203596},{"$f":"IFERROR(dispersió!$C$10*((dispersió!$E$40+'Càlculs interns'!F222)^dispersió!$D$10)*(2*LN('Càlculs interns'!G222/dispersió!$O$46))^(1/2),0)","v":3.9899433581961752},{"$f":"-H222","v":-3.9899433581961752},null,{"$f":"K251/30","v":1.0721054675370973},{"$f":"IFERROR((letalitat!$P$11*1000)/((3.14159*dispersió!$C$10*((dispersió!$E$40+K222)^dispersió!$D$10)*dispersió!$E$10*((dispersió!$F$40+K222)^dispersió!$F$10)+dispersió!$C$24*dispersió!$D$40)*dispersió!$C$12),0)","v":1.4099978461768485},{"$f":"IFERROR(dispersió!$C$10*((dispersió!$E$40+'Càlculs interns'!K222)^dispersió!$D$10)*(2*LN('Càlculs interns'!L222/dispersió!$O$54))^(1/2),0)","v":3.2981925943749766},{"$f":"-M222","v":-3.2981925943749766},null,{"$f":"P251/30","v":0.25930654502636047},{"$f":"IFERROR((letalitat!$P$11*1000)/((3.14159*dispersió!$C$10*((dispersió!$E$40+P222)^dispersió!$D$10)*dispersió!$E$10*((dispersió!$F$40+P222)^dispersió!$F$10)+dispersió!$C$24*dispersió!$D$40)*dispersió!$C$12),0)","v":1.4538436087725868},{"$f":"IFERROR(dispersió!$C$10*((dispersió!$E$40+'Càlculs interns'!P222)^dispersió!$D$10)*(2*LN('Càlculs interns'!Q222/dispersió!$O$61))^(1/2),0)","v":1.7229677001365356},{"$f":"-R222","v":-1.7229677001365356}]
[{"$f":"A$222+A222","v":4.6812193639187942},{"$f":"IFERROR((letalitat!$P$11*1000)/((3.14159*dispersió!$C$10*((dispersió!$E$40+A223)^dispersió!$D$10)*dispersió!$E$10*((dispersió!$F$40+A223)^dispersió!$F$10)+dispersió!$C$24*dispersió!$D$40)*dispersió!$C$12),0)","v":1.2361640545059551},{"$f":"IFERROR(dispersió!$C$10*((dispersió!$E$40+'Càlculs interns'!A223)^dispersió!$D$10)*(2*LN('Càlculs interns'!B223/dispersió!$O$39))^(1/2),0)","v":4.7707959602984422},-4.7707959602984422,null,{"$f":"F$222+F222","v":3.3826959676152506},{"$f":"IFERROR((letalitat!$P$11*1000)/((3.14159*dispersió!$C$10*((dispersió!$E$40+F223)^dispersió!$D$10)*dispersió!$E$10*((dispersió!$F$40+F223)^dispersió!$F$10)+dispersió!$C$24*dispersió!$D$40)*dispersió!$C$12),0)","v":1.2950239135460422},{"$f":"IFERROR(dispersió!$C$10*((dispersió!$E$40+'Càlculs interns'!F223)^dispersió!$D$10)*(2*LN('Càlculs interns'!G223/dispersió!$O$46))^(1/2),0)","v":4.1198083953626323},-4.1198083953626323,null,{"$f":"K$222+K222","v":2.1442109350741947},{"$f":"IFERROR((letalitat!$P$11*1000)/((3.14159*dispersió!$C$10*((dispersió!$E$40+K223)^dispersió!$D$10)*dispersió!$E$10*((dispersió!$F$40+K223)^dispersió!$F$10)+dispersió!$C$24*dispersió!$D$40)*dispersió!$C$12),0)","v":1.354936895238833},{"$f":"IFERROR(dispersió!$C$10*((dispersió!$E$40+'Càlculs interns'!K223)^dispersió!$D$10)*(2*LN('Càlculs interns'!L223/dispersió!$O$54))^(1/2),0)","v":3.348430183174834},-3.348430183174834,null,{"$f":"P$222+P222","v":0.51861309005272094},{"$f":"IFERROR((letalitat!$P$11*1000)/((3.14159*dispersió!$C$10*((dispersió!$E$40+P223)^dispersió!$D$10)*dispersió!$E$10*((dispersió!$F$40+P223)^dispersió!$F$10)+dispersió!$C$24*dispersió!$D$40)*dispersió!$C$12),0)","v":1.4396522770068358},{"$f":"IFERROR(dispersió!$C$10*((dispersió!$E$40+'Càlculs interns'!P223)^dispersió!$D$10)*(2*LN('Càlculs interns'!Q223/dispersió!$O$61))^(1/2),0)","v":1.7072336521757727},-1.7072336521757727]
[{"$f":"A$222+A223","v":7.0218290458781913},{"$f":"IFERROR((letalitat!$P$11*1000)/((3.14159*dispersió!$C$10*((dispersió!$E$40+A224)^dispersió!$D$10)*dispersió!$E$10*((dispersió!$F$40+A224)^dispersió!$F$10)+dispersió!$C$24*dispersió!$D$40)*dispersió!$C$12),0)","v":1.1393553222791233},{"$f":"IFERROR(dispersió!$C$10*((dispersió!$E$40+'Càlculs interns'!A224)^dispersió!$D$10)*(2*LN('Càlculs interns'!B224/dispersió!$O$39))^(1/2),0)","v":4.9766261789289308},-4.9766261789289308,null,{"$f":"F$222+F223","v":5.0740439514228761},{"$f":"IFERROR((letalitat!$P$11*1000)/((3.14159*dispersió!$C$10*((dispersió!$E$40+F224)^dispersió!$D$10)*dispersió!$E$10*((dispersió!$F$40+F224)^dispersió!$F$10)+dispersió!$C$24*dispersió!$D$40)*dispersió!$C$12),0)","v":1.2191106106922849},{"$f":"IFERROR(dispersió!$C$10*((dispersió!$E$40+'Càlculs interns'!F224)^dispersió!$D$10)*(2*LN('Càlculs interns'!G224/dispersió!$O$46))^(1/2),0)","v":4.237401263885153},-4.237401263885153,null,{"$f":"K$222+K223","v":3.2163164026112918},{"$f":"IFERROR((letalitat!$P$11*1000)/((3.14159*dispersió!$C$10*((dispersió!$E$40+K224)^dispersió!$D$10)*dispersió!$E$10*((dispersió!$F$40+K224)^dispersió!$F$10)+dispersió!$C$24*dispersió!$D$40)*dispersió!$C$12),0)","v":1.3028521399161295},{"$f":"IFERROR(dispersió!$C$10*((dispersió!$E$40+'Càlculs interns'!K224)^dispersió!$D$10)*(2*LN('Càlculs interns'!L224/dispersió!$O$54))^(1/2),0)","v":3.392371393193677},-3.392371393193677,null,{"$f":"P$222+P223","v":0.77791963507908135},{"$f":"IFERROR((letalitat!$P$11*1000)/((3.14159*dispersió!$C$10*((dispersió!$E$40+P224)^dispersió!$D$10)*dispersió!$E$10*((dispersió!$F$40+P224)^dispersió!$F$10)+dispersió!$C$24*dispersió!$D$40)*dispersió!$C$12),0)","v":1.4256524805725104},{"$f":"IFERROR(dispersió!$C$10*((dispersió!$E$40+'Càlculs interns'!P224)^dispersió!$D$10)*(2*LN('Càlculs interns'!Q224/dispersió!$O$61))^(1/2),0)","v":1.6903974092601937},-1.6903974092601937]
[9.3624387278375885,{"$f":"IFERROR((letalitat!$P$11*1000)/((3.14159*dispersió!$C$10*((dispersió!$E$40+A225)^dispersió!$D$10)*dispersió!$E$10*((dispersió!$F$40+A225)^dispersió!$F$10)+dispersió!$C$24*dispersió!$D$40)*dispersió!$C$12),0)","v":1.0531523569128205},{"$f":"IFERROR(dispersió!$C$10*((dispersió!$E$40+'Càlculs interns'!A225)^dispersió!$D$10)*(2*LN('Càlculs interns'!B225/dispersió!$O$39))^(1/2),0)","v":5.1629141274534485},-5.1629141274534485,null,6.7653919352305012,{"$f":"IFERROR((letalitat!$P$11*1000)/((3.14159*dispersió!$C$10*((dispersió!$E$40+F225)^dispersió!$D$10)*dispersió!$E$10*((dispersió!$F$40+F225)^dispersió!$F$10)+dispersió!$C$24*dispersió!$D$40)*dispersió!$C$12),0)","v":1.1494173960766259},{"$f":"IFERROR(dispersió!$C$10*((dispersió!$E$40+'Càlculs interns'!F225)^dispersió!$D$10)*(2*LN('Càlculs interns'!G225/dispersió!$O$46))^(1/2),0)","v":4.3428699954093783},-4.3428699954093783,null,4.2884218701483894,{"$f":"IFERROR((letalitat!$P$11*1000)/((3.14159*dispersió!$C$10*((dispersió!$E$40+K225)^dispersió!$D$10)*dispersió!$E$10*((dispersió!$F$40+K225)^dispersió!$F$10)+dispersió!$C$24*dispersió!$D$40)*dispersió!$C$12),0)","v":1.2535595495650038},{"$f":"IFERROR(dispersió!$C$10*((dispersió!$E$40+'Càlculs interns'!K225)^dispersió!$D$10)*(2*LN('Càlculs interns'!L225/dispersió!$O$54))^(1/2),0)","v":3.4299741525545819},-3.4299741525545819,null,1.0372261801054419,{"$f":"IFERROR((letalitat!$P$11*1000)/((3.14159*dispersió!$C$10*((dispersió!$E$40+P225)^dispersió!$D$10)*dispersió!$E$10*((dispersió!$F$40+P225)^dispersió!$F$10)+dispersió!$C$24*dispersió!$D$40)*dispersió!$C$12),0)","v":1.4118413407608639},{"$f":"IFERROR(dispersió!$C$10*((dispersió!$E$40+'Càlculs interns'!P225)^dispersió!$D$10)*(2*LN('Càlculs interns'!Q225/dispersió!$O$61))^(1/2),0)","v":1.6724171673354626},-1.6724171673354626]
[11.703048409796985,{"$f":"IFERROR((letalitat!$P$11*1000)/((3.14159*dispersió!$C$10*((dispersió!$E$40+A226)^dispersió!$D$10)*dispersió!$E$10*((dispersió!$F$40+A226)^dispersió!$F$10)+dispersió!$C$24*dispersió!$D$40)*dispersió!$C$12),0)","v":0.97617020221589368},{"$f":"IFERROR(dispersió!$C$10*((dispersió!$E$40+'Càlculs interns'!A226)^dispersió!$D$10)*(2*LN('Càlculs interns'!B226/dispersió!$O$39))^(1/2),0)","v":5.3301411783209085},-5.3301411783209085,null,8.4567399190381263,{"$f":"IFERROR((letalitat!$P$11*1000)/((3.14159*dispersió!$C$10*((dispersió!$E$40+F226)^dispersió!$D$10)*dispersió!$E$10*((dispersió!$F$40+F226)^dispersió!$F$10)+dispersió!$C$24*dispersió!$D$40)*dispersió!$C$12),0)","v":1.0853434734237637},{"$f":"IFERROR(dispersió!$C$10*((dispersió!$E$40+'Càlculs interns'!F226)^dispersió!$D$10)*(2*LN('Càlculs interns'!G226/dispersió!$O$46))^(1/2),0)","v":4.4363166428563634},-4.4363166428563634,null,5.3605273376854869,{"$f":"IFERROR((letalitat!$P$11*1000)/((3.14159*dispersió!$C$10*((dispersió!$E$40+K226)^dispersió!$D$10)*dispersió!$E$10*((dispersió!$F$40+K226)^dispersió!$F$10)+dispersió!$C$24*dispersió!$D$40)*dispersió!$C$12),0)","v":1.2068855453379506},{"$f":"IFERROR(dispersió!$C$10*((dispersió!$E$40+'Càlculs interns'!K226)^dispersió!$D$10)*(2*LN('Càlculs interns'!L226/dispersió!$O$54))^(1/2),0)","v":3.4611792500162455},-3.4611792500162455,null,1.2965327251318024,{"$f":"IFERROR((letalitat!$P$11*1000)/((3.14159*dispersió!$C$10*((dispersió!$E$40+P226)^dispersió!$D$10)*dispersió!$E$10*((dispersió!$F$40+P226)^dispersió!$F$10)+dispersió!$C$24*dispersió!$D$40)*dispersió!$C$12),0)","v":1.3982160127530556},{"$f":"IFERROR(dispersió!$C$10*((dispersió!$E$40+'Càlculs interns'!P226)^dispersió!$D$10)*(2*LN('Càlculs interns'!Q226/dispersió!$O$61))^(1/2),0)","v":1.6532471133124889},-1.6532471133124889]
[14.043658091756381,{"$f":"IFERROR((letalitat!$P$11*1000)/((3.14159*dispersió!$C$10*((dispersió!$E$40+A227)^dispersió!$D$10)*dispersió!$E$10*((dispersió!$F$40+A227)^dispersió!$F$10)+dispersió!$C$24*dispersió!$D$40)*dispersió!$C$12),0)","v":0.90721630506992901},{"$f":"IFERROR(dispersió!$C$10*((dispersió!$E$40+'Càlculs interns'!A227)^dispersió!$D$10)*(2*LN('Càlculs interns'!B227/dispersió!$O$39))^(1/2),0)","v":5.4786809431114856},-5.4786809431114856,null,10.148087902845752,{"$f":"IFERROR((letalitat!$P$11*1000)/((3.14159*dispersió!$C$10*((dispersió!$E$40+F227)^dispersió!$D$10)*dispersió!$E$10*((dispersió!$F$40+F227)^dispersió!$F$10)+dispersió!$C$24*dispersió!$D$40)*dispersió!$C$12),0)","v":1.0263473786111565},{"$f":"IFERROR(dispersió!$C$10*((dispersió!$E$40+'Càlculs interns'!F227)^dispersió!$D$10)*(2*LN('Càlculs interns'!G227/dispersió!$O$46))^(1/2),0)","v":4.5177974394357481},-4.5177974394357481,null,6.4326328052225845,{"$f":"IFERROR((letalitat!$P$11*1000)/((3.14159*dispersió!$C$10*((dispersió!$E$40+K227)^dispersió!$D$10)*dispersió!$E$10*((dispersió!$F$40+K227)^dispersió!$F$10)+dispersió!$C$24*dispersió!$D$40)*dispersió!$C$12),0)","v":1.1626668853662567},{"$f":"IFERROR(dispersió!$C$10*((dispersió!$E$40+'Càlculs interns'!K227)^dispersió!$D$10)*(2*LN('Càlculs interns'!L227/dispersió!$O$54))^(1/2),0)","v":3.4859089394980041},-3.4859089394980041,null,1.5558392701581629,{"$f":"IFERROR((letalitat!$P$11*1000)/((3.14159*dispersió!$C$10*((dispersió!$E$40+P227)^dispersió!$D$10)*dispersió!$E$10*((dispersió!$F$40+P227)^dispersió!$F$10)+dispersió!$C$24*dispersió!$D$40)*dispersió!$C$12),0)","v":1.384773686094144},{"$f":"IFERROR(dispersió!$C$10*((dispersió!$E$40+'Càlculs interns'!P227)^dispersió!$D$10)*(2*LN('Càlculs interns'!Q227/dispersió!$O$61))^(1/2),0)","v":1.6328368737277248},-1.6328368737277248]
[16.384267773715777,{"$f":"IFERROR((letalitat!$P$11*1000)/((3.14159*dispersió!$C$10*((dispersió!$E$40+A228)^dispersió!$D$10)*dispersió!$E$10*((dispersió!$F$40+A228)^dispersió!$F$10)+dispersió!$C$24*dispersió!$D$40)*dispersió!$C$12),0)","v":0.84526655460882616},{"$f":"IFERROR(dispersió!$C$10*((dispersió!$E$40+'Càlculs interns'!A228)^dispersió!$D$10)*(2*LN('Càlculs interns'!B228/dispersió!$O$39))^(1/2),0)","v":5.6088057433593104},-5.6088057433593104,null,11.839435886653378,{"$f":"IFERROR((letalitat!$P$11*1000)/((3.14159*dispersió!$C$10*((dispersió!$E$40+F228)^dispersió!$D$10)*dispersió!$E$10*((dispersió!$F$40+F228)^dispersió!$F$10)+dispersió!$C$24*dispersió!$D$40)*dispersió!$C$12),0)","v":0.97194263763841449},{"$f":"IFERROR(dispersió!$C$10*((dispersió!$E$40+'Càlculs interns'!F228)^dispersió!$D$10)*(2*LN('Càlculs interns'!G228/dispersió!$O$46))^(1/2),0)","v":4.5873222299339789},-4.5873222299339789,null,7.5047382727596821,{"$f":"IFERROR((letalitat!$P$11*1000)/((3.14159*dispersió!$C$10*((dispersió!$E$40+K228)^dispersió!$D$10)*dispersió!$E$10*((dispersió!$F$40+K228)^dispersió!$F$10)+dispersió!$C$24*dispersió!$D$40)*dispersió!$C$12),0)","v":1.1207504056401572},{"$f":"IFERROR(dispersió!$C$10*((dispersió!$E$40+'Càlculs interns'!K228)^dispersió!$D$10)*(2*LN('Càlculs interns'!L228/dispersió!$O$54))^(1/2),0)","v":3.5040652200933082},{"$f":"-M228","v":-3.5040652200933082},null,1.8151458151845234,{"$f":"IFERROR((letalitat!$P$11*1000)/((3.14159*dispersió!$C$10*((dispersió!$E$40+P228)^dispersió!$D$10)*dispersió!$E$10*((dispersió!$F$40+P228)^dispersió!$F$10)+dispersió!$C$24*dispersió!$D$40)*dispersió!$C$12),0)","v":1.3715115850931991},{"$f":"IFERROR(dispersió!$C$10*((dispersió!$E$40+'Càlculs interns'!P228)^dispersió!$D$10)*(2*LN('Càlculs interns'!Q228/dispersió!$O$61))^(1/2),0)","v":1.6111308602240333},{"$f":"-R228","v":-1.6111308602240333}]
[18.724877455675173,{"$f":"IFERROR((letalitat!$P$11*1000)/((3.14159*dispersió!$C$10*((dispersió!$E$40+A229)^dispersió!$D$10)*dispersió!$E$10*((dispersió!$F$40+A229)^dispersió!$F$10)+dispersió!$C$24*dispersió!$D$40)*dispersió!$C$12),0)","v":0.78944229199670402},{"$f":"IFERROR(dispersió!$C$10*((dispersió!$E$40+'Càlculs interns'!A229)^dispersió!$D$10)*(2*LN('Càlculs interns'!B229/dispersió!$O$39))^(1/2),0)","v":5.7206908143247217},{"$f":"-C229","v":-5.7206908143247217},null,13.530783870461004,{"$f":"IFERROR((letalitat!$P$11*1000)/((3.14159*dispersió!$C$10*((dispersió!$E$40+F229)^dispersió!$D$10)*dispersió!$E$10*((dispersió!$F$40+F229)^dispersió!$F$10)+dispersió!$C$24*dispersió!$D$40)*dispersió!$C$12),0)","v":0.92169304973962518},{"$f":"IFERROR(dispersió!$C$10*((dispersió!$E$40+'Càlculs interns'!F229)^dispersió!$D$10)*(2*LN('Càlculs interns'!G229/dispersió!$O$46))^(1/2),0)","v":4.6448530950271358},{"$f":"-H229","v":-4.6448530950271358},null,8.5768437402967788,{"$f":"IFERROR((letalitat!$P$11*1000)/((3.14159*dispersió!$C$10*((dispersió!$E$40+K229)^dispersió!$D$10)*dispersió!$E$10*((dispersió!$F$40+K229)^dispersió!$F$10)+dispersió!$C$24*dispersió!$D$40)*dispersió!$C$12),0)","v":1.0809926611258693},{"$f":"IFERROR(dispersió!$C$10*((dispersió!$E$40+'Càlculs interns'!K229)^dispersió!$D$10)*(2*LN('Càlculs interns'!L229/dispersió!$O$54))^(1/2),0)","v":3.5155277188669012},-3.5155277188669012,null,2.0744523602108838,{"$f":"IFERROR((letalitat!$P$11*1000)/((3.14159*dispersió!$C$10*((dispersió!$E$40+P229)^dispersió!$D$10)*dispersió!$E$10*((dispersió!$F$40+P229)^dispersió!$F$10)+dispersió!$C$24*dispersió!$D$40)*dispersió!$C$12),0)","v":1.358426969154553},{"$f":"IFERROR(dispersió!$C$10*((dispersió!$E$40+'Càlculs interns'!P229)^dispersió!$D$10)*(2*LN('Càlculs interns'!Q229/dispersió!$O$61))^(1/2),0)","v":1.5880674870874614},-1.5880674870874614]
[21.06548713763457,{"$f":"IFERROR((letalitat!$P$11*1000)/((3.14159*dispersió!$C$10*((dispersió!$E$40+A230)^dispersió!$D$10)*dispersió!$E$10*((dispersió!$F$40+A230)^dispersió!$F$10)+dispersió!$C$24*dispersió!$D$40)*dispersió!$C$12),0)","v":0.73898941048760647},{"$f":"IFERROR(dispersió!$C$10*((dispersió!$E$40+'Càlculs interns'!A230)^dispersió!$D$10)*(2*LN('Càlculs interns'!B230/dispersió!$O$39))^(1/2),0)","v":5.8144162933928181},-5.8144162933928181,null,15.22213185426863,{"$f":"IFERROR((letalitat!$P$11*1000)/((3.14159*dispersió!$C$10*((dispersió!$E$40+F230)^dispersió!$D$10)*dispersió!$E$10*((dispersió!$F$40+F230)^dispersió!$F$10)+dispersió!$C$24*dispersió!$D$40)*dispersió!$C$12),0)","v":0.87520793755838566},{"$f":"IFERROR(dispersió!$C$10*((dispersió!$E$40+'Càlculs interns'!F230)^dispersió!$D$10)*(2*LN('Càlculs interns'!G230/dispersió!$O$46))^(1/2),0)","v":4.6903020538900861},-4.6903020538900861,null,9.6489492078338763,{"$f":"IFERROR((letalitat!$P$11*1000)/((3.14159*dispersió!$C$10*((dispersió!$E$40+K230)^dispersió!$D$10)*dispersió!$E$10*((dispersió!$F$40+K230)^dispersió!$F$10)+dispersió!$C$24*dispersió!$D$40)*dispersió!$C$12),0)","v":1.0432595011894372},{"$f":"IFERROR(dispersió!$C$10*((dispersió!$E$40+'Càlculs interns'!K230)^dispersió!$D$10)*(2*LN('Càlculs interns'!L230/dispersió!$O$54))^(1/2),0)","v":3.5201510819710857},-3.5201510819710857,null,2.3337589052372443,{"$f":"IFERROR((letalitat!$P$11*1000)/((3.14159*dispersió!$C$10*((dispersió!$E$40+P230)^dispersió!$D$10)*dispersió!$E$10*((dispersió!$F$40+P230)^dispersió!$F$10)+dispersió!$C$24*dispersió!$D$40)*dispersió!$C$12),0)","v":1.3455171330449096},{"$f":"IFERROR(dispersió!$C$10*((dispersió!$E$40+'Càlculs interns'!P230)^dispersió!$D$10)*(2*LN('Càlculs interns'!Q230/dispersió!$O$61))^(1/2),0)","v":1.5635782287039313},-1.5635782287039313]
[23.406096819593966,{"$f":"IFERROR((letalitat!$P$11*1000)/((3.14159*dispersió!$C$10*((dispersió!$E$40+A231)^dispersió!$D$10)*dispersió!$E$10*((dispersió!$F$40+A231)^dispersió!$F$10)+dispersió!$C$24*dispersió!$D$40)*dispersió!$C$12),0)","v":0.69325993886429738},{"$f":"IFERROR(dispersió!$C$10*((dispersió!$E$40+'Càlculs interns'!A231)^dispersió!$D$10)*(2*LN('Càlculs interns'!B231/dispersió!$O$39))^(1/2),0)","v":5.8899669497425151},-5.8899669497425151,null,16.913479838076256,{"$f":"IFERROR((letalitat!$P$11*1000)/((3.14159*dispersió!$C$10*((dispersió!$E$40+F231)^dispersió!$D$10)*dispersió!$E$10*((dispersió!$F$40+F231)^dispersió!$F$10)+dispersió!$C$24*dispersió!$D$40)*dispersió!$C$12),0)","v":0.83213756958851093},{"$f":"IFERROR(dispersió!$C$10*((dispersió!$E$40+'Càlculs interns'!F231)^dispersió!$D$10)*(2*LN('Càlculs interns'!G231/dispersió!$O$46))^(1/2),0)","v":4.7235276845657044},-4.7235276845657044,null,10.721054675370974,{"$f":"IFERROR((letalitat!$P$11*1000)/((3.14159*dispersió!$C$10*((dispersió!$E$40+K231)^dispersió!$D$10)*dispersió!$E$10*((dispersió!$F$40+K231)^dispersió!$F$10)+dispersió!$C$24*dispersió!$D$40)*dispersió!$C$12),0)","v":1.0074256051574053},{"$f":"IFERROR(dispersió!$C$10*((dispersió!$E$40+'Càlculs interns'!K231)^dispersió!$D$10)*(2*LN('Càlculs interns'!L231/dispersió!$O$54))^(1/2),0)","v":3.5177617501116587},-3.5177617501116587,null,2.5930654502636048,{"$f":"IFERROR((letalitat!$P$11*1000)/((3.14159*dispersió!$C$10*((dispersió!$E$40+P231)^dispersió!$D$10)*dispersió!$E$10*((dispersió!$F$40+P231)^dispersió!$F$10)+dispersió!$C$24*dispersió!$D$40)*dispersió!$C$12),0)","v":1.3327794071007886},{"$f":"IFERROR(dispersió!$C$10*((dispersió!$E$40+'Càlculs interns'!P231)^dispersió!$D$10)*(2*LN('Càlculs interns'!Q231/dispersió!$O$61))^(1/2),0)","v":1.5375864747689927},-1.5375864747689927]
[25.746706501553362,{"$f":"IFERROR((letalitat!$P$11*1000)/((3.14159*dispersió!$C$10*((dispersió!$E$40+A232)^dispersió!$D$10)*dispersió!$E$10*((dispersió!$F$40+A232)^dispersió!$F$10)+dispersió!$C$24*dispersió!$D$40)*dispersió!$C$12),0)","v":0.65169611889828405},{"$f":"IFERROR(dispersió!$C$10*((dispersió!$E$40+'Càlculs interns'!A232)^dispersió!$D$10)*(2*LN('Càlculs interns'!B232/dispersió!$O$39))^(1/2),0)","v":5.9472295022502299},-5.9472295022502299,null,18.60482782188388,{"$f":"IFERROR((letalitat!$P$11*1000)/((3.14159*dispersió!$C$10*((dispersió!$E$40+F232)^dispersió!$D$10)*dispersió!$E$10*((dispersió!$F$40+F232)^dispersió!$F$10)+dispersió!$C$24*dispersió!$D$40)*dispersió!$C$12),0)","v":0.79216886981501144},{"$f":"IFERROR(dispersió!$C$10*((dispersió!$E$40+'Càlculs interns'!F232)^dispersió!$D$10)*(2*LN('Càlculs interns'!G232/dispersió!$O$46))^(1/2),0)","v":4.7443304399356743},-4.7443304399356743,null,11.793160142908071,{"$f":"IFERROR((letalitat!$P$11*1000)/((3.14159*dispersió!$C$10*((dispersió!$E$40+K232)^dispersió!$D$10)*dispersió!$E$10*((dispersió!$F$40+K232)^dispersió!$F$10)+dispersió!$C$24*dispersió!$D$40)*dispersió!$C$12),0)","v":0.97337399739185604},{"$f":"IFERROR(dispersió!$C$10*((dispersió!$E$40+'Càlculs interns'!K232)^dispersió!$D$10)*(2*LN('Càlculs interns'!L232/dispersió!$O$54))^(1/2),0)","v":3.5081539537860236},-3.5081539537860236,null,2.8523719952899653,{"$f":"IFERROR((letalitat!$P$11*1000)/((3.14159*dispersió!$C$10*((dispersió!$E$40+P232)^dispersió!$D$10)*dispersió!$E$10*((dispersió!$F$40+P232)^dispersió!$F$10)+dispersió!$C$24*dispersió!$D$40)*dispersió!$C$12),0)","v":1.3202111573804982},{"$f":"IFERROR(dispersió!$C$10*((dispersió!$E$40+'Càlculs interns'!P232)^dispersió!$D$10)*(2*LN('Càlculs interns'!Q232/dispersió!$O$61))^(1/2),0)","v":1.5100061272489376},-1.5100061272489376]
[28.087316183512758,{"$f":"IFERROR((letalitat!$P$11*1000)/((3.14159*dispersió!$C$10*((dispersió!$E$40+A233)^dispersió!$D$10)*dispersió!$E$10*((dispersió!$F$40+A233)^dispersió!$F$10)+dispersió!$C$24*dispersió!$D$40)*dispersió!$C$12),0)","v":0.61381680114513448},{"$f":"IFERROR(dispersió!$C$10*((dispersió!$E$40+'Càlculs interns'!A233)^dispersió!$D$10)*(2*LN('Càlculs interns'!B233/dispersió!$O$39))^(1/2),0)","v":5.9859872365202822},-5.9859872365202822,null,20.296175805691504,{"$f":"IFERROR((letalitat!$P$11*1000)/((3.14159*dispersió!$C$10*((dispersió!$E$40+F233)^dispersió!$D$10)*dispersió!$E$10*((dispersió!$F$40+F233)^dispersió!$F$10)+dispersió!$C$24*dispersió!$D$40)*dispersió!$C$12),0)","v":0.75502147088734928},{"$f":"IFERROR(dispersió!$C$10*((dispersió!$E$40+'Càlculs interns'!F233)^dispersió!$D$10)*(2*LN('Càlculs interns'!G233/dispersió!$O$46))^(1/2),0)","v":4.7524463520972011},-4.7524463520972011,null,12.865265610445169,{"$f":"IFERROR((letalitat!$P$11*1000)/((3.14159*dispersió!$C$10*((dispersió!$E$40+K233)^dispersió!$D$10)*dispersió!$E$10*((dispersió!$F$40+K233)^dispersió!$F$10)+dispersió!$C$24*dispersió!$D$40)*dispersió!$C$12),0)","v":0.94099555622948117},{"$f":"IFERROR(dispersió!$C$10*((dispersió!$E$40+'Càlculs interns'!K233)^dispersió!$D$10)*(2*LN('Càlculs interns'!L233/dispersió!$O$54))^(1/2),0)","v":3.4910847069704469},-3.4910847069704469,null,3.1116785403163258,{"$f":"IFERROR((letalitat!$P$11*1000)/((3.14159*dispersió!$C$10*((dispersió!$E$40+P233)^dispersió!$D$10)*dispersió!$E$10*((dispersió!$F$40+P233)^dispersió!$F$10)+dispersió!$C$24*dispersió!$D$40)*dispersió!$C$12),0)","v":1.3078097857646047},{"$f":"IFERROR(dispersió!$C$10*((dispersió!$E$40+'Càlculs interns'!P233)^dispersió!$D$10)*(2*LN('Càlculs interns'!Q233/dispersió!$O$61))^(1/2),0)","v":1.4807398637278582},-1.4807398637278582]
[30.427925865472154,{"$f":"IFERROR((letalitat!$P$11*1000)/((3.14159*dispersió!$C$10*((dispersió!$E$40+A234)^dispersió!$D$10)*dispersió!$E$10*((dispersió!$F$40+A234)^dispersió!$F$10)+dispersió!$C$24*dispersió!$D$40)*dispersió!$C$12),0)","v":0.57920590618346735},{"$f":"IFERROR(dispersió!$C$10*((dispersió!$E$40+'Càlculs interns'!A234)^dispersió!$D$10)*(2*LN('Càlculs interns'!B234/dispersió!$O$39))^(1/2),0)","v":6.0059114536951705},-6.0059114536951705,null,21.987523789499129,{"$f":"IFERROR((letalitat!$P$11*1000)/((3.14159*dispersió!$C$10*((dispersió!$E$40+F234)^dispersió!$D$10)*dispersió!$E$10*((dispersió!$F$40+F234)^dispersió!$F$10)+dispersió!$C$24*dispersió!$D$40)*dispersió!$C$12),0)","v":0.72044412994899021},{"$f":"IFERROR(dispersió!$C$10*((dispersió!$E$40+'Càlculs interns'!F234)^dispersió!$D$10)*(2*LN('Càlculs interns'!G234/dispersió!$O$46))^(1/2),0)","v":4.7475386981381487},-4.7475386981381487,null,13.937371077982267,{"$f":"IFERROR((letalitat!$P$11*1000)/((3.14159*dispersió!$C$10*((dispersió!$E$40+K234)^dispersió!$D$10)*dispersió!$E$10*((dispersió!$F$40+K234)^dispersió!$F$10)+dispersió!$C$24*dispersió!$D$40)*dispersió!$C$12),0)","v":0.91018852723627663},{"$f":"IFERROR(dispersió!$C$10*((dispersió!$E$40+'Càlculs interns'!K234)^dispersió!$D$10)*(2*LN('Càlculs interns'!L234/dispersió!$O$54))^(1/2),0)","v":3.4662674973383121},-3.4662674973383121,null,3.3709850853426864,{"$f":"IFERROR((letalitat!$P$11*1000)/((3.14159*dispersió!$C$10*((dispersió!$E$40+P234)^dispersió!$D$10)*dispersió!$E$10*((dispersió!$F$40+P234)^dispersió!$F$10)+dispersió!$C$24*dispersió!$D$40)*dispersió!$C$12),0)","v":1.2955727300086293},{"$f":"IFERROR(dispersió!$C$10*((dispersió!$E$40+'Càlculs interns'!P234)^dispersió!$D$10)*(2*LN('Càlculs interns'!Q234/dispersió!$O$61))^(1/2),0)","v":1.4496769642328275},-1.4496769642328275]
[32.768535547431554,{"$f":"IFERROR((letalitat!$P$11*1000)/((3.14159*dispersió!$C$10*((dispersió!$E$40+A235)^dispersió!$D$10)*dispersió!$E$10*((dispersió!$F$40+A235)^dispersió!$F$10)+dispersió!$C$24*dispersió!$D$40)*dispersió!$C$12),0)","v":0.54750267982697687},{"$f":"IFERROR(dispersió!$C$10*((dispersió!$E$40+'Càlculs interns'!A235)^dispersió!$D$10)*(2*LN('Càlculs interns'!B235/dispersió!$O$39))^(1/2),0)","v":6.0065490394919516},-6.0065490394919516,null,23.678871773306753,{"$f":"IFERROR((letalitat!$P$11*1000)/((3.14159*dispersió!$C$10*((dispersió!$E$40+F235)^dispersió!$D$10)*dispersió!$E$10*((dispersió!$F$40+F235)^dispersió!$F$10)+dispersió!$C$24*dispersió!$D$40)*dispersió!$C$12),0)","v":0.68821150335977377},{"$f":"IFERROR(dispersió!$C$10*((dispersió!$E$40+'Càlculs interns'!F235)^dispersió!$D$10)*(2*LN('Càlculs interns'!G235/dispersió!$O$46))^(1/2),0)","v":4.7291870280502346},-4.7291870280502346,null,15.009476545519364,{"$f":"IFERROR((letalitat!$P$11*1000)/((3.14159*dispersió!$C$10*((dispersió!$E$40+K235)^dispersió!$D$10)*dispersió!$E$10*((dispersió!$F$40+K235)^dispersió!$F$10)+dispersió!$C$24*dispersió!$D$40)*dispersió!$C$12),0)","v":0.88085804822347458},{"$f":"IFERROR(dispersió!$C$10*((dispersió!$E$40+'Càlculs interns'!K235)^dispersió!$D$10)*(2*LN('Càlculs interns'!L235/dispersió!$O$54))^(1/2),0)","v":3.4333642545734508},-3.4333642545734508,null,3.6302916303690469,{"$f":"IFERROR((letalitat!$P$11*1000)/((3.14159*dispersió!$C$10*((dispersió!$E$40+P235)^dispersió!$D$10)*dispersió!$E$10*((dispersió!$F$40+P235)^dispersió!$F$10)+dispersió!$C$24*dispersió!$D$40)*dispersió!$C$12),0)","v":1.2834974637514791},{"$f":"IFERROR(dispersió!$C$10*((dispersió!$E$40+'Càlculs interns'!P235)^dispersió!$D$10)*(2*LN('Càlculs interns'!Q235/dispersió!$O$61))^(1/2),0)","v":1.416690558752302},-1.416690558752302]
[35.109145229390954,{"$f":"IFERROR((letalitat!$P$11*1000)/((3.14159*dispersió!$C$10*((dispersió!$E$40+A236)^dispersió!$D$10)*dispersió!$E$10*((dispersió!$F$40+A236)^dispersió!$F$10)+dispersió!$C$24*dispersió!$D$40)*dispersió!$C$12),0)","v":0.51839348199795388},{"$f":"IFERROR(dispersió!$C$10*((dispersió!$E$40+'Càlculs interns'!A236)^dispersió!$D$10)*(2*LN('Càlculs interns'!B236/dispersió!$O$39))^(1/2),0)","v":5.9873050940578381},-5.9873050940578381,null,25.370219757114377,{"$f":"IFERROR((letalitat!$P$11*1000)/((3.14159*dispersió!$C$10*((dispersió!$E$40+F236)^dispersió!$D$10)*dispersió!$E$10*((dispersió!$F$40+F236)^dispersió!$F$10)+dispersió!$C$24*dispersió!$D$40)*dispersió!$C$12),0)","v":0.65812126314371711},{"$f":"IFERROR(dispersió!$C$10*((dispersió!$E$40+'Càlculs interns'!F236)^dispersió!$D$10)*(2*LN('Càlculs interns'!G236/dispersió!$O$46))^(1/2),0)","v":4.6968727025636516},-4.6968727025636516,null,16.081582013056462,{"$f":"IFERROR((letalitat!$P$11*1000)/((3.14159*dispersió!$C$10*((dispersió!$E$40+K236)^dispersió!$D$10)*dispersió!$E$10*((dispersió!$F$40+K236)^dispersió!$F$10)+dispersió!$C$24*dispersió!$D$40)*dispersió!$C$12),0)","v":0.85291569116606281},{"$f":"IFERROR(dispersió!$C$10*((dispersió!$E$40+'Càlculs interns'!K236)^dispersió!$D$10)*(2*LN('Càlculs interns'!L236/dispersió!$O$54))^(1/2),0)","v":3.3919750065538361},-3.3919750065538361,null,3.8895981753954074,{"$f":"IFERROR((letalitat!$P$11*1000)/((3.14159*dispersió!$C$10*((dispersió!$E$40+P236)^dispersió!$D$10)*dispersió!$E$10*((dispersió!$F$40+P236)^dispersió!$F$10)+dispersió!$C$24*dispersió!$D$40)*dispersió!$C$12),0)","v":1.2715814964829302},{"$f":"IFERROR(dispersió!$C$10*((dispersió!$E$40+'Càlculs interns'!P236)^dispersió!$D$10)*(2*LN('Càlculs interns'!Q236/dispersió!$O$61))^(1/2),0)","v":1.381634093781106},-1.381634093781106]
[37.449754911350354,{"$f":"IFERROR((letalitat!$P$11*1000)/((3.14159*dispersió!$C$10*((dispersió!$E$40+A237)^dispersió!$D$10)*dispersió!$E$10*((dispersió!$F$40+A237)^dispersió!$F$10)+dispersió!$C$24*dispersió!$D$40)*dispersió!$C$12),0)","v":0.49160487362937744},{"$f":"IFERROR(dispersió!$C$10*((dispersió!$E$40+'Càlculs interns'!A237)^dispersió!$D$10)*(2*LN('Càlculs interns'!B237/dispersió!$O$39))^(1/2),0)","v":5.9474190501423543},-5.9474190501423543,null,27.061567740922001,{"$f":"IFERROR((letalitat!$P$11*1000)/((3.14159*dispersió!$C$10*((dispersió!$E$40+F237)^dispersió!$D$10)*dispersió!$E$10*((dispersió!$F$40+F237)^dispersió!$F$10)+dispersió!$C$24*dispersió!$D$40)*dispersió!$C$12),0)","v":0.62999153078869929},{"$f":"IFERROR(dispersió!$C$10*((dispersió!$E$40+'Càlculs interns'!F237)^dispersió!$D$10)*(2*LN('Càlculs interns'!G237/dispersió!$O$46))^(1/2),0)","v":4.6499597085798081},-4.6499597085798081,null,17.153687480593558,{"$f":"IFERROR((letalitat!$P$11*1000)/((3.14159*dispersió!$C$10*((dispersió!$E$40+K237)^dispersió!$D$10)*dispersió!$E$10*((dispersió!$F$40+K237)^dispersió!$F$10)+dispersió!$C$24*dispersió!$D$40)*dispersió!$C$12),0)","v":0.82627902441085921},{"$f":"IFERROR(dispersió!$C$10*((dispersió!$E$40+'Càlculs interns'!K237)^dispersió!$D$10)*(2*LN('Càlculs interns'!L237/dispersió!$O$54))^(1/2),0)","v":3.3416243743083092},-3.3416243743083092,null,4.1489047204217675,{"$f":"IFERROR((letalitat!$P$11*1000)/((3.14159*dispersió!$C$10*((dispersió!$E$40+P237)^dispersió!$D$10)*dispersió!$E$10*((dispersió!$F$40+P237)^dispersió!$F$10)+dispersió!$C$24*dispersió!$D$40)*dispersió!$C$12),0)","v":1.2598223734732559},{"$f":"IFERROR(dispersió!$C$10*((dispersió!$E$40+'Càlculs interns'!P237)^dispersió!$D$10)*(2*LN('Càlculs interns'!Q237/dispersió!$O$61))^(1/2),0)","v":1.3443367273571825},-1.3443367273571825]
[39.790364593309754,{"$f":"IFERROR((letalitat!$P$11*1000)/((3.14159*dispersió!$C$10*((dispersió!$E$40+A238)^dispersió!$D$10)*dispersió!$E$10*((dispersió!$F$40+A238)^dispersió!$F$10)+dispersió!$C$24*dispersió!$D$40)*dispersió!$C$12),0)","v":0.46689779530315212},{"$f":"IFERROR(dispersió!$C$10*((dispersió!$E$40+'Càlculs interns'!A238)^dispersió!$D$10)*(2*LN('Càlculs interns'!B238/dispersió!$O$39))^(1/2),0)","v":5.885931924910774},-5.885931924910774,null,28.752915724729625,{"$f":"IFERROR((letalitat!$P$11*1000)/((3.14159*dispersió!$C$10*((dispersió!$E$40+F238)^dispersió!$D$10)*dispersió!$E$10*((dispersió!$F$40+F238)^dispersió!$F$10)+dispersió!$C$24*dispersió!$D$40)*dispersió!$C$12),0)","v":0.60365860079843958},{"$f":"IFERROR(dispersió!$C$10*((dispersió!$E$40+'Càlculs interns'!F238)^dispersió!$D$10)*(2*LN('Càlculs interns'!G238/dispersió!$O$46))^(1/2),0)","v":4.5876689340751069},-4.5876689340751069,null,18.225792948130653,{"$f":"IFERROR((letalitat!$P$11*1000)/((3.14159*dispersió!$C$10*((dispersió!$E$40+K238)^dispersió!$D$10)*dispersió!$E$10*((dispersió!$F$40+K238)^dispersió!$F$10)+dispersió!$C$24*dispersió!$D$40)*dispersió!$C$12),0)","v":0.8008711972361815},{"$f":"IFERROR(dispersió!$C$10*((dispersió!$E$40+'Càlculs interns'!K238)^dispersió!$D$10)*(2*LN('Càlculs interns'!L238/dispersió!$O$54))^(1/2),0)","v":3.2817436568726626},-3.2817436568726626,null,4.408211265448128,{"$f":"IFERROR((letalitat!$P$11*1000)/((3.14159*dispersió!$C$10*((dispersió!$E$40+P238)^dispersió!$D$10)*dispersió!$E$10*((dispersió!$F$40+P238)^dispersió!$F$10)+dispersió!$C$24*dispersió!$D$40)*dispersió!$C$12),0)","v":1.2482176756679366},{"$f":"IFERROR(dispersió!$C$10*((dispersió!$E$40+'Càlculs interns'!P238)^dispersió!$D$10)*(2*LN('Càlculs interns'!Q238/dispersió!$O$61))^(1/2),0)","v":1.3045972245977107},-1.3045972245977107]
[42.130974275269153,{"$f":"IFERROR((letalitat!$P$11*1000)/((3.14159*dispersió!$C$10*((dispersió!$E$40+A239)^dispersió!$D$10)*dispersió!$E$10*((dispersió!$F$40+A239)^dispersió!$F$10)+dispersió!$C$24*dispersió!$D$40)*dispersió!$C$12),0)","v":0.444062660706396},{"$f":"IFERROR(dispersió!$C$10*((dispersió!$E$40+'Càlculs interns'!A239)^dispersió!$D$10)*(2*LN('Càlculs interns'!B239/dispersió!$O$39))^(1/2),0)","v":5.801641118529214},-5.801641118529214,null,30.44426370853725,{"$f":"IFERROR((letalitat!$P$11*1000)/((3.14159*dispersió!$C$10*((dispersió!$E$40+F239)^dispersió!$D$10)*dispersió!$E$10*((dispersió!$F$40+F239)^dispersió!$F$10)+dispersió!$C$24*dispersió!$D$40)*dispersió!$C$12),0)","v":0.57897492566491593},{"$f":"IFERROR(dispersió!$C$10*((dispersió!$E$40+'Càlculs interns'!F239)^dispersió!$D$10)*(2*LN('Càlculs interns'!G239/dispersió!$O$46))^(1/2),0)","v":4.5090431556927584},-4.5090431556927584,null,19.297898415667749,{"$f":"IFERROR((letalitat!$P$11*1000)/((3.14159*dispersió!$C$10*((dispersió!$E$40+K239)^dispersió!$D$10)*dispersió!$E$10*((dispersió!$F$40+K239)^dispersió!$F$10)+dispersió!$C$24*dispersió!$D$40)*dispersió!$C$12),0)","v":0.77662054783440337},{"$f":"IFERROR(dispersió!$C$10*((dispersió!$E$40+'Càlculs interns'!K239)^dispersió!$D$10)*(2*LN('Càlculs interns'!L239/dispersió!$O$54))^(1/2),0)","v":3.2116466224733862},-3.2116466224733862,null,4.6675178104744885,{"$f":"IFERROR((letalitat!$P$11*1000)/((3.14159*dispersió!$C$10*((dispersió!$E$40+P239)^dispersió!$D$10)*dispersió!$E$10*((dispersió!$F$40+P239)^dispersió!$F$10)+dispersió!$C$24*dispersió!$D$40)*dispersió!$C$12),0)","v":1.2367650195501942},{"$f":"IFERROR(dispersió!$C$10*((dispersió!$E$40+'Càlculs interns'!P239)^dispersió!$D$10)*(2*LN('Càlculs interns'!Q239/dispersió!$O$61))^(1/2),0)","v":1.2621757071545503},-1.2621757071545503]
[44.471583957228553,{"$f":"IFERROR((letalitat!$P$11*1000)/((3.14159*dispersió!$C$10*((dispersió!$E$40+A240)^dispersió!$D$10)*dispersió!$E$10*((dispersió!$F$40+A240)^dispersió!$F$10)+dispersió!$C$24*dispersió!$D$40)*dispersió!$C$12),0)","v":0.42291521516190361},{"$f":"IFERROR(dispersió!$C$10*((dispersió!$E$40+'Càlculs interns'!A240)^dispersió!$D$10)*(2*LN('Càlculs interns'!B240/dispersió!$O$39))^(1/2),0)","v":5.6930371632413799},-5.6930371632413799,null,32.135611692344874,{"$f":"IFERROR((letalitat!$P$11*1000)/((3.14159*dispersió!$C$10*((dispersió!$E$40+F240)^dispersió!$D$10)*dispersió!$E$10*((dispersió!$F$40+F240)^dispersió!$F$10)+dispersió!$C$24*dispersió!$D$40)*dispersió!$C$12),0)","v":0.55580733470313026},{"$f":"IFERROR(dispersió!$C$10*((dispersió!$E$40+'Càlculs interns'!F240)^dispersió!$D$10)*(2*LN('Càlculs interns'!G240/dispersió!$O$46))^(1/2),0)","v":4.4128984724012419},-4.4128984724012419,null,20.370003883204845,{"$f":"IFERROR((letalitat!$P$11*1000)/((3.14159*dispersió!$C$10*((dispersió!$E$40+K240)^dispersió!$D$10)*dispersió!$E$10*((dispersió!$F$40+K240)^dispersió!$F$10)+dispersió!$C$24*dispersió!$D$40)*dispersió!$C$12),0)","v":0.75346023505696236},{"$f":"IFERROR(dispersió!$C$10*((dispersió!$E$40+'Càlculs interns'!K240)^dispersió!$D$10)*(2*LN('Càlculs interns'!L240/dispersió!$O$54))^(1/2),0)","v":3.1304960825350094},-3.1304960825350094,null,4.9268243555008491,{"$f":"IFERROR((letalitat!$P$11*1000)/((3.14159*dispersió!$C$10*((dispersió!$E$40+P240)^dispersió!$D$10)*dispersió!$E$10*((dispersió!$F$40+P240)^dispersió!$F$10)+dispersió!$C$24*dispersió!$D$40)*dispersió!$C$12),0)","v":1.2254620569739276},{"$f":"IFERROR(dispersió!$C$10*((dispersió!$E$40+'Càlculs interns'!P240)^dispersió!$D$10)*(2*LN('Càlculs interns'!Q240/dispersió!$O$61))^(1/2),0)","v":1.2167822512637065},-1.2167822512637065]
[46.812193639187953,{"$f":"IFERROR((letalitat!$P$11*1000)/((3.14159*dispersió!$C$10*((dispersió!$E$40+A241)^dispersió!$D$10)*dispersió!$E$10*((dispersió!$F$40+A241)^dispersió!$F$10)+dispersió!$C$24*dispersió!$D$40)*dispersió!$C$12),0)","v":0.40329303355451285},{"$f":"IFERROR(dispersió!$C$10*((dispersió!$E$40+'Càlculs interns'!A241)^dispersió!$D$10)*(2*LN('Càlculs interns'!B241/dispersió!$O$39))^(1/2),0)","v":5.5582134230352125},-5.5582134230352125,null,33.826959676152498,{"$f":"IFERROR((letalitat!$P$11*1000)/((3.14159*dispersió!$C$10*((dispersió!$E$40+F241)^dispersió!$D$10)*dispersió!$E$10*((dispersió!$F$40+F241)^dispersió!$F$10)+dispersió!$C$24*dispersió!$D$40)*dispersió!$C$12),0)","v":0.534035460820387},{"$f":"IFERROR(dispersió!$C$10*((dispersió!$E$40+'Càlculs interns'!F241)^dispersió!$D$10)*(2*LN('Càlculs interns'!G241/dispersió!$O$46))^(1/2),0)","v":4.2977553388939951},-4.2977553388939951,null,21.442109350741941,{"$f":"IFERROR((letalitat!$P$11*1000)/((3.14159*dispersió!$C$10*((dispersió!$E$40+K241)^dispersió!$D$10)*dispersió!$E$10*((dispersió!$F$40+K241)^dispersió!$F$10)+dispersió!$C$24*dispersió!$D$40)*dispersió!$C$12),0)","v":0.73132789372971851},{"$f":"IFERROR(dispersió!$C$10*((dispersió!$E$40+'Càlculs interns'!K241)^dispersió!$D$10)*(2*LN('Càlculs interns'!L241/dispersió!$O$54))^(1/2),0)","v":3.037256558227686},-3.037256558227686,null,5.1861309005272096,{"$f":"IFERROR((letalitat!$P$11*1000)/((3.14159*dispersió!$C$10*((dispersió!$E$40+P241)^dispersió!$D$10)*dispersió!$E$10*((dispersió!$F$40+P241)^dispersió!$F$10)+dispersió!$C$24*dispersió!$D$40)*dispersió!$C$12),0)","v":1.2143064749694799},{"$f":"IFERROR(dispersió!$C$10*((dispersió!$E$40+'Càlculs interns'!P241)^dispersió!$D$10)*(2*LN('Càlculs interns'!Q241/dispersió!$O$61))^(1/2),0)","v":1.1680607185396514},-1.1680607185396514]
[49.152803321147353,{"$f":"IFERROR((letalitat!$P$11*1000)/((3.14159*dispersió!$C$10*((dispersió!$E$40+A242)^dispersió!$D$10)*dispersió!$E$10*((dispersió!$F$40+A242)^dispersió!$F$10)+dispersió!$C$24*dispersió!$D$40)*dispersió!$C$12),0)","v":0.38505255273226041},{"$f":"IFERROR(dispersió!$C$10*((dispersió!$E$40+'Càlculs interns'!A242)^dispersió!$D$10)*(2*LN('Càlculs interns'!B242/dispersió!$O$39))^(1/2),0)","v":5.394733725187093},-5.394733725187093,null,35.518307659960122,{"$f":"IFERROR((letalitat!$P$11*1000)/((3.14159*dispersió!$C$10*((dispersió!$E$40+F242)^dispersió!$D$10)*dispersió!$E$10*((dispersió!$F$40+F242)^dispersió!$F$10)+dispersió!$C$24*dispersió!$D$40)*dispersió!$C$12),0)","v":0.51355035135778293},{"$f":"IFERROR(dispersió!$C$10*((dispersió!$E$40+'Càlculs interns'!F242)^dispersió!$D$10)*(2*LN('Càlculs interns'!G242/dispersió!$O$46))^(1/2),0)","v":4.1617377847529866},-4.1617377847529866,null,22.514214818279036,{"$f":"IFERROR((letalitat!$P$11*1000)/((3.14159*dispersió!$C$10*((dispersió!$E$40+K242)^dispersió!$D$10)*dispersió!$E$10*((dispersió!$F$40+K242)^dispersió!$F$10)+dispersió!$C$24*dispersió!$D$40)*dispersió!$C$12),0)","v":0.71016531296855556},{"$f":"IFERROR(dispersió!$C$10*((dispersió!$E$40+'Càlculs interns'!K242)^dispersió!$D$10)*(2*LN('Càlculs interns'!L242/dispersió!$O$54))^(1/2),0)","v":2.9306252184098849},-2.9306252184098849,null,5.4454374455535701,{"$f":"IFERROR((letalitat!$P$11*1000)/((3.14159*dispersió!$C$10*((dispersió!$E$40+P242)^dispersió!$D$10)*dispersió!$E$10*((dispersió!$F$40+P242)^dispersió!$F$10)+dispersió!$C$24*dispersió!$D$40)*dispersió!$C$12),0)","v":1.2032959955245124},{"$f":"IFERROR(dispersió!$C$10*((dispersió!$E$40+'Càlculs interns'!P242)^dispersió!$D$10)*(2*LN('Càlculs interns'!Q242/dispersió!$O$61))^(1/2),0)","v":1.1155651198795704},-1.1155651198795704]
[51.493413003106753,{"$f":"IFERROR((letalitat!$P$11*1000)/((3.14159*dispersió!$C$10*((dispersió!$E$40+A243)^dispersió!$D$10)*dispersió!$E$10*((dispersió!$F$40+A243)^dispersió!$F$10)+dispersió!$C$24*dispersió!$D$40)*dispersió!$C$12),0)","v":0.36806655106681219},{"$f":"IFERROR(dispersió!$C$10*((dispersió!$E$40+'Càlculs interns'!A243)^dispersió!$D$10)*(2*LN('Càlculs interns'!B243/dispersió!$O$39))^(1/2),0)","v":5.1994317146259741},-5.1994317146259741,null,37.209655643767746,{"$f":"IFERROR((letalitat!$P$11*1000)/((3.14159*dispersió!$C$10*((dispersió!$E$40+F243)^dispersió!$D$10)*dispersió!$E$10*((dispersió!$F$40+F243)^dispersió!$F$10)+dispersió!$C$24*dispersió!$D$40)*dispersió!$C$12),0)","v":0.49425324137471177},{"$f":"IFERROR(dispersió!$C$10*((dispersió!$E$40+'Càlculs interns'!F243)^dispersió!$D$10)*(2*LN('Càlculs interns'!G243/dispersió!$O$46))^(1/2),0)","v":4.0024209055929623},-4.0024209055929623,null,23.586320285816132,{"$f":"IFERROR((letalitat!$P$11*1000)/((3.14159*dispersió!$C$10*((dispersió!$E$40+K243)^dispersió!$D$10)*dispersió!$E$10*((dispersió!$F$40+K243)^dispersió!$F$10)+dispersió!$C$24*dispersió!$D$40)*dispersió!$C$12),0)","v":0.6899181366646433},{"$f":"IFERROR(dispersió!$C$10*((dispersió!$E$40+'Càlculs interns'!K243)^dispersió!$D$10)*(2*LN('Càlculs interns'!L243/dispersió!$O$54))^(1/2),0)","v":2.8089274370916106},-2.8089274370916106,null,5.7047439905799306,{"$f":"IFERROR((letalitat!$P$11*1000)/((3.14159*dispersió!$C$10*((dispersió!$E$40+P243)^dispersió!$D$10)*dispersió!$E$10*((dispersió!$F$40+P243)^dispersió!$F$10)+dispersió!$C$24*dispersió!$D$40)*dispersió!$C$12),0)","v":1.1924283753421137},{"$f":"IFERROR(dispersió!$C$10*((dispersió!$E$40+'Càlculs interns'!P243)^dispersió!$D$10)*(2*LN('Càlculs interns'!Q243/dispersió!$O$61))^(1/2),0)","v":1.0587237908206297},-1.0587237908206297]
[53.834022685066152,{"$f":"IFERROR((letalitat!$P$11*1000)/((3.14159*dispersió!$C$10*((dispersió!$E$40+A244)^dispersió!$D$10)*dispersió!$E$10*((dispersió!$F$40+A244)^dispersió!$F$10)+dispersió!$C$24*dispersió!$D$40)*dispersió!$C$12),0)","v":0.35222200262838738},{"$f":"IFERROR(dispersió!$C$10*((dispersió!$E$40+'Càlculs interns'!A244)^dispersió!$D$10)*(2*LN('Càlculs interns'!B244/dispersió!$O$39))^(1/2),0)","v":4.9680936369567164},-4.9680936369567164,null,38.901003627575371,{"$f":"IFERROR((letalitat!$P$11*1000)/((3.14159*dispersió!$C$10*((dispersió!$E$40+F244)^dispersió!$D$10)*dispersió!$E$10*((dispersió!$F$40+F244)^dispersió!$F$10)+dispersió!$C$24*dispersió!$D$40)*dispersió!$C$12),0)","v":0.47605446998238149},{"$f":"IFERROR(dispersió!$C$10*((dispersió!$E$40+'Càlculs interns'!F244)^dispersió!$D$10)*(2*LN('Càlculs interns'!G244/dispersió!$O$46))^(1/2),0)","v":3.8165899252630413},-3.8165899252630413,null,24.658425753353228,{"$f":"IFERROR((letalitat!$P$11*1000)/((3.14159*dispersió!$C$10*((dispersió!$E$40+K244)^dispersió!$D$10)*dispersió!$E$10*((dispersió!$F$40+K244)^dispersió!$F$10)+dispersió!$C$24*dispersió!$D$40)*dispersió!$C$12),0)","v":0.67053558513752187},{"$f":"IFERROR(dispersió!$C$10*((dispersió!$E$40+'Càlculs interns'!K244)^dispersió!$D$10)*(2*LN('Càlculs interns'!L244/dispersió!$O$54))^(1/2),0)","v":2.6699517935381696},-2.6699517935381696,null,5.9640505356062912,{"$f":"IFERROR((letalitat!$P$11*1000)/((3.14159*dispersió!$C$10*((dispersió!$E$40+P244)^dispersió!$D$10)*dispersió!$E$10*((dispersió!$F$40+P244)^dispersió!$F$10)+dispersió!$C$24*dispersió!$D$40)*dispersió!$C$12),0)","v":1.1817014055781496},{"$f":"IFERROR(dispersió!$C$10*((dispersió!$E$40+'Càlculs interns'!P244)^dispersió!$D$10)*(2*LN('Càlculs interns'!Q244/dispersió!$O$61))^(1/2),0)","v":0.99678265247057141},-0.99678265247057141]
[56.174632367025552,{"$f":"IFERROR((letalitat!$P$11*1000)/((3.14159*dispersió!$C$10*((dispersió!$E$40+A245)^dispersió!$D$10)*dispersió!$E$10*((dispersió!$F$40+A245)^dispersió!$F$10)+dispersió!$C$24*dispersió!$D$40)*dispersió!$C$12),0)","v":0.3374182457353801},{"$f":"IFERROR(dispersió!$C$10*((dispersió!$E$40+'Càlculs interns'!A245)^dispersió!$D$10)*(2*LN('Càlculs interns'!B245/dispersió!$O$39))^(1/2),0)","v":4.6949293770018157},-4.6949293770018157,null,40.592351611382995,{"$f":"IFERROR((letalitat!$P$11*1000)/((3.14159*dispersió!$C$10*((dispersió!$E$40+F245)^dispersió!$D$10)*dispersió!$E$10*((dispersió!$F$40+F245)^dispersió!$F$10)+dispersió!$C$24*dispersió!$D$40)*dispersió!$C$12),0)","v":0.4588725224719572},{"$f":"IFERROR(dispersió!$C$10*((dispersió!$E$40+'Càlculs interns'!F245)^dispersió!$D$10)*(2*LN('Càlculs interns'!G245/dispersió!$O$46))^(1/2),0)","v":3.5998384705120716},-3.5998384705120716,null,25.730531220890324,{"$f":"IFERROR((letalitat!$P$11*1000)/((3.14159*dispersió!$C$10*((dispersió!$E$40+K245)^dispersió!$D$10)*dispersió!$E$10*((dispersió!$F$40+K245)^dispersió!$F$10)+dispersió!$C$24*dispersió!$D$40)*dispersió!$C$12),0)","v":0.65197019685018276},{"$f":"IFERROR(dispersió!$C$10*((dispersió!$E$40+'Càlculs interns'!K245)^dispersió!$D$10)*(2*LN('Càlculs interns'!L245/dispersió!$O$54))^(1/2),0)","v":2.5106748365101619},-2.5106748365101619,null,6.2233570806326517,{"$f":"IFERROR((letalitat!$P$11*1000)/((3.14159*dispersió!$C$10*((dispersió!$E$40+P245)^dispersió!$D$10)*dispersió!$E$10*((dispersió!$F$40+P245)^dispersió!$F$10)+dispersió!$C$24*dispersió!$D$40)*dispersió!$C$12),0)","v":1.1711129115597327},{"$f":"IFERROR(dispersió!$C$10*((dispersió!$E$40+'Càlculs interns'!P245)^dispersió!$D$10)*(2*LN('Càlculs interns'!Q245/dispersió!$O$61))^(1/2),0)","v":0.92871030257369591},-0.92871030257369591]
[58.515242048984952,{"$f":"IFERROR((letalitat!$P$11*1000)/((3.14159*dispersió!$C$10*((dispersió!$E$40+A246)^dispersió!$D$10)*dispersió!$E$10*((dispersió!$F$40+A246)^dispersió!$F$10)+dispersió!$C$24*dispersió!$D$40)*dispersió!$C$12),0)","v":0.32356541584391518},{"$f":"IFERROR(dispersió!$C$10*((dispersió!$E$40+'Càlculs interns'!A246)^dispersió!$D$10)*(2*LN('Càlculs interns'!B246/dispersió!$O$39))^(1/2),0)","v":4.3716275537191658},-4.3716275537191658,null,42.283699595190619,{"$f":"IFERROR((letalitat!$P$11*1000)/((3.14159*dispersió!$C$10*((dispersió!$E$40+F246)^dispersió!$D$10)*dispersió!$E$10*((dispersió!$F$40+F246)^dispersió!$F$10)+dispersió!$C$24*dispersió!$D$40)*dispersió!$C$12),0)","v":0.4426331829733931},{"$f":"IFERROR(dispersió!$C$10*((dispersió!$E$40+'Càlculs interns'!F246)^dispersió!$D$10)*(2*LN('Càlculs interns'!G246/dispersió!$O$46))^(1/2),0)","v":3.3458507094985626},-3.3458507094985626,null,26.80263668842742,{"$f":"IFERROR((letalitat!$P$11*1000)/((3.14159*dispersió!$C$10*((dispersió!$E$40+K246)^dispersió!$D$10)*dispersió!$E$10*((dispersió!$F$40+K246)^dispersió!$F$10)+dispersió!$C$24*dispersió!$D$40)*dispersió!$C$12),0)","v":0.6341775890265241},{"$f":"IFERROR(dispersió!$C$10*((dispersió!$E$40+'Càlculs interns'!K246)^dispersió!$D$10)*(2*LN('Càlculs interns'!L246/dispersió!$O$54))^(1/2),0)","v":2.3267688529179238},-2.3267688529179238,null,6.4826636256590122,{"$f":"IFERROR((letalitat!$P$11*1000)/((3.14159*dispersió!$C$10*((dispersió!$E$40+P246)^dispersió!$D$10)*dispersió!$E$10*((dispersió!$F$40+P246)^dispersió!$F$10)+dispersió!$C$24*dispersió!$D$40)*dispersió!$C$12),0)","v":1.1606607524865631},{"$f":"IFERROR(dispersió!$C$10*((dispersió!$E$40+'Càlculs interns'!P246)^dispersió!$D$10)*(2*LN('Càlculs interns'!Q246/dispersió!$O$61))^(1/2),0)","v":0.85302776834689731},-0.85302776834689731]
[60.855851730944352,{"$f":"IFERROR((letalitat!$P$11*1000)/((3.14159*dispersió!$C$10*((dispersió!$E$40+A247)^dispersió!$D$10)*dispersió!$E$10*((dispersió!$F$40+A247)^dispersió!$F$10)+dispersió!$C$24*dispersió!$D$40)*dispersió!$C$12),0)","v":0.31058310118357491},{"$f":"IFERROR(dispersió!$C$10*((dispersió!$E$40+'Càlculs interns'!A247)^dispersió!$D$10)*(2*LN('Càlculs interns'!B247/dispersió!$O$39))^(1/2),0)","v":3.9855049076627425},-3.9855049076627425,null,43.975047578998243,{"$f":"IFERROR((letalitat!$P$11*1000)/((3.14159*dispersió!$C$10*((dispersió!$E$40+F247)^dispersió!$D$10)*dispersió!$E$10*((dispersió!$F$40+F247)^dispersió!$F$10)+dispersió!$C$24*dispersió!$D$40)*dispersió!$C$12),0)","v":0.42726878419739561},{"$f":"IFERROR(dispersió!$C$10*((dispersió!$E$40+'Càlculs interns'!F247)^dispersió!$D$10)*(2*LN('Càlculs interns'!G247/dispersió!$O$46))^(1/2),0)","v":3.0449944454575579},-3.0449944454575579,null,27.874742155964515,{"$f":"IFERROR((letalitat!$P$11*1000)/((3.14159*dispersió!$C$10*((dispersió!$E$40+K247)^dispersió!$D$10)*dispersió!$E$10*((dispersió!$F$40+K247)^dispersió!$F$10)+dispersió!$C$24*dispersió!$D$40)*dispersió!$C$12),0)","v":0.61711623599476262},{"$f":"IFERROR(dispersió!$C$10*((dispersió!$E$40+'Càlculs interns'!K247)^dispersió!$D$10)*(2*LN('Càlculs interns'!L247/dispersió!$O$54))^(1/2),0)","v":2.1116360681216269},-2.1116360681216269,null,6.7419701706853727,{"$f":"IFERROR((letalitat!$P$11*1000)/((3.14159*dispersió!$C$10*((dispersió!$E$40+P247)^dispersió!$D$10)*dispersió!$E$10*((dispersió!$F$40+P247)^dispersió!$F$10)+dispersió!$C$24*dispersió!$D$40)*dispersió!$C$12),0)","v":1.1503428211167945},{"$f":"IFERROR(dispersió!$C$10*((dispersió!$E$40+'Càlculs interns'!P247)^dispersió!$D$10)*(2*LN('Càlculs interns'!Q247/dispersió!$O$61))^(1/2),0)","v":0.76747337054282161},-0.76747337054282161]
[63.196461412903751,{"$f":"IFERROR((letalitat!$P$11*1000)/((3.14159*dispersió!$C$10*((dispersió!$E$40+A248)^dispersió!$D$10)*dispersió!$E$10*((dispersió!$F$40+A248)^dispersió!$F$10)+dispersió!$C$24*dispersió!$D$40)*dispersió!$C$12),0)","v":0.29839918651796349},{"$f":"IFERROR(dispersió!$C$10*((dispersió!$E$40+'Càlculs interns'!A248)^dispersió!$D$10)*(2*LN('Càlculs interns'!B248/dispersió!$O$39))^(1/2),0)","v":3.5153799107795511},-3.5153799107795511,null,45.666395562805867,{"$f":"IFERROR((letalitat!$P$11*1000)/((3.14159*dispersió!$C$10*((dispersió!$E$40+F248)^dispersió!$D$10)*dispersió!$E$10*((dispersió!$F$40+F248)^dispersió!$F$10)+dispersió!$C$24*dispersió!$D$40)*dispersió!$C$12),0)","v":0.41271754244809067},{"$f":"IFERROR(dispersió!$C$10*((dispersió!$E$40+'Càlculs interns'!F248)^dispersió!$D$10)*(2*LN('Càlculs interns'!G248/dispersió!$O$46))^(1/2),0)","v":2.681180836381162},-2.681180836381162,null,28.946847623501611,{"$f":"IFERROR((letalitat!$P$11*1000)/((3.14159*dispersió!$C$10*((dispersió!$E$40+K248)^dispersió!$D$10)*dispersió!$E$10*((dispersió!$F$40+K248)^dispersió!$F$10)+dispersió!$C$24*dispersió!$D$40)*dispersió!$C$12),0)","v":0.60074726409045065},{"$f":"IFERROR(dispersió!$C$10*((dispersió!$E$40+'Càlculs interns'!K248)^dispersió!$D$10)*(2*LN('Càlculs interns'!L248/dispersió!$O$54))^(1/2),0)","v":1.8542496852163572},-1.8542496852163572,null,7.0012767157117333,{"$f":"IFERROR((letalitat!$P$11*1000)/((3.14159*dispersió!$C$10*((dispersió!$E$40+P248)^dispersió!$D$10)*dispersió!$E$10*((dispersió!$F$40+P248)^dispersió!$F$10)+dispersió!$C$24*dispersió!$D$40)*dispersió!$C$12),0)","v":1.1401570434389574},{"$f":"IFERROR(dispersió!$C$10*((dispersió!$E$40+'Càlculs interns'!P248)^dispersió!$D$10)*(2*LN('Càlculs interns'!Q248/dispersió!$O$61))^(1/2),0)","v":0.66825083348797931},-0.66825083348797931]
[65.537071094863151,{"$f":"IFERROR((letalitat!$P$11*1000)/((3.14159*dispersió!$C$10*((dispersió!$E$40+A249)^dispersió!$D$10)*dispersió!$E$10*((dispersió!$F$40+A249)^dispersió!$F$10)+dispersió!$C$24*dispersió!$D$40)*dispersió!$C$12),0)","v":0.28694885616589155},{"$f":"IFERROR(dispersió!$C$10*((dispersió!$E$40+'Càlculs interns'!A249)^dispersió!$D$10)*(2*LN('Càlculs interns'!B249/dispersió!$O$39))^(1/2),0)","v":2.9203414075145284},-2.9203414075145284,null,47.357743546613492,{"$f":"IFERROR((letalitat!$P$11*1000)/((3.14159*dispersió!$C$10*((dispersió!$E$40+F249)^dispersió!$D$10)*dispersió!$E$10*((dispersió!$F$40+F249)^dispersió!$F$10)+dispersió!$C$24*dispersió!$D$40)*dispersió!$C$12),0)","v":0.39892296755165635},{"$f":"IFERROR(dispersió!$C$10*((dispersió!$E$40+'Càlculs interns'!F249)^dispersió!$D$10)*(2*LN('Càlculs interns'!G249/dispersió!$O$46))^(1/2),0)","v":2.223303845321412},-2.223303845321412,null,30.018953091038707,{"$f":"IFERROR((letalitat!$P$11*1000)/((3.14159*dispersió!$C$10*((dispersió!$E$40+K249)^dispersió!$D$10)*dispersió!$E$10*((dispersió!$F$40+K249)^dispersió!$F$10)+dispersió!$C$24*dispersió!$D$40)*dispersió!$C$12),0)","v":0.58503426198180786},{"$f":"IFERROR(dispersió!$C$10*((dispersió!$E$40+'Càlculs interns'!K249)^dispersió!$D$10)*(2*LN('Càlculs interns'!L249/dispersió!$O$54))^(1/2),0)","v":1.5332560827914115},-1.5332560827914115,null,7.2605832607380938,{"$f":"IFERROR((letalitat!$P$11*1000)/((3.14159*dispersió!$C$10*((dispersió!$E$40+P249)^dispersió!$D$10)*dispersió!$E$10*((dispersió!$F$40+P249)^dispersió!$F$10)+dispersió!$C$24*dispersió!$D$40)*dispersió!$C$12),0)","v":1.1301013783313905},{"$f":"IFERROR(dispersió!$C$10*((dispersió!$E$40+'Càlculs interns'!P249)^dispersió!$D$10)*(2*LN('Càlculs interns'!Q249/dispersió!$O$61))^(1/2),0)","v":0.54796659902600675},-0.54796659902600675]
[67.877680776822544,{"$f":"IFERROR((letalitat!$P$11*1000)/((3.14159*dispersió!$C$10*((dispersió!$E$40+A250)^dispersió!$D$10)*dispersió!$E$10*((dispersió!$F$40+A250)^dispersió!$F$10)+dispersió!$C$24*dispersió!$D$40)*dispersió!$C$12),0)","v":0.27617373217407126},{"$f":"IFERROR(dispersió!$C$10*((dispersió!$E$40+'Càlculs interns'!A250)^dispersió!$D$10)*(2*LN('Càlculs interns'!B250/dispersió!$O$39))^(1/2),0)","v":2.0957619314633935},-2.0957619314633935,null,49.049091530421116,{"$f":"IFERROR((letalitat!$P$11*1000)/((3.14159*dispersió!$C$10*((dispersió!$E$40+F250)^dispersió!$D$10)*dispersió!$E$10*((dispersió!$F$40+F250)^dispersió!$F$10)+dispersió!$C$24*dispersió!$D$40)*dispersió!$C$12),0)","v":0.38583333863643704},{"$f":"IFERROR(dispersió!$C$10*((dispersió!$E$40+'Càlculs interns'!F250)^dispersió!$D$10)*(2*LN('Càlculs interns'!G250/dispersió!$O$46))^(1/2),0)","v":1.5916194666059031},-1.5916194666059031,null,31.091058558575803,{"$f":"IFERROR((letalitat!$P$11*1000)/((3.14159*dispersió!$C$10*((dispersió!$E$40+K250)^dispersió!$D$10)*dispersió!$E$10*((dispersió!$F$40+K250)^dispersió!$F$10)+dispersió!$C$24*dispersió!$D$40)*dispersió!$C$12),0)","v":0.5699431053222761},{"$f":"IFERROR(dispersió!$C$10*((dispersió!$E$40+'Càlculs interns'!K250)^dispersió!$D$10)*(2*LN('Càlculs interns'!L250/dispersió!$O$54))^(1/2),0)","v":1.0937282310314382},-1.0937282310314382,null,7.5198898057644543,{"$f":"IFERROR((letalitat!$P$11*1000)/((3.14159*dispersió!$C$10*((dispersió!$E$40+P250)^dispersió!$D$10)*dispersió!$E$10*((dispersió!$F$40+P250)^dispersió!$F$10)+dispersió!$C$24*dispersió!$D$40)*dispersió!$C$12),0)","v":1.1201738172105151},{"$f":"IFERROR(dispersió!$C$10*((dispersió!$E$40+'Càlculs interns'!P250)^dispersió!$D$10)*(2*LN('Càlculs interns'!Q250/dispersió!$O$61))^(1/2),0)","v":0.38745309626204744},-0.38745309626204744]
[{"$f":"dispersió!G40","v":70.218290458781908},{"$f":"IFERROR((letalitat!$P$11*1000)/((3.14159*dispersió!$C$10*((dispersió!$E$40+A251)^dispersió!$D$10)*dispersió!$E$10*((dispersió!$F$40+A251)^dispersió!$F$10)+dispersió!$C$24*dispersió!$D$40)*dispersió!$C$12),0)","v":0.26602112746301604},{"$f":"IFERROR(dispersió!$C$10*((dispersió!$E$40+'Càlculs interns'!A251)^dispersió!$D$10)*(2*LN('Càlculs interns'!B251/dispersió!$O$39))^(1/2),0)","v":0},0,null,{"$f":"dispersió!G47","v":50.740439514228761},{"$f":"IFERROR((letalitat!$P$11*1000)/((3.14159*dispersió!$C$10*((dispersió!$E$40+F251)^dispersió!$D$10)*dispersió!$E$10*((dispersió!$F$40+F251)^dispersió!$F$10)+dispersió!$C$24*dispersió!$D$40)*dispersió!$C$12),0)","v":0.37340123783619},{"$f":"IFERROR(dispersió!$C$10*((dispersió!$E$40+'Càlculs interns'!F251)^dispersió!$D$10)*(2*LN('Càlculs interns'!G251/dispersió!$O$46))^(1/2),0)","v":0},0,null,{"$f":"dispersió!G54","v":32.163164026112923},{"$f":"IFERROR((letalitat!$P$11*1000)/((3.14159*dispersió!$C$10*((dispersió!$E$40+K251)^dispersió!$D$10)*dispersió!$E$10*((dispersió!$F$40+K251)^dispersió!$F$10)+dispersió!$C$24*dispersió!$D$40)*dispersió!$C$12),0)","v":0.55544179468591037},{"$f":"IFERROR(dispersió!$C$10*((dispersió!$E$40+'Càlculs interns'!K251)^dispersió!$D$10)*(2*LN('Càlculs interns'!L251/dispersió!$O$54))^(1/2),0)","v":0},0,null,{"$f":"dispersió!G61","v":7.779196350790814},{"$f":"IFERROR((letalitat!$P$11*1000)/((3.14159*dispersió!$C$10*((dispersió!$E$40+P251)^dispersió!$D$10)*dispersió!$E$10*((dispersió!$F$40+P251)^dispersió!$F$10)+dispersió!$C$24*dispersió!$D$40)*dispersió!$C$12),0)","v":1.1103723836692299},{"$f":"IFERROR(dispersió!$C$10*((dispersió!$E$40+'Càlculs interns'!P251)^dispersió!$D$10)*(2*LN('Càlculs interns'!Q251/dispersió!$O$61))^(1/2),0)","v":0},0]
[]
["Est. F"]
["LC1",null,"LC1+","LC1-",null,"LC10",null,"LC10+","LC10-",null,"LC50",null,"LC50+","LC50-",null,"LC99",null,"LC99+","LC99-"]
["X","C(x)","y+","y-",null,"X","C(x)","y+","y-",null,"X","C(x)","y+","y-",null,"X","C(x)","y+","y-"]
[0,{"$f":"IFERROR((letalitat!$P$11*1000)/((3.14159*dispersió!$I$10*((dispersió!$J$40+A256)^dispersió!$J$10)*dispersió!$K$10*((dispersió!$K$40+A256)^dispersió!$L$10)+dispersió!$C$24*dispersió!$D$40)*dispersió!$I$12),0)","v":4.5176288858929885},{"$f":"IFERROR(dispersió!$I$10*((dispersió!$J$40+'Càlculs interns'!A256)^dispersió!$J$10)*(2*LN('Càlculs interns'!B256/dispersió!$O$39))^(1/2),0)","v":5.5344260717141216},{"$f":"-C256","v":-5.5344260717141216},null,0,{"$f":"IFERROR((letalitat!$P$11*1000)/((3.14159*dispersió!$I$10*((dispersió!$J$40+F256)^dispersió!$J$10)*dispersió!$K$10*((dispersió!$K$40+F256)^dispersió!$L$10)+dispersió!$C$24*dispersió!$D$40)*dispersió!$I$12),0)","v":4.5176288858929885},{"$f":"IFERROR(dispersió!$I$10*((dispersió!$J$40+'Càlculs interns'!F256)^dispersió!$J$10)*(2*LN('Càlculs interns'!G256/dispersió!$O$46))^(1/2),0)","v":5.1924252362035368},{"$f":"-H256","v":-5.1924252362035368},null,0,{"$f":"IFERROR((letalitat!$P$11*1000)/((3.14159*dispersió!$I$10*((dispersió!$J$40+K256)^dispersió!$J$10)*dispersió!$K$10*((dispersió!$K$40+K256)^dispersió!$L$10)+dispersió!$C$24*dispersió!$D$40)*dispersió!$I$12),0)","v":4.5176288858929885},{"$f":"IFERROR(dispersió!$I$10*((dispersió!$J$40+'Càlculs interns'!K256)^dispersió!$J$10)*(2*LN('Càlculs interns'!L256/dispersió!$O$54))^(1/2),0)","v":4.7608493663350417},{"$f":"-M256","v":-4.7608493663350417},null,0,{"$f":"IFERROR((letalitat!$P$11*1000)/((3.14159*dispersió!$I$10*((dispersió!$J$40+P256)^dispersió!$J$10)*dispersió!$K$10*((dispersió!$K$40+P256)^dispersió!$L$10)+dispersió!$C$24*dispersió!$D$40)*dispersió!$I$12),0)","v":4.5176288858929885},{"$f":"IFERROR(dispersió!$I$10*((dispersió!$J$40+'Càlculs interns'!P256)^dispersió!$J$10)*(2*LN('Càlculs interns'!Q256/dispersió!$O$61))^(1/2),0)","v":3.8957094680382727},{"$f":"-R256","v":-3.8957094680382727}]
[{"$f":"A286/30","v":16.720948362143918},{"$f":"IFERROR((letalitat!$P$11*1000)/((3.14159*dispersió!$I$10*((dispersió!$J$40+A257)^dispersió!$J$10)*dispersió!$K$10*((dispersió!$K$40+A257)^dispersió!$L$10)+dispersió!$C$24*dispersió!$D$40)*dispersió!$I$12),0)","v":3.5912239054924049},{"$f":"IFERROR(dispersió!$I$10*((dispersió!$J$40+'Càlculs interns'!A257)^dispersió!$J$10)*(2*LN('Càlculs interns'!B257/dispersió!$O$39))^(1/2),0)","v":6.8004882389421564},-6.8004882389421564,null,{"$f":"F286/30","v":12.899512569373389},{"$f":"IFERROR((letalitat!$P$11*1000)/((3.14159*dispersió!$I$10*((dispersió!$J$40+F257)^dispersió!$J$10)*dispersió!$K$10*((dispersió!$K$40+F257)^dispersió!$L$10)+dispersió!$C$24*dispersió!$D$40)*dispersió!$I$12),0)","v":3.7752707485664359},{"$f":"IFERROR(dispersió!$I$10*((dispersió!$J$40+'Càlculs interns'!F257)^dispersió!$J$10)*(2*LN('Càlculs interns'!G257/dispersió!$O$46))^(1/2),0)","v":6.0926131264112762},{"$f":"-H257","v":-6.0926131264112762},null,{"$f":"K286/30","v":9.3423347006891326},{"$f":"IFERROR((letalitat!$P$11*1000)/((3.14159*dispersió!$I$10*((dispersió!$J$40+K257)^dispersió!$J$10)*dispersió!$K$10*((dispersió!$K$40+K257)^dispersió!$L$10)+dispersió!$C$24*dispersió!$D$40)*dispersió!$I$12),0)","v":3.9600585683993281},{"$f":"IFERROR(dispersió!$I$10*((dispersió!$J$40+'Càlculs interns'!K257)^dispersió!$J$10)*(2*LN('Càlculs interns'!L257/dispersió!$O$54))^(1/2),0)","v":5.3386960020694456},{"$f":"-M257","v":-5.3386960020694456},null,{"$f":"P286/30","v":4.9012224764286998},{"$f":"IFERROR((letalitat!$P$11*1000)/((3.14159*dispersió!$I$10*((dispersió!$J$40+P257)^dispersió!$J$10)*dispersió!$K$10*((dispersió!$K$40+P257)^dispersió!$L$10)+dispersió!$C$24*dispersió!$D$40)*dispersió!$I$12),0)","v":4.211070411563437},{"$f":"IFERROR(dispersió!$I$10*((dispersió!$J$40+'Càlculs interns'!P257)^dispersió!$J$10)*(2*LN('Càlculs interns'!Q257/dispersió!$O$61))^(1/2),0)","v":4.1135730132481632},{"$f":"-R257","v":-4.1135730132481632}]
[{"$f":"A$257+A257","v":33.441896724287837},{"$f":"IFERROR((letalitat!$P$11*1000)/((3.14159*dispersió!$I$10*((dispersió!$J$40+A258)^dispersió!$J$10)*dispersió!$K$10*((dispersió!$K$40+A258)^dispersió!$L$10)+dispersió!$C$24*dispersió!$D$40)*dispersió!$I$12),0)","v":2.9294464161879721},{"$f":"IFERROR(dispersió!$I$10*((dispersió!$J$40+'Càlculs interns'!A258)^dispersió!$J$10)*(2*LN('Càlculs interns'!B258/dispersió!$O$39))^(1/2),0)","v":7.9304966948854005},-7.9304966948854005,null,{"$f":"F$257+F257","v":25.799025138746778},{"$f":"IFERROR((letalitat!$P$11*1000)/((3.14159*dispersió!$I$10*((dispersió!$J$40+F258)^dispersió!$J$10)*dispersió!$K$10*((dispersió!$K$40+F258)^dispersió!$L$10)+dispersió!$C$24*dispersió!$D$40)*dispersió!$I$12),0)","v":3.2060395002126558},{"$f":"IFERROR(dispersió!$I$10*((dispersió!$J$40+'Càlculs interns'!F258)^dispersió!$J$10)*(2*LN('Càlculs interns'!G258/dispersió!$O$46))^(1/2),0)","v":6.9046661469342263},-6.9046661469342263,null,{"$f":"K$257+K257","v":18.684669401378265},{"$f":"IFERROR((letalitat!$P$11*1000)/((3.14159*dispersió!$I$10*((dispersió!$J$40+K258)^dispersió!$J$10)*dispersió!$K$10*((dispersió!$K$40+K258)^dispersió!$L$10)+dispersió!$C$24*dispersió!$D$40)*dispersió!$I$12),0)","v":3.5020083571719223},{"$f":"IFERROR(dispersió!$I$10*((dispersió!$J$40+'Càlculs interns'!K258)^dispersió!$J$10)*(2*LN('Càlculs interns'!L258/dispersió!$O$54))^(1/2),0)","v":5.8652269495392018},-5.8652269495392018,null,{"$f":"P$257+P257","v":9.8024449528573996},{"$f":"IFERROR((letalitat!$P$11*1000)/((3.14159*dispersió!$I$10*((dispersió!$J$40+P258)^dispersió!$J$10)*dispersió!$K$10*((dispersió!$K$40+P258)^dispersió!$L$10)+dispersió!$C$24*dispersió!$D$40)*dispersió!$I$12),0)","v":3.935378809565504},{"$f":"IFERROR(dispersió!$I$10*((dispersió!$J$40+'Càlculs interns'!P258)^dispersió!$J$10)*(2*LN('Càlculs interns'!Q258/dispersió!$O$61))^(1/2),0)","v":4.3136819145061551},-4.3136819145061551]
[{"$f":"A$257+A258","v":50.162845086431759},{"$f":"IFERROR((letalitat!$P$11*1000)/((3.14159*dispersió!$I$10*((dispersió!$J$40+A259)^dispersió!$J$10)*dispersió!$K$10*((dispersió!$K$40+A259)^dispersió!$L$10)+dispersió!$C$24*dispersió!$D$40)*dispersió!$I$12),0)","v":2.4406113519714476},{"$f":"IFERROR(dispersió!$I$10*((dispersió!$J$40+'Càlculs interns'!A259)^dispersió!$J$10)*(2*LN('Càlculs interns'!B259/dispersió!$O$39))^(1/2),0)","v":8.9443556686127614},-8.9443556686127614,null,{"$f":"F$257+F258","v":38.69853770812017},{"$f":"IFERROR((letalitat!$P$11*1000)/((3.14159*dispersió!$I$10*((dispersió!$J$40+F259)^dispersió!$J$10)*dispersió!$K$10*((dispersió!$K$40+F259)^dispersió!$L$10)+dispersió!$C$24*dispersió!$D$40)*dispersió!$I$12),0)","v":2.7602879592609364},{"$f":"IFERROR(dispersió!$I$10*((dispersió!$J$40+'Càlculs interns'!F259)^dispersió!$J$10)*(2*LN('Càlculs interns'!G259/dispersió!$O$46))^(1/2),0)","v":7.6386392631361302},-7.6386392631361302,null,{"$f":"K$257+K258","v":28.027004102067398},{"$f":"IFERROR((letalitat!$P$11*1000)/((3.14159*dispersió!$I$10*((dispersió!$J$40+K259)^dispersió!$J$10)*dispersió!$K$10*((dispersió!$K$40+K259)^dispersió!$L$10)+dispersió!$C$24*dispersió!$D$40)*dispersió!$I$12),0)","v":3.1213256206537419},{"$f":"IFERROR(dispersió!$I$10*((dispersió!$J$40+'Càlculs interns'!K259)^dispersió!$J$10)*(2*LN('Càlculs interns'!L259/dispersió!$O$54))^(1/2),0)","v":6.3445312500464555},-6.3445312500464555,null,{"$f":"P$257+P258","v":14.703667429286099},{"$f":"IFERROR((letalitat!$P$11*1000)/((3.14159*dispersió!$I$10*((dispersió!$J$40+P259)^dispersió!$J$10)*dispersió!$K$10*((dispersió!$K$40+P259)^dispersió!$L$10)+dispersió!$C$24*dispersió!$D$40)*dispersió!$I$12),0)","v":3.6866010316644622},{"$f":"IFERROR(dispersió!$I$10*((dispersió!$J$40+'Càlculs interns'!P259)^dispersió!$J$10)*(2*LN('Càlculs interns'!Q259/dispersió!$O$61))^(1/2),0)","v":4.4965526292225002},-4.4965526292225002]
[66.883793448575673,{"$f":"IFERROR((letalitat!$P$11*1000)/((3.14159*dispersió!$I$10*((dispersió!$J$40+A260)^dispersió!$J$10)*dispersió!$K$10*((dispersió!$K$40+A260)^dispersió!$L$10)+dispersió!$C$24*dispersió!$D$40)*dispersió!$I$12),0)","v":2.0691650742687244},{"$f":"IFERROR(dispersió!$I$10*((dispersió!$J$40+'Càlculs interns'!A260)^dispersió!$J$10)*(2*LN('Càlculs interns'!B260/dispersió!$O$39))^(1/2),0)","v":9.8559889642392111},-9.8559889642392111,null,51.598050277493556,{"$f":"IFERROR((letalitat!$P$11*1000)/((3.14159*dispersió!$I$10*((dispersió!$J$40+F260)^dispersió!$J$10)*dispersió!$K$10*((dispersió!$K$40+F260)^dispersió!$L$10)+dispersió!$C$24*dispersió!$D$40)*dispersió!$I$12),0)","v":2.4047297718828577},{"$f":"IFERROR(dispersió!$I$10*((dispersió!$J$40+'Càlculs interns'!F260)^dispersió!$J$10)*(2*LN('Càlculs interns'!G260/dispersió!$O$46))^(1/2),0)","v":8.3019707109313856},-8.3019707109313856,null,37.369338802756531,{"$f":"IFERROR((letalitat!$P$11*1000)/((3.14159*dispersió!$I$10*((dispersió!$J$40+K260)^dispersió!$J$10)*dispersió!$K$10*((dispersió!$K$40+K260)^dispersió!$L$10)+dispersió!$C$24*dispersió!$D$40)*dispersió!$I$12),0)","v":2.8015849661859642},{"$f":"IFERROR(dispersió!$I$10*((dispersió!$J$40+'Càlculs interns'!K260)^dispersió!$J$10)*(2*LN('Càlculs interns'!L260/dispersió!$O$54))^(1/2),0)","v":6.7797988699659069},-6.7797988699659069,null,19.604889905714799,{"$f":"IFERROR((letalitat!$P$11*1000)/((3.14159*dispersió!$I$10*((dispersió!$J$40+P260)^dispersió!$J$10)*dispersió!$K$10*((dispersió!$K$40+P260)^dispersió!$L$10)+dispersió!$C$24*dispersió!$D$40)*dispersió!$I$12),0)","v":3.4613809964894395},{"$f":"IFERROR(dispersió!$I$10*((dispersió!$J$40+'Càlculs interns'!P260)^dispersió!$J$10)*(2*LN('Càlculs interns'!Q260/dispersió!$O$61))^(1/2),0)","v":4.6625970732136457},-4.6625970732136457]
[83.604741810719588,{"$f":"IFERROR((letalitat!$P$11*1000)/((3.14159*dispersió!$I$10*((dispersió!$J$40+A261)^dispersió!$J$10)*dispersió!$K$10*((dispersió!$K$40+A261)^dispersió!$L$10)+dispersió!$C$24*dispersió!$D$40)*dispersió!$I$12),0)","v":1.7800671429167323},{"$f":"IFERROR(dispersió!$I$10*((dispersió!$J$40+'Càlculs interns'!A261)^dispersió!$J$10)*(2*LN('Càlculs interns'!B261/dispersió!$O$39))^(1/2),0)","v":10.67554481816536},-10.67554481816536,null,64.497562846866941,{"$f":"IFERROR((letalitat!$P$11*1000)/((3.14159*dispersió!$I$10*((dispersió!$J$40+F261)^dispersió!$J$10)*dispersió!$K$10*((dispersió!$K$40+F261)^dispersió!$L$10)+dispersió!$C$24*dispersió!$D$40)*dispersió!$I$12),0)","v":2.1164795827635325},{"$f":"IFERROR(dispersió!$I$10*((dispersió!$J$40+'Càlculs interns'!F261)^dispersió!$J$10)*(2*LN('Càlculs interns'!G261/dispersió!$O$46))^(1/2),0)","v":8.9003041938804373},-8.9003041938804373,null,46.711673503445667,{"$f":"IFERROR((letalitat!$P$11*1000)/((3.14159*dispersió!$I$10*((dispersió!$J$40+K261)^dispersió!$J$10)*dispersió!$K$10*((dispersió!$K$40+K261)^dispersió!$L$10)+dispersió!$C$24*dispersió!$D$40)*dispersió!$I$12),0)","v":2.5304382255551472},{"$f":"IFERROR(dispersió!$I$10*((dispersió!$J$40+'Càlculs interns'!K261)^dispersió!$J$10)*(2*LN('Càlculs interns'!L261/dispersió!$O$54))^(1/2),0)","v":7.1735431242907133},-7.1735431242907133,null,24.506112382143499,{"$f":"IFERROR((letalitat!$P$11*1000)/((3.14159*dispersió!$I$10*((dispersió!$J$40+P261)^dispersió!$J$10)*dispersió!$K$10*((dispersió!$K$40+P261)^dispersió!$L$10)+dispersió!$C$24*dispersió!$D$40)*dispersió!$I$12),0)","v":3.2568578912529307},{"$f":"IFERROR(dispersió!$I$10*((dispersió!$J$40+'Càlculs interns'!P261)^dispersió!$J$10)*(2*LN('Càlculs interns'!Q261/dispersió!$O$61))^(1/2),0)","v":4.8121339646259047},-4.8121339646259047]
[100.3256901728635,{"$f":"IFERROR((letalitat!$P$11*1000)/((3.14159*dispersió!$I$10*((dispersió!$J$40+A262)^dispersió!$J$10)*dispersió!$K$10*((dispersió!$K$40+A262)^dispersió!$L$10)+dispersió!$C$24*dispersió!$D$40)*dispersió!$I$12),0)","v":1.5504092531451354},{"$f":"IFERROR(dispersió!$I$10*((dispersió!$J$40+'Càlculs interns'!A262)^dispersió!$J$10)*(2*LN('Càlculs interns'!B262/dispersió!$O$39))^(1/2),0)","v":11.410613017319335},-11.410613017319335,null,77.397075416240327,{"$f":"IFERROR((letalitat!$P$11*1000)/((3.14159*dispersió!$I$10*((dispersió!$J$40+F262)^dispersió!$J$10)*dispersió!$K$10*((dispersió!$K$40+F262)^dispersió!$L$10)+dispersió!$C$24*dispersió!$D$40)*dispersió!$I$12),0)","v":1.8794341058296593},{"$f":"IFERROR(dispersió!$I$10*((dispersió!$J$40+'Càlculs interns'!F262)^dispersió!$J$10)*(2*LN('Càlculs interns'!G262/dispersió!$O$46))^(1/2),0)","v":9.4379841778213809},-9.4379841778213809,null,56.054008204134803,{"$f":"IFERROR((letalitat!$P$11*1000)/((3.14159*dispersió!$I$10*((dispersió!$J$40+K262)^dispersió!$J$10)*dispersió!$K$10*((dispersió!$K$40+K262)^dispersió!$L$10)+dispersió!$C$24*dispersió!$D$40)*dispersió!$I$12),0)","v":2.2984802742698531},{"$f":"IFERROR(dispersió!$I$10*((dispersió!$J$40+'Càlculs interns'!K262)^dispersió!$J$10)*(2*LN('Càlculs interns'!L262/dispersió!$O$54))^(1/2),0)","v":7.5277472867313433},-7.5277472867313433,null,29.407334858572199,{"$f":"IFERROR((letalitat!$P$11*1000)/((3.14159*dispersió!$I$10*((dispersió!$J$40+P262)^dispersió!$J$10)*dispersió!$K$10*((dispersió!$K$40+P262)^dispersió!$L$10)+dispersió!$C$24*dispersió!$D$40)*dispersió!$I$12),0)","v":3.0705835160966339},{"$f":"IFERROR(dispersió!$I$10*((dispersió!$J$40+'Càlculs interns'!P262)^dispersió!$J$10)*(2*LN('Càlculs interns'!Q262/dispersió!$O$61))^(1/2),0)","v":4.9453966791229229},-4.9453966791229229]
[117.04663853500742,{"$f":"IFERROR((letalitat!$P$11*1000)/((3.14159*dispersió!$I$10*((dispersió!$J$40+A263)^dispersió!$J$10)*dispersió!$K$10*((dispersió!$K$40+A263)^dispersió!$L$10)+dispersió!$C$24*dispersió!$D$40)*dispersió!$I$12),0)","v":1.3647321649113247},{"$f":"IFERROR(dispersió!$I$10*((dispersió!$J$40+'Càlculs interns'!A263)^dispersió!$J$10)*(2*LN('Càlculs interns'!B263/dispersió!$O$39))^(1/2),0)","v":12.066954712762437},-12.066954712762437,null,90.296587985613712,{"$f":"IFERROR((letalitat!$P$11*1000)/((3.14159*dispersió!$I$10*((dispersió!$J$40+F263)^dispersió!$J$10)*dispersió!$K$10*((dispersió!$K$40+F263)^dispersió!$L$10)+dispersió!$C$24*dispersió!$D$40)*dispersió!$I$12),0)","v":1.682019401778615},{"$f":"IFERROR(dispersió!$I$10*((dispersió!$J$40+'Càlculs interns'!F263)^dispersió!$J$10)*(2*LN('Càlculs interns'!G263/dispersió!$O$46))^(1/2),0)","v":9.9183729614656091},-9.9183729614656091,null,65.396342904823939,{"$f":"IFERROR((letalitat!$P$11*1000)/((3.14159*dispersió!$I$10*((dispersió!$J$40+K263)^dispersió!$J$10)*dispersió!$K$10*((dispersió!$K$40+K263)^dispersió!$L$10)+dispersió!$C$24*dispersió!$D$40)*dispersió!$I$12),0)","v":2.0984587263259087},{"$f":"IFERROR(dispersió!$I$10*((dispersió!$J$40+'Càlculs interns'!K263)^dispersió!$J$10)*(2*LN('Càlculs interns'!L263/dispersió!$O$54))^(1/2),0)","v":7.8439647938424235},-7.8439647938424235,null,34.308557335000899,{"$f":"IFERROR((letalitat!$P$11*1000)/((3.14159*dispersió!$I$10*((dispersió!$J$40+P263)^dispersió!$J$10)*dispersió!$K$10*((dispersió!$K$40+P263)^dispersió!$L$10)+dispersió!$C$24*dispersió!$D$40)*dispersió!$I$12),0)","v":2.9004547860579839},{"$f":"IFERROR(dispersió!$I$10*((dispersió!$J$40+'Càlculs interns'!P263)^dispersió!$J$10)*(2*LN('Càlculs interns'!Q263/dispersió!$O$61))^(1/2),0)","v":5.062538352512302},-5.062538352512302]
[133.76758689715135,{"$f":"IFERROR((letalitat!$P$11*1000)/((3.14159*dispersió!$I$10*((dispersió!$J$40+A264)^dispersió!$J$10)*dispersió!$K$10*((dispersió!$K$40+A264)^dispersió!$L$10)+dispersió!$C$24*dispersió!$D$40)*dispersió!$I$12),0)","v":1.21230762086628},{"$f":"IFERROR(dispersió!$I$10*((dispersió!$J$40+'Càlculs interns'!A264)^dispersió!$J$10)*(2*LN('Càlculs interns'!B264/dispersió!$O$39))^(1/2),0)","v":12.648964271180798},-12.648964271180798,null,103.1961005549871,{"$f":"IFERROR((letalitat!$P$11*1000)/((3.14159*dispersió!$I$10*((dispersió!$J$40+F264)^dispersió!$J$10)*dispersió!$K$10*((dispersió!$K$40+F264)^dispersió!$L$10)+dispersió!$C$24*dispersió!$D$40)*dispersió!$I$12),0)","v":1.5157547718446611},{"$f":"IFERROR(dispersió!$I$10*((dispersió!$J$40+'Càlculs interns'!F264)^dispersió!$J$10)*(2*LN('Càlculs interns'!G264/dispersió!$O$46))^(1/2),0)","v":10.344061632582674},-10.344061632582674,null,74.738677605513075,{"$f":"IFERROR((letalitat!$P$11*1000)/((3.14159*dispersió!$I$10*((dispersió!$J$40+K264)^dispersió!$J$10)*dispersió!$K$10*((dispersió!$K$40+K264)^dispersió!$L$10)+dispersió!$C$24*dispersió!$D$40)*dispersió!$I$12),0)","v":1.9247160527187708},{"$f":"IFERROR(dispersió!$I$10*((dispersió!$J$40+'Càlculs interns'!K264)^dispersió!$J$10)*(2*LN('Càlculs interns'!L264/dispersió!$O$54))^(1/2),0)","v":8.1233890006723435},-8.1233890006723435,null,39.209779811429598,{"$f":"IFERROR((letalitat!$P$11*1000)/((3.14159*dispersió!$I$10*((dispersió!$J$40+P264)^dispersió!$J$10)*dispersió!$K$10*((dispersió!$K$40+P264)^dispersió!$L$10)+dispersió!$C$24*dispersió!$D$40)*dispersió!$I$12),0)","v":2.7446583833119922},{"$f":"IFERROR(dispersió!$I$10*((dispersió!$J$40+'Càlculs interns'!P264)^dispersió!$J$10)*(2*LN('Càlculs interns'!Q264/dispersió!$O$61))^(1/2),0)","v":5.1636346630801402},-5.1636346630801402]
[150.48853525929528,{"$f":"IFERROR((letalitat!$P$11*1000)/((3.14159*dispersió!$I$10*((dispersió!$J$40+A265)^dispersió!$J$10)*dispersió!$K$10*((dispersió!$K$40+A265)^dispersió!$L$10)+dispersió!$C$24*dispersió!$D$40)*dispersió!$I$12),0)","v":1.0855044728043439},{"$f":"IFERROR(dispersió!$I$10*((dispersió!$J$40+'Càlculs interns'!A265)^dispersió!$J$10)*(2*LN('Càlculs interns'!B265/dispersió!$O$39))^(1/2),0)","v":13.159972045983141},-13.159972045983141,null,116.09561312436048,{"$f":"IFERROR((letalitat!$P$11*1000)/((3.14159*dispersió!$I$10*((dispersió!$J$40+F265)^dispersió!$J$10)*dispersió!$K$10*((dispersió!$K$40+F265)^dispersió!$L$10)+dispersió!$C$24*dispersió!$D$40)*dispersió!$I$12),0)","v":1.374316156571125},{"$f":"IFERROR(dispersió!$I$10*((dispersió!$J$40+'Càlculs interns'!F265)^dispersió!$J$10)*(2*LN('Càlculs interns'!G265/dispersió!$O$46))^(1/2),0)","v":10.717013498968599},-10.717013498968599,null,84.081012306202211,{"$f":"IFERROR((letalitat!$P$11*1000)/((3.14159*dispersió!$I$10*((dispersió!$J$40+K265)^dispersió!$J$10)*dispersió!$K$10*((dispersió!$K$40+K265)^dispersió!$L$10)+dispersió!$C$24*dispersió!$D$40)*dispersió!$I$12),0)","v":1.7727907554755289},{"$f":"IFERROR(dispersió!$I$10*((dispersió!$J$40+'Càlculs interns'!K265)^dispersió!$J$10)*(2*LN('Càlculs interns'!L265/dispersió!$O$54))^(1/2),0)","v":8.3669017286571474},-8.3669017286571474,null,44.111002287858298,{"$f":"IFERROR((letalitat!$P$11*1000)/((3.14159*dispersió!$I$10*((dispersió!$J$40+P265)^dispersió!$J$10)*dispersió!$K$10*((dispersió!$K$40+P265)^dispersió!$L$10)+dispersió!$C$24*dispersió!$D$40)*dispersió!$I$12),0)","v":2.601625198979916},{"$f":"IFERROR(dispersió!$I$10*((dispersió!$J$40+'Càlculs interns'!P265)^dispersió!$J$10)*(2*LN('Càlculs interns'!Q265/dispersió!$O$61))^(1/2),0)","v":5.2486845152790513},-5.2486845152790513]
[167.2094836214392,{"$f":"IFERROR((letalitat!$P$11*1000)/((3.14159*dispersió!$I$10*((dispersió!$J$40+A266)^dispersió!$J$10)*dispersió!$K$10*((dispersió!$K$40+A266)^dispersió!$L$10)+dispersió!$C$24*dispersió!$D$40)*dispersió!$I$12),0)","v":0.97877469216372726},{"$f":"IFERROR(dispersió!$I$10*((dispersió!$J$40+'Càlculs interns'!A266)^dispersió!$J$10)*(2*LN('Càlculs interns'!B266/dispersió!$O$39))^(1/2),0)","v":13.602446727211012},-13.602446727211012,null,128.99512569373388,{"$f":"IFERROR((letalitat!$P$11*1000)/((3.14159*dispersió!$I$10*((dispersió!$J$40+F266)^dispersió!$J$10)*dispersió!$K$10*((dispersió!$K$40+F266)^dispersió!$L$10)+dispersió!$C$24*dispersió!$D$40)*dispersió!$I$12),0)","v":1.2529120411244372},{"$f":"IFERROR(dispersió!$I$10*((dispersió!$J$40+'Càlculs interns'!F266)^dispersió!$J$10)*(2*LN('Càlculs interns'!G266/dispersió!$O$46))^(1/2),0)","v":11.038662039555881},-11.038662039555881,null,93.423347006891348,{"$f":"IFERROR((letalitat!$P$11*1000)/((3.14159*dispersió!$I$10*((dispersió!$J$40+K266)^dispersió!$J$10)*dispersió!$K$10*((dispersió!$K$40+K266)^dispersió!$L$10)+dispersió!$C$24*dispersió!$D$40)*dispersió!$I$12),0)","v":1.6391287168062347},{"$f":"IFERROR(dispersió!$I$10*((dispersió!$J$40+'Càlculs interns'!K266)^dispersió!$J$10)*(2*LN('Càlculs interns'!L266/dispersió!$O$54))^(1/2),0)","v":8.5751061646027935},-8.5751061646027935,null,49.012224764286998,{"$f":"IFERROR((letalitat!$P$11*1000)/((3.14159*dispersió!$I$10*((dispersió!$J$40+P266)^dispersió!$J$10)*dispersió!$K$10*((dispersió!$K$40+P266)^dispersió!$L$10)+dispersió!$C$24*dispersió!$D$40)*dispersió!$I$12),0)","v":2.469992695253548},{"$f":"IFERROR(dispersió!$I$10*((dispersió!$J$40+'Càlculs interns'!P266)^dispersió!$J$10)*(2*LN('Càlculs interns'!Q266/dispersió!$O$61))^(1/2),0)","v":5.3176086826285625},-5.3176086826285625]
[183.93043198358313,{"$f":"IFERROR((letalitat!$P$11*1000)/((3.14159*dispersió!$I$10*((dispersió!$J$40+A267)^dispersió!$J$10)*dispersió!$K$10*((dispersió!$K$40+A267)^dispersió!$L$10)+dispersió!$C$24*dispersió!$D$40)*dispersió!$I$12),0)","v":0.88800565869839176},{"$f":"IFERROR(dispersió!$I$10*((dispersió!$J$40+'Càlculs interns'!A267)^dispersió!$J$10)*(2*LN('Càlculs interns'!B267/dispersió!$O$39))^(1/2),0)","v":13.978130640733747},-13.978130640733747,null,141.89463826310728,{"$f":"IFERROR((letalitat!$P$11*1000)/((3.14159*dispersió!$I$10*((dispersió!$J$40+F267)^dispersió!$J$10)*dispersió!$K$10*((dispersió!$K$40+F267)^dispersió!$L$10)+dispersió!$C$24*dispersió!$D$40)*dispersió!$I$12),0)","v":1.1478591689336428},{"$f":"IFERROR(dispersió!$I$10*((dispersió!$J$40+'Càlculs interns'!F267)^dispersió!$J$10)*(2*LN('Càlculs interns'!G267/dispersió!$O$46))^(1/2),0)","v":11.309976470048356},-11.309976470048356,null,102.76568170758048,{"$f":"IFERROR((letalitat!$P$11*1000)/((3.14159*dispersió!$I$10*((dispersió!$J$40+K267)^dispersió!$J$10)*dispersió!$K$10*((dispersió!$K$40+K267)^dispersió!$L$10)+dispersió!$C$24*dispersió!$D$40)*dispersió!$I$12),0)","v":1.5208717872555433},{"$f":"IFERROR(dispersió!$I$10*((dispersió!$J$40+'Càlculs interns'!K267)^dispersió!$J$10)*(2*LN('Càlculs interns'!L267/dispersió!$O$54))^(1/2),0)","v":8.7483474710880422},-8.7483474710880422,null,53.913447240715698,{"$f":"IFERROR((letalitat!$P$11*1000)/((3.14159*dispersió!$I$10*((dispersió!$J$40+P267)^dispersió!$J$10)*dispersió!$K$10*((dispersió!$K$40+P267)^dispersió!$L$10)+dispersió!$C$24*dispersió!$D$40)*dispersió!$I$12),0)","v":2.3485736990977606},{"$f":"IFERROR(dispersió!$I$10*((dispersió!$J$40+'Càlculs interns'!P267)^dispersió!$J$10)*(2*LN('Càlculs interns'!Q267/dispersió!$O$61))^(1/2),0)","v":5.3702463212282394},-5.3702463212282394]
[200.65138034572706,{"$f":"IFERROR((letalitat!$P$11*1000)/((3.14159*dispersió!$I$10*((dispersió!$J$40+A268)^dispersió!$J$10)*dispersió!$K$10*((dispersió!$K$40+A268)^dispersió!$L$10)+dispersió!$C$24*dispersió!$D$40)*dispersió!$I$12),0)","v":0.8100955037485017},{"$f":"IFERROR(dispersió!$I$10*((dispersió!$J$40+'Càlculs interns'!A268)^dispersió!$J$10)*(2*LN('Càlculs interns'!B268/dispersió!$O$39))^(1/2),0)","v":14.288127573810852},-14.288127573810852,null,154.79415083248068,{"$f":"IFERROR((letalitat!$P$11*1000)/((3.14159*dispersió!$I$10*((dispersió!$J$40+F268)^dispersió!$J$10)*dispersió!$K$10*((dispersió!$K$40+F268)^dispersió!$L$10)+dispersió!$C$24*dispersió!$D$40)*dispersió!$I$12),0)","v":1.056288670105004},{"$f":"IFERROR(dispersió!$I$10*((dispersió!$J$40+'Càlculs interns'!F268)^dispersió!$J$10)*(2*LN('Càlculs interns'!G268/dispersió!$O$46))^(1/2),0)","v":11.53150277545727},-11.53150277545727,null,112.10801640826962,{"$f":"IFERROR((letalitat!$P$11*1000)/((3.14159*dispersió!$I$10*((dispersió!$J$40+K268)^dispersió!$J$10)*dispersió!$K$10*((dispersió!$K$40+K268)^dispersió!$L$10)+dispersió!$C$24*dispersió!$D$40)*dispersió!$I$12),0)","v":1.4157011673542361},{"$f":"IFERROR(dispersió!$I$10*((dispersió!$J$40+'Càlculs interns'!K268)^dispersió!$J$10)*(2*LN('Càlculs interns'!L268/dispersió!$O$54))^(1/2),0)","v":8.8867230307174321},-8.8867230307174321,null,58.814669717144398,{"$f":"IFERROR((letalitat!$P$11*1000)/((3.14159*dispersió!$I$10*((dispersió!$J$40+P268)^dispersió!$J$10)*dispersió!$K$10*((dispersió!$K$40+P268)^dispersió!$L$10)+dispersió!$C$24*dispersió!$D$40)*dispersió!$I$12),0)","v":2.2363304367090597},{"$f":"IFERROR(dispersió!$I$10*((dispersió!$J$40+'Càlculs interns'!P268)^dispersió!$J$10)*(2*LN('Càlculs interns'!Q268/dispersió!$O$61))^(1/2),0)","v":5.4063491136619684},-5.4063491136619684]
[217.37232870787099,{"$f":"IFERROR((letalitat!$P$11*1000)/((3.14159*dispersió!$I$10*((dispersió!$J$40+A269)^dispersió!$J$10)*dispersió!$K$10*((dispersió!$K$40+A269)^dispersió!$L$10)+dispersió!$C$24*dispersió!$D$40)*dispersió!$I$12),0)","v":0.74266807310312433},{"$f":"IFERROR(dispersió!$I$10*((dispersió!$J$40+'Càlculs interns'!A269)^dispersió!$J$10)*(2*LN('Càlculs interns'!B269/dispersió!$O$39))^(1/2),0)","v":14.532954604197506},-14.532954604197506,null,167.69366340185408,{"$f":"IFERROR((letalitat!$P$11*1000)/((3.14159*dispersió!$I$10*((dispersió!$J$40+F269)^dispersió!$J$10)*dispersió!$K$10*((dispersió!$K$40+F269)^dispersió!$L$10)+dispersió!$C$24*dispersió!$D$40)*dispersió!$I$12),0)","v":0.97593897884192371},{"$f":"IFERROR(dispersió!$I$10*((dispersió!$J$40+'Càlculs interns'!F269)^dispersió!$J$10)*(2*LN('Càlculs interns'!G269/dispersió!$O$46))^(1/2),0)","v":11.703384728227636},-11.703384728227636,null,121.45035110895876,{"$f":"IFERROR((letalitat!$P$11*1000)/((3.14159*dispersió!$I$10*((dispersió!$J$40+K269)^dispersió!$J$10)*dispersió!$K$10*((dispersió!$K$40+K269)^dispersió!$L$10)+dispersió!$C$24*dispersió!$D$40)*dispersió!$I$12),0)","v":1.3217201112311485},{"$f":"IFERROR(dispersió!$I$10*((dispersió!$J$40+'Càlculs interns'!K269)^dispersió!$J$10)*(2*LN('Càlculs interns'!L269/dispersió!$O$54))^(1/2),0)","v":8.990083194413879},-8.990083194413879,null,63.715892193573097,{"$f":"IFERROR((letalitat!$P$11*1000)/((3.14159*dispersió!$I$10*((dispersió!$J$40+P269)^dispersió!$J$10)*dispersió!$K$10*((dispersió!$K$40+P269)^dispersió!$L$10)+dispersió!$C$24*dispersió!$D$40)*dispersió!$I$12),0)","v":2.1323528527871569},{"$f":"IFERROR(dispersió!$I$10*((dispersió!$J$40+'Càlculs interns'!P269)^dispersió!$J$10)*(2*LN('Càlculs interns'!Q269/dispersió!$O$61))^(1/2),0)","v":5.4255726245722427},-5.4255726245722427]
[234.09327707001492,{"$f":"IFERROR((letalitat!$P$11*1000)/((3.14159*dispersió!$I$10*((dispersió!$J$40+A270)^dispersió!$J$10)*dispersió!$K$10*((dispersió!$K$40+A270)^dispersió!$L$10)+dispersió!$C$24*dispersió!$D$40)*dispersió!$I$12),0)","v":0.68387749585887969},{"$f":"IFERROR(dispersió!$I$10*((dispersió!$J$40+'Càlculs interns'!A270)^dispersió!$J$10)*(2*LN('Càlculs interns'!B270/dispersió!$O$39))^(1/2),0)","v":14.712564232196867},-14.712564232196867,null,180.59317597122748,{"$f":"IFERROR((letalitat!$P$11*1000)/((3.14159*dispersió!$I$10*((dispersió!$J$40+F270)^dispersió!$J$10)*dispersió!$K$10*((dispersió!$K$40+F270)^dispersió!$L$10)+dispersió!$C$24*dispersió!$D$40)*dispersió!$I$12),0)","v":0.9050075645499156},{"$f":"IFERROR(dispersió!$I$10*((dispersió!$J$40+'Càlculs interns'!F270)^dispersió!$J$10)*(2*LN('Càlculs interns'!G270/dispersió!$O$46))^(1/2),0)","v":11.825367056891155},-11.825367056891155,null,130.79268580964788,{"$f":"IFERROR((letalitat!$P$11*1000)/((3.14159*dispersió!$I$10*((dispersió!$J$40+K270)^dispersió!$J$10)*dispersió!$K$10*((dispersió!$K$40+K270)^dispersió!$L$10)+dispersió!$C$24*dispersió!$D$40)*dispersió!$I$12),0)","v":1.2373651661287042},{"$f":"IFERROR(dispersió!$I$10*((dispersió!$J$40+'Càlculs interns'!K270)^dispersió!$J$10)*(2*LN('Càlculs interns'!L270/dispersió!$O$54))^(1/2),0)","v":9.0580225138049464},-9.0580225138049464,null,68.617114670001797,{"$f":"IFERROR((letalitat!$P$11*1000)/((3.14159*dispersió!$I$10*((dispersió!$J$40+P270)^dispersió!$J$10)*dispersió!$K$10*((dispersió!$K$40+P270)^dispersió!$L$10)+dispersió!$C$24*dispersió!$D$40)*dispersió!$I$12),0)","v":2.0358404447377971},{"$f":"IFERROR(dispersió!$I$10*((dispersió!$J$40+'Càlculs interns'!P270)^dispersió!$J$10)*(2*LN('Càlculs interns'!Q270/dispersió!$O$61))^(1/2),0)","v":5.4274642175555652},-5.4274642175555652]
[250.81422543215885,{"$f":"IFERROR((letalitat!$P$11*1000)/((3.14159*dispersió!$I$10*((dispersió!$J$40+A271)^dispersió!$J$10)*dispersió!$K$10*((dispersió!$K$40+A271)^dispersió!$L$10)+dispersió!$C$24*dispersió!$D$40)*dispersió!$I$12),0)","v":0.63227158407078066},{"$f":"IFERROR(dispersió!$I$10*((dispersió!$J$40+'Càlculs interns'!A271)^dispersió!$J$10)*(2*LN('Càlculs interns'!B271/dispersió!$O$39))^(1/2),0)","v":14.82633939430743},-14.82633939430743,null,193.49268854060088,{"$f":"IFERROR((letalitat!$P$11*1000)/((3.14159*dispersió!$I$10*((dispersió!$J$40+F271)^dispersió!$J$10)*dispersió!$K$10*((dispersió!$K$40+F271)^dispersió!$L$10)+dispersió!$C$24*dispersió!$D$40)*dispersió!$I$12),0)","v":0.84204319796080251},{"$f":"IFERROR(dispersió!$I$10*((dispersió!$J$40+'Càlculs interns'!F271)^dispersió!$J$10)*(2*LN('Càlculs interns'!G271/dispersió!$O$46))^(1/2),0)","v":11.896781011093839},-11.896781011093839,null,140.135020510337,{"$f":"IFERROR((letalitat!$P$11*1000)/((3.14159*dispersió!$I$10*((dispersió!$J$40+K271)^dispersió!$J$10)*dispersió!$K$10*((dispersió!$K$40+K271)^dispersió!$L$10)+dispersió!$C$24*dispersió!$D$40)*dispersió!$I$12),0)","v":1.1613383438896248},{"$f":"IFERROR(dispersió!$I$10*((dispersió!$J$40+'Càlculs interns'!K271)^dispersió!$J$10)*(2*LN('Càlculs interns'!L271/dispersió!$O$54))^(1/2),0)","v":9.0898605454220096},-9.0898605454220096,null,73.518337146430497,{"$f":"IFERROR((letalitat!$P$11*1000)/((3.14159*dispersió!$I$10*((dispersió!$J$40+P271)^dispersió!$J$10)*dispersió!$K$10*((dispersió!$K$40+P271)^dispersió!$L$10)+dispersió!$C$24*dispersió!$D$40)*dispersió!$I$12),0)","v":1.9460869898455608},{"$f":"IFERROR(dispersió!$I$10*((dispersió!$J$40+'Càlculs interns'!P271)^dispersió!$J$10)*(2*LN('Càlculs interns'!Q271/dispersió!$O$61))^(1/2),0)","v":5.4114465610851097},{"$f":"-R271","v":-5.4114465610851097}]
[267.53517379430275,{"$f":"IFERROR((letalitat!$P$11*1000)/((3.14159*dispersió!$I$10*((dispersió!$J$40+A272)^dispersió!$J$10)*dispersió!$K$10*((dispersió!$K$40+A272)^dispersió!$L$10)+dispersió!$C$24*dispersió!$D$40)*dispersió!$I$12),0)","v":0.58669466653414948},{"$f":"IFERROR(dispersió!$I$10*((dispersió!$J$40+'Càlculs interns'!A272)^dispersió!$J$10)*(2*LN('Càlculs interns'!B272/dispersió!$O$39))^(1/2),0)","v":14.87306078125725},-14.87306078125725,null,206.39220110997428,{"$f":"IFERROR((letalitat!$P$11*1000)/((3.14159*dispersió!$I$10*((dispersió!$J$40+F272)^dispersió!$J$10)*dispersió!$K$10*((dispersió!$K$40+F272)^dispersió!$L$10)+dispersió!$C$24*dispersió!$D$40)*dispersió!$I$12),0)","v":0.78586659705111628},{"$f":"IFERROR(dispersió!$I$10*((dispersió!$J$40+'Càlculs interns'!F272)^dispersió!$J$10)*(2*LN('Càlculs interns'!G272/dispersió!$O$46))^(1/2),0)","v":11.916510693225902},-11.916510693225902,null,149.47735521102612,{"$f":"IFERROR((letalitat!$P$11*1000)/((3.14159*dispersió!$I$10*((dispersió!$J$40+K272)^dispersió!$J$10)*dispersió!$K$10*((dispersió!$K$40+K272)^dispersió!$L$10)+dispersió!$C$24*dispersió!$D$40)*dispersió!$I$12),0)","v":1.0925548051882299},{"$f":"IFERROR(dispersió!$I$10*((dispersió!$J$40+'Càlculs interns'!K272)^dispersió!$J$10)*(2*LN('Càlculs interns'!L272/dispersió!$O$54))^(1/2),0)","v":9.084610259980975},-9.084610259980975,null,78.419559622859197,{"$f":"IFERROR((letalitat!$P$11*1000)/((3.14159*dispersió!$I$10*((dispersió!$J$40+P272)^dispersió!$J$10)*dispersió!$K$10*((dispersió!$K$40+P272)^dispersió!$L$10)+dispersió!$C$24*dispersió!$D$40)*dispersió!$I$12),0)","v":1.8624676614128273},{"$f":"IFERROR(dispersió!$I$10*((dispersió!$J$40+'Càlculs interns'!P272)^dispersió!$J$10)*(2*LN('Càlculs interns'!Q272/dispersió!$O$61))^(1/2),0)","v":5.3767952809530071},-5.3767952809530071]
[284.25612215644668,{"$f":"IFERROR((letalitat!$P$11*1000)/((3.14159*dispersió!$I$10*((dispersió!$J$40+A273)^dispersió!$J$10)*dispersió!$K$10*((dispersió!$K$40+A273)^dispersió!$L$10)+dispersió!$C$24*dispersió!$D$40)*dispersió!$I$12),0)","v":0.5462173601261644},{"$f":"IFERROR(dispersió!$I$10*((dispersió!$J$40+'Càlculs interns'!A273)^dispersió!$J$10)*(2*LN('Càlculs interns'!B273/dispersió!$O$39))^(1/2),0)","v":14.850842606691982},-14.850842606691982,null,219.29171367934768,{"$f":"IFERROR((letalitat!$P$11*1000)/((3.14159*dispersió!$I$10*((dispersió!$J$40+F273)^dispersió!$J$10)*dispersió!$K$10*((dispersió!$K$40+F273)^dispersió!$L$10)+dispersió!$C$24*dispersió!$D$40)*dispersió!$I$12),0)","v":0.73551123509750249},{"$f":"IFERROR(dispersió!$I$10*((dispersió!$J$40+'Càlculs interns'!F273)^dispersió!$J$10)*(2*LN('Càlculs interns'!G273/dispersió!$O$46))^(1/2),0)","v":11.88293632065724},-11.88293632065724,null,158.81968991171524,{"$f":"IFERROR((letalitat!$P$11*1000)/((3.14159*dispersió!$I$10*((dispersió!$J$40+K273)^dispersió!$J$10)*dispersió!$K$10*((dispersió!$K$40+K273)^dispersió!$L$10)+dispersió!$C$24*dispersió!$D$40)*dispersió!$I$12),0)","v":1.0301021534334329},{"$f":"IFERROR(dispersió!$I$10*((dispersió!$J$40+'Càlculs interns'!K273)^dispersió!$J$10)*(2*LN('Càlculs interns'!L273/dispersió!$O$54))^(1/2),0)","v":9.0409306691003959},-9.0409306691003959,null,83.320782099287896,{"$f":"IFERROR((letalitat!$P$11*1000)/((3.14159*dispersió!$I$10*((dispersió!$J$40+P273)^dispersió!$J$10)*dispersió!$K$10*((dispersió!$K$40+P273)^dispersió!$L$10)+dispersió!$C$24*dispersió!$D$40)*dispersió!$I$12),0)","v":1.7844281241901954},{"$f":"IFERROR(dispersió!$I$10*((dispersió!$J$40+'Càlculs interns'!P273)^dispersió!$J$10)*(2*LN('Càlculs interns'!Q273/dispersió!$O$61))^(1/2),0)","v":5.3226086023776276},-5.3226086023776276]
[300.97707051859061,{"$f":"IFERROR((letalitat!$P$11*1000)/((3.14159*dispersió!$I$10*((dispersió!$J$40+A274)^dispersió!$J$10)*dispersió!$K$10*((dispersió!$K$40+A274)^dispersió!$L$10)+dispersió!$C$24*dispersió!$D$40)*dispersió!$I$12),0)","v":0.51008506380574481},{"$f":"IFERROR(dispersió!$I$10*((dispersió!$J$40+'Càlculs interns'!A274)^dispersió!$J$10)*(2*LN('Càlculs interns'!B274/dispersió!$O$39))^(1/2),0)","v":14.757028850146497},-14.757028850146497,null,232.19122624872108,{"$f":"IFERROR((letalitat!$P$11*1000)/((3.14159*dispersió!$I$10*((dispersió!$J$40+F274)^dispersió!$J$10)*dispersió!$K$10*((dispersió!$K$40+F274)^dispersió!$L$10)+dispersió!$C$24*dispersió!$D$40)*dispersió!$I$12),0)","v":0.69017866882822843},{"$f":"IFERROR(dispersió!$I$10*((dispersió!$J$40+'Càlculs interns'!F274)^dispersió!$J$10)*(2*LN('Càlculs interns'!G274/dispersió!$O$46))^(1/2),0)","v":11.793847564869894},-11.793847564869894,null,168.16202461240437,{"$f":"IFERROR((letalitat!$P$11*1000)/((3.14159*dispersió!$I$10*((dispersió!$J$40+K274)^dispersió!$J$10)*dispersió!$K$10*((dispersió!$K$40+K274)^dispersió!$L$10)+dispersió!$C$24*dispersió!$D$40)*dispersió!$I$12),0)","v":0.97320849862957759},{"$f":"IFERROR(dispersió!$I$10*((dispersió!$J$40+'Càlculs interns'!K274)^dispersió!$J$10)*(2*LN('Càlculs interns'!L274/dispersió!$O$54))^(1/2),0)","v":8.9570581792854043},-8.9570581792854043,null,88.222004575716596,{"$f":"IFERROR((letalitat!$P$11*1000)/((3.14159*dispersió!$I$10*((dispersió!$J$40+P274)^dispersió!$J$10)*dispersió!$K$10*((dispersió!$K$40+P274)^dispersió!$L$10)+dispersió!$C$24*dispersió!$D$40)*dispersió!$I$12),0)","v":1.711475275066126},{"$f":"IFERROR(dispersió!$I$10*((dispersió!$J$40+'Càlculs interns'!P274)^dispersió!$J$10)*(2*LN('Càlculs interns'!Q274/dispersió!$O$61))^(1/2),0)","v":5.2477657005422778},-5.2477657005422778]
[317.69801888073454,{"$f":"IFERROR((letalitat!$P$11*1000)/((3.14159*dispersió!$I$10*((dispersió!$J$40+A275)^dispersió!$J$10)*dispersió!$K$10*((dispersió!$K$40+A275)^dispersió!$L$10)+dispersió!$C$24*dispersió!$D$40)*dispersió!$I$12),0)","v":0.47767967414785223},{"$f":"IFERROR(dispersió!$I$10*((dispersió!$J$40+'Càlculs interns'!A275)^dispersió!$J$10)*(2*LN('Càlculs interns'!B275/dispersió!$O$39))^(1/2),0)","v":14.588035999141825},-14.588035999141825,null,245.09073881809448,{"$f":"IFERROR((letalitat!$P$11*1000)/((3.14159*dispersió!$I$10*((dispersió!$J$40+F275)^dispersió!$J$10)*dispersió!$K$10*((dispersió!$K$40+F275)^dispersió!$L$10)+dispersió!$C$24*dispersió!$D$40)*dispersió!$I$12),0)","v":0.64920445668941151},{"$f":"IFERROR(dispersió!$I$10*((dispersió!$J$40+'Càlculs interns'!F275)^dispersió!$J$10)*(2*LN('Càlculs interns'!G275/dispersió!$O$46))^(1/2),0)","v":11.646315521955557},-11.646315521955557,null,177.50435931309349,{"$f":"IFERROR((letalitat!$P$11*1000)/((3.14159*dispersió!$I$10*((dispersió!$J$40+K275)^dispersió!$J$10)*dispersió!$K$10*((dispersió!$K$40+K275)^dispersió!$L$10)+dispersió!$C$24*dispersió!$D$40)*dispersió!$I$12),0)","v":0.92121720497684756},{"$f":"IFERROR(dispersió!$I$10*((dispersió!$J$40+'Càlculs interns'!K275)^dispersió!$J$10)*(2*LN('Càlculs interns'!L275/dispersió!$O$54))^(1/2),0)","v":8.8307078557554615},{"$f":"-M275","v":-8.8307078557554615},null,93.123227052145296,{"$f":"IFERROR((letalitat!$P$11*1000)/((3.14159*dispersió!$I$10*((dispersió!$J$40+P275)^dispersió!$J$10)*dispersió!$K$10*((dispersió!$K$40+P275)^dispersió!$L$10)+dispersió!$C$24*dispersió!$D$40)*dispersió!$I$12),0)","v":1.6431693558093949},{"$f":"IFERROR(dispersió!$I$10*((dispersió!$J$40+'Càlculs interns'!P275)^dispersió!$J$10)*(2*LN('Càlculs interns'!Q275/dispersió!$O$61))^(1/2),0)","v":5.1508686446160032},-5.1508686446160032]
[334.41896724287847,{"$f":"IFERROR((letalitat!$P$11*1000)/((3.14159*dispersió!$I$10*((dispersió!$J$40+A276)^dispersió!$J$10)*dispersió!$K$10*((dispersió!$K$40+A276)^dispersió!$L$10)+dispersió!$C$24*dispersió!$D$40)*dispersió!$I$12),0)","v":0.44849077525790776},{"$f":"IFERROR(dispersió!$I$10*((dispersió!$J$40+'Càlculs interns'!A276)^dispersió!$J$10)*(2*LN('Càlculs interns'!B276/dispersió!$O$39))^(1/2),0)","v":14.339118674549475},-14.339118674549475,null,257.99025138746788,{"$f":"IFERROR((letalitat!$P$11*1000)/((3.14159*dispersió!$I$10*((dispersió!$J$40+F276)^dispersió!$J$10)*dispersió!$K$10*((dispersió!$K$40+F276)^dispersió!$L$10)+dispersió!$C$24*dispersió!$D$40)*dispersió!$I$12),0)","v":0.61203189261020385},{"$f":"IFERROR(dispersió!$I$10*((dispersió!$J$40+'Càlculs interns'!F276)^dispersió!$J$10)*(2*LN('Càlculs interns'!G276/dispersió!$O$46))^(1/2),0)","v":11.436504334550584},{"$f":"-H276","v":-11.436504334550584},null,186.84669401378261,{"$f":"IFERROR((letalitat!$P$11*1000)/((3.14159*dispersió!$I$10*((dispersió!$J$40+K276)^dispersió!$J$10)*dispersió!$K$10*((dispersió!$K$40+K276)^dispersió!$L$10)+dispersió!$C$24*dispersió!$D$40)*dispersió!$I$12),0)","v":0.8735667752560341},{"$f":"IFERROR(dispersió!$I$10*((dispersió!$J$40+'Càlculs interns'!K276)^dispersió!$J$10)*(2*LN('Càlculs interns'!L276/dispersió!$O$54))^(1/2),0)","v":8.6589302208260861},-8.6589302208260861,null,98.024449528573996,{"$f":"IFERROR((letalitat!$P$11*1000)/((3.14159*dispersió!$I$10*((dispersió!$J$40+P276)^dispersió!$J$10)*dispersió!$K$10*((dispersió!$K$40+P276)^dispersió!$L$10)+dispersió!$C$24*dispersió!$D$40)*dispersió!$I$12),0)","v":1.579117213707367},{"$f":"IFERROR(dispersió!$I$10*((dispersió!$J$40+'Càlculs interns'!P276)^dispersió!$J$10)*(2*LN('Càlculs interns'!Q276/dispersió!$O$61))^(1/2),0)","v":5.0301597131536013},-5.0301597131536013]
[351.1399156050224,{"$f":"IFERROR((letalitat!$P$11*1000)/((3.14159*dispersió!$I$10*((dispersió!$J$40+A277)^dispersió!$J$10)*dispersió!$K$10*((dispersió!$K$40+A277)^dispersió!$L$10)+dispersió!$C$24*dispersió!$D$40)*dispersió!$I$12),0)","v":0.42209371018757014},{"$f":"IFERROR(dispersió!$I$10*((dispersió!$J$40+'Càlculs interns'!A277)^dispersió!$J$10)*(2*LN('Càlculs interns'!B277/dispersió!$O$39))^(1/2),0)","v":14.004017861965293},{"$f":"-C277","v":-14.004017861965293},null,270.88976395684125,{"$f":"IFERROR((letalitat!$P$11*1000)/((3.14159*dispersió!$I$10*((dispersió!$J$40+F277)^dispersió!$J$10)*dispersió!$K$10*((dispersió!$K$40+F277)^dispersió!$L$10)+dispersió!$C$24*dispersió!$D$40)*dispersió!$I$12),0)","v":0.57819157147971312},{"$f":"IFERROR(dispersió!$I$10*((dispersió!$J$40+'Càlculs interns'!F277)^dispersió!$J$10)*(2*LN('Càlculs interns'!G277/dispersió!$O$46))^(1/2),0)","v":11.159390347373416},-11.159390347373416,null,196.18902871447173,{"$f":"IFERROR((letalitat!$P$11*1000)/((3.14159*dispersió!$I$10*((dispersió!$J$40+K277)^dispersió!$J$10)*dispersió!$K$10*((dispersió!$K$40+K277)^dispersió!$L$10)+dispersió!$C$24*dispersió!$D$40)*dispersió!$I$12),0)","v":0.82977471469929642},{"$f":"IFERROR(dispersió!$I$10*((dispersió!$J$40+'Càlculs interns'!K277)^dispersió!$J$10)*(2*LN('Càlculs interns'!L277/dispersió!$O$54))^(1/2),0)","v":8.4378994455385445},-8.4378994455385445,null,102.9256720050027,{"$f":"IFERROR((letalitat!$P$11*1000)/((3.14159*dispersió!$I$10*((dispersió!$J$40+P277)^dispersió!$J$10)*dispersió!$K$10*((dispersió!$K$40+P277)^dispersió!$L$10)+dispersió!$C$24*dispersió!$D$40)*dispersió!$I$12),0)","v":1.5189665256099454},{"$f":"IFERROR(dispersió!$I$10*((dispersió!$J$40+'Càlculs interns'!P277)^dispersió!$J$10)*(2*LN('Càlculs interns'!Q277/dispersió!$O$61))^(1/2),0)","v":4.8834003617195769},-4.8834003617195769]
[367.86086396716632,{"$f":"IFERROR((letalitat!$P$11*1000)/((3.14159*dispersió!$I$10*((dispersió!$J$40+A278)^dispersió!$J$10)*dispersió!$K$10*((dispersió!$K$40+A278)^dispersió!$L$10)+dispersió!$C$24*dispersió!$D$40)*dispersió!$I$12),0)","v":0.39813271339088374},{"$f":"IFERROR(dispersió!$I$10*((dispersió!$J$40+'Càlculs interns'!A278)^dispersió!$J$10)*(2*LN('Càlculs interns'!B278/dispersió!$O$39))^(1/2),0)","v":13.574420795003352},-13.574420795003352,null,283.78927652621462,{"$f":"IFERROR((letalitat!$P$11*1000)/((3.14159*dispersió!$I$10*((dispersió!$J$40+F278)^dispersió!$J$10)*dispersió!$K$10*((dispersió!$K$40+F278)^dispersió!$L$10)+dispersió!$C$24*dispersió!$D$40)*dispersió!$I$12),0)","v":0.54728535111724252},{"$f":"IFERROR(dispersió!$I$10*((dispersió!$J$40+'Càlculs interns'!F278)^dispersió!$J$10)*(2*LN('Càlculs interns'!G278/dispersió!$O$46))^(1/2),0)","v":10.808332399188052},-10.808332399188052,null,205.53136341516085,{"$f":"IFERROR((letalitat!$P$11*1000)/((3.14159*dispersió!$I$10*((dispersió!$J$40+K278)^dispersió!$J$10)*dispersió!$K$10*((dispersió!$K$40+K278)^dispersió!$L$10)+dispersió!$C$24*dispersió!$D$40)*dispersió!$I$12),0)","v":0.78942450120743779},{"$f":"IFERROR(dispersió!$I$10*((dispersió!$J$40+'Càlculs interns'!K278)^dispersió!$J$10)*(2*LN('Càlculs interns'!L278/dispersió!$O$54))^(1/2),0)","v":8.1625906887713811},-8.1625906887713811,null,107.8268944814314,{"$f":"IFERROR((letalitat!$P$11*1000)/((3.14159*dispersió!$I$10*((dispersió!$J$40+P278)^dispersió!$J$10)*dispersió!$K$10*((dispersió!$K$40+P278)^dispersió!$L$10)+dispersió!$C$24*dispersió!$D$40)*dispersió!$I$12),0)","v":1.4624008330616836},{"$f":"IFERROR(dispersió!$I$10*((dispersió!$J$40+'Càlculs interns'!P278)^dispersió!$J$10)*(2*LN('Càlculs interns'!Q278/dispersió!$O$61))^(1/2),0)","v":4.7076878981171717},-4.7076878981171717]
[384.58181232931025,{"$f":"IFERROR((letalitat!$P$11*1000)/((3.14159*dispersió!$I$10*((dispersió!$J$40+A279)^dispersió!$J$10)*dispersió!$K$10*((dispersió!$K$40+A279)^dispersió!$L$10)+dispersió!$C$24*dispersió!$D$40)*dispersió!$I$12),0)","v":0.37630780871590219},{"$f":"IFERROR(dispersió!$I$10*((dispersió!$J$40+'Càlculs interns'!A279)^dispersió!$J$10)*(2*LN('Càlculs interns'!B279/dispersió!$O$39))^(1/2),0)","v":13.039101242805041},-13.039101242805041,null,296.68878909558799,{"$f":"IFERROR((letalitat!$P$11*1000)/((3.14159*dispersió!$I$10*((dispersió!$J$40+F279)^dispersió!$J$10)*dispersió!$K$10*((dispersió!$K$40+F279)^dispersió!$L$10)+dispersió!$C$24*dispersió!$D$40)*dispersió!$I$12),0)","v":0.5189736608309965},{"$f":"IFERROR(dispersió!$I$10*((dispersió!$J$40+'Càlculs interns'!F279)^dispersió!$J$10)*(2*LN('Càlculs interns'!G279/dispersió!$O$46))^(1/2),0)","v":10.374389059245379},-10.374389059245379,null,214.87369811584998,{"$f":"IFERROR((letalitat!$P$11*1000)/((3.14159*dispersió!$I$10*((dispersió!$J$40+K279)^dispersió!$J$10)*dispersió!$K$10*((dispersió!$K$40+K279)^dispersió!$L$10)+dispersió!$C$24*dispersió!$D$40)*dispersió!$I$12),0)","v":0.75215499783487094},{"$f":"IFERROR(dispersió!$I$10*((dispersió!$J$40+'Càlculs interns'!K279)^dispersió!$J$10)*(2*LN('Càlculs interns'!L279/dispersió!$O$54))^(1/2),0)","v":7.8262686569507576},-7.8262686569507576,null,112.7281169578601,{"$f":"IFERROR((letalitat!$P$11*1000)/((3.14159*dispersió!$I$10*((dispersió!$J$40+P279)^dispersió!$J$10)*dispersió!$K$10*((dispersió!$K$40+P279)^dispersió!$L$10)+dispersió!$C$24*dispersió!$D$40)*dispersió!$I$12),0)","v":1.40913526237611},{"$f":"IFERROR(dispersió!$I$10*((dispersió!$J$40+'Càlculs interns'!P279)^dispersió!$J$10)*(2*LN('Càlculs interns'!Q279/dispersió!$O$61))^(1/2),0)","v":4.4991657280517545},-4.4991657280517545]
[401.30276069145418,{"$f":"IFERROR((letalitat!$P$11*1000)/((3.14159*dispersió!$I$10*((dispersió!$J$40+A280)^dispersió!$J$10)*dispersió!$K$10*((dispersió!$K$40+A280)^dispersió!$L$10)+dispersió!$C$24*dispersió!$D$40)*dispersió!$I$12),0)","v":0.35636453937441209},{"$f":"IFERROR(dispersió!$I$10*((dispersió!$J$40+'Càlculs interns'!A280)^dispersió!$J$10)*(2*LN('Càlculs interns'!B280/dispersió!$O$39))^(1/2),0)","v":12.382481204414425},-12.382481204414425,null,309.58830166496136,{"$f":"IFERROR((letalitat!$P$11*1000)/((3.14159*dispersió!$I$10*((dispersió!$J$40+F280)^dispersió!$J$10)*dispersió!$K$10*((dispersió!$K$40+F280)^dispersió!$L$10)+dispersió!$C$24*dispersió!$D$40)*dispersió!$I$12),0)","v":0.49296538050595495},{"$f":"IFERROR(dispersió!$I$10*((dispersió!$J$40+'Càlculs interns'!F280)^dispersió!$J$10)*(2*LN('Càlculs interns'!G280/dispersió!$O$46))^(1/2),0)","v":9.8451772731141851},-9.8451772731141851,null,224.2160328165391,{"$f":"IFERROR((letalitat!$P$11*1000)/((3.14159*dispersió!$I$10*((dispersió!$J$40+K280)^dispersió!$J$10)*dispersió!$K$10*((dispersió!$K$40+K280)^dispersió!$L$10)+dispersió!$C$24*dispersió!$D$40)*dispersió!$I$12),0)","v":0.71765179857743755},{"$f":"IFERROR(dispersió!$I$10*((dispersió!$J$40+'Càlculs interns'!K280)^dispersió!$J$10)*(2*LN('Càlculs interns'!L280/dispersió!$O$54))^(1/2),0)","v":7.4196337740607259},-7.4196337740607259,null,117.6293394342888,{"$f":"IFERROR((letalitat!$P$11*1000)/((3.14159*dispersió!$I$10*((dispersió!$J$40+P280)^dispersió!$J$10)*dispersió!$K$10*((dispersió!$K$40+P280)^dispersió!$L$10)+dispersió!$C$24*dispersió!$D$40)*dispersió!$I$12),0)","v":1.3589128248594586},{"$f":"IFERROR(dispersió!$I$10*((dispersió!$J$40+'Càlculs interns'!P280)^dispersió!$J$10)*(2*LN('Càlculs interns'!Q280/dispersió!$O$61))^(1/2),0)","v":4.2525401422122826},-4.2525401422122826]
[418.02370905359811,{"$f":"IFERROR((letalitat!$P$11*1000)/((3.14159*dispersió!$I$10*((dispersió!$J$40+A281)^dispersió!$J$10)*dispersió!$K$10*((dispersió!$K$40+A281)^dispersió!$L$10)+dispersió!$C$24*dispersió!$D$40)*dispersió!$I$12),0)","v":0.33808584925610774},{"$f":"IFERROR(dispersió!$I$10*((dispersió!$J$40+'Càlculs interns'!A281)^dispersió!$J$10)*(2*LN('Càlculs interns'!B281/dispersió!$O$39))^(1/2),0)","v":11.582058167863961},-11.582058167863961,null,322.48781423433473,{"$f":"IFERROR((letalitat!$P$11*1000)/((3.14159*dispersió!$I$10*((dispersió!$J$40+F281)^dispersió!$J$10)*dispersió!$K$10*((dispersió!$K$40+F281)^dispersió!$L$10)+dispersió!$C$24*dispersió!$D$40)*dispersió!$I$12),0)","v":0.4690097109514243},{"$f":"IFERROR(dispersió!$I$10*((dispersió!$J$40+'Càlculs interns'!F281)^dispersió!$J$10)*(2*LN('Càlculs interns'!G281/dispersió!$O$46))^(1/2),0)","v":9.2028312857474983},-9.2028312857474983,null,233.55836751722822,{"$f":"IFERROR((letalitat!$P$11*1000)/((3.14159*dispersió!$I$10*((dispersió!$J$40+K281)^dispersió!$J$10)*dispersió!$K$10*((dispersió!$K$40+K281)^dispersió!$L$10)+dispersió!$C$24*dispersió!$D$40)*dispersió!$I$12),0)","v":0.68564011451961726},{"$f":"IFERROR(dispersió!$I$10*((dispersió!$J$40+'Càlculs interns'!K281)^dispersió!$J$10)*(2*LN('Càlculs interns'!L281/dispersió!$O$54))^(1/2),0)","v":6.9292964130742201},-6.9292964130742201,null,122.53056191071749,{"$f":"IFERROR((letalitat!$P$11*1000)/((3.14159*dispersió!$I$10*((dispersió!$J$40+P281)^dispersió!$J$10)*dispersió!$K$10*((dispersió!$K$40+P281)^dispersió!$L$10)+dispersió!$C$24*dispersió!$D$40)*dispersió!$I$12),0)","v":1.3115012098651109},{"$f":"IFERROR(dispersió!$I$10*((dispersió!$J$40+'Càlculs interns'!P281)^dispersió!$J$10)*(2*LN('Càlculs interns'!Q281/dispersió!$O$61))^(1/2),0)","v":3.9602167734439719},-3.9602167734439719]
[434.74465741574204,{"$f":"IFERROR((letalitat!$P$11*1000)/((3.14159*dispersió!$I$10*((dispersió!$J$40+A282)^dispersió!$J$10)*dispersió!$K$10*((dispersió!$K$40+A282)^dispersió!$L$10)+dispersió!$C$24*dispersió!$D$40)*dispersió!$I$12),0)","v":0.32128561391718863},{"$f":"IFERROR(dispersió!$I$10*((dispersió!$J$40+'Càlculs interns'!A282)^dispersió!$J$10)*(2*LN('Càlculs interns'!B282/dispersió!$O$39))^(1/2),0)","v":10.60336495472718},-10.60336495472718,null,335.38732680370811,{"$f":"IFERROR((letalitat!$P$11*1000)/((3.14159*dispersió!$I$10*((dispersió!$J$40+F282)^dispersió!$J$10)*dispersió!$K$10*((dispersió!$K$40+F282)^dispersió!$L$10)+dispersió!$C$24*dispersió!$D$40)*dispersió!$I$12),0)","v":0.44688959913645376},{"$f":"IFERROR(dispersió!$I$10*((dispersió!$J$40+'Càlculs interns'!F282)^dispersió!$J$10)*(2*LN('Càlculs interns'!G282/dispersió!$O$46))^(1/2),0)","v":8.4200036525229294},-8.4200036525229294,null,242.90070221791734,{"$f":"IFERROR((letalitat!$P$11*1000)/((3.14159*dispersió!$I$10*((dispersió!$J$40+K282)^dispersió!$J$10)*dispersió!$K$10*((dispersió!$K$40+K282)^dispersió!$L$10)+dispersió!$C$24*dispersió!$D$40)*dispersió!$I$12),0)","v":0.65587889485122608},{"$f":"IFERROR(dispersió!$I$10*((dispersió!$J$40+'Càlculs interns'!K282)^dispersió!$J$10)*(2*LN('Càlculs interns'!L282/dispersió!$O$54))^(1/2),0)","v":6.3347889534764299},-6.3347889534764299,null,127.43178438714619,{"$f":"IFERROR((letalitat!$P$11*1000)/((3.14159*dispersió!$I$10*((dispersió!$J$40+P282)^dispersió!$J$10)*dispersió!$K$10*((dispersió!$K$40+P282)^dispersió!$L$10)+dispersió!$C$24*dispersió!$D$40)*dispersió!$I$12),0)","v":1.2666899977022208},{"$f":"IFERROR(dispersió!$I$10*((dispersió!$J$40+'Càlculs interns'!P282)^dispersió!$J$10)*(2*LN('Càlculs interns'!Q282/dispersió!$O$61))^(1/2),0)","v":3.6106080287172806},-3.6106080287172806]
[451.46560577788597,{"$f":"IFERROR((letalitat!$P$11*1000)/((3.14159*dispersió!$I$10*((dispersió!$J$40+A283)^dispersió!$J$10)*dispersió!$K$10*((dispersió!$K$40+A283)^dispersió!$L$10)+dispersió!$C$24*dispersió!$D$40)*dispersió!$I$12),0)","v":0.30580344769350837},{"$f":"IFERROR(dispersió!$I$10*((dispersió!$J$40+'Càlculs interns'!A283)^dispersió!$J$10)*(2*LN('Càlculs interns'!B283/dispersió!$O$39))^(1/2),0)","v":9.3887340593904351},-9.3887340593904351,null,348.28683937308148,{"$f":"IFERROR((letalitat!$P$11*1000)/((3.14159*dispersió!$I$10*((dispersió!$J$40+F283)^dispersió!$J$10)*dispersió!$K$10*((dispersió!$K$40+F283)^dispersió!$L$10)+dispersió!$C$24*dispersió!$D$40)*dispersió!$I$12),0)","v":0.42641638673008403},{"$f":"IFERROR(dispersió!$I$10*((dispersió!$J$40+'Càlculs interns'!F283)^dispersió!$J$10)*(2*LN('Càlculs interns'!G283/dispersió!$O$46))^(1/2),0)","v":7.4509474166420802},-7.4509474166420802,null,252.24303691860646,{"$f":"IFERROR((letalitat!$P$11*1000)/((3.14159*dispersió!$I$10*((dispersió!$J$40+K283)^dispersió!$J$10)*dispersió!$K$10*((dispersió!$K$40+K283)^dispersió!$L$10)+dispersió!$C$24*dispersió!$D$40)*dispersió!$I$12),0)","v":0.62815594367199035},{"$f":"IFERROR(dispersió!$I$10*((dispersió!$J$40+'Càlculs interns'!K283)^dispersió!$J$10)*(2*LN('Càlculs interns'!L283/dispersió!$O$54))^(1/2),0)","v":5.6019055508835676},-5.6019055508835676,null,132.33300686357489,{"$f":"IFERROR((letalitat!$P$11*1000)/((3.14159*dispersió!$I$10*((dispersió!$J$40+P283)^dispersió!$J$10)*dispersió!$K$10*((dispersió!$K$40+P283)^dispersió!$L$10)+dispersió!$C$24*dispersió!$D$40)*dispersió!$I$12),0)","v":1.2242882312289018},{"$f":"IFERROR(dispersió!$I$10*((dispersió!$J$40+'Càlculs interns'!P283)^dispersió!$J$10)*(2*LN('Càlculs interns'!Q283/dispersió!$O$61))^(1/2),0)","v":3.1843542927080959},-3.1843542927080959]
[468.1865541400299,{"$f":"IFERROR((letalitat!$P$11*1000)/((3.14159*dispersió!$I$10*((dispersió!$J$40+A284)^dispersió!$J$10)*dispersió!$K$10*((dispersió!$K$40+A284)^dispersió!$L$10)+dispersió!$C$24*dispersió!$D$40)*dispersió!$I$12),0)","v":0.29150050611958001},{"$f":"IFERROR(dispersió!$I$10*((dispersió!$J$40+'Càlculs interns'!A284)^dispersió!$J$10)*(2*LN('Càlculs interns'!B284/dispersió!$O$39))^(1/2),0)","v":7.82672634475687},-7.82672634475687,null,361.18635194245485,{"$f":"IFERROR((letalitat!$P$11*1000)/((3.14159*dispersió!$I$10*((dispersió!$J$40+F284)^dispersió!$J$10)*dispersió!$K$10*((dispersió!$K$40+F284)^dispersió!$L$10)+dispersió!$C$24*dispersió!$D$40)*dispersió!$I$12),0)","v":0.40742542792224634},{"$f":"IFERROR(dispersió!$I$10*((dispersió!$J$40+'Càlculs interns'!F284)^dispersió!$J$10)*(2*LN('Càlculs interns'!G284/dispersió!$O$46))^(1/2),0)","v":6.2072357947527861},-6.2072357947527861,null,261.58537161929559,{"$f":"IFERROR((letalitat!$P$11*1000)/((3.14159*dispersió!$I$10*((dispersió!$J$40+K284)^dispersió!$J$10)*dispersió!$K$10*((dispersió!$K$40+K284)^dispersió!$L$10)+dispersió!$C$24*dispersió!$D$40)*dispersió!$I$12),0)","v":0.60228384428659421},{"$f":"IFERROR(dispersió!$I$10*((dispersió!$J$40+'Càlculs interns'!K284)^dispersió!$J$10)*(2*LN('Càlculs interns'!L284/dispersió!$O$54))^(1/2),0)","v":4.6645803566420003},-4.6645803566420003,null,137.23422934000359,{"$f":"IFERROR((letalitat!$P$11*1000)/((3.14159*dispersió!$I$10*((dispersió!$J$40+P284)^dispersió!$J$10)*dispersió!$K$10*((dispersió!$K$40+P284)^dispersió!$L$10)+dispersió!$C$24*dispersió!$D$40)*dispersió!$I$12),0)","v":1.1841222947083994},{"$f":"IFERROR(dispersió!$I$10*((dispersió!$J$40+'Càlculs interns'!P284)^dispersió!$J$10)*(2*LN('Càlculs interns'!Q284/dispersió!$O$61))^(1/2),0)","v":2.6440160009735441},-2.6440160009735441]
[484.90750250217383,{"$f":"IFERROR((letalitat!$P$11*1000)/((3.14159*dispersió!$I$10*((dispersió!$J$40+A285)^dispersió!$J$10)*dispersió!$K$10*((dispersió!$K$40+A285)^dispersió!$L$10)+dispersió!$C$24*dispersió!$D$40)*dispersió!$I$12),0)","v":0.2782560706451051},{"$f":"IFERROR(dispersió!$I$10*((dispersió!$J$40+'Càlculs interns'!A285)^dispersió!$J$10)*(2*LN('Càlculs interns'!B285/dispersió!$O$39))^(1/2),0)","v":5.6323851799628946},-5.6323851799628946,null,374.08586451182822,{"$f":"IFERROR((letalitat!$P$11*1000)/((3.14159*dispersió!$I$10*((dispersió!$J$40+F285)^dispersió!$J$10)*dispersió!$K$10*((dispersió!$K$40+F285)^dispersió!$L$10)+dispersió!$C$24*dispersió!$D$40)*dispersió!$I$12),0)","v":0.38977248041126544},{"$f":"IFERROR(dispersió!$I$10*((dispersió!$J$40+'Càlculs interns'!F285)^dispersió!$J$10)*(2*LN('Càlculs interns'!G285/dispersió!$O$46))^(1/2),0)","v":4.4625359856874969},-4.4625359856874969,null,270.92770631998474,{"$f":"IFERROR((letalitat!$P$11*1000)/((3.14159*dispersió!$I$10*((dispersió!$J$40+K285)^dispersió!$J$10)*dispersió!$K$10*((dispersió!$K$40+K285)^dispersió!$L$10)+dispersió!$C$24*dispersió!$D$40)*dispersió!$I$12),0)","v":0.5780965417915328},{"$f":"IFERROR(dispersió!$I$10*((dispersió!$J$40+'Càlculs interns'!K285)^dispersió!$J$10)*(2*LN('Càlculs interns'!L285/dispersió!$O$54))^(1/2),0)","v":3.3539198913876795},-3.3539198913876795,null,142.13545181643229,{"$f":"IFERROR((letalitat!$P$11*1000)/((3.14159*dispersió!$I$10*((dispersió!$J$40+P285)^dispersió!$J$10)*dispersió!$K$10*((dispersió!$K$40+P285)^dispersió!$L$10)+dispersió!$C$24*dispersió!$D$40)*dispersió!$I$12),0)","v":1.1460340565787974},{"$f":"IFERROR(dispersió!$I$10*((dispersió!$J$40+'Càlculs interns'!P285)^dispersió!$J$10)*(2*LN('Càlculs interns'!Q285/dispersió!$O$61))^(1/2),0)","v":1.8935120100258565},-1.8935120100258565]
[{"$f":"dispersió!L40","v":501.62845086431759},{"$f":"IFERROR((letalitat!$P$11*1000)/((3.14159*dispersió!$I$10*((dispersió!$J$40+A286)^dispersió!$J$10)*dispersió!$K$10*((dispersió!$K$40+A286)^dispersió!$L$10)+dispersió!$C$24*dispersió!$D$40)*dispersió!$I$12),0)","v":0.26596475270881792},{"$f":"IFERROR(dispersió!$I$10*((dispersió!$J$40+'Càlculs interns'!A286)^dispersió!$J$10)*(2*LN('Càlculs interns'!B286/dispersió!$O$39))^(1/2),0)","v":0},0,null,{"$f":"dispersió!L47","v":386.98537708120165},{"$f":"IFERROR((letalitat!$P$11*1000)/((3.14159*dispersió!$I$10*((dispersió!$J$40+F286)^dispersió!$J$10)*dispersió!$K$10*((dispersió!$K$40+F286)^dispersió!$L$10)+dispersió!$C$24*dispersió!$D$40)*dispersió!$I$12),0)","v":0.37333071704307619},{"$f":"IFERROR(dispersió!$I$10*((dispersió!$J$40+'Càlculs interns'!F286)^dispersió!$J$10)*(2*LN('Càlculs interns'!G286/dispersió!$O$46))^(1/2),0)","v":0},0,null,{"$f":"dispersió!L54","v":280.270041020674},{"$f":"IFERROR((letalitat!$P$11*1000)/((3.14159*dispersió!$I$10*((dispersió!$J$40+K286)^dispersió!$J$10)*dispersió!$K$10*((dispersió!$K$40+K286)^dispersió!$L$10)+dispersió!$C$24*dispersió!$D$40)*dispersió!$I$12),0)","v":0.55544646505182271},{"$f":"IFERROR(dispersió!$I$10*((dispersió!$J$40+'Càlculs interns'!K286)^dispersió!$J$10)*(2*LN('Càlculs interns'!L286/dispersió!$O$54))^(1/2),0)","v":0},{"$f":"-M286","v":0},null,{"$f":"dispersió!L61","v":147.03667429286099},{"$f":"IFERROR((letalitat!$P$11*1000)/((3.14159*dispersió!$I$10*((dispersió!$J$40+P286)^dispersió!$J$10)*dispersió!$K$10*((dispersió!$K$40+P286)^dispersió!$L$10)+dispersió!$C$24*dispersió!$D$40)*dispersió!$I$12),0)","v":1.1098792394900472},{"$f":"IFERROR(dispersió!$I$10*((dispersió!$J$40+'Càlculs interns'!P286)^dispersió!$J$10)*(2*LN('Càlculs interns'!Q286/dispersió!$O$61))^(1/2),0)","v":0},{"$f":"-R286","v":0}]
[]
[]
["Area 300m2"]
["Est. D"]
["LC1",null,"LC1+","LC1-",null,"LC10",null,"LC10+","LC10-",null,"LC50",null,"LC50+","LC50-",null,"LC99",null,"LC99+","LC99-"]
["X","C(x)","y+","y-",null,"X","C(x)","y+","y-",null,"X","C(x)","y+","y-",null,"X","C(x)","y+","y-"]
[0,{"$f":"IFERROR((letalitat!$P$12*1000)/((3.14159*dispersió!$C$10*((dispersió!$E$41+A293)^dispersió!$D$10)*dispersió!$E$10*((dispersió!$F$41+A293)^dispersió!$F$10)+dispersió!$C$24*dispersió!$D$41)*dispersió!$C$12),0)","v":2.5430478970349162},{"$f":"IFERROR(dispersió!$C$10*((dispersió!$E$41+'Càlculs interns'!A293)^dispersió!$D$10)*(2*LN('Càlculs interns'!B293/dispersió!$O$41))^(1/2),0)","v":8.5582173445089129},{"$f":"-C293","v":-8.5582173445089129},null,0,{"$f":"IFERROR((letalitat!$P$12*1000)/((3.14159*dispersió!$C$10*((dispersió!$E$41+F293)^dispersió!$D$10)*dispersió!$E$10*((dispersió!$F$41+F293)^dispersió!$F$10)+dispersió!$C$24*dispersió!$D$41)*dispersió!$C$12),0)","v":2.5430478970349162},{"$f":"IFERROR(dispersió!$C$10*((dispersió!$E$41+'Càlculs interns'!F293)^dispersió!$D$10)*(2*LN('Càlculs interns'!G293/dispersió!$O$47))^(1/2),0)","v":7.8890625416925291},{"$f":"-H293","v":-7.8890625416925291},null,0,{"$f":"IFERROR((letalitat!$P$12*1000)/((3.14159*dispersió!$C$10*((dispersió!$E$41+K293)^dispersió!$D$10)*dispersió!$E$10*((dispersió!$F$41+K293)^dispersió!$F$10)+dispersió!$C$24*dispersió!$D$41)*dispersió!$C$12),0)","v":2.5430478970349162},{"$f":"IFERROR(dispersió!$C$10*((dispersió!$E$41+'Càlculs interns'!K293)^dispersió!$D$10)*(2*LN('Càlculs interns'!L293/dispersió!$O$55))^(1/2),0)","v":7.0249931211955259},{"$f":"-M293","v":-7.0249931211955259},null,0,{"$f":"IFERROR((letalitat!$P$12*1000)/((3.14159*dispersió!$C$10*((dispersió!$E$41+P293)^dispersió!$D$10)*dispersió!$E$10*((dispersió!$F$41+P293)^dispersió!$F$10)+dispersió!$C$24*dispersió!$D$41)*dispersió!$C$12),0)","v":2.5430478970349162},{"$f":"IFERROR(dispersió!$C$10*((dispersió!$E$41+'Càlculs interns'!P293)^dispersió!$D$10)*(2*LN('Càlculs interns'!Q293/dispersió!$O$62))^(1/2),0)","v":5.1848939298827768},{"$f":"-R293","v":-5.1848939298827768}]
[{"$f":"A323/30","v":5.1427573220810423},{"$f":"IFERROR((letalitat!$P$12*1000)/((3.14159*dispersió!$C$10*((dispersió!$E$41+A294)^dispersió!$D$10)*dispersió!$E$10*((dispersió!$F$41+A294)^dispersió!$F$10)+dispersió!$C$24*dispersió!$D$41)*dispersió!$C$12),0)","v":2.2161166110532475},{"$f":"IFERROR(dispersió!$C$10*((dispersió!$E$41+'Càlculs interns'!A294)^dispersió!$D$10)*(2*LN('Càlculs interns'!B294/dispersió!$O$41))^(1/2),0)","v":9.1427849997480823},-9.1427849997480823,null,{"$f":"F323/30","v":3.9057984706987887},{"$f":"IFERROR((letalitat!$P$12*1000)/((3.14159*dispersió!$C$10*((dispersió!$E$41+F294)^dispersió!$D$10)*dispersió!$E$10*((dispersió!$F$41+F294)^dispersió!$F$10)+dispersió!$C$24*dispersió!$D$41)*dispersió!$C$12),0)","v":2.2890604200033713},{"$f":"IFERROR(dispersió!$C$10*((dispersió!$E$41+'Càlculs interns'!F294)^dispersió!$D$10)*(2*LN('Càlculs interns'!G294/dispersió!$O$47))^(1/2),0)","v":8.2670276071898812},{"$f":"-H294","v":-8.2670276071898812},null,{"$f":"K323/30","v":2.7324488416863342},{"$f":"IFERROR((letalitat!$P$12*1000)/((3.14159*dispersió!$C$10*((dispersió!$E$41+K294)^dispersió!$D$10)*dispersió!$E$10*((dispersió!$F$41+K294)^dispersió!$F$10)+dispersió!$C$24*dispersió!$D$41)*dispersió!$C$12),0)","v":2.3614511334322636},{"$f":"IFERROR(dispersió!$C$10*((dispersió!$E$41+'Càlculs interns'!K294)^dispersió!$D$10)*(2*LN('Càlculs interns'!L294/dispersió!$O$55))^(1/2),0)","v":7.2255636511948973},{"$f":"-M294","v":-7.2255636511948973},null,{"$f":"P323/30","v":1.2202598881788043},{"$f":"IFERROR((letalitat!$P$12*1000)/((3.14159*dispersió!$C$10*((dispersió!$E$41+P294)^dispersió!$D$10)*dispersió!$E$10*((dispersió!$F$41+P294)^dispersió!$F$10)+dispersió!$C$24*dispersió!$D$41)*dispersió!$C$12),0)","v":2.4596106943223992},{"$f":"IFERROR(dispersió!$C$10*((dispersió!$E$41+'Càlculs interns'!P294)^dispersió!$D$10)*(2*LN('Càlculs interns'!Q294/dispersió!$O$62))^(1/2),0)","v":5.2033774142701814},{"$f":"-R294","v":-5.2033774142701814}]
[{"$f":"A$294+A294","v":10.285514644162085},{"$f":"IFERROR((letalitat!$P$12*1000)/((3.14159*dispersió!$C$10*((dispersió!$E$41+A295)^dispersió!$D$10)*dispersió!$E$10*((dispersió!$F$41+A295)^dispersió!$F$10)+dispersió!$C$24*dispersió!$D$41)*dispersió!$C$12),0)","v":1.9461022253578941},{"$f":"IFERROR(dispersió!$C$10*((dispersió!$E$41+'Càlculs interns'!A295)^dispersió!$D$10)*(2*LN('Càlculs interns'!B295/dispersió!$O$41))^(1/2),0)","v":9.6732568886929293},-9.6732568886929293,null,{"$f":"F$294+F294","v":7.8115969413975774},{"$f":"IFERROR((letalitat!$P$12*1000)/((3.14159*dispersió!$C$10*((dispersió!$E$41+F295)^dispersió!$D$10)*dispersió!$E$10*((dispersió!$F$41+F295)^dispersió!$F$10)+dispersió!$C$24*dispersió!$D$41)*dispersió!$C$12),0)","v":2.06967828255882},{"$f":"IFERROR(dispersió!$C$10*((dispersió!$E$41+'Càlculs interns'!F295)^dispersió!$D$10)*(2*LN('Càlculs interns'!G295/dispersió!$O$47))^(1/2),0)","v":8.6102164241717993},-8.6102164241717993,null,{"$f":"K$294+K294","v":5.4648976833726683},{"$f":"IFERROR((letalitat!$P$12*1000)/((3.14159*dispersió!$C$10*((dispersió!$E$41+K295)^dispersió!$D$10)*dispersió!$E$10*((dispersió!$F$41+K295)^dispersió!$F$10)+dispersió!$C$24*dispersió!$D$41)*dispersió!$C$12),0)","v":2.1976654255701522},{"$f":"IFERROR(dispersió!$C$10*((dispersió!$E$41+'Càlculs interns'!K295)^dispersió!$D$10)*(2*LN('Càlculs interns'!L295/dispersió!$O$55))^(1/2),0)","v":7.4062208107080041},-7.4062208107080041,null,{"$f":"P$294+P294","v":2.4405197763576085},{"$f":"IFERROR((letalitat!$P$12*1000)/((3.14159*dispersió!$C$10*((dispersió!$E$41+P295)^dispersió!$D$10)*dispersió!$E$10*((dispersió!$F$41+P295)^dispersió!$F$10)+dispersió!$C$24*dispersió!$D$41)*dispersió!$C$12),0)","v":2.3799650932675158},{"$f":"IFERROR(dispersió!$C$10*((dispersió!$E$41+'Càlculs interns'!P295)^dispersió!$D$10)*(2*LN('Càlculs interns'!Q295/dispersió!$O$62))^(1/2),0)","v":5.2155809584961821},-5.2155809584961821]
[{"$f":"A$294+A295","v":15.428271966243127},{"$f":"IFERROR((letalitat!$P$12*1000)/((3.14159*dispersió!$C$10*((dispersió!$E$41+A296)^dispersió!$D$10)*dispersió!$E$10*((dispersió!$F$41+A296)^dispersió!$F$10)+dispersió!$C$24*dispersió!$D$41)*dispersió!$C$12),0)","v":1.7214836483254121},{"$f":"IFERROR(dispersió!$C$10*((dispersió!$E$41+'Càlculs interns'!A296)^dispersió!$D$10)*(2*LN('Càlculs interns'!B296/dispersió!$O$41))^(1/2),0)","v":10.153053054204968},-10.153053054204968,null,{"$f":"F$294+F295","v":11.717395412096366},{"$f":"IFERROR((letalitat!$P$12*1000)/((3.14159*dispersió!$C$10*((dispersió!$E$41+F296)^dispersió!$D$10)*dispersió!$E$10*((dispersió!$F$41+F296)^dispersió!$F$10)+dispersió!$C$24*dispersió!$D$41)*dispersió!$C$12),0)","v":1.8794322260916962},{"$f":"IFERROR(dispersió!$C$10*((dispersió!$E$41+'Càlculs interns'!F296)^dispersió!$D$10)*(2*LN('Càlculs interns'!G296/dispersió!$O$47))^(1/2),0)","v":8.9200630526694411},-8.9200630526694411,null,{"$f":"K$294+K295","v":8.1973465250590021},{"$f":"IFERROR((letalitat!$P$12*1000)/((3.14159*dispersió!$C$10*((dispersió!$E$41+K296)^dispersió!$D$10)*dispersió!$E$10*((dispersió!$F$41+K296)^dispersió!$F$10)+dispersió!$C$24*dispersió!$D$41)*dispersió!$C$12),0)","v":2.0496735382652198},{"$f":"IFERROR(dispersió!$C$10*((dispersió!$E$41+'Càlculs interns'!K296)^dispersió!$D$10)*(2*LN('Càlculs interns'!L296/dispersió!$O$55))^(1/2),0)","v":7.5673331146371696},-7.5673331146371696,null,{"$f":"P$294+P295","v":3.6607796645364128},{"$f":"IFERROR((letalitat!$P$12*1000)/((3.14159*dispersió!$C$10*((dispersió!$E$41+P296)^dispersió!$D$10)*dispersió!$E$10*((dispersió!$F$41+P296)^dispersió!$F$10)+dispersió!$C$24*dispersió!$D$41)*dispersió!$C$12),0)","v":2.3039142343425776},{"$f":"IFERROR(dispersió!$C$10*((dispersió!$E$41+'Càlculs interns'!P296)^dispersió!$D$10)*(2*LN('Càlculs interns'!Q296/dispersió!$O$62))^(1/2),0)","v":5.22141163681012},-5.22141163681012]
[20.571029288324169,{"$f":"IFERROR((letalitat!$P$12*1000)/((3.14159*dispersió!$C$10*((dispersió!$E$41+A297)^dispersió!$D$10)*dispersió!$E$10*((dispersió!$F$41+A297)^dispersió!$F$10)+dispersió!$C$24*dispersió!$D$41)*dispersió!$C$12),0)","v":1.5331768625048769},{"$f":"IFERROR(dispersió!$C$10*((dispersió!$E$41+'Càlculs interns'!A297)^dispersió!$D$10)*(2*LN('Càlculs interns'!B297/dispersió!$O$41))^(1/2),0)","v":10.584922210721386},-10.584922210721386,null,15.623193882795155,{"$f":"IFERROR((letalitat!$P$12*1000)/((3.14159*dispersió!$C$10*((dispersió!$E$41+F297)^dispersió!$D$10)*dispersió!$E$10*((dispersió!$F$41+F297)^dispersió!$F$10)+dispersió!$C$24*dispersió!$D$41)*dispersió!$C$12),0)","v":1.7137347071852849},{"$f":"IFERROR(dispersió!$C$10*((dispersió!$E$41+'Càlculs interns'!F297)^dispersió!$D$10)*(2*LN('Càlculs interns'!G297/dispersió!$O$47))^(1/2),0)","v":9.1977355929486677},-9.1977355929486677,null,10.929795366745337,{"$f":"IFERROR((letalitat!$P$12*1000)/((3.14159*dispersió!$C$10*((dispersió!$E$41+K297)^dispersió!$D$10)*dispersió!$E$10*((dispersió!$F$41+K297)^dispersió!$F$10)+dispersió!$C$24*dispersió!$D$41)*dispersió!$C$12),0)","v":1.9156831552737312},{"$f":"IFERROR(dispersió!$C$10*((dispersió!$E$41+'Càlculs interns'!K297)^dispersió!$D$10)*(2*LN('Càlculs interns'!L297/dispersió!$O$55))^(1/2),0)","v":7.7091822534302823},-7.7091822534302823,null,4.8810395527152171,{"$f":"IFERROR((letalitat!$P$12*1000)/((3.14159*dispersió!$C$10*((dispersió!$E$41+P297)^dispersió!$D$10)*dispersió!$E$10*((dispersió!$F$41+P297)^dispersió!$F$10)+dispersió!$C$24*dispersió!$D$41)*dispersió!$C$12),0)","v":2.231270574616623},{"$f":"IFERROR(dispersió!$C$10*((dispersió!$E$41+'Càlculs interns'!P297)^dispersió!$D$10)*(2*LN('Càlculs interns'!Q297/dispersió!$O$62))^(1/2),0)","v":5.220760091066948},-5.220760091066948]
[25.713786610405212,{"$f":"IFERROR((letalitat!$P$12*1000)/((3.14159*dispersió!$C$10*((dispersió!$E$41+A298)^dispersió!$D$10)*dispersió!$E$10*((dispersió!$F$41+A298)^dispersió!$F$10)+dispersió!$C$24*dispersió!$D$41)*dispersió!$C$12),0)","v":1.3740749355195307},{"$f":"IFERROR(dispersió!$C$10*((dispersió!$E$41+'Càlculs interns'!A298)^dispersió!$D$10)*(2*LN('Càlculs interns'!B298/dispersió!$O$41))^(1/2),0)","v":10.971056985588572},-10.971056985588572,null,19.528992353493944,{"$f":"IFERROR((letalitat!$P$12*1000)/((3.14159*dispersió!$C$10*((dispersió!$E$41+F298)^dispersió!$D$10)*dispersió!$E$10*((dispersió!$F$41+F298)^dispersió!$F$10)+dispersió!$C$24*dispersió!$D$41)*dispersió!$C$12),0)","v":1.5687676877737038},{"$f":"IFERROR(dispersió!$C$10*((dispersió!$E$41+'Càlculs interns'!F298)^dispersió!$D$10)*(2*LN('Càlculs interns'!G298/dispersió!$O$47))^(1/2),0)","v":9.4441656645697858},-9.4441656645697858,null,13.662244208431671,{"$f":"IFERROR((letalitat!$P$12*1000)/((3.14159*dispersió!$C$10*((dispersió!$E$41+K298)^dispersió!$D$10)*dispersió!$E$10*((dispersió!$F$41+K298)^dispersió!$F$10)+dispersió!$C$24*dispersió!$D$41)*dispersió!$C$12),0)","v":1.7941114010612649},{"$f":"IFERROR(dispersió!$C$10*((dispersió!$E$41+'Càlculs interns'!K298)^dispersió!$D$10)*(2*LN('Càlculs interns'!L298/dispersió!$O$55))^(1/2),0)","v":7.8319657884495548},-7.8319657884495548,null,6.1012994408940209,{"$f":"IFERROR((letalitat!$P$12*1000)/((3.14159*dispersió!$C$10*((dispersió!$E$41+P298)^dispersió!$D$10)*dispersió!$E$10*((dispersió!$F$41+P298)^dispersió!$F$10)+dispersió!$C$24*dispersió!$D$41)*dispersió!$C$12),0)","v":2.161855822742111},{"$f":"IFERROR(dispersió!$C$10*((dispersió!$E$41+'Càlculs interns'!P298)^dispersió!$D$10)*(2*LN('Càlculs interns'!Q298/dispersió!$O$62))^(1/2),0)","v":5.213498827111442},-5.213498827111442]
[30.856543932486254,{"$f":"IFERROR((letalitat!$P$12*1000)/((3.14159*dispersió!$C$10*((dispersió!$E$41+A299)^dispersió!$D$10)*dispersió!$E$10*((dispersió!$F$41+A299)^dispersió!$F$10)+dispersió!$C$24*dispersió!$D$41)*dispersió!$C$12),0)","v":1.2386219886763759},{"$f":"IFERROR(dispersió!$C$10*((dispersió!$E$41+'Càlculs interns'!A299)^dispersió!$D$10)*(2*LN('Càlculs interns'!B299/dispersió!$O$41))^(1/2),0)","v":11.313183525010873},-11.313183525010873,null,23.434790824192731,{"$f":"IFERROR((letalitat!$P$12*1000)/((3.14159*dispersió!$C$10*((dispersió!$E$41+F299)^dispersió!$D$10)*dispersió!$E$10*((dispersió!$F$41+F299)^dispersió!$F$10)+dispersió!$C$24*dispersió!$D$41)*dispersió!$C$12),0)","v":1.4413640520869804},{"$f":"IFERROR(dispersió!$C$10*((dispersió!$E$41+'Càlculs interns'!F299)^dispersió!$D$10)*(2*LN('Càlculs interns'!G299/dispersió!$O$47))^(1/2),0)","v":9.6600721313852702},-9.6600721313852702,null,16.394693050118004,{"$f":"IFERROR((letalitat!$P$12*1000)/((3.14159*dispersió!$C$10*((dispersió!$E$41+K299)^dispersió!$D$10)*dispersió!$E$10*((dispersió!$F$41+K299)^dispersió!$F$10)+dispersió!$C$24*dispersió!$D$41)*dispersió!$C$12),0)","v":1.6835656190486663},{"$f":"IFERROR(dispersió!$C$10*((dispersió!$E$41+'Càlculs interns'!K299)^dispersió!$D$10)*(2*LN('Càlculs interns'!L299/dispersió!$O$55))^(1/2),0)","v":7.9357987248979445},-7.9357987248979445,null,7.3215593290728247,{"$f":"IFERROR((letalitat!$P$12*1000)/((3.14159*dispersió!$C$10*((dispersió!$E$41+P299)^dispersió!$D$10)*dispersió!$E$10*((dispersió!$F$41+P299)^dispersió!$F$10)+dispersió!$C$24*dispersió!$D$41)*dispersió!$C$12),0)","v":2.0955007784047375},{"$f":"IFERROR(dispersió!$C$10*((dispersió!$E$41+'Càlculs interns'!P299)^dispersió!$D$10)*(2*LN('Càlculs interns'!Q299/dispersió!$O$62))^(1/2),0)","v":5.1994801886344026},-5.1994801886344026]
[35.9993012545673,{"$f":"IFERROR((letalitat!$P$12*1000)/((3.14159*dispersió!$C$10*((dispersió!$E$41+A300)^dispersió!$D$10)*dispersió!$E$10*((dispersió!$F$41+A300)^dispersió!$F$10)+dispersió!$C$24*dispersió!$D$41)*dispersió!$C$12),0)","v":1.1224610637895507},{"$f":"IFERROR(dispersió!$C$10*((dispersió!$E$41+'Càlculs interns'!A300)^dispersió!$D$10)*(2*LN('Càlculs interns'!B300/dispersió!$O$41))^(1/2),0)","v":11.612629435416233},-11.612629435416233,null,27.340589294891519,{"$f":"IFERROR((letalitat!$P$12*1000)/((3.14159*dispersió!$C$10*((dispersió!$E$41+F300)^dispersió!$D$10)*dispersió!$E$10*((dispersió!$F$41+F300)^dispersió!$F$10)+dispersió!$C$24*dispersió!$D$41)*dispersió!$C$12),0)","v":1.3288978410115198},{"$f":"IFERROR(dispersió!$C$10*((dispersió!$E$41+'Càlculs interns'!F300)^dispersió!$D$10)*(2*LN('Càlculs interns'!G300/dispersió!$O$47))^(1/2),0)","v":9.8459792474242338},-9.8459792474242338,null,19.127141891804339,{"$f":"IFERROR((letalitat!$P$12*1000)/((3.14159*dispersió!$C$10*((dispersió!$E$41+K300)^dispersió!$D$10)*dispersió!$E$10*((dispersió!$F$41+K300)^dispersió!$F$10)+dispersió!$C$24*dispersió!$D$41)*dispersió!$C$12),0)","v":1.5828231273360127},{"$f":"IFERROR(dispersió!$C$10*((dispersió!$E$41+'Càlculs interns'!K300)^dispersió!$D$10)*(2*LN('Càlculs interns'!L300/dispersió!$O$55))^(1/2),0)","v":8.0207137892235512},-8.0207137892235512,null,8.5418192172516285,{"$f":"IFERROR((letalitat!$P$12*1000)/((3.14159*dispersió!$C$10*((dispersió!$E$41+P300)^dispersió!$D$10)*dispersió!$E$10*((dispersió!$F$41+P300)^dispersió!$F$10)+dispersió!$C$24*dispersió!$D$41)*dispersió!$C$12),0)","v":2.0320451004109397},{"$f":"IFERROR(dispersió!$C$10*((dispersió!$E$41+'Càlculs interns'!P300)^dispersió!$D$10)*(2*LN('Càlculs interns'!Q300/dispersió!$O$62))^(1/2),0)","v":5.1785339337938039},-5.1785339337938039]
[41.142058576648338,{"$f":"IFERROR((letalitat!$P$12*1000)/((3.14159*dispersió!$C$10*((dispersió!$E$41+A301)^dispersió!$D$10)*dispersió!$E$10*((dispersió!$F$41+A301)^dispersió!$F$10)+dispersió!$C$24*dispersió!$D$41)*dispersió!$C$12),0)","v":1.0221572495895865},{"$f":"IFERROR(dispersió!$C$10*((dispersió!$E$41+'Càlculs interns'!A301)^dispersió!$D$10)*(2*LN('Càlculs interns'!B301/dispersió!$O$41))^(1/2),0)","v":11.87037396985944},-11.87037396985944,null,31.246387765590306,{"$f":"IFERROR((letalitat!$P$12*1000)/((3.14159*dispersió!$C$10*((dispersió!$E$41+F301)^dispersió!$D$10)*dispersió!$E$10*((dispersió!$F$41+F301)^dispersió!$F$10)+dispersió!$C$24*dispersió!$D$41)*dispersió!$C$12),0)","v":1.2291888078457429},{"$f":"IFERROR(dispersió!$C$10*((dispersió!$E$41+'Càlculs interns'!F301)^dispersió!$D$10)*(2*LN('Càlculs interns'!G301/dispersió!$O$47))^(1/2),0)","v":10.00222955729072},-10.00222955729072,null,21.859590733490673,{"$f":"IFERROR((letalitat!$P$12*1000)/((3.14159*dispersió!$C$10*((dispersió!$E$41+K301)^dispersió!$D$10)*dispersió!$E$10*((dispersió!$F$41+K301)^dispersió!$F$10)+dispersió!$C$24*dispersió!$D$41)*dispersió!$C$12),0)","v":1.4908115014852248},{"$f":"IFERROR(dispersió!$C$10*((dispersió!$E$41+'Càlculs interns'!K301)^dispersió!$D$10)*(2*LN('Càlculs interns'!L301/dispersió!$O$55))^(1/2),0)","v":8.086660241607964},-8.086660241607964,null,9.7620791054304323,{"$f":"IFERROR((letalitat!$P$12*1000)/((3.14159*dispersió!$C$10*((dispersió!$E$41+P301)^dispersió!$D$10)*dispersió!$E$10*((dispersió!$F$41+P301)^dispersió!$F$10)+dispersió!$C$24*dispersió!$D$41)*dispersió!$C$12),0)","v":1.9713370229509271},{"$f":"IFERROR(dispersió!$C$10*((dispersió!$E$41+'Càlculs interns'!P301)^dispersió!$D$10)*(2*LN('Càlculs interns'!Q301/dispersió!$O$62))^(1/2),0)","v":5.1504643192862867},-5.1504643192862867]
[46.284815898729377,{"$f":"IFERROR((letalitat!$P$12*1000)/((3.14159*dispersió!$C$10*((dispersió!$E$41+A302)^dispersió!$D$10)*dispersió!$E$10*((dispersió!$F$41+A302)^dispersió!$F$10)+dispersió!$C$24*dispersió!$D$41)*dispersió!$C$12),0)","v":0.93498499580275596},{"$f":"IFERROR(dispersió!$C$10*((dispersió!$E$41+'Càlculs interns'!A302)^dispersió!$D$10)*(2*LN('Càlculs interns'!B302/dispersió!$O$41))^(1/2),0)","v":12.08708365481864},-12.08708365481864,null,35.152186236289097,{"$f":"IFERROR((letalitat!$P$12*1000)/((3.14159*dispersió!$C$10*((dispersió!$E$41+F302)^dispersió!$D$10)*dispersió!$E$10*((dispersió!$F$41+F302)^dispersió!$F$10)+dispersió!$C$24*dispersió!$D$41)*dispersió!$C$12),0)","v":1.1404221609400129},{"$f":"IFERROR(dispersió!$C$10*((dispersió!$E$41+'Càlculs interns'!F302)^dispersió!$D$10)*(2*LN('Càlculs interns'!G302/dispersió!$O$47))^(1/2),0)","v":10.128991846832863},-10.128991846832863,null,24.592039575177008,{"$f":"IFERROR((letalitat!$P$12*1000)/((3.14159*dispersió!$C$10*((dispersió!$E$41+K302)^dispersió!$D$10)*dispersió!$E$10*((dispersió!$F$41+K302)^dispersió!$F$10)+dispersió!$C$24*dispersió!$D$41)*dispersió!$C$12),0)","v":1.4065902013343994},{"$f":"IFERROR(dispersió!$C$10*((dispersió!$E$41+'Càlculs interns'!K302)^dispersió!$D$10)*(2*LN('Càlculs interns'!L302/dispersió!$O$55))^(1/2),0)","v":8.1335010244052093},-8.1335010244052093,null,10.982338993609236,{"$f":"IFERROR((letalitat!$P$12*1000)/((3.14159*dispersió!$C$10*((dispersió!$E$41+P302)^dispersió!$D$10)*dispersió!$E$10*((dispersió!$F$41+P302)^dispersió!$F$10)+dispersió!$C$24*dispersió!$D$41)*dispersió!$C$12),0)","v":1.9132330357213327},{"$f":"IFERROR(dispersió!$C$10*((dispersió!$E$41+'Càlculs interns'!P302)^dispersió!$D$10)*(2*LN('Càlculs interns'!Q302/dispersió!$O$62))^(1/2),0)","v":5.115046568733975},{"$f":"-R302","v":-5.115046568733975}]
[51.427573220810416,{"$f":"IFERROR((letalitat!$P$12*1000)/((3.14159*dispersió!$C$10*((dispersió!$E$41+A303)^dispersió!$D$10)*dispersió!$E$10*((dispersió!$F$41+A303)^dispersió!$F$10)+dispersió!$C$24*dispersió!$D$41)*dispersió!$C$12),0)","v":0.85876636995395905},{"$f":"IFERROR(dispersió!$C$10*((dispersió!$E$41+'Càlculs interns'!A303)^dispersió!$D$10)*(2*LN('Càlculs interns'!B303/dispersió!$O$41))^(1/2),0)","v":12.263135706777026},-12.263135706777026,null,39.057984706987888,{"$f":"IFERROR((letalitat!$P$12*1000)/((3.14159*dispersió!$C$10*((dispersió!$E$41+F303)^dispersió!$D$10)*dispersió!$E$10*((dispersió!$F$41+F303)^dispersió!$F$10)+dispersió!$C$24*dispersió!$D$41)*dispersió!$C$12),0)","v":1.0610823334888275},{"$f":"IFERROR(dispersió!$C$10*((dispersió!$E$41+'Càlculs interns'!F303)^dispersió!$D$10)*(2*LN('Càlculs interns'!G303/dispersió!$O$47))^(1/2),0)","v":10.226264299259892},-10.226264299259892,null,27.324488416863343,{"$f":"IFERROR((letalitat!$P$12*1000)/((3.14159*dispersió!$C$10*((dispersió!$E$41+K303)^dispersió!$D$10)*dispersió!$E$10*((dispersió!$F$41+K303)^dispersió!$F$10)+dispersió!$C$24*dispersió!$D$41)*dispersió!$C$12),0)","v":1.3293339119292302},{"$f":"IFERROR(dispersió!$C$10*((dispersió!$E$41+'Càlculs interns'!K303)^dispersió!$D$10)*(2*LN('Càlculs interns'!L303/dispersió!$O$55))^(1/2),0)","v":8.1610079866518568},{"$f":"-M303","v":-8.1610079866518568},null,12.20259888178804,{"$f":"IFERROR((letalitat!$P$12*1000)/((3.14159*dispersió!$C$10*((dispersió!$E$41+P303)^dispersió!$D$10)*dispersió!$E$10*((dispersió!$F$41+P303)^dispersió!$F$10)+dispersió!$C$24*dispersió!$D$41)*dispersió!$C$12),0)","v":1.857597540406839},{"$f":"IFERROR(dispersió!$C$10*((dispersió!$E$41+'Càlculs interns'!P303)^dispersió!$D$10)*(2*LN('Càlculs interns'!Q303/dispersió!$O$62))^(1/2),0)","v":5.0720225643032144},-5.0720225643032144]
[56.570330542891455,{"$f":"IFERROR((letalitat!$P$12*1000)/((3.14159*dispersió!$C$10*((dispersió!$E$41+A304)^dispersió!$D$10)*dispersió!$E$10*((dispersió!$F$41+A304)^dispersió!$F$10)+dispersió!$C$24*dispersió!$D$41)*dispersió!$C$12),0)","v":0.79174840462169294},{"$f":"IFERROR(dispersió!$C$10*((dispersió!$E$41+'Càlculs interns'!A304)^dispersió!$D$10)*(2*LN('Càlculs interns'!B304/dispersió!$O$41))^(1/2),0)","v":12.398630777260687},-12.398630777260687,null,42.963783177686679,{"$f":"IFERROR((letalitat!$P$12*1000)/((3.14159*dispersió!$C$10*((dispersió!$E$41+F304)^dispersió!$D$10)*dispersió!$E$10*((dispersió!$F$41+F304)^dispersió!$F$10)+dispersió!$C$24*dispersió!$D$41)*dispersió!$C$12),0)","v":0.98989889811358178},{"$f":"IFERROR(dispersió!$C$10*((dispersió!$E$41+'Càlculs interns'!F304)^dispersió!$D$10)*(2*LN('Càlculs interns'!G304/dispersió!$O$47))^(1/2),0)","v":10.293872807532225},-10.293872807532225,null,30.056937258549677,{"$f":"IFERROR((letalitat!$P$12*1000)/((3.14159*dispersió!$C$10*((dispersió!$E$41+K304)^dispersió!$D$10)*dispersió!$E$10*((dispersió!$F$41+K304)^dispersió!$F$10)+dispersió!$C$24*dispersió!$D$41)*dispersió!$C$12),0)","v":1.2583177044327143},{"$f":"IFERROR(dispersió!$C$10*((dispersió!$E$41+'Càlculs interns'!K304)^dispersió!$D$10)*(2*LN('Càlculs interns'!L304/dispersió!$O$55))^(1/2),0)","v":8.1688548298622372},-8.1688548298622372,null,13.422858769966844,{"$f":"IFERROR((letalitat!$P$12*1000)/((3.14159*dispersió!$C$10*((dispersió!$E$41+P304)^dispersió!$D$10)*dispersió!$E$10*((dispersió!$F$41+P304)^dispersió!$F$10)+dispersió!$C$24*dispersió!$D$41)*dispersió!$C$12),0)","v":1.8043024934013179},{"$f":"IFERROR(dispersió!$C$10*((dispersió!$E$41+'Càlculs interns'!P304)^dispersió!$D$10)*(2*LN('Càlculs interns'!Q304/dispersió!$O$62))^(1/2),0)","v":5.0210955480724841},-5.0210955480724841]
[61.713087864972493,{"$f":"IFERROR((letalitat!$P$12*1000)/((3.14159*dispersió!$C$10*((dispersió!$E$41+A305)^dispersió!$D$10)*dispersió!$E$10*((dispersió!$F$41+A305)^dispersió!$F$10)+dispersió!$C$24*dispersió!$D$41)*dispersió!$C$12),0)","v":0.73250996698426862},{"$f":"IFERROR(dispersió!$C$10*((dispersió!$E$41+'Càlculs interns'!A305)^dispersió!$D$10)*(2*LN('Càlculs interns'!B305/dispersió!$O$41))^(1/2),0)","v":12.493395812415045},-12.493395812415045,null,46.86958164838547,{"$f":"IFERROR((letalitat!$P$12*1000)/((3.14159*dispersió!$C$10*((dispersió!$E$41+F305)^dispersió!$D$10)*dispersió!$E$10*((dispersió!$F$41+F305)^dispersió!$F$10)+dispersió!$C$24*dispersió!$D$41)*dispersió!$C$12),0)","v":0.92580263750961944},{"$f":"IFERROR(dispersió!$C$10*((dispersió!$E$41+'Càlculs interns'!F305)^dispersió!$D$10)*(2*LN('Càlculs interns'!G305/dispersió!$O$47))^(1/2),0)","v":10.331464132830819},-10.331464132830819,null,32.789386100236008,{"$f":"IFERROR((letalitat!$P$12*1000)/((3.14159*dispersió!$C$10*((dispersió!$E$41+K305)^dispersió!$D$10)*dispersió!$E$10*((dispersió!$F$41+K305)^dispersió!$F$10)+dispersió!$C$24*dispersió!$D$41)*dispersió!$C$12),0)","v":1.1929039735145075},{"$f":"IFERROR(dispersió!$C$10*((dispersió!$E$41+'Càlculs interns'!K305)^dispersió!$D$10)*(2*LN('Càlculs interns'!L305/dispersió!$O$55))^(1/2),0)","v":8.1566072821415201},-8.1566072821415201,null,14.643118658145648,{"$f":"IFERROR((letalitat!$P$12*1000)/((3.14159*dispersió!$C$10*((dispersió!$E$41+P305)^dispersió!$D$10)*dispersió!$E$10*((dispersió!$F$41+P305)^dispersió!$F$10)+dispersió!$C$24*dispersió!$D$41)*dispersió!$C$12),0)","v":1.7532270425057672},{"$f":"IFERROR(dispersió!$C$10*((dispersió!$E$41+'Càlculs interns'!P305)^dispersió!$D$10)*(2*LN('Càlculs interns'!Q305/dispersió!$O$62))^(1/2),0)","v":4.9619235462986797},-4.9619235462986797]
[66.855845187053532,{"$f":"IFERROR((letalitat!$P$12*1000)/((3.14159*dispersió!$C$10*((dispersió!$E$41+A306)^dispersió!$D$10)*dispersió!$E$10*((dispersió!$F$41+A306)^dispersió!$F$10)+dispersió!$C$24*dispersió!$D$41)*dispersió!$C$12),0)","v":0.67989078023574856},{"$f":"IFERROR(dispersió!$C$10*((dispersió!$E$41+'Càlculs interns'!A306)^dispersió!$D$10)*(2*LN('Càlculs interns'!B306/dispersió!$O$41))^(1/2),0)","v":12.546977081457998},-12.546977081457998,null,50.775380119084261,{"$f":"IFERROR((letalitat!$P$12*1000)/((3.14159*dispersió!$C$10*((dispersió!$E$41+F306)^dispersió!$D$10)*dispersió!$E$10*((dispersió!$F$41+F306)^dispersió!$F$10)+dispersió!$C$24*dispersió!$D$41)*dispersió!$C$12),0)","v":0.8678899421814612},{"$f":"IFERROR(dispersió!$C$10*((dispersió!$E$41+'Càlculs interns'!F306)^dispersió!$D$10)*(2*LN('Càlculs interns'!G306/dispersió!$O$47))^(1/2),0)","v":10.338493266343541},{"$f":"-H306","v":-10.338493266343541},null,35.521834941922343,{"$f":"IFERROR((letalitat!$P$12*1000)/((3.14159*dispersió!$C$10*((dispersió!$E$41+K306)^dispersió!$D$10)*dispersió!$E$10*((dispersió!$F$41+K306)^dispersió!$F$10)+dispersió!$C$24*dispersió!$D$41)*dispersió!$C$12),0)","v":1.1325310293434199},{"$f":"IFERROR(dispersió!$C$10*((dispersió!$E$41+'Càlculs interns'!K306)^dispersió!$D$10)*(2*LN('Càlculs interns'!L306/dispersió!$O$55))^(1/2),0)","v":8.123709809382758},-8.123709809382758,null,15.863378546324451,{"$f":"IFERROR((letalitat!$P$12*1000)/((3.14159*dispersió!$C$10*((dispersió!$E$41+P306)^dispersió!$D$10)*dispersió!$E$10*((dispersió!$F$41+P306)^dispersió!$F$10)+dispersió!$C$24*dispersió!$D$41)*dispersió!$C$12),0)","v":1.7042571635940675},{"$f":"IFERROR(dispersió!$C$10*((dispersió!$E$41+'Càlculs interns'!P306)^dispersió!$D$10)*(2*LN('Càlculs interns'!Q306/dispersió!$O$62))^(1/2),0)","v":4.8941111253827208},-4.8941111253827208]
[71.998602509134571,{"$f":"IFERROR((letalitat!$P$12*1000)/((3.14159*dispersió!$C$10*((dispersió!$E$41+A307)^dispersió!$D$10)*dispersió!$E$10*((dispersió!$F$41+A307)^dispersió!$F$10)+dispersió!$C$24*dispersió!$D$41)*dispersió!$C$12),0)","v":0.63293704771795389},{"$f":"IFERROR(dispersió!$C$10*((dispersió!$E$41+'Càlculs interns'!A307)^dispersió!$D$10)*(2*LN('Càlculs interns'!B307/dispersió!$O$41))^(1/2),0)","v":12.558622648251029},-12.558622648251029,null,54.681178589783052,{"$f":"IFERROR((letalitat!$P$12*1000)/((3.14159*dispersió!$C$10*((dispersió!$E$41+F307)^dispersió!$D$10)*dispersió!$E$10*((dispersió!$F$41+F307)^dispersió!$F$10)+dispersió!$C$24*dispersió!$D$41)*dispersió!$C$12),0)","v":0.81539395924360669},{"$f":"IFERROR(dispersió!$C$10*((dispersió!$E$41+'Càlculs interns'!F307)^dispersió!$D$10)*(2*LN('Càlculs interns'!G307/dispersió!$O$47))^(1/2),0)","v":10.31420391193527},-10.31420391193527,null,38.254283783608678,{"$f":"IFERROR((letalitat!$P$12*1000)/((3.14159*dispersió!$C$10*((dispersió!$E$41+K307)^dispersió!$D$10)*dispersió!$E$10*((dispersió!$F$41+K307)^dispersió!$F$10)+dispersió!$C$24*dispersió!$D$41)*dispersió!$C$12),0)","v":1.076703186873418},{"$f":"IFERROR(dispersió!$C$10*((dispersió!$E$41+'Càlculs interns'!K307)^dispersió!$D$10)*(2*LN('Càlculs interns'!L307/dispersió!$O$55))^(1/2),0)","v":8.0694678858074962},-8.0694678858074962,null,17.083638434503257,{"$f":"IFERROR((letalitat!$P$12*1000)/((3.14159*dispersió!$C$10*((dispersió!$E$41+P307)^dispersió!$D$10)*dispersió!$E$10*((dispersió!$F$41+P307)^dispersió!$F$10)+dispersió!$C$24*dispersió!$D$41)*dispersió!$C$12),0)","v":1.6572853018211469},{"$f":"IFERROR(dispersió!$C$10*((dispersió!$E$41+'Càlculs interns'!P307)^dispersió!$D$10)*(2*LN('Càlculs interns'!Q307/dispersió!$O$62))^(1/2),0)","v":4.8171989373087509},-4.8171989373087509]
[77.14135983121561,{"$f":"IFERROR((letalitat!$P$12*1000)/((3.14159*dispersió!$C$10*((dispersió!$E$41+A308)^dispersió!$D$10)*dispersió!$E$10*((dispersió!$F$41+A308)^dispersió!$F$10)+dispersió!$C$24*dispersió!$D$41)*dispersió!$C$12),0)","v":0.59085954619013281},{"$f":"IFERROR(dispersió!$C$10*((dispersió!$E$41+'Càlculs interns'!A308)^dispersió!$D$10)*(2*LN('Càlculs interns'!B308/dispersió!$O$41))^(1/2),0)","v":12.527252632024846},{"$f":"-C308","v":-12.527252632024846},null,58.586977060481843,{"$f":"IFERROR((letalitat!$P$12*1000)/((3.14159*dispersió!$C$10*((dispersió!$E$41+F308)^dispersió!$D$10)*dispersió!$E$10*((dispersió!$F$41+F308)^dispersió!$F$10)+dispersió!$C$24*dispersió!$D$41)*dispersió!$C$12),0)","v":0.76766118124168969},{"$f":"IFERROR(dispersió!$C$10*((dispersió!$E$41+'Càlculs interns'!F308)^dispersió!$D$10)*(2*LN('Càlculs interns'!G308/dispersió!$O$47))^(1/2),0)","v":10.257600398302293},-10.257600398302293,null,40.986732625295012,{"$f":"IFERROR((letalitat!$P$12*1000)/((3.14159*dispersió!$C$10*((dispersió!$E$41+K308)^dispersió!$D$10)*dispersió!$E$10*((dispersió!$F$41+K308)^dispersió!$F$10)+dispersió!$C$24*dispersió!$D$41)*dispersió!$C$12),0)","v":1.0249821849227168},{"$f":"IFERROR(dispersió!$C$10*((dispersió!$E$41+'Càlculs interns'!K308)^dispersió!$D$10)*(2*LN('Càlculs interns'!L308/dispersió!$O$55))^(1/2),0)","v":7.9930244250734193},-7.9930244250734193,null,18.303898322682063,{"$f":"IFERROR((letalitat!$P$12*1000)/((3.14159*dispersió!$C$10*((dispersió!$E$41+P308)^dispersió!$D$10)*dispersió!$E$10*((dispersió!$F$41+P308)^dispersió!$F$10)+dispersió!$C$24*dispersió!$D$41)*dispersió!$C$12),0)","v":1.6122100208045052},{"$f":"IFERROR(dispersió!$C$10*((dispersió!$E$41+'Càlculs interns'!P308)^dispersió!$D$10)*(2*LN('Càlculs interns'!Q308/dispersió!$O$62))^(1/2),0)","v":4.7306502894413098},-4.7306502894413098]
[82.284117153296648,{"$f":"IFERROR((letalitat!$P$12*1000)/((3.14159*dispersió!$C$10*((dispersió!$E$41+A309)^dispersió!$D$10)*dispersió!$E$10*((dispersió!$F$41+A309)^dispersió!$F$10)+dispersió!$C$24*dispersió!$D$41)*dispersió!$C$12),0)","v":0.5530011209990654},{"$f":"IFERROR(dispersió!$C$10*((dispersió!$E$41+'Càlculs interns'!A309)^dispersió!$D$10)*(2*LN('Càlculs interns'!B309/dispersió!$O$41))^(1/2),0)","v":12.451414379958871},-12.451414379958871,null,62.492775531180634,{"$f":"IFERROR((letalitat!$P$12*1000)/((3.14159*dispersió!$C$10*((dispersió!$E$41+F309)^dispersió!$D$10)*dispersió!$E$10*((dispersió!$F$41+F309)^dispersió!$F$10)+dispersió!$C$24*dispersió!$D$41)*dispersió!$C$12),0)","v":0.72413240624070307},{"$f":"IFERROR(dispersió!$C$10*((dispersió!$E$41+'Càlculs interns'!F309)^dispersió!$D$10)*(2*LN('Càlculs interns'!G309/dispersió!$O$47))^(1/2),0)","v":10.167408447058742},-10.167408447058742,null,43.719181466981347,{"$f":"IFERROR((letalitat!$P$12*1000)/((3.14159*dispersió!$C$10*((dispersió!$E$41+K309)^dispersió!$D$10)*dispersió!$E$10*((dispersió!$F$41+K309)^dispersió!$F$10)+dispersió!$C$24*dispersió!$D$41)*dispersió!$C$12),0)","v":0.97697977155730764},{"$f":"IFERROR(dispersió!$C$10*((dispersió!$E$41+'Càlculs interns'!K309)^dispersió!$D$10)*(2*LN('Càlculs interns'!L309/dispersió!$O$55))^(1/2),0)","v":7.8933283407553532},-7.8933283407553532,null,19.524158210860868,{"$f":"IFERROR((letalitat!$P$12*1000)/((3.14159*dispersió!$C$10*((dispersió!$E$41+P309)^dispersió!$D$10)*dispersió!$E$10*((dispersió!$F$41+P309)^dispersió!$F$10)+dispersió!$C$24*dispersió!$D$41)*dispersió!$C$12),0)","v":1.5689356622911252},{"$f":"IFERROR(dispersió!$C$10*((dispersió!$E$41+'Càlculs interns'!P309)^dispersió!$D$10)*(2*LN('Càlculs interns'!Q309/dispersió!$O$62))^(1/2),0)","v":4.63383363736523},-4.63383363736523]
[87.426874475377687,{"$f":"IFERROR((letalitat!$P$12*1000)/((3.14159*dispersió!$C$10*((dispersió!$E$41+A310)^dispersió!$D$10)*dispersió!$E$10*((dispersió!$F$41+A310)^dispersió!$F$10)+dispersió!$C$24*dispersió!$D$41)*dispersió!$C$12),0)","v":0.51881130680348586},{"$f":"IFERROR(dispersió!$C$10*((dispersió!$E$41+'Càlculs interns'!A310)^dispersió!$D$10)*(2*LN('Càlculs interns'!B310/dispersió!$O$41))^(1/2),0)","v":12.329217923871791},-12.329217923871791,null,66.398574001879425,{"$f":"IFERROR((letalitat!$P$12*1000)/((3.14159*dispersió!$C$10*((dispersió!$E$41+F310)^dispersió!$D$10)*dispersió!$E$10*((dispersió!$F$41+F310)^dispersió!$F$10)+dispersió!$C$24*dispersió!$D$41)*dispersió!$C$12),0)","v":0.68432720815154113},{"$f":"IFERROR(dispersió!$C$10*((dispersió!$E$41+'Càlculs interns'!F310)^dispersió!$D$10)*(2*LN('Càlculs interns'!G310/dispersió!$O$47))^(1/2),0)","v":10.04202089222102},-10.04202089222102,null,46.451630308667681,{"$f":"IFERROR((letalitat!$P$12*1000)/((3.14159*dispersió!$C$10*((dispersió!$E$41+K310)^dispersió!$D$10)*dispersió!$E$10*((dispersió!$F$41+K310)^dispersió!$F$10)+dispersió!$C$24*dispersió!$D$41)*dispersió!$C$12),0)","v":0.93235130372175612},{"$f":"IFERROR(dispersió!$C$10*((dispersió!$E$41+'Càlculs interns'!K310)^dispersió!$D$10)*(2*LN('Càlculs interns'!L310/dispersió!$O$55))^(1/2),0)","v":7.7690922307267174},-7.7690922307267174,null,20.744418099039674,{"$f":"IFERROR((letalitat!$P$12*1000)/((3.14159*dispersió!$C$10*((dispersió!$E$41+P310)^dispersió!$D$10)*dispersió!$E$10*((dispersió!$F$41+P310)^dispersió!$F$10)+dispersió!$C$24*dispersió!$D$41)*dispersió!$C$12),0)","v":1.5273720180873935},{"$f":"IFERROR(dispersió!$C$10*((dispersió!$E$41+'Càlculs interns'!P310)^dispersió!$D$10)*(2*LN('Càlculs interns'!Q310/dispersió!$O$62))^(1/2),0)","v":4.5259993797645182},-4.5259993797645182]
[92.569631797458726,{"$f":"IFERROR((letalitat!$P$12*1000)/((3.14159*dispersió!$C$10*((dispersió!$E$41+A311)^dispersió!$D$10)*dispersió!$E$10*((dispersió!$F$41+A311)^dispersió!$F$10)+dispersió!$C$24*dispersió!$D$41)*dispersió!$C$12),0)","v":0.48782638003735335},{"$f":"IFERROR(dispersió!$C$10*((dispersió!$E$41+'Càlculs interns'!A311)^dispersió!$D$10)*(2*LN('Càlculs interns'!B311/dispersió!$O$41))^(1/2),0)","v":12.158244425148084},-12.158244425148084,null,70.304372472578208,{"$f":"IFERROR((letalitat!$P$12*1000)/((3.14159*dispersió!$C$10*((dispersió!$E$41+F311)^dispersió!$D$10)*dispersió!$E$10*((dispersió!$F$41+F311)^dispersió!$F$10)+dispersió!$C$24*dispersió!$D$41)*dispersió!$C$12),0)","v":0.64783122819786521},{"$f":"IFERROR(dispersió!$C$10*((dispersió!$E$41+'Càlculs interns'!F311)^dispersió!$D$10)*(2*LN('Càlculs interns'!G311/dispersió!$O$47))^(1/2),0)","v":9.8794223608516933},-9.8794223608516933,null,49.184079150354016,{"$f":"IFERROR((letalitat!$P$12*1000)/((3.14159*dispersió!$C$10*((dispersió!$E$41+K311)^dispersió!$D$10)*dispersió!$E$10*((dispersió!$F$41+K311)^dispersió!$F$10)+dispersió!$C$24*dispersió!$D$41)*dispersió!$C$12),0)","v":0.89079022382450923},{"$f":"IFERROR(dispersió!$C$10*((dispersió!$E$41+'Càlculs interns'!K311)^dispersió!$D$10)*(2*LN('Càlculs interns'!L311/dispersió!$O$55))^(1/2),0)","v":7.6187346355919141},-7.6187346355919141,null,21.964677987218479,{"$f":"IFERROR((letalitat!$P$12*1000)/((3.14159*dispersió!$C$10*((dispersió!$E$41+P311)^dispersió!$D$10)*dispersió!$E$10*((dispersió!$F$41+P311)^dispersió!$F$10)+dispersió!$C$24*dispersió!$D$41)*dispersió!$C$12),0)","v":1.4874340154462562},{"$f":"IFERROR(dispersió!$C$10*((dispersió!$E$41+'Càlculs interns'!P311)^dispersió!$D$10)*(2*LN('Càlculs interns'!Q311/dispersió!$O$62))^(1/2),0)","v":4.4062485084571534},-4.4062485084571534]
[97.712389119539765,{"$f":"IFERROR((letalitat!$P$12*1000)/((3.14159*dispersió!$C$10*((dispersió!$E$41+A312)^dispersió!$D$10)*dispersió!$E$10*((dispersió!$F$41+A312)^dispersió!$F$10)+dispersió!$C$24*dispersió!$D$41)*dispersió!$C$12),0)","v":0.45965357752880637},{"$f":"IFERROR(dispersió!$C$10*((dispersió!$E$41+'Càlculs interns'!A312)^dispersió!$D$10)*(2*LN('Càlculs interns'!B312/dispersió!$O$41))^(1/2),0)","v":11.935416031005165},-11.935416031005165,null,74.210170943276992,{"$f":"IFERROR((letalitat!$P$12*1000)/((3.14159*dispersió!$C$10*((dispersió!$E$41+F312)^dispersió!$D$10)*dispersió!$E$10*((dispersió!$F$41+F312)^dispersió!$F$10)+dispersió!$C$24*dispersió!$D$41)*dispersió!$C$12),0)","v":0.61428573784557716},{"$f":"IFERROR(dispersió!$C$10*((dispersió!$E$41+'Càlculs interns'!F312)^dispersió!$D$10)*(2*LN('Càlculs interns'!G312/dispersió!$O$47))^(1/2),0)","v":9.6770835313473587},-9.6770835313473587,null,51.916527992040351,{"$f":"IFERROR((letalitat!$P$12*1000)/((3.14159*dispersió!$C$10*((dispersió!$E$41+K312)^dispersió!$D$10)*dispersió!$E$10*((dispersió!$F$41+K312)^dispersió!$F$10)+dispersió!$C$24*dispersió!$D$41)*dispersió!$C$12),0)","v":0.8520232916888798},{"$f":"IFERROR(dispersió!$C$10*((dispersió!$E$41+'Càlculs interns'!K312)^dispersió!$D$10)*(2*LN('Càlculs interns'!L312/dispersió!$O$55))^(1/2),0)","v":7.4402997931769068},-7.4402997931769068,null,23.184937875397285,{"$f":"IFERROR((letalitat!$P$12*1000)/((3.14159*dispersió!$C$10*((dispersió!$E$41+P312)^dispersió!$D$10)*dispersió!$E$10*((dispersió!$F$41+P312)^dispersió!$F$10)+dispersió!$C$24*dispersió!$D$41)*dispersió!$C$12),0)","v":1.4490414166455068},{"$f":"IFERROR(dispersió!$C$10*((dispersió!$E$41+'Càlculs interns'!P312)^dispersió!$D$10)*(2*LN('Càlculs interns'!Q312/dispersió!$O$62))^(1/2),0)","v":4.2734893121535418},-4.2734893121535418]
[102.8551464416208,{"$f":"IFERROR((letalitat!$P$12*1000)/((3.14159*dispersió!$C$10*((dispersió!$E$41+A313)^dispersió!$D$10)*dispersió!$E$10*((dispersió!$F$41+A313)^dispersió!$F$10)+dispersió!$C$24*dispersió!$D$41)*dispersió!$C$12),0)","v":0.43395853085046771},{"$f":"IFERROR(dispersió!$C$10*((dispersió!$E$41+'Càlculs interns'!A313)^dispersió!$D$10)*(2*LN('Càlculs interns'!B313/dispersió!$O$41))^(1/2),0)","v":11.656808369146349},-11.656808369146349,null,78.115969413975776,{"$f":"IFERROR((letalitat!$P$12*1000)/((3.14159*dispersió!$C$10*((dispersió!$E$41+F313)^dispersió!$D$10)*dispersió!$E$10*((dispersió!$F$41+F313)^dispersió!$F$10)+dispersió!$C$24*dispersió!$D$41)*dispersió!$C$12),0)","v":0.58337903521187917},{"$f":"IFERROR(dispersió!$C$10*((dispersió!$E$41+'Càlculs interns'!F313)^dispersió!$D$10)*(2*LN('Càlculs interns'!G313/dispersió!$O$47))^(1/2),0)","v":9.4318098424132586},-9.4318098424132586,null,54.648976833726685,{"$f":"IFERROR((letalitat!$P$12*1000)/((3.14159*dispersió!$C$10*((dispersió!$E$41+K313)^dispersió!$D$10)*dispersió!$E$10*((dispersió!$F$41+K313)^dispersió!$F$10)+dispersió!$C$24*dispersió!$D$41)*dispersió!$C$12),0)","v":0.81580646558197745},{"$f":"IFERROR(dispersió!$C$10*((dispersió!$E$41+'Càlculs interns'!K313)^dispersió!$D$10)*(2*LN('Càlculs interns'!L313/dispersió!$O$55))^(1/2),0)","v":7.2313435177634338},-7.2313435177634338,null,24.405197763576091,{"$f":"IFERROR((letalitat!$P$12*1000)/((3.14159*dispersió!$C$10*((dispersió!$E$41+P313)^dispersió!$D$10)*dispersió!$E$10*((dispersió!$F$41+P313)^dispersió!$F$10)+dispersió!$C$24*dispersió!$D$41)*dispersió!$C$12),0)","v":1.4121185331310222},{"$f":"IFERROR(dispersió!$C$10*((dispersió!$E$41+'Càlculs interns'!P313)^dispersió!$D$10)*(2*LN('Càlculs interns'!Q313/dispersió!$O$62))^(1/2),0)","v":4.1263760287532918},-4.1263760287532918]
[107.99790376370184,{"$f":"IFERROR((letalitat!$P$12*1000)/((3.14159*dispersió!$C$10*((dispersió!$E$41+A314)^dispersió!$D$10)*dispersió!$E$10*((dispersió!$F$41+A314)^dispersió!$F$10)+dispersió!$C$24*dispersió!$D$41)*dispersió!$C$12),0)","v":0.41045519862593455},{"$f":"IFERROR(dispersió!$C$10*((dispersió!$E$41+'Càlculs interns'!A314)^dispersió!$D$10)*(2*LN('Càlculs interns'!B314/dispersió!$O$41))^(1/2),0)","v":11.317374226806578},-11.317374226806578,null,82.02176788467456,{"$f":"IFERROR((letalitat!$P$12*1000)/((3.14159*dispersió!$C$10*((dispersió!$E$41+F314)^dispersió!$D$10)*dispersió!$E$10*((dispersió!$F$41+F314)^dispersió!$F$10)+dispersió!$C$24*dispersió!$D$41)*dispersió!$C$12),0)","v":0.55483932582872975},{"$f":"IFERROR(dispersió!$C$10*((dispersió!$E$41+'Càlculs interns'!F314)^dispersió!$D$10)*(2*LN('Càlculs interns'!G314/dispersió!$O$47))^(1/2),0)","v":9.1395193678378845},-9.1395193678378845,null,57.38142567541302,{"$f":"IFERROR((letalitat!$P$12*1000)/((3.14159*dispersió!$C$10*((dispersió!$E$41+K314)^dispersió!$D$10)*dispersió!$E$10*((dispersió!$F$41+K314)^dispersió!$F$10)+dispersió!$C$24*dispersió!$D$41)*dispersió!$C$12),0)","v":0.781921340234912},{"$f":"IFERROR(dispersió!$C$10*((dispersió!$E$41+'Càlculs interns'!K314)^dispersió!$D$10)*(2*LN('Càlculs interns'!L314/dispersió!$O$55))^(1/2),0)","v":6.9887662255161853},-6.9887662255161853,null,25.625457651754896,{"$f":"IFERROR((letalitat!$P$12*1000)/((3.14159*dispersió!$C$10*((dispersió!$E$41+P314)^dispersió!$D$10)*dispersió!$E$10*((dispersió!$F$41+P314)^dispersió!$F$10)+dispersió!$C$24*dispersió!$D$41)*dispersió!$C$12),0)","v":1.3765939543197545},{"$f":"IFERROR(dispersió!$C$10*((dispersió!$E$41+'Càlculs interns'!P314)^dispersió!$D$10)*(2*LN('Càlculs interns'!Q314/dispersió!$O$62))^(1/2),0)","v":3.9632192539130684},-3.9632192539130684]
[113.14066108578288,{"$f":"IFERROR((letalitat!$P$12*1000)/((3.14159*dispersió!$C$10*((dispersió!$E$41+A315)^dispersió!$D$10)*dispersió!$E$10*((dispersió!$F$41+A315)^dispersió!$F$10)+dispersió!$C$24*dispersió!$D$41)*dispersió!$C$12),0)","v":0.38889775149082523},{"$f":"IFERROR(dispersió!$C$10*((dispersió!$E$41+'Càlculs interns'!A315)^dispersió!$D$10)*(2*LN('Càlculs interns'!B315/dispersió!$O$41))^(1/2),0)","v":10.910523418964312},-10.910523418964312,null,85.927566355373344,{"$f":"IFERROR((letalitat!$P$12*1000)/((3.14159*dispersió!$C$10*((dispersió!$E$41+F315)^dispersió!$D$10)*dispersió!$E$10*((dispersió!$F$41+F315)^dispersió!$F$10)+dispersió!$C$24*dispersió!$D$41)*dispersió!$C$12),0)","v":0.5284288090647552},{"$f":"IFERROR(dispersió!$C$10*((dispersió!$E$41+'Càlculs interns'!F315)^dispersió!$D$10)*(2*LN('Càlculs interns'!G315/dispersió!$O$47))^(1/2),0)","v":8.7949056739286764},-8.7949056739286764,null,60.113874517099354,{"$f":"IFERROR((letalitat!$P$12*1000)/((3.14159*dispersió!$C$10*((dispersió!$E$41+K315)^dispersió!$D$10)*dispersió!$E$10*((dispersió!$F$41+K315)^dispersió!$F$10)+dispersió!$C$24*dispersió!$D$41)*dispersió!$C$12),0)","v":0.75017206255803492},{"$f":"IFERROR(dispersió!$C$10*((dispersió!$E$41+'Càlculs interns'!K315)^dispersió!$D$10)*(2*LN('Càlculs interns'!L315/dispersió!$O$55))^(1/2),0)","v":6.708559958733491},-6.708559958733491,null,26.845717539933702,{"$f":"IFERROR((letalitat!$P$12*1000)/((3.14159*dispersió!$C$10*((dispersió!$E$41+P315)^dispersió!$D$10)*dispersió!$E$10*((dispersió!$F$41+P315)^dispersió!$F$10)+dispersió!$C$24*dispersió!$D$41)*dispersió!$C$12),0)","v":1.3424002909438935},{"$f":"IFERROR(dispersió!$C$10*((dispersió!$E$41+'Càlculs interns'!P315)^dispersió!$D$10)*(2*LN('Càlculs interns'!Q315/dispersió!$O$62))^(1/2),0)","v":3.7818502926481599},-3.7818502926481599]
[118.28341840786392,{"$f":"IFERROR((letalitat!$P$12*1000)/((3.14159*dispersió!$C$10*((dispersió!$E$41+A316)^dispersió!$D$10)*dispersió!$E$10*((dispersió!$F$41+A316)^dispersió!$F$10)+dispersió!$C$24*dispersió!$D$41)*dispersió!$C$12),0)","v":0.36907399291183002},{"$f":"IFERROR(dispersió!$C$10*((dispersió!$E$41+'Càlculs interns'!A316)^dispersió!$D$10)*(2*LN('Càlculs interns'!B316/dispersió!$O$41))^(1/2),0)","v":10.427457419094862},-10.427457419094862,null,89.833364826072128,{"$f":"IFERROR((letalitat!$P$12*1000)/((3.14159*dispersió!$C$10*((dispersió!$E$41+F316)^dispersió!$D$10)*dispersió!$E$10*((dispersió!$F$41+F316)^dispersió!$F$10)+dispersió!$C$24*dispersió!$D$41)*dispersió!$C$12),0)","v":0.5039387472495459},{"$f":"IFERROR(dispersió!$C$10*((dispersió!$E$41+'Càlculs interns'!F316)^dispersió!$D$10)*(2*LN('Càlculs interns'!G316/dispersió!$O$47))^(1/2),0)","v":8.3909041420105996},-8.3909041420105996,null,62.846323358785689,{"$f":"IFERROR((letalitat!$P$12*1000)/((3.14159*dispersió!$C$10*((dispersió!$E$41+K316)^dispersió!$D$10)*dispersió!$E$10*((dispersió!$F$41+K316)^dispersió!$F$10)+dispersió!$C$24*dispersió!$D$41)*dispersió!$C$12),0)","v":0.72038265705127558},{"$f":"IFERROR(dispersió!$C$10*((dispersió!$E$41+'Càlculs interns'!K316)^dispersió!$D$10)*(2*LN('Càlculs interns'!L316/dispersió!$O$55))^(1/2),0)","v":6.3854082475678782},-6.3854082475678782,null,28.065977428112507,{"$f":"IFERROR((letalitat!$P$12*1000)/((3.14159*dispersió!$C$10*((dispersió!$E$41+P316)^dispersió!$D$10)*dispersió!$E$10*((dispersió!$F$41+P316)^dispersió!$F$10)+dispersió!$C$24*dispersió!$D$41)*dispersió!$C$12),0)","v":1.3094739326569702},{"$f":"IFERROR(dispersió!$C$10*((dispersió!$E$41+'Càlculs interns'!P316)^dispersió!$D$10)*(2*LN('Càlculs interns'!Q316/dispersió!$O$62))^(1/2),0)","v":3.5794065565254161},-3.5794065565254161]
[123.42617572994496,{"$f":"IFERROR((letalitat!$P$12*1000)/((3.14159*dispersió!$C$10*((dispersió!$E$41+A317)^dispersió!$D$10)*dispersió!$E$10*((dispersió!$F$41+A317)^dispersió!$F$10)+dispersió!$C$24*dispersió!$D$41)*dispersió!$C$12),0)","v":0.35079999533806833},{"$f":"IFERROR(dispersió!$C$10*((dispersió!$E$41+'Càlculs interns'!A317)^dispersió!$D$10)*(2*LN('Càlculs interns'!B317/dispersió!$O$41))^(1/2),0)","v":9.856058792029831},-9.856058792029831,null,93.739163296770911,{"$f":"IFERROR((letalitat!$P$12*1000)/((3.14159*dispersió!$C$10*((dispersió!$E$41+F317)^dispersió!$D$10)*dispersió!$E$10*((dispersió!$F$41+F317)^dispersió!$F$10)+dispersió!$C$24*dispersió!$D$41)*dispersió!$C$12),0)","v":0.48118533866019775},{"$f":"IFERROR(dispersió!$C$10*((dispersió!$E$41+'Càlculs interns'!F317)^dispersió!$D$10)*(2*LN('Càlculs interns'!G317/dispersió!$O$47))^(1/2),0)","v":7.9178008873056651},-7.9178008873056651,null,65.578772200472017,{"$f":"IFERROR((letalitat!$P$12*1000)/((3.14159*dispersió!$C$10*((dispersió!$E$41+K317)^dispersió!$D$10)*dispersió!$E$10*((dispersió!$F$41+K317)^dispersió!$F$10)+dispersió!$C$24*dispersió!$D$41)*dispersió!$C$12),0)","v":0.69239470275408621},{"$f":"IFERROR(dispersió!$C$10*((dispersió!$E$41+'Càlculs interns'!K317)^dispersió!$D$10)*(2*LN('Càlculs interns'!L317/dispersió!$O$55))^(1/2),0)","v":6.0120180646231649},-6.0120180646231649,null,29.286237316291313,{"$f":"IFERROR((letalitat!$P$12*1000)/((3.14159*dispersió!$C$10*((dispersió!$E$41+P317)^dispersió!$D$10)*dispersió!$E$10*((dispersió!$F$41+P317)^dispersió!$F$10)+dispersió!$C$24*dispersió!$D$41)*dispersió!$C$12),0)","v":1.2777548195043156},{"$f":"IFERROR(dispersió!$C$10*((dispersió!$E$41+'Càlculs interns'!P317)^dispersió!$D$10)*(2*LN('Càlculs interns'!Q317/dispersió!$O$62))^(1/2),0)","v":3.3519729911296143},-3.3519729911296143]
[128.56893305202601,{"$f":"IFERROR((letalitat!$P$12*1000)/((3.14159*dispersió!$C$10*((dispersió!$E$41+A318)^dispersió!$D$10)*dispersió!$E$10*((dispersió!$F$41+A318)^dispersió!$F$10)+dispersió!$C$24*dispersió!$D$41)*dispersió!$C$12),0)","v":0.33391570369561424},{"$f":"IFERROR(dispersió!$C$10*((dispersió!$E$41+'Càlculs interns'!A318)^dispersió!$D$10)*(2*LN('Càlculs interns'!B318/dispersió!$O$41))^(1/2),0)","v":9.1789063272009681},-9.1789063272009681,null,97.644961767469695,{"$f":"IFERROR((letalitat!$P$12*1000)/((3.14159*dispersió!$C$10*((dispersió!$E$41+F318)^dispersió!$D$10)*dispersió!$E$10*((dispersió!$F$41+F318)^dispersió!$F$10)+dispersió!$C$24*dispersió!$D$41)*dispersió!$C$12),0)","v":0.46000625048462118},{"$f":"IFERROR(dispersió!$C$10*((dispersió!$E$41+'Càlculs interns'!F318)^dispersió!$D$10)*(2*LN('Càlculs interns'!G318/dispersió!$O$47))^(1/2),0)","v":7.3616385539052107},-7.3616385539052107,null,68.311221042158351,{"$f":"IFERROR((letalitat!$P$12*1000)/((3.14159*dispersió!$C$10*((dispersió!$E$41+K318)^dispersió!$D$10)*dispersió!$E$10*((dispersió!$F$41+K318)^dispersió!$F$10)+dispersió!$C$24*dispersió!$D$41)*dispersió!$C$12),0)","v":0.6660653120803135},{"$f":"IFERROR(dispersió!$C$10*((dispersió!$E$41+'Càlculs interns'!K318)^dispersió!$D$10)*(2*LN('Càlculs interns'!L318/dispersió!$O$55))^(1/2),0)","v":5.5779242270826517},-5.5779242270826517,null,30.506497204470119,{"$f":"IFERROR((letalitat!$P$12*1000)/((3.14159*dispersió!$C$10*((dispersió!$E$41+P318)^dispersió!$D$10)*dispersió!$E$10*((dispersió!$F$41+P318)^dispersió!$F$10)+dispersió!$C$24*dispersió!$D$41)*dispersió!$C$12),0)","v":1.247186226775705},{"$f":"IFERROR(dispersió!$C$10*((dispersió!$E$41+'Càlculs interns'!P318)^dispersió!$D$10)*(2*LN('Càlculs interns'!Q318/dispersió!$O$62))^(1/2),0)","v":3.0939395592458956},-3.0939395592458956]
[133.71169037410706,{"$f":"IFERROR((letalitat!$P$12*1000)/((3.14159*dispersió!$C$10*((dispersió!$E$41+A319)^dispersió!$D$10)*dispersió!$E$10*((dispersió!$F$41+A319)^dispersió!$F$10)+dispersió!$C$24*dispersió!$D$41)*dispersió!$C$12),0)","v":0.31828131321026287},{"$f":"IFERROR(dispersió!$C$10*((dispersió!$E$41+'Càlculs interns'!A319)^dispersió!$D$10)*(2*LN('Càlculs interns'!B319/dispersió!$O$41))^(1/2),0)","v":8.3693866002684878},-8.3693866002684878,null,101.55076023816848,{"$f":"IFERROR((letalitat!$P$12*1000)/((3.14159*dispersió!$C$10*((dispersió!$E$41+F319)^dispersió!$D$10)*dispersió!$E$10*((dispersió!$F$41+F319)^dispersió!$F$10)+dispersió!$C$24*dispersió!$D$41)*dispersió!$C$12),0)","v":0.44025769562318717},{"$f":"IFERROR(dispersió!$C$10*((dispersió!$E$41+'Càlculs interns'!F319)^dispersió!$D$10)*(2*LN('Càlculs interns'!G319/dispersió!$O$47))^(1/2),0)","v":6.7010880499689485},-6.7010880499689485,null,71.043669883844686,{"$f":"IFERROR((letalitat!$P$12*1000)/((3.14159*dispersió!$C$10*((dispersió!$E$41+K319)^dispersió!$D$10)*dispersió!$E$10*((dispersió!$F$41+K319)^dispersió!$F$10)+dispersió!$C$24*dispersió!$D$41)*dispersió!$C$12),0)","v":0.64126536917700105},{"$f":"IFERROR(dispersió!$C$10*((dispersió!$E$41+'Càlculs interns'!K319)^dispersió!$D$10)*(2*LN('Càlculs interns'!L319/dispersió!$O$55))^(1/2),0)","v":5.0671417073119773},-5.0671417073119773,null,31.726757092648924,{"$f":"IFERROR((letalitat!$P$12*1000)/((3.14159*dispersió!$C$10*((dispersió!$E$41+P319)^dispersió!$D$10)*dispersió!$E$10*((dispersió!$F$41+P319)^dispersió!$F$10)+dispersió!$C$24*dispersió!$D$41)*dispersió!$C$12),0)","v":1.2177145627001831},{"$f":"IFERROR(dispersió!$C$10*((dispersió!$E$41+'Càlculs interns'!P319)^dispersió!$D$10)*(2*LN('Càlculs interns'!Q319/dispersió!$O$62))^(1/2),0)","v":2.796737641245846},-2.796737641245846]
[138.85444769618812,{"$f":"IFERROR((letalitat!$P$12*1000)/((3.14159*dispersió!$C$10*((dispersió!$E$41+A320)^dispersió!$D$10)*dispersió!$E$10*((dispersió!$F$41+A320)^dispersió!$F$10)+dispersió!$C$24*dispersió!$D$41)*dispersió!$C$12),0)","v":0.30377427045299393},{"$f":"IFERROR(dispersió!$C$10*((dispersió!$E$41+'Càlculs interns'!A320)^dispersió!$D$10)*(2*LN('Càlculs interns'!B320/dispersió!$O$41))^(1/2),0)","v":7.3830225009435786},-7.3830225009435786,null,105.45655870886726,{"$f":"IFERROR((letalitat!$P$12*1000)/((3.14159*dispersió!$C$10*((dispersió!$E$41+F320)^dispersió!$D$10)*dispersió!$E$10*((dispersió!$F$41+F320)^dispersió!$F$10)+dispersió!$C$24*dispersió!$D$41)*dispersió!$C$12),0)","v":0.42181195926855597},{"$f":"IFERROR(dispersió!$C$10*((dispersió!$E$41+'Càlculs interns'!F320)^dispersió!$D$10)*(2*LN('Càlculs interns'!G320/dispersió!$O$47))^(1/2),0)","v":5.9004550518495984},-5.9004550518495984,null,73.77611872553102,{"$f":"IFERROR((letalitat!$P$12*1000)/((3.14159*dispersió!$C$10*((dispersió!$E$41+K320)^dispersió!$D$10)*dispersió!$E$10*((dispersió!$F$41+K320)^dispersió!$F$10)+dispersió!$C$24*dispersió!$D$41)*dispersió!$C$12),0)","v":0.61787799167664859},{"$f":"IFERROR(dispersió!$C$10*((dispersió!$E$41+'Càlculs interns'!K320)^dispersió!$D$10)*(2*LN('Càlculs interns'!L320/dispersió!$O$55))^(1/2),0)","v":4.4529119740837322},-4.4529119740837322,null,32.947016980827726,{"$f":"IFERROR((letalitat!$P$12*1000)/((3.14159*dispersió!$C$10*((dispersió!$E$41+P320)^dispersió!$D$10)*dispersió!$E$10*((dispersió!$F$41+P320)^dispersió!$F$10)+dispersió!$C$24*dispersió!$D$41)*dispersió!$C$12),0)","v":1.1892891784063777},{"$f":"IFERROR(dispersió!$C$10*((dispersió!$E$41+'Càlculs interns'!P320)^dispersió!$D$10)*(2*LN('Càlculs interns'!Q320/dispersió!$O$62))^(1/2),0)","v":2.4460071317603158},-2.4460071317603158]
[143.99720501826917,{"$f":"IFERROR((letalitat!$P$12*1000)/((3.14159*dispersió!$C$10*((dispersió!$E$41+A321)^dispersió!$D$10)*dispersió!$E$10*((dispersió!$F$41+A321)^dispersió!$F$10)+dispersió!$C$24*dispersió!$D$41)*dispersió!$C$12),0)","v":0.29028677863899316},{"$f":"IFERROR(dispersió!$C$10*((dispersió!$E$41+'Càlculs interns'!A321)^dispersió!$D$10)*(2*LN('Càlculs interns'!B321/dispersió!$O$41))^(1/2),0)","v":6.133868568277939},-6.133868568277939,null,109.36235717956605,{"$f":"IFERROR((letalitat!$P$12*1000)/((3.14159*dispersió!$C$10*((dispersió!$E$41+F321)^dispersió!$D$10)*dispersió!$E$10*((dispersió!$F$41+F321)^dispersió!$F$10)+dispersió!$C$24*dispersió!$D$41)*dispersió!$C$12),0)","v":0.40455529881949126},{"$f":"IFERROR(dispersió!$C$10*((dispersió!$E$41+'Càlculs interns'!F321)^dispersió!$D$10)*(2*LN('Càlculs interns'!G321/dispersió!$O$47))^(1/2),0)","v":4.8905678937384645},-4.8905678937384645,null,76.508567567217355,{"$f":"IFERROR((letalitat!$P$12*1000)/((3.14159*dispersió!$C$10*((dispersió!$E$41+K321)^dispersió!$D$10)*dispersió!$E$10*((dispersió!$F$41+K321)^dispersió!$F$10)+dispersió!$C$24*dispersió!$D$41)*dispersió!$C$12),0)","v":0.59579718501906676},{"$f":"IFERROR(dispersió!$C$10*((dispersió!$E$41+'Càlculs interns'!K321)^dispersió!$D$10)*(2*LN('Càlculs interns'!L321/dispersió!$O$55))^(1/2),0)","v":3.6833252171661246},-3.6833252171661246,null,34.167276869006528,{"$f":"IFERROR((letalitat!$P$12*1000)/((3.14159*dispersió!$C$10*((dispersió!$E$41+P321)^dispersió!$D$10)*dispersió!$E$10*((dispersió!$F$41+P321)^dispersió!$F$10)+dispersió!$C$24*dispersió!$D$41)*dispersió!$C$12),0)","v":1.1618621895514456},{"$f":"IFERROR(dispersió!$C$10*((dispersió!$E$41+'Càlculs interns'!P321)^dispersió!$D$10)*(2*LN('Càlculs interns'!Q321/dispersió!$O$62))^(1/2),0)","v":2.0138261953971406},-2.0138261953971406]
[149.13996234035022,{"$f":"IFERROR((letalitat!$P$12*1000)/((3.14159*dispersió!$C$10*((dispersió!$E$41+A322)^dispersió!$D$10)*dispersió!$E$10*((dispersió!$F$41+A322)^dispersió!$F$10)+dispersió!$C$24*dispersió!$D$41)*dispersió!$C$12),0)","v":0.27772371299552473},{"$f":"IFERROR(dispersió!$C$10*((dispersió!$E$41+'Càlculs interns'!A322)^dispersió!$D$10)*(2*LN('Càlculs interns'!B322/dispersió!$O$41))^(1/2),0)","v":4.4020529020749528},-4.4020529020749528,null,113.26815565026483,{"$f":"IFERROR((letalitat!$P$12*1000)/((3.14159*dispersió!$C$10*((dispersió!$E$41+F322)^dispersió!$D$10)*dispersió!$E$10*((dispersió!$F$41+F322)^dispersió!$F$10)+dispersió!$C$24*dispersió!$D$41)*dispersió!$C$12),0)","v":0.38838615478247845},{"$f":"IFERROR(dispersió!$C$10*((dispersió!$E$41+'Càlculs interns'!F322)^dispersió!$D$10)*(2*LN('Càlculs interns'!G322/dispersió!$O$47))^(1/2),0)","v":3.4933253463294514},-3.4933253463294514,null,79.24101640890369,{"$f":"IFERROR((letalitat!$P$12*1000)/((3.14159*dispersió!$C$10*((dispersió!$E$41+K322)^dispersió!$D$10)*dispersió!$E$10*((dispersió!$F$41+K322)^dispersió!$F$10)+dispersió!$C$24*dispersió!$D$41)*dispersió!$C$12),0)","v":0.5749266630302442},{"$f":"IFERROR(dispersió!$C$10*((dispersió!$E$41+'Càlculs interns'!K322)^dispersió!$D$10)*(2*LN('Càlculs interns'!L322/dispersió!$O$55))^(1/2),0)","v":2.6244205313464555},-2.6244205313464555,null,35.38753675718533,{"$f":"IFERROR((letalitat!$P$12*1000)/((3.14159*dispersió!$C$10*((dispersió!$E$41+P322)^dispersió!$D$10)*dispersió!$E$10*((dispersió!$F$41+P322)^dispersió!$F$10)+dispersió!$C$24*dispersió!$D$41)*dispersió!$C$12),0)","v":1.1353883090144463},{"$f":"IFERROR(dispersió!$C$10*((dispersió!$E$41+'Càlculs interns'!P322)^dispersió!$D$10)*(2*LN('Càlculs interns'!Q322/dispersió!$O$62))^(1/2),0)","v":1.4278646390007919},-1.4278646390007919]
[{"$f":"dispersió!G41","v":154.28271966243128},{"$f":"IFERROR((letalitat!$P$12*1000)/((3.14159*dispersió!$C$10*((dispersió!$E$41+A323)^dispersió!$D$10)*dispersió!$E$10*((dispersió!$F$41+A323)^dispersió!$F$10)+dispersió!$C$24*dispersió!$D$41)*dispersió!$C$12),0)","v":0.26600087123633864},{"$f":"IFERROR(dispersió!$C$10*((dispersió!$E$41+'Càlculs interns'!A323)^dispersió!$D$10)*(2*LN('Càlculs interns'!B323/dispersió!$O$41))^(1/2),0)","v":0},0,null,{"$f":"dispersió!G48","v":117.17395412096366},{"$f":"IFERROR((letalitat!$P$12*1000)/((3.14159*dispersió!$C$10*((dispersió!$E$41+F323)^dispersió!$D$10)*dispersió!$E$10*((dispersió!$F$41+F323)^dispersió!$F$10)+dispersió!$C$24*dispersió!$D$41)*dispersió!$C$12),0)","v":0.37321362163347493},{"$f":"IFERROR(dispersió!$C$10*((dispersió!$E$41+'Càlculs interns'!F323)^dispersió!$D$10)*(2*LN('Càlculs interns'!G323/dispersió!$O$47))^(1/2),0)","v":0},0,null,{"$f":"dispersió!G55","v":81.973465250590024},{"$f":"IFERROR((letalitat!$P$12*1000)/((3.14159*dispersió!$C$10*((dispersió!$E$41+K323)^dispersió!$D$10)*dispersió!$E$10*((dispersió!$F$41+K323)^dispersió!$F$10)+dispersió!$C$24*dispersió!$D$41)*dispersió!$C$12),0)","v":0.55517881227669508},{"$f":"IFERROR(dispersió!$C$10*((dispersió!$E$41+'Càlculs interns'!K323)^dispersió!$D$10)*(2*LN('Càlculs interns'!L323/dispersió!$O$55))^(1/2),0)","v":0},0,null,{"$f":"dispersió!G62","v":36.607796645364125},{"$f":"IFERROR((letalitat!$P$12*1000)/((3.14159*dispersió!$C$10*((dispersió!$E$41+P323)^dispersió!$D$10)*dispersió!$E$10*((dispersió!$F$41+P323)^dispersió!$F$10)+dispersió!$C$24*dispersió!$D$41)*dispersió!$C$12),0)","v":1.109824690052428},{"$f":"IFERROR(dispersió!$C$10*((dispersió!$E$41+'Càlculs interns'!P323)^dispersió!$D$10)*(2*LN('Càlculs interns'!Q323/dispersió!$O$62))^(1/2),0)","v":0},0]
[]
[]
["F=inf"]
["LC1",null,"LC1+","LC1-",null,"LC10",null,"LC10+","LC10-",null,"LC50",null,"LC50+","LC50-",null,"LC99",null,"LC99+","LC99-"]
["X","C(x)","y+","y-",null,"X","C(x)","y+","y-",null,"X","C(x)","y+","y-",null,"X","C(x)","y+","y-"]
[0,{"$f":"IFERROR((letalitat!$P$12*1000)/((3.14159*dispersió!$I$10*((dispersió!$J$41+A329)^dispersió!$J$10)*dispersió!$K$10*((dispersió!$K$41+A329)^dispersió!$L$10)+dispersió!$C$24*dispersió!$D$41)*dispersió!$I$12),0)","v":7.824762760107439},{"$f":"IFERROR(dispersió!$I$10*((dispersió!$J$41+'Càlculs interns'!A329)^dispersió!$J$10)*(2*LN('Càlculs interns'!B329/dispersió!$O$41))^(1/2),0)","v":10.474473034921889},{"$f":"-C329","v":-10.474473034921889},null,0,{"$f":"IFERROR((letalitat!$P$12*1000)/((3.14159*dispersió!$I$10*((dispersió!$J$41+F329)^dispersió!$J$10)*dispersió!$K$10*((dispersió!$K$41+F329)^dispersió!$L$10)+dispersió!$C$24*dispersió!$D$41)*dispersió!$I$12),0)","v":7.824762760107439},{"$f":"IFERROR(dispersió!$I$10*((dispersió!$J$41+'Càlculs interns'!F329)^dispersió!$J$10)*(2*LN('Càlculs interns'!G329/dispersió!$O$47))^(1/2),0)","v":9.9352306983878744},{"$f":"-H329","v":-9.9352306983878744},null,0,{"$f":"IFERROR((letalitat!$P$12*1000)/((3.14159*dispersió!$I$10*((dispersió!$J$41+K329)^dispersió!$J$10)*dispersió!$K$10*((dispersió!$K$41+K329)^dispersió!$L$10)+dispersió!$C$24*dispersió!$D$41)*dispersió!$I$12),0)","v":7.824762760107439},{"$f":"IFERROR(dispersió!$I$10*((dispersió!$J$41+'Càlculs interns'!K329)^dispersió!$J$10)*(2*LN('Càlculs interns'!L329/dispersió!$O$55))^(1/2),0)","v":9.2640180049639955},{"$f":"-M329","v":-9.2640180049639955},null,0,{"$f":"IFERROR((letalitat!$P$12*1000)/((3.14159*dispersió!$I$10*((dispersió!$J$41+P329)^dispersió!$J$10)*dispersió!$K$10*((dispersió!$K$41+P329)^dispersió!$L$10)+dispersió!$C$24*dispersió!$D$41)*dispersió!$I$12),0)","v":7.824762760107439},{"$f":"IFERROR(dispersió!$I$10*((dispersió!$J$41+'Càlculs interns'!P329)^dispersió!$J$10)*(2*LN('Càlculs interns'!Q329/dispersió!$O$62))^(1/2),0)","v":7.9595619419405184},{"$f":"-R329","v":-7.9595619419405184}]
[{"$f":"A359/30","v":35.58065424745277},{"$f":"IFERROR((letalitat!$P$12*1000)/((3.14159*dispersió!$I$10*((dispersió!$J$41+A330)^dispersió!$J$10)*dispersió!$K$10*((dispersió!$K$41+A330)^dispersió!$L$10)+dispersió!$C$24*dispersió!$D$41)*dispersió!$I$12),0)","v":5.678623163189167},{"$f":"IFERROR(dispersió!$I$10*((dispersió!$J$41+'Càlculs interns'!A330)^dispersió!$J$10)*(2*LN('Càlculs interns'!B330/dispersió!$O$41))^(1/2),0)","v":13.209285590908824},-13.209285590908824,null,{"$f":"F359/30","v":27.862947149846523},{"$f":"IFERROR((letalitat!$P$12*1000)/((3.14159*dispersió!$I$10*((dispersió!$J$41+F330)^dispersió!$J$10)*dispersió!$K$10*((dispersió!$K$41+F330)^dispersió!$L$10)+dispersió!$C$24*dispersió!$D$41)*dispersió!$I$12),0)","v":6.0629713385490795},{"$f":"IFERROR(dispersió!$I$10*((dispersió!$J$41+'Càlculs interns'!F330)^dispersió!$J$10)*(2*LN('Càlculs interns'!G330/dispersió!$O$47))^(1/2),0)","v":11.941229177764706},{"$f":"-H330","v":-11.941229177764706},null,{"$f":"K359/30","v":20.779941260434782},{"$f":"IFERROR((letalitat!$P$12*1000)/((3.14159*dispersió!$I$10*((dispersió!$J$41+K330)^dispersió!$J$10)*dispersió!$K$10*((dispersió!$K$41+K330)^dispersió!$L$10)+dispersió!$C$24*dispersió!$D$41)*dispersió!$I$12),0)","v":6.4508997915827777},{"$f":"IFERROR(dispersió!$I$10*((dispersió!$J$41+'Càlculs interns'!K330)^dispersió!$J$10)*(2*LN('Càlculs interns'!L330/dispersió!$O$55))^(1/2),0)","v":10.62569472000675},{"$f":"-M330","v":-10.62569472000675},null,{"$f":"P359/30","v":11.89498615139612},{"$f":"IFERROR((letalitat!$P$12*1000)/((3.14159*dispersió!$I$10*((dispersió!$J$41+P330)^dispersió!$J$10)*dispersió!$K$10*((dispersió!$K$41+P330)^dispersió!$L$10)+dispersió!$C$24*dispersió!$D$41)*dispersió!$I$12),0)","v":6.9915614546975657},{"$f":"IFERROR(dispersió!$I$10*((dispersió!$J$41+'Càlculs interns'!P330)^dispersió!$J$10)*(2*LN('Càlculs interns'!Q330/dispersió!$O$62))^(1/2),0)","v":8.5761443410499041},{"$f":"-R330","v":-8.5761443410499041}]
[{"$f":"A$330+A330","v":71.161308494905541},{"$f":"IFERROR((letalitat!$P$12*1000)/((3.14159*dispersió!$I$10*((dispersió!$J$41+A331)^dispersió!$J$10)*dispersió!$K$10*((dispersió!$K$41+A331)^dispersió!$L$10)+dispersió!$C$24*dispersió!$D$41)*dispersió!$I$12),0)","v":4.3079056986010889},{"$f":"IFERROR(dispersió!$I$10*((dispersió!$J$41+'Càlculs interns'!A331)^dispersió!$J$10)*(2*LN('Càlculs interns'!B331/dispersió!$O$41))^(1/2),0)","v":15.611587384179311},-15.611587384179311,null,{"$f":"F$330+F330","v":55.725894299693046},{"$f":"IFERROR((letalitat!$P$12*1000)/((3.14159*dispersió!$I$10*((dispersió!$J$41+F331)^dispersió!$J$10)*dispersió!$K$10*((dispersió!$K$41+F331)^dispersió!$L$10)+dispersió!$C$24*dispersió!$D$41)*dispersió!$I$12),0)","v":4.8326385701651882},{"$f":"IFERROR(dispersió!$I$10*((dispersió!$J$41+'Càlculs interns'!F331)^dispersió!$J$10)*(2*LN('Càlculs interns'!G331/dispersió!$O$47))^(1/2),0)","v":13.724793703511699},-13.724793703511699,null,{"$f":"K$330+K330","v":41.559882520869564},{"$f":"IFERROR((letalitat!$P$12*1000)/((3.14159*dispersió!$I$10*((dispersió!$J$41+K331)^dispersió!$J$10)*dispersió!$K$10*((dispersió!$K$41+K331)^dispersió!$L$10)+dispersió!$C$24*dispersió!$D$41)*dispersió!$I$12),0)","v":5.4054779965664412},{"$f":"IFERROR(dispersió!$I$10*((dispersió!$J$41+'Càlculs interns'!K331)^dispersió!$J$10)*(2*LN('Càlculs interns'!L331/dispersió!$O$55))^(1/2),0)","v":11.85061874355512},-11.85061874355512,null,{"$f":"P$330+P330","v":23.78997230279224},{"$f":"IFERROR((letalitat!$P$12*1000)/((3.14159*dispersió!$I$10*((dispersió!$J$41+P331)^dispersió!$J$10)*dispersió!$K$10*((dispersió!$K$41+P331)^dispersió!$L$10)+dispersió!$C$24*dispersió!$D$41)*dispersió!$I$12),0)","v":6.281666147255871},{"$f":"IFERROR(dispersió!$I$10*((dispersió!$J$41+'Càlculs interns'!P331)^dispersió!$J$10)*(2*LN('Càlculs interns'!Q331/dispersió!$O$62))^(1/2),0)","v":9.1384668805112241},-9.1384668805112241]
[{"$f":"A$330+A331","v":106.74196274235831},{"$f":"IFERROR((letalitat!$P$12*1000)/((3.14159*dispersió!$I$10*((dispersió!$J$41+A332)^dispersió!$J$10)*dispersió!$K$10*((dispersió!$K$41+A332)^dispersió!$L$10)+dispersió!$C$24*dispersió!$D$41)*dispersió!$I$12),0)","v":3.387914308331136},{"$f":"IFERROR(dispersió!$I$10*((dispersió!$J$41+'Càlculs interns'!A332)^dispersió!$J$10)*(2*LN('Càlculs interns'!B332/dispersió!$O$41))^(1/2),0)","v":17.742985917364543},-17.742985917364543,null,{"$f":"F$330+F331","v":83.588841449539572},{"$f":"IFERROR((letalitat!$P$12*1000)/((3.14159*dispersió!$I$10*((dispersió!$J$41+F332)^dispersió!$J$10)*dispersió!$K$10*((dispersió!$K$41+F332)^dispersió!$L$10)+dispersió!$C$24*dispersió!$D$41)*dispersió!$I$12),0)","v":3.9465929610999697},{"$f":"IFERROR(dispersió!$I$10*((dispersió!$J$41+'Càlculs interns'!F332)^dispersió!$J$10)*(2*LN('Càlculs interns'!G332/dispersió!$O$47))^(1/2),0)","v":15.3194423378193},-15.3194423378193,null,{"$f":"K$330+K331","v":62.339823781304347},{"$f":"IFERROR((letalitat!$P$12*1000)/((3.14159*dispersió!$I$10*((dispersió!$J$41+K332)^dispersió!$J$10)*dispersió!$K$10*((dispersió!$K$41+K332)^dispersió!$L$10)+dispersió!$C$24*dispersió!$D$41)*dispersió!$I$12),0)","v":4.5963894749512626},{"$f":"IFERROR(dispersió!$I$10*((dispersió!$J$41+'Càlculs interns'!K332)^dispersió!$J$10)*(2*LN('Càlculs interns'!L332/dispersió!$O$55))^(1/2),0)","v":12.954299948478051},-12.954299948478051,null,{"$f":"P$330+P331","v":35.684958454188362},{"$f":"IFERROR((letalitat!$P$12*1000)/((3.14159*dispersió!$I$10*((dispersió!$J$41+P332)^dispersió!$J$10)*dispersió!$K$10*((dispersió!$K$41+P332)^dispersió!$L$10)+dispersió!$C$24*dispersió!$D$41)*dispersió!$I$12),0)","v":5.6736816045687108},{"$f":"IFERROR(dispersió!$I$10*((dispersió!$J$41+'Càlculs interns'!P332)^dispersió!$J$10)*(2*LN('Càlculs interns'!Q332/dispersió!$O$62))^(1/2),0)","v":9.6496423215156675},-9.6496423215156675]
[142.32261698981108,{"$f":"IFERROR((letalitat!$P$12*1000)/((3.14159*dispersió!$I$10*((dispersió!$J$41+A333)^dispersió!$J$10)*dispersió!$K$10*((dispersió!$K$41+A333)^dispersió!$L$10)+dispersió!$C$24*dispersió!$D$41)*dispersió!$I$12),0)","v":2.742241771556472},{"$f":"IFERROR(dispersió!$I$10*((dispersió!$J$41+'Càlculs interns'!A333)^dispersió!$J$10)*(2*LN('Càlculs interns'!B333/dispersió!$O$41))^(1/2),0)","v":19.643970257381905},-19.643970257381905,null,111.45178859938609,{"$f":"IFERROR((letalitat!$P$12*1000)/((3.14159*dispersió!$I$10*((dispersió!$J$41+F333)^dispersió!$J$10)*dispersió!$K$10*((dispersió!$K$41+F333)^dispersió!$L$10)+dispersió!$C$24*dispersió!$D$41)*dispersió!$I$12),0)","v":3.289415432102675},{"$f":"IFERROR(dispersió!$I$10*((dispersió!$J$41+'Càlculs interns'!F333)^dispersió!$J$10)*(2*LN('Càlculs interns'!G333/dispersió!$O$47))^(1/2),0)","v":16.748727756788249},-16.748727756788249,null,83.119765041739129,{"$f":"IFERROR((letalitat!$P$12*1000)/((3.14159*dispersió!$I$10*((dispersió!$J$41+K333)^dispersió!$J$10)*dispersió!$K$10*((dispersió!$K$41+K333)^dispersió!$L$10)+dispersió!$C$24*dispersió!$D$41)*dispersió!$I$12),0)","v":3.9593645512361717},{"$f":"IFERROR(dispersió!$I$10*((dispersió!$J$41+'Càlculs interns'!K333)^dispersió!$J$10)*(2*LN('Càlculs interns'!L333/dispersió!$O$55))^(1/2),0)","v":13.948390693409195},-13.948390693409195,null,47.57994460558448,{"$f":"IFERROR((letalitat!$P$12*1000)/((3.14159*dispersió!$I$10*((dispersió!$J$41+P333)^dispersió!$J$10)*dispersió!$K$10*((dispersió!$K$41+P333)^dispersió!$L$10)+dispersió!$C$24*dispersió!$D$41)*dispersió!$I$12),0)","v":5.1500542693682432},{"$f":"IFERROR(dispersió!$I$10*((dispersió!$J$41+'Càlculs interns'!P333)^dispersió!$J$10)*(2*LN('Càlculs interns'!Q333/dispersió!$O$62))^(1/2),0)","v":10.112204305469437},-10.112204305469437]
[177.90327123726385,{"$f":"IFERROR((letalitat!$P$12*1000)/((3.14159*dispersió!$I$10*((dispersió!$J$41+A334)^dispersió!$J$10)*dispersió!$K$10*((dispersió!$K$41+A334)^dispersió!$L$10)+dispersió!$C$24*dispersió!$D$41)*dispersió!$I$12),0)","v":2.2716729863599197},{"$f":"IFERROR(dispersió!$I$10*((dispersió!$J$41+'Càlculs interns'!A334)^dispersió!$J$10)*(2*LN('Càlculs interns'!B334/dispersió!$O$41))^(1/2),0)","v":21.342560305590119},-21.342560305590119,null,139.31473574923263,{"$f":"IFERROR((letalitat!$P$12*1000)/((3.14159*dispersió!$I$10*((dispersió!$J$41+F334)^dispersió!$J$10)*dispersió!$K$10*((dispersió!$K$41+F334)^dispersió!$L$10)+dispersió!$C$24*dispersió!$D$41)*dispersió!$I$12),0)","v":2.7890040275134167},{"$f":"IFERROR(dispersió!$I$10*((dispersió!$J$41+'Càlculs interns'!F334)^dispersió!$J$10)*(2*LN('Càlculs interns'!G334/dispersió!$O$47))^(1/2),0)","v":18.029739129486224},-18.029739129486224,null,103.89970630217391,{"$f":"IFERROR((letalitat!$P$12*1000)/((3.14159*dispersió!$I$10*((dispersió!$J$41+K334)^dispersió!$J$10)*dispersió!$K$10*((dispersió!$K$41+K334)^dispersió!$L$10)+dispersió!$C$24*dispersió!$D$41)*dispersió!$I$12),0)","v":3.4496120643705064},{"$f":"IFERROR(dispersió!$I$10*((dispersió!$J$41+'Càlculs interns'!K334)^dispersió!$J$10)*(2*LN('Càlculs interns'!L334/dispersió!$O$55))^(1/2),0)","v":14.841776976881039},-14.841776976881039,null,59.474930756980598,{"$f":"IFERROR((letalitat!$P$12*1000)/((3.14159*dispersió!$I$10*((dispersió!$J$41+P334)^dispersió!$J$10)*dispersió!$K$10*((dispersió!$K$41+P334)^dispersió!$L$10)+dispersió!$C$24*dispersió!$D$41)*dispersió!$I$12),0)","v":4.6965002106659428},{"$f":"IFERROR(dispersió!$I$10*((dispersió!$J$41+'Càlculs interns'!P334)^dispersió!$J$10)*(2*LN('Càlculs interns'!Q334/dispersió!$O$62))^(1/2),0)","v":10.52820005206336},-10.52820005206336]
[213.48392548471662,{"$f":"IFERROR((letalitat!$P$12*1000)/((3.14159*dispersió!$I$10*((dispersió!$J$41+A335)^dispersió!$J$10)*dispersió!$K$10*((dispersió!$K$41+A335)^dispersió!$L$10)+dispersió!$C$24*dispersió!$D$41)*dispersió!$I$12),0)","v":1.9177588492053292},{"$f":"IFERROR(dispersió!$I$10*((dispersió!$J$41+'Càlculs interns'!A335)^dispersió!$J$10)*(2*LN('Càlculs interns'!B335/dispersió!$O$41))^(1/2),0)","v":22.858880964086293},-22.858880964086293,null,167.17768289907914,{"$f":"IFERROR((letalitat!$P$12*1000)/((3.14159*dispersió!$I$10*((dispersió!$J$41+F335)^dispersió!$J$10)*dispersió!$K$10*((dispersió!$K$41+F335)^dispersió!$L$10)+dispersió!$C$24*dispersió!$D$41)*dispersió!$I$12),0)","v":2.3991227571417961},{"$f":"IFERROR(dispersió!$I$10*((dispersió!$J$41+'Càlculs interns'!F335)^dispersió!$J$10)*(2*LN('Càlculs interns'!G335/dispersió!$O$47))^(1/2),0)","v":19.175166735931992},-19.175166735931992,null,124.67964756260869,{"$f":"IFERROR((letalitat!$P$12*1000)/((3.14159*dispersió!$I$10*((dispersió!$J$41+K335)^dispersió!$J$10)*dispersió!$K$10*((dispersió!$K$41+K335)^dispersió!$L$10)+dispersió!$C$24*dispersió!$D$41)*dispersió!$I$12),0)","v":3.0355950560823692},{"$f":"IFERROR(dispersió!$I$10*((dispersió!$J$41+'Càlculs interns'!K335)^dispersió!$J$10)*(2*LN('Càlculs interns'!L335/dispersió!$O$55))^(1/2),0)","v":15.64129859595973},-15.64129859595973,null,71.369916908376723,{"$f":"IFERROR((letalitat!$P$12*1000)/((3.14159*dispersió!$I$10*((dispersió!$J$41+P335)^dispersió!$J$10)*dispersió!$K$10*((dispersió!$K$41+P335)^dispersió!$L$10)+dispersió!$C$24*dispersió!$D$41)*dispersió!$I$12),0)","v":4.3014244581994623},{"$f":"IFERROR(dispersió!$I$10*((dispersió!$J$41+'Càlculs interns'!P335)^dispersió!$J$10)*(2*LN('Càlculs interns'!Q335/dispersió!$O$62))^(1/2),0)","v":10.899261086490245},-10.899261086490245]
[249.06457973216939,{"$f":"IFERROR((letalitat!$P$12*1000)/((3.14159*dispersió!$I$10*((dispersió!$J$41+A336)^dispersió!$J$10)*dispersió!$K$10*((dispersió!$K$41+A336)^dispersió!$L$10)+dispersió!$C$24*dispersió!$D$41)*dispersió!$I$12),0)","v":1.6444834556277481},{"$f":"IFERROR(dispersió!$I$10*((dispersió!$J$41+'Càlculs interns'!A336)^dispersió!$J$10)*(2*LN('Càlculs interns'!B336/dispersió!$O$41))^(1/2),0)","v":24.20775237493875},-24.20775237493875,null,195.04063004892566,{"$f":"IFERROR((letalitat!$P$12*1000)/((3.14159*dispersió!$I$10*((dispersió!$J$41+F336)^dispersió!$J$10)*dispersió!$K$10*((dispersió!$K$41+F336)^dispersió!$L$10)+dispersió!$C$24*dispersió!$D$41)*dispersió!$I$12),0)","v":2.0892548027488473},{"$f":"IFERROR(dispersió!$I$10*((dispersió!$J$41+'Càlculs interns'!F336)^dispersió!$J$10)*(2*LN('Càlculs interns'!G336/dispersió!$O$47))^(1/2),0)","v":20.194572595833705},-20.194572595833705,null,145.45958882304348,{"$f":"IFERROR((letalitat!$P$12*1000)/((3.14159*dispersió!$I$10*((dispersió!$J$41+K336)^dispersió!$J$10)*dispersió!$K$10*((dispersió!$K$41+K336)^dispersió!$L$10)+dispersió!$C$24*dispersió!$D$41)*dispersió!$I$12),0)","v":2.6947807496874532},{"$f":"IFERROR(dispersió!$I$10*((dispersió!$J$41+'Càlculs interns'!K336)^dispersió!$J$10)*(2*LN('Càlculs interns'!L336/dispersió!$O$55))^(1/2),0)","v":16.352234502487413},-16.352234502487413,null,83.264903059772848,{"$f":"IFERROR((letalitat!$P$12*1000)/((3.14159*dispersió!$I$10*((dispersió!$J$41+P336)^dispersió!$J$10)*dispersió!$K$10*((dispersió!$K$41+P336)^dispersió!$L$10)+dispersió!$C$24*dispersió!$D$41)*dispersió!$I$12),0)","v":3.9554060137867775},{"$f":"IFERROR(dispersió!$I$10*((dispersió!$J$41+'Càlculs interns'!P336)^dispersió!$J$10)*(2*LN('Càlculs interns'!Q336/dispersió!$O$62))^(1/2),0)","v":11.226656619134609},-11.226656619134609]
[284.64523397962216,{"$f":"IFERROR((letalitat!$P$12*1000)/((3.14159*dispersió!$I$10*((dispersió!$J$41+A337)^dispersió!$J$10)*dispersió!$K$10*((dispersió!$K$41+A337)^dispersió!$L$10)+dispersió!$C$24*dispersió!$D$41)*dispersió!$I$12),0)","v":1.4287407536814014},{"$f":"IFERROR(dispersió!$I$10*((dispersió!$J$41+'Càlculs interns'!A337)^dispersió!$J$10)*(2*LN('Càlculs interns'!B337/dispersió!$O$41))^(1/2),0)","v":25.400240227894226},-25.400240227894226,null,222.90357719877218,{"$f":"IFERROR((letalitat!$P$12*1000)/((3.14159*dispersió!$I$10*((dispersió!$J$41+F337)^dispersió!$J$10)*dispersió!$K$10*((dispersió!$K$41+F337)^dispersió!$L$10)+dispersió!$C$24*dispersió!$D$41)*dispersió!$I$12),0)","v":1.8386884681995317},{"$f":"IFERROR(dispersió!$I$10*((dispersió!$J$41+'Càlculs interns'!F337)^dispersió!$J$10)*(2*LN('Càlculs interns'!G337/dispersió!$O$47))^(1/2),0)","v":21.095200631005223},-21.095200631005223,null,166.23953008347826,{"$f":"IFERROR((letalitat!$P$12*1000)/((3.14159*dispersió!$I$10*((dispersió!$J$41+K337)^dispersió!$J$10)*dispersió!$K$10*((dispersió!$K$41+K337)^dispersió!$L$10)+dispersió!$C$24*dispersió!$D$41)*dispersió!$I$12),0)","v":2.410809422853752},{"$f":"IFERROR(dispersió!$I$10*((dispersió!$J$41+'Càlculs interns'!K337)^dispersió!$J$10)*(2*LN('Càlculs interns'!L337/dispersió!$O$55))^(1/2),0)","v":16.97863509889671},-16.97863509889671,null,95.159889211168974,{"$f":"IFERROR((letalitat!$P$12*1000)/((3.14159*dispersió!$I$10*((dispersió!$J$41+P337)^dispersió!$J$10)*dispersió!$K$10*((dispersió!$K$41+P337)^dispersió!$L$10)+dispersió!$C$24*dispersió!$D$41)*dispersió!$I$12),0)","v":3.6507677139853127},{"$f":"IFERROR(dispersió!$I$10*((dispersió!$J$41+'Càlculs interns'!P337)^dispersió!$J$10)*(2*LN('Càlculs interns'!Q337/dispersió!$O$62))^(1/2),0)","v":11.511332919271295},-11.511332919271295]
[320.22588822707496,{"$f":"IFERROR((letalitat!$P$12*1000)/((3.14159*dispersió!$I$10*((dispersió!$J$41+A338)^dispersió!$J$10)*dispersió!$K$10*((dispersió!$K$41+A338)^dispersió!$L$10)+dispersió!$C$24*dispersió!$D$41)*dispersió!$I$12),0)","v":1.2551734668331369},{"$f":"IFERROR(dispersió!$I$10*((dispersió!$J$41+'Càlculs interns'!A338)^dispersió!$J$10)*(2*LN('Càlculs interns'!B338/dispersió!$O$41))^(1/2),0)","v":26.444624507821704},-26.444624507821704,null,250.7665243486187,{"$f":"IFERROR((letalitat!$P$12*1000)/((3.14159*dispersió!$I$10*((dispersió!$J$41+F338)^dispersió!$J$10)*dispersió!$K$10*((dispersió!$K$41+F338)^dispersió!$L$10)+dispersió!$C$24*dispersió!$D$41)*dispersió!$I$12),0)","v":1.6329998820423077},{"$f":"IFERROR(dispersió!$I$10*((dispersió!$J$41+'Càlculs interns'!F338)^dispersió!$J$10)*(2*LN('Càlculs interns'!G338/dispersió!$O$47))^(1/2),0)","v":21.882507394886765},-21.882507394886765,null,187.01947134391304,{"$f":"IFERROR((letalitat!$P$12*1000)/((3.14159*dispersió!$I$10*((dispersió!$J$41+K338)^dispersió!$J$10)*dispersió!$K$10*((dispersió!$K$41+K338)^dispersió!$L$10)+dispersió!$C$24*dispersió!$D$41)*dispersió!$I$12),0)","v":2.1716113748720294},{"$f":"IFERROR(dispersió!$I$10*((dispersió!$J$41+'Càlculs interns'!K338)^dispersió!$J$10)*(2*LN('Càlculs interns'!L338/dispersió!$O$55))^(1/2),0)","v":17.5235517143518},-17.5235517143518,null,107.0548753625651,{"$f":"IFERROR((letalitat!$P$12*1000)/((3.14159*dispersió!$I$10*((dispersió!$J$41+P338)^dispersió!$J$10)*dispersió!$K$10*((dispersió!$K$41+P338)^dispersió!$L$10)+dispersió!$C$24*dispersió!$D$41)*dispersió!$I$12),0)","v":3.3812275934193909},{"$f":"IFERROR(dispersió!$I$10*((dispersió!$J$41+'Càlculs interns'!P338)^dispersió!$J$10)*(2*LN('Càlculs interns'!Q338/dispersió!$O$62))^(1/2),0)","v":11.75394105950482},-11.75394105950482]
[355.80654247452776,{"$f":"IFERROR((letalitat!$P$12*1000)/((3.14159*dispersió!$I$10*((dispersió!$J$41+A339)^dispersió!$J$10)*dispersió!$K$10*((dispersió!$K$41+A339)^dispersió!$L$10)+dispersió!$C$24*dispersió!$D$41)*dispersió!$I$12),0)","v":1.113254882257775},{"$f":"IFERROR(dispersió!$I$10*((dispersió!$J$41+'Càlculs interns'!A339)^dispersió!$J$10)*(2*LN('Càlculs interns'!B339/dispersió!$O$41))^(1/2),0)","v":27.347023386106887},-27.347023386106887,null,278.62947149846525,{"$f":"IFERROR((letalitat!$P$12*1000)/((3.14159*dispersió!$I$10*((dispersió!$J$41+F339)^dispersió!$J$10)*dispersió!$K$10*((dispersió!$K$41+F339)^dispersió!$L$10)+dispersió!$C$24*dispersió!$D$41)*dispersió!$I$12),0)","v":1.4619067515543609},{"$f":"IFERROR(dispersió!$I$10*((dispersió!$J$41+'Càlculs interns'!F339)^dispersió!$J$10)*(2*LN('Càlculs interns'!G339/dispersió!$O$47))^(1/2),0)","v":22.560515466126414},-22.560515466126414,null,207.79941260434782,{"$f":"IFERROR((letalitat!$P$12*1000)/((3.14159*dispersió!$I$10*((dispersió!$J$41+K339)^dispersió!$J$10)*dispersió!$K$10*((dispersió!$K$41+K339)^dispersió!$L$10)+dispersió!$C$24*dispersió!$D$41)*dispersió!$I$12),0)","v":1.968143984734458},{"$f":"IFERROR(dispersió!$I$10*((dispersió!$J$41+'Càlculs interns'!K339)^dispersió!$J$10)*(2*LN('Càlculs interns'!L339/dispersió!$O$55))^(1/2),0)","v":17.989194618680205},-17.989194618680205,null,118.94986151396122,{"$f":"IFERROR((letalitat!$P$12*1000)/((3.14159*dispersió!$I$10*((dispersió!$J$41+P339)^dispersió!$J$10)*dispersió!$K$10*((dispersió!$K$41+P339)^dispersió!$L$10)+dispersió!$C$24*dispersió!$D$41)*dispersió!$I$12),0)","v":3.1416206037485259},{"$f":"IFERROR(dispersió!$I$10*((dispersió!$J$41+'Càlculs interns'!P339)^dispersió!$J$10)*(2*LN('Càlculs interns'!Q339/dispersió!$O$62))^(1/2),0)","v":11.954854632394104},-11.954854632394104]
[391.38719672198056,{"$f":"IFERROR((letalitat!$P$12*1000)/((3.14159*dispersió!$I$10*((dispersió!$J$41+A340)^dispersió!$J$10)*dispersió!$K$10*((dispersió!$K$41+A340)^dispersió!$L$10)+dispersió!$C$24*dispersió!$D$41)*dispersió!$I$12),0)","v":0.99557254903783465},{"$f":"IFERROR(dispersió!$I$10*((dispersió!$J$41+'Càlculs interns'!A340)^dispersió!$J$10)*(2*LN('Càlculs interns'!B340/dispersió!$O$41))^(1/2),0)","v":28.111800893399064},-28.111800893399064,null,306.4924186483118,{"$f":"IFERROR((letalitat!$P$12*1000)/((3.14159*dispersió!$I$10*((dispersió!$J$41+F340)^dispersió!$J$10)*dispersió!$K$10*((dispersió!$K$41+F340)^dispersió!$L$10)+dispersió!$C$24*dispersió!$D$41)*dispersió!$I$12),0)","v":1.3179235029004792},{"$f":"IFERROR(dispersió!$I$10*((dispersió!$J$41+'Càlculs interns'!F340)^dispersió!$J$10)*(2*LN('Càlculs interns'!G340/dispersió!$O$47))^(1/2),0)","v":23.132048904744778},-23.132048904744778,null,228.5793538647826,{"$f":"IFERROR((letalitat!$P$12*1000)/((3.14159*dispersió!$I$10*((dispersió!$J$41+K340)^dispersió!$J$10)*dispersió!$K$10*((dispersió!$K$41+K340)^dispersió!$L$10)+dispersió!$C$24*dispersió!$D$41)*dispersió!$I$12),0)","v":1.793533853755648},{"$f":"IFERROR(dispersió!$I$10*((dispersió!$J$41+'Càlculs interns'!K340)^dispersió!$J$10)*(2*LN('Càlculs interns'!L340/dispersió!$O$55))^(1/2),0)","v":18.377039280959405},-18.377039280959405,null,130.84484766535735,{"$f":"IFERROR((letalitat!$P$12*1000)/((3.14159*dispersió!$I$10*((dispersió!$J$41+P340)^dispersió!$J$10)*dispersió!$K$10*((dispersió!$K$41+P340)^dispersió!$L$10)+dispersió!$C$24*dispersió!$D$41)*dispersió!$I$12),0)","v":2.9276780940429017},{"$f":"IFERROR(dispersió!$I$10*((dispersió!$J$41+'Càlculs interns'!P340)^dispersió!$J$10)*(2*LN('Càlculs interns'!Q340/dispersió!$O$62))^(1/2),0)","v":12.114178380022983},-12.114178380022983]
[426.96785096943336,{"$f":"IFERROR((letalitat!$P$12*1000)/((3.14159*dispersió!$I$10*((dispersió!$J$41+A341)^dispersió!$J$10)*dispersió!$K$10*((dispersió!$K$41+A341)^dispersió!$L$10)+dispersió!$C$24*dispersió!$D$41)*dispersió!$I$12),0)","v":0.89678230204165754},{"$f":"IFERROR(dispersió!$I$10*((dispersió!$J$41+'Càlculs interns'!A341)^dispersió!$J$10)*(2*LN('Càlculs interns'!B341/dispersió!$O$41))^(1/2),0)","v":28.741830995673897},-28.741830995673897,null,334.35536579815835,{"$f":"IFERROR((letalitat!$P$12*1000)/((3.14159*dispersió!$I$10*((dispersió!$J$41+F341)^dispersió!$J$10)*dispersió!$K$10*((dispersió!$K$41+F341)^dispersió!$L$10)+dispersió!$C$24*dispersió!$D$41)*dispersió!$I$12),0)","v":1.1954967249813679},{"$f":"IFERROR(dispersió!$I$10*((dispersió!$J$41+'Càlculs interns'!F341)^dispersió!$J$10)*(2*LN('Càlculs interns'!G341/dispersió!$O$47))^(1/2),0)","v":23.598886003442928},-23.598886003442928,null,249.35929512521739,{"$f":"IFERROR((letalitat!$P$12*1000)/((3.14159*dispersió!$I$10*((dispersió!$J$41+K341)^dispersió!$J$10)*dispersió!$K$10*((dispersió!$K$41+K341)^dispersió!$L$10)+dispersió!$C$24*dispersió!$D$41)*dispersió!$I$12),0)","v":1.6424856490743895},{"$f":"IFERROR(dispersió!$I$10*((dispersió!$J$41+'Càlculs interns'!K341)^dispersió!$J$10)*(2*LN('Càlculs interns'!L341/dispersió!$O$55))^(1/2),0)","v":18.687893130740203},-18.687893130740203,null,142.73983381675347,{"$f":"IFERROR((letalitat!$P$12*1000)/((3.14159*dispersió!$I$10*((dispersió!$J$41+P341)^dispersió!$J$10)*dispersió!$K$10*((dispersió!$K$41+P341)^dispersió!$L$10)+dispersió!$C$24*dispersió!$D$41)*dispersió!$I$12),0)","v":2.7358534994419679},{"$f":"IFERROR(dispersió!$I$10*((dispersió!$J$41+'Càlculs interns'!P341)^dispersió!$J$10)*(2*LN('Càlculs interns'!Q341/dispersió!$O$62))^(1/2),0)","v":12.23174807055835},-12.23174807055835]
[462.54850521688616,{"$f":"IFERROR((letalitat!$P$12*1000)/((3.14159*dispersió!$I$10*((dispersió!$J$41+A342)^dispersió!$J$10)*dispersió!$K$10*((dispersió!$K$41+A342)^dispersió!$L$10)+dispersió!$C$24*dispersió!$D$41)*dispersió!$I$12),0)","v":0.81295017715410911},{"$f":"IFERROR(dispersió!$I$10*((dispersió!$J$41+'Càlculs interns'!A342)^dispersió!$J$10)*(2*LN('Càlculs interns'!B342/dispersió!$O$41))^(1/2),0)","v":29.238659833915168},-29.238659833915168,null,362.21831294800489,{"$f":"IFERROR((letalitat!$P$12*1000)/((3.14159*dispersió!$I$10*((dispersió!$J$41+F342)^dispersió!$J$10)*dispersió!$K$10*((dispersió!$K$41+F342)^dispersió!$L$10)+dispersió!$C$24*dispersió!$D$41)*dispersió!$I$12),0)","v":1.0904358958621243},{"$f":"IFERROR(dispersió!$I$10*((dispersió!$J$41+'Càlculs interns'!F342)^dispersió!$J$10)*(2*LN('Càlculs interns'!G342/dispersió!$O$47))^(1/2),0)","v":23.96185015952392},-23.96185015952392,null,270.13923638565217,{"$f":"IFERROR((letalitat!$P$12*1000)/((3.14159*dispersió!$I$10*((dispersió!$J$41+K342)^dispersió!$J$10)*dispersió!$K$10*((dispersió!$K$41+K342)^dispersió!$L$10)+dispersió!$C$24*dispersió!$D$41)*dispersió!$I$12),0)","v":1.5108686419311561},{"$f":"IFERROR(dispersió!$I$10*((dispersió!$J$41+'Càlculs interns'!K342)^dispersió!$J$10)*(2*LN('Càlculs interns'!L342/dispersió!$O$55))^(1/2),0)","v":18.921930061407128},-18.921930061407128,null,154.6348199681496,{"$f":"IFERROR((letalitat!$P$12*1000)/((3.14159*dispersió!$I$10*((dispersió!$J$41+P342)^dispersió!$J$10)*dispersió!$K$10*((dispersió!$K$41+P342)^dispersió!$L$10)+dispersió!$C$24*dispersió!$D$41)*dispersió!$I$12),0)","v":2.5631844994127029},{"$f":"IFERROR(dispersió!$I$10*((dispersió!$J$41+'Càlculs interns'!P342)^dispersió!$J$10)*(2*LN('Càlculs interns'!Q342/dispersió!$O$62))^(1/2),0)","v":12.307121342271502},-12.307121342271502]
[498.12915946433895,{"$f":"IFERROR((letalitat!$P$12*1000)/((3.14159*dispersió!$I$10*((dispersió!$J$41+A343)^dispersió!$J$10)*dispersió!$K$10*((dispersió!$K$41+A343)^dispersió!$L$10)+dispersió!$C$24*dispersió!$D$41)*dispersió!$I$12),0)","v":0.74112642110141969},{"$f":"IFERROR(dispersió!$I$10*((dispersió!$J$41+'Càlculs interns'!A343)^dispersió!$J$10)*(2*LN('Càlculs interns'!B343/dispersió!$O$41))^(1/2),0)","v":29.602589661791285},-29.602589661791285,null,390.08126009785144,{"$f":"IFERROR((letalitat!$P$12*1000)/((3.14159*dispersió!$I$10*((dispersió!$J$41+F343)^dispersió!$J$10)*dispersió!$K$10*((dispersió!$K$41+F343)^dispersió!$L$10)+dispersió!$C$24*dispersió!$D$41)*dispersió!$I$12),0)","v":0.99953014612564983},{"$f":"IFERROR(dispersió!$I$10*((dispersió!$J$41+'Càlculs interns'!F343)^dispersió!$J$10)*(2*LN('Càlculs interns'!G343/dispersió!$O$47))^(1/2),0)","v":24.22085049009296},-24.22085049009296,null,290.91917764608695,{"$f":"IFERROR((letalitat!$P$12*1000)/((3.14159*dispersió!$I$10*((dispersió!$J$41+K343)^dispersió!$J$10)*dispersió!$K$10*((dispersió!$K$41+K343)^dispersió!$L$10)+dispersió!$C$24*dispersió!$D$41)*dispersió!$I$12),0)","v":1.39542326741443},{"$f":"IFERROR(dispersió!$I$10*((dispersió!$J$41+'Càlculs interns'!K343)^dispersió!$J$10)*(2*LN('Càlculs interns'!L343/dispersió!$O$55))^(1/2),0)","v":19.078696242981085},-19.078696242981085,null,166.52980611954573,{"$f":"IFERROR((letalitat!$P$12*1000)/((3.14159*dispersió!$I$10*((dispersió!$J$41+P343)^dispersió!$J$10)*dispersió!$K$10*((dispersió!$K$41+P343)^dispersió!$L$10)+dispersió!$C$24*dispersió!$D$41)*dispersió!$I$12),0)","v":2.4071837725884491},{"$f":"IFERROR(dispersió!$I$10*((dispersió!$J$41+'Càlculs interns'!P343)^dispersió!$J$10)*(2*LN('Càlculs interns'!Q343/dispersió!$O$62))^(1/2),0)","v":12.339558543634549},-12.339558543634549]
[533.70981371179175,{"$f":"IFERROR((letalitat!$P$12*1000)/((3.14159*dispersió!$I$10*((dispersió!$J$41+A344)^dispersió!$J$10)*dispersió!$K$10*((dispersió!$K$41+A344)^dispersió!$L$10)+dispersió!$C$24*dispersió!$D$41)*dispersió!$I$12),0)","v":0.67906263086452379},{"$f":"IFERROR(dispersió!$I$10*((dispersió!$J$41+'Càlculs interns'!A344)^dispersió!$J$10)*(2*LN('Càlculs interns'!B344/dispersió!$O$41))^(1/2),0)","v":29.832696186998763},-29.832696186998763,null,417.94420724769799,{"$f":"IFERROR((letalitat!$P$12*1000)/((3.14159*dispersió!$I$10*((dispersió!$J$41+F344)^dispersió!$J$10)*dispersió!$K$10*((dispersió!$K$41+F344)^dispersió!$L$10)+dispersió!$C$24*dispersió!$D$41)*dispersió!$I$12),0)","v":0.92028496261498183},{"$f":"IFERROR(dispersió!$I$10*((dispersió!$J$41+'Càlculs interns'!F344)^dispersió!$J$10)*(2*LN('Càlculs interns'!G344/dispersió!$O$47))^(1/2),0)","v":24.374877294336475},-24.374877294336475,null,311.69911890652173,{"$f":"IFERROR((letalitat!$P$12*1000)/((3.14159*dispersió!$I$10*((dispersió!$J$41+K344)^dispersió!$J$10)*dispersió!$K$10*((dispersió!$K$41+K344)^dispersió!$L$10)+dispersió!$C$24*dispersió!$D$41)*dispersió!$I$12),0)","v":1.2935499119331713},{"$f":"IFERROR(dispersió!$I$10*((dispersió!$J$41+'Càlculs interns'!K344)^dispersió!$J$10)*(2*LN('Càlculs interns'!L344/dispersió!$O$55))^(1/2),0)","v":19.157087761856058},-19.157087761856058,null,178.42479227094185,{"$f":"IFERROR((letalitat!$P$12*1000)/((3.14159*dispersió!$I$10*((dispersió!$J$41+P344)^dispersió!$J$10)*dispersió!$K$10*((dispersió!$K$41+P344)^dispersió!$L$10)+dispersió!$C$24*dispersió!$D$41)*dispersió!$I$12),0)","v":2.2657521233068803},{"$f":"IFERROR(dispersió!$I$10*((dispersió!$J$41+'Càlculs interns'!P344)^dispersió!$J$10)*(2*LN('Càlculs interns'!Q344/dispersió!$O$62))^(1/2),0)","v":12.327991732213773},-12.327991732213773]
[569.29046795924455,{"$f":"IFERROR((letalitat!$P$12*1000)/((3.14159*dispersió!$I$10*((dispersió!$J$41+A345)^dispersió!$J$10)*dispersió!$K$10*((dispersió!$K$41+A345)^dispersió!$L$10)+dispersió!$C$24*dispersió!$D$41)*dispersió!$I$12),0)","v":0.62501959345285363},{"$f":"IFERROR(dispersió!$I$10*((dispersió!$J$41+'Càlculs interns'!A345)^dispersió!$J$10)*(2*LN('Càlculs interns'!B345/dispersió!$O$41))^(1/2),0)","v":29.92678217309215},-29.92678217309215,null,445.80715439754454,{"$f":"IFERROR((letalitat!$P$12*1000)/((3.14159*dispersió!$I$10*((dispersió!$J$41+F345)^dispersió!$J$10)*dispersió!$K$10*((dispersió!$K$41+F345)^dispersió!$L$10)+dispersió!$C$24*dispersió!$D$41)*dispersió!$I$12),0)","v":0.85073789322336757},{"$f":"IFERROR(dispersió!$I$10*((dispersió!$J$41+'Càlculs interns'!F345)^dispersió!$J$10)*(2*LN('Càlculs interns'!G345/dispersió!$O$47))^(1/2),0)","v":24.421952074970985},-24.421952074970985,null,332.47906016695651,{"$f":"IFERROR((letalitat!$P$12*1000)/((3.14159*dispersió!$I$10*((dispersió!$J$41+K345)^dispersió!$J$10)*dispersió!$K$10*((dispersió!$K$41+K345)^dispersió!$L$10)+dispersió!$C$24*dispersió!$D$41)*dispersió!$I$12),0)","v":1.2031548379417301},{"$f":"IFERROR(dispersió!$I$10*((dispersió!$J$41+'Càlculs interns'!K345)^dispersió!$J$10)*(2*LN('Càlculs interns'!L345/dispersió!$O$55))^(1/2),0)","v":19.155297607556733},-19.155297607556733,null,190.31977842233798,{"$f":"IFERROR((letalitat!$P$12*1000)/((3.14159*dispersió!$I$10*((dispersió!$J$41+P345)^dispersió!$J$10)*dispersió!$K$10*((dispersió!$K$41+P345)^dispersió!$L$10)+dispersió!$C$24*dispersió!$D$41)*dispersió!$I$12),0)","v":2.1371091158694755},{"$f":"IFERROR(dispersió!$I$10*((dispersió!$J$41+'Càlculs interns'!P345)^dispersió!$J$10)*(2*LN('Càlculs interns'!Q345/dispersió!$O$62))^(1/2),0)","v":12.270978812818361},-12.270978812818361]
[604.87112220669735,{"$f":"IFERROR((letalitat!$P$12*1000)/((3.14159*dispersió!$I$10*((dispersió!$J$41+A346)^dispersió!$J$10)*dispersió!$K$10*((dispersió!$K$41+A346)^dispersió!$L$10)+dispersió!$C$24*dispersió!$D$41)*dispersió!$I$12),0)","v":0.57763403061685814},{"$f":"IFERROR(dispersió!$I$10*((dispersió!$J$41+'Càlculs interns'!A346)^dispersió!$J$10)*(2*LN('Càlculs interns'!B346/dispersió!$O$41))^(1/2),0)","v":29.881262078976},-29.881262078976,null,473.67010154739108,{"$f":"IFERROR((letalitat!$P$12*1000)/((3.14159*dispersió!$I$10*((dispersió!$J$41+F346)^dispersió!$J$10)*dispersió!$K$10*((dispersió!$K$41+F346)^dispersió!$L$10)+dispersió!$C$24*dispersió!$D$41)*dispersió!$I$12),0)","v":0.78932732797574423},{"$f":"IFERROR(dispersió!$I$10*((dispersió!$J$41+'Càlculs interns'!F346)^dispersió!$J$10)*(2*LN('Càlculs interns'!G346/dispersió!$O$47))^(1/2),0)","v":24.359026389143398},-24.359026389143398,null,353.2590014273913,{"$f":"IFERROR((letalitat!$P$12*1000)/((3.14159*dispersió!$I$10*((dispersió!$J$41+K346)^dispersió!$J$10)*dispersió!$K$10*((dispersió!$K$41+K346)^dispersió!$L$10)+dispersió!$C$24*dispersió!$D$41)*dispersió!$I$12),0)","v":1.1225363604039622},{"$f":"IFERROR(dispersió!$I$10*((dispersió!$J$41+'Càlculs interns'!K346)^dispersió!$J$10)*(2*LN('Càlculs interns'!L346/dispersió!$O$55))^(1/2),0)","v":19.070726005373697},-19.070726005373697,null,202.2147645737341,{"$f":"IFERROR((letalitat!$P$12*1000)/((3.14159*dispersió!$I$10*((dispersió!$J$41+P346)^dispersió!$J$10)*dispersió!$K$10*((dispersió!$K$41+P346)^dispersió!$L$10)+dispersió!$C$24*dispersió!$D$41)*dispersió!$I$12),0)","v":2.0197374377568016},{"$f":"IFERROR(dispersió!$I$10*((dispersió!$J$41+'Càlculs interns'!P346)^dispersió!$J$10)*(2*LN('Càlculs interns'!Q346/dispersió!$O$62))^(1/2),0)","v":12.166638067970995},-12.166638067970995]
[640.45177645415015,{"$f":"IFERROR((letalitat!$P$12*1000)/((3.14159*dispersió!$I$10*((dispersió!$J$41+A347)^dispersió!$J$10)*dispersió!$K$10*((dispersió!$K$41+A347)^dispersió!$L$10)+dispersió!$C$24*dispersió!$D$41)*dispersió!$I$12),0)","v":0.53582445843420123},{"$f":"IFERROR(dispersió!$I$10*((dispersió!$J$41+'Càlculs interns'!A347)^dispersió!$J$10)*(2*LN('Càlculs interns'!B347/dispersió!$O$41))^(1/2),0)","v":29.690963300204739},-29.690963300204739,null,501.53304869723763,{"$f":"IFERROR((letalitat!$P$12*1000)/((3.14159*dispersió!$I$10*((dispersió!$J$41+F347)^dispersió!$J$10)*dispersió!$K$10*((dispersió!$K$41+F347)^dispersió!$L$10)+dispersió!$C$24*dispersió!$D$41)*dispersió!$I$12),0)","v":0.73479759658187016},{"$f":"IFERROR(dispersió!$I$10*((dispersió!$J$41+'Càlculs interns'!F347)^dispersió!$J$10)*(2*LN('Càlculs interns'!G347/dispersió!$O$47))^(1/2),0)","v":24.181817103076675},-24.181817103076675,null,374.03894268782608,{"$f":"IFERROR((letalitat!$P$12*1000)/((3.14159*dispersió!$I$10*((dispersió!$J$41+K347)^dispersió!$J$10)*dispersió!$K$10*((dispersió!$K$41+K347)^dispersió!$L$10)+dispersió!$C$24*dispersió!$D$41)*dispersió!$I$12),0)","v":1.0502997551249227},{"$f":"IFERROR(dispersió!$I$10*((dispersió!$J$41+'Càlculs interns'!K347)^dispersió!$J$10)*(2*LN('Càlculs interns'!L347/dispersió!$O$55))^(1/2),0)","v":18.899843290725354},-18.899843290725354,null,214.10975072513023,{"$f":"IFERROR((letalitat!$P$12*1000)/((3.14159*dispersió!$I$10*((dispersió!$J$41+P347)^dispersió!$J$10)*dispersió!$K$10*((dispersió!$K$41+P347)^dispersió!$L$10)+dispersió!$C$24*dispersió!$D$41)*dispersió!$I$12),0)","v":1.9123380621070871},{"$f":"IFERROR(dispersió!$I$10*((dispersió!$J$41+'Càlculs interns'!P347)^dispersió!$J$10)*(2*LN('Càlculs interns'!Q347/dispersió!$O$62))^(1/2),0)","v":12.012555671352329},-12.012555671352329]
[676.03243070160295,{"$f":"IFERROR((letalitat!$P$12*1000)/((3.14159*dispersió!$I$10*((dispersió!$J$41+A348)^dispersió!$J$10)*dispersió!$K$10*((dispersió!$K$41+A348)^dispersió!$L$10)+dispersió!$C$24*dispersió!$D$41)*dispersió!$I$12),0)","v":0.49872354943453878},{"$f":"IFERROR(dispersió!$I$10*((dispersió!$J$41+'Càlculs interns'!A348)^dispersió!$J$10)*(2*LN('Càlculs interns'!B348/dispersió!$O$41))^(1/2),0)","v":29.348816909598419},-29.348816909598419,null,529.39599584708412,{"$f":"IFERROR((letalitat!$P$12*1000)/((3.14159*dispersió!$I$10*((dispersió!$J$41+F348)^dispersió!$J$10)*dispersió!$K$10*((dispersió!$K$41+F348)^dispersió!$L$10)+dispersió!$C$24*dispersió!$D$41)*dispersió!$I$12),0)","v":0.68612933720869629},{"$f":"IFERROR(dispersió!$I$10*((dispersió!$J$41+'Càlculs interns'!F348)^dispersió!$J$10)*(2*LN('Càlculs interns'!G348/dispersió!$O$47))^(1/2),0)","v":23.884556012841742},-23.884556012841742,null,394.81888394826086,{"$f":"IFERROR((letalitat!$P$12*1000)/((3.14159*dispersió!$I$10*((dispersió!$J$41+K348)^dispersió!$J$10)*dispersió!$K$10*((dispersió!$K$41+K348)^dispersió!$L$10)+dispersió!$C$24*dispersió!$D$41)*dispersió!$I$12),0)","v":0.98529293409102037},{"$f":"IFERROR(dispersió!$I$10*((dispersió!$J$41+'Càlculs interns'!K348)^dispersió!$J$10)*(2*LN('Càlculs interns'!L348/dispersió!$O$55))^(1/2),0)","v":18.637987226997254},-18.637987226997254,null,226.00473687652635,{"$f":"IFERROR((letalitat!$P$12*1000)/((3.14159*dispersió!$I$10*((dispersió!$J$41+P348)^dispersió!$J$10)*dispersió!$K$10*((dispersió!$K$41+P348)^dispersió!$L$10)+dispersió!$C$24*dispersió!$D$41)*dispersió!$I$12),0)","v":1.8137939373008387},{"$f":"IFERROR(dispersió!$I$10*((dispersió!$J$41+'Càlculs interns'!P348)^dispersió!$J$10)*(2*LN('Càlculs interns'!Q348/dispersió!$O$62))^(1/2),0)","v":11.80565447903329},-11.80565447903329]
[711.61308494905575,{"$f":"IFERROR((letalitat!$P$12*1000)/((3.14159*dispersió!$I$10*((dispersió!$J$41+A349)^dispersió!$J$10)*dispersió!$K$10*((dispersió!$K$41+A349)^dispersió!$L$10)+dispersió!$C$24*dispersió!$D$41)*dispersió!$I$12),0)","v":0.46562878434041632},{"$f":"IFERROR(dispersió!$I$10*((dispersió!$J$41+'Càlculs interns'!A349)^dispersió!$J$10)*(2*LN('Càlculs interns'!B349/dispersió!$O$41))^(1/2),0)","v":28.845390970561031},-28.845390970561031,null,557.25894299693061,{"$f":"IFERROR((letalitat!$P$12*1000)/((3.14159*dispersió!$I$10*((dispersió!$J$41+F349)^dispersió!$J$10)*dispersió!$K$10*((dispersió!$K$41+F349)^dispersió!$L$10)+dispersió!$C$24*dispersió!$D$41)*dispersió!$I$12),0)","v":0.64248772622228401},{"$f":"IFERROR(dispersió!$I$10*((dispersió!$J$41+'Càlculs interns'!F349)^dispersió!$J$10)*(2*LN('Càlculs interns'!G349/dispersió!$O$47))^(1/2),0)","v":23.459616459806881},-23.459616459806881,null,415.59882520869564,{"$f":"IFERROR((letalitat!$P$12*1000)/((3.14159*dispersió!$I$10*((dispersió!$J$41+K349)^dispersió!$J$10)*dispersió!$K$10*((dispersió!$K$41+K349)^dispersió!$L$10)+dispersió!$C$24*dispersió!$D$41)*dispersió!$I$12),0)","v":0.92655730955841131},{"$f":"IFERROR(dispersió!$I$10*((dispersió!$J$41+'Càlculs interns'!K349)^dispersió!$J$10)*(2*LN('Càlculs interns'!L349/dispersió!$O$55))^(1/2),0)","v":18.279064711105097},-18.279064711105097,null,237.89972302792248,{"$f":"IFERROR((letalitat!$P$12*1000)/((3.14159*dispersió!$I$10*((dispersió!$J$41+P349)^dispersió!$J$10)*dispersió!$K$10*((dispersió!$K$41+P349)^dispersió!$L$10)+dispersió!$C$24*dispersió!$D$41)*dispersió!$I$12),0)","v":1.7231404381391273},{"$f":"IFERROR(dispersió!$I$10*((dispersió!$J$41+'Càlculs interns'!P349)^dispersió!$J$10)*(2*LN('Càlculs interns'!Q349/dispersió!$O$62))^(1/2),0)","v":11.542005151817706},{"$f":"-R349","v":-11.542005151817706}]
[747.19373919650855,{"$f":"IFERROR((letalitat!$P$12*1000)/((3.14159*dispersió!$I$10*((dispersió!$J$41+A350)^dispersió!$J$10)*dispersió!$K$10*((dispersió!$K$41+A350)^dispersió!$L$10)+dispersió!$C$24*dispersió!$D$41)*dispersió!$I$12),0)","v":0.43596593903774272},{"$f":"IFERROR(dispersió!$I$10*((dispersió!$J$41+'Càlculs interns'!A350)^dispersió!$J$10)*(2*LN('Càlculs interns'!B350/dispersió!$O$41))^(1/2),0)","v":28.168185603779289},-28.168185603779289,null,585.1218901467771,{"$f":"IFERROR((letalitat!$P$12*1000)/((3.14159*dispersió!$I$10*((dispersió!$J$41+F350)^dispersió!$J$10)*dispersió!$K$10*((dispersió!$K$41+F350)^dispersió!$L$10)+dispersió!$C$24*dispersió!$D$41)*dispersió!$I$12),0)","v":0.6031835143755282},{"$f":"IFERROR(dispersió!$I$10*((dispersió!$J$41+'Càlculs interns'!F350)^dispersió!$J$10)*(2*LN('Càlculs interns'!G350/dispersió!$O$47))^(1/2),0)","v":22.896953182626401},-22.896953182626401,null,436.37876646913043,{"$f":"IFERROR((letalitat!$P$12*1000)/((3.14159*dispersió!$I$10*((dispersió!$J$41+K350)^dispersió!$J$10)*dispersió!$K$10*((dispersió!$K$41+K350)^dispersió!$L$10)+dispersió!$C$24*dispersió!$D$41)*dispersió!$I$12),0)","v":0.8732898917193731},{"$f":"IFERROR(dispersió!$I$10*((dispersió!$J$41+'Càlculs interns'!K350)^dispersió!$J$10)*(2*LN('Càlculs interns'!L350/dispersió!$O$55))^(1/2),0)","v":17.81510696523527},-17.81510696523527,null,249.7947091793186,{"$f":"IFERROR((letalitat!$P$12*1000)/((3.14159*dispersió!$I$10*((dispersió!$J$41+P350)^dispersió!$J$10)*dispersió!$K$10*((dispersió!$K$41+P350)^dispersió!$L$10)+dispersió!$C$24*dispersió!$D$41)*dispersió!$I$12),0)","v":1.6395412027967973},{"$f":"IFERROR(dispersió!$I$10*((dispersió!$J$41+'Càlculs interns'!P350)^dispersió!$J$10)*(2*LN('Càlculs interns'!Q350/dispersió!$O$62))^(1/2),0)","v":11.216547880704825},-11.216547880704825]
[782.77439344396134,{"$f":"IFERROR((letalitat!$P$12*1000)/((3.14159*dispersió!$I$10*((dispersió!$J$41+A351)^dispersió!$J$10)*dispersió!$K$10*((dispersió!$K$41+A351)^dispersió!$L$10)+dispersió!$C$24*dispersió!$D$41)*dispersió!$I$12),0)","v":0.40926171849415871},{"$f":"IFERROR(dispersió!$I$10*((dispersió!$J$41+'Càlculs interns'!A351)^dispersió!$J$10)*(2*LN('Càlculs interns'!B351/dispersió!$O$41))^(1/2),0)","v":27.30054682637796},-27.30054682637796,null,612.9848372966236,{"$f":"IFERROR((letalitat!$P$12*1000)/((3.14159*dispersió!$I$10*((dispersió!$J$41+F351)^dispersió!$J$10)*dispersió!$K$10*((dispersió!$K$41+F351)^dispersió!$L$10)+dispersió!$C$24*dispersió!$D$41)*dispersió!$I$12),0)","v":0.56764336836992935},{"$f":"IFERROR(dispersió!$I$10*((dispersió!$J$41+'Càlculs interns'!F351)^dispersió!$J$10)*(2*LN('Càlculs interns'!G351/dispersió!$O$47))^(1/2),0)","v":22.183243218132763},-22.183243218132763,null,457.15870772956521,{"$f":"IFERROR((letalitat!$P$12*1000)/((3.14159*dispersió!$I$10*((dispersió!$J$41+K351)^dispersió!$J$10)*dispersió!$K$10*((dispersió!$K$41+K351)^dispersió!$L$10)+dispersió!$C$24*dispersió!$D$41)*dispersió!$I$12),0)","v":0.82481378256596827},{"$f":"IFERROR(dispersió!$I$10*((dispersió!$J$41+'Càlculs interns'!K351)^dispersió!$J$10)*(2*LN('Càlculs interns'!L351/dispersió!$O$55))^(1/2),0)","v":17.235588784261942},-17.235588784261942,null,261.6896953307147,{"$f":"IFERROR((letalitat!$P$12*1000)/((3.14159*dispersió!$I$10*((dispersió!$J$41+P351)^dispersió!$J$10)*dispersió!$K$10*((dispersió!$K$41+P351)^dispersió!$L$10)+dispersió!$C$24*dispersió!$D$41)*dispersió!$I$12),0)","v":1.5622682795814091},{"$f":"IFERROR(dispersió!$I$10*((dispersió!$J$41+'Càlculs interns'!P351)^dispersió!$J$10)*(2*LN('Càlculs interns'!Q351/dispersió!$O$62))^(1/2),0)","v":10.822669234153453},-10.822669234153453]
[818.35504769141414,{"$f":"IFERROR((letalitat!$P$12*1000)/((3.14159*dispersió!$I$10*((dispersió!$J$41+A352)^dispersió!$J$10)*dispersió!$K$10*((dispersió!$K$41+A352)^dispersió!$L$10)+dispersió!$C$24*dispersió!$D$41)*dispersió!$I$12),0)","v":0.38512300193094545},{"$f":"IFERROR(dispersió!$I$10*((dispersió!$J$41+'Càlculs interns'!A352)^dispersió!$J$10)*(2*LN('Càlculs interns'!B352/dispersió!$O$41))^(1/2),0)","v":26.219934133291297},-26.219934133291297,null,640.84778444647009,{"$f":"IFERROR((letalitat!$P$12*1000)/((3.14159*dispersió!$I$10*((dispersió!$J$41+F352)^dispersió!$J$10)*dispersió!$K$10*((dispersió!$K$41+F352)^dispersió!$L$10)+dispersió!$C$24*dispersió!$D$41)*dispersió!$I$12),0)","v":0.53538705786562968},{"$f":"IFERROR(dispersió!$I$10*((dispersió!$J$41+'Càlculs interns'!F352)^dispersió!$J$10)*(2*LN('Càlculs interns'!G352/dispersió!$O$47))^(1/2),0)","v":21.300520765199309},-21.300520765199309,null,477.93864898999999,{"$f":"IFERROR((letalitat!$P$12*1000)/((3.14159*dispersió!$I$10*((dispersió!$J$41+K352)^dispersió!$J$10)*dispersió!$K$10*((dispersió!$K$41+K352)^dispersió!$L$10)+dispersió!$C$24*dispersió!$D$41)*dispersió!$I$12),0)","v":0.78055500771905006},{"$f":"IFERROR(dispersió!$I$10*((dispersió!$J$41+'Càlculs interns'!K352)^dispersió!$J$10)*(2*LN('Càlculs interns'!L352/dispersió!$O$55))^(1/2),0)","v":16.526346537673575},-16.526346537673575,null,273.5846814821108,{"$f":"IFERROR((letalitat!$P$12*1000)/((3.14159*dispersió!$I$10*((dispersió!$J$41+P352)^dispersió!$J$10)*dispersió!$K$10*((dispersió!$K$41+P352)^dispersió!$L$10)+dispersió!$C$24*dispersió!$D$41)*dispersió!$I$12),0)","v":1.4906857386598067},{"$f":"IFERROR(dispersió!$I$10*((dispersió!$J$41+'Càlculs interns'!P352)^dispersió!$J$10)*(2*LN('Càlculs interns'!Q352/dispersió!$O$62))^(1/2),0)","v":10.351531749817434},-10.351531749817434]
[853.93570193886694,{"$f":"IFERROR((letalitat!$P$12*1000)/((3.14159*dispersió!$I$10*((dispersió!$J$41+A353)^dispersió!$J$10)*dispersió!$K$10*((dispersió!$K$41+A353)^dispersió!$L$10)+dispersió!$C$24*dispersió!$D$41)*dispersió!$I$12),0)","v":0.36322092914222448},{"$f":"IFERROR(dispersió!$I$10*((dispersió!$J$41+'Càlculs interns'!A353)^dispersió!$J$10)*(2*LN('Càlculs interns'!B353/dispersió!$O$41))^(1/2),0)","v":24.895018155276336},-24.895018155276336,null,668.71073159631658,{"$f":"IFERROR((letalitat!$P$12*1000)/((3.14159*dispersió!$I$10*((dispersió!$J$41+F353)^dispersió!$J$10)*dispersió!$K$10*((dispersió!$K$41+F353)^dispersió!$L$10)+dispersió!$C$24*dispersió!$D$41)*dispersió!$I$12),0)","v":0.50600973643400216},{"$f":"IFERROR(dispersió!$I$10*((dispersió!$J$41+'Càlculs interns'!F353)^dispersió!$J$10)*(2*LN('Càlculs interns'!G353/dispersió!$O$47))^(1/2),0)","v":20.223898544365429},-20.223898544365429,null,498.71859025043477,{"$f":"IFERROR((letalitat!$P$12*1000)/((3.14159*dispersió!$I$10*((dispersió!$J$41+K353)^dispersió!$J$10)*dispersió!$K$10*((dispersió!$K$41+K353)^dispersió!$L$10)+dispersió!$C$24*dispersió!$D$41)*dispersió!$I$12),0)","v":0.74002417739650439},{"$f":"IFERROR(dispersió!$I$10*((dispersió!$J$41+'Càlculs interns'!K353)^dispersió!$J$10)*(2*LN('Càlculs interns'!L353/dispersió!$O$55))^(1/2),0)","v":15.667768676183281},-15.667768676183281,null,285.47966763350689,{"$f":"IFERROR((letalitat!$P$12*1000)/((3.14159*dispersió!$I$10*((dispersió!$J$41+P353)^dispersió!$J$10)*dispersió!$K$10*((dispersió!$K$41+P353)^dispersió!$L$10)+dispersió!$C$24*dispersió!$D$41)*dispersió!$I$12),0)","v":1.424236082562661},{"$f":"IFERROR(dispersió!$I$10*((dispersió!$J$41+'Càlculs interns'!P353)^dispersió!$J$10)*(2*LN('Càlculs interns'!Q353/dispersió!$O$62))^(1/2),0)","v":9.7909542644199536},-9.7909542644199536]
[889.51635618631974,{"$f":"IFERROR((letalitat!$P$12*1000)/((3.14159*dispersió!$I$10*((dispersió!$J$41+A354)^dispersió!$J$10)*dispersió!$K$10*((dispersió!$K$41+A354)^dispersió!$L$10)+dispersió!$C$24*dispersió!$D$41)*dispersió!$I$12),0)","v":0.34327857474089979},{"$f":"IFERROR(dispersió!$I$10*((dispersió!$J$41+'Càlculs interns'!A354)^dispersió!$J$10)*(2*LN('Càlculs interns'!B354/dispersió!$O$41))^(1/2),0)","v":23.28048331854491},-23.28048331854491,null,696.57367874616307,{"$f":"IFERROR((letalitat!$P$12*1000)/((3.14159*dispersió!$I$10*((dispersió!$J$41+F354)^dispersió!$J$10)*dispersió!$K$10*((dispersió!$K$41+F354)^dispersió!$L$10)+dispersió!$C$24*dispersió!$D$41)*dispersió!$I$12),0)","v":0.47916805382140576},{"$f":"IFERROR(dispersió!$I$10*((dispersió!$J$41+'Càlculs interns'!F354)^dispersió!$J$10)*(2*LN('Càlculs interns'!G354/dispersió!$O$47))^(1/2),0)","v":18.917504554908454},-18.917504554908454,null,519.4985315108695,{"$f":"IFERROR((letalitat!$P$12*1000)/((3.14159*dispersió!$I$10*((dispersió!$J$41+K354)^dispersió!$J$10)*dispersió!$K$10*((dispersió!$K$41+K354)^dispersió!$L$10)+dispersió!$C$24*dispersió!$D$41)*dispersió!$I$12),0)","v":0.70280185938460316},{"$f":"IFERROR(dispersió!$I$10*((dispersió!$J$41+'Càlculs interns'!K354)^dispersió!$J$10)*(2*LN('Càlculs interns'!L354/dispersió!$O$55))^(1/2),0)","v":14.631558110094421},-14.631558110094421,null,297.37465378490299,{"$f":"IFERROR((letalitat!$P$12*1000)/((3.14159*dispersió!$I$10*((dispersió!$J$41+P354)^dispersió!$J$10)*dispersió!$K$10*((dispersió!$K$41+P354)^dispersió!$L$10)+dispersió!$C$24*dispersió!$D$41)*dispersió!$I$12),0)","v":1.362428927825758},{"$f":"IFERROR(dispersió!$I$10*((dispersió!$J$41+'Càlculs interns'!P354)^dispersió!$J$10)*(2*LN('Càlculs interns'!Q354/dispersió!$O$62))^(1/2),0)","v":9.1234089699851975},-9.1234089699851975]
[925.09701043377254,{"$f":"IFERROR((letalitat!$P$12*1000)/((3.14159*dispersió!$I$10*((dispersió!$J$41+A355)^dispersió!$J$10)*dispersió!$K$10*((dispersió!$K$41+A355)^dispersió!$L$10)+dispersió!$C$24*dispersió!$D$41)*dispersió!$I$12),0)","v":0.3250613113911513},{"$f":"IFERROR(dispersió!$I$10*((dispersió!$J$41+'Càlculs interns'!A355)^dispersió!$J$10)*(2*LN('Càlculs interns'!B355/dispersió!$O$41))^(1/2),0)","v":21.306834142036131},-21.306834142036131,null,724.43662589600956,{"$f":"IFERROR((letalitat!$P$12*1000)/((3.14159*dispersió!$I$10*((dispersió!$J$41+F355)^dispersió!$J$10)*dispersió!$K$10*((dispersió!$K$41+F355)^dispersió!$L$10)+dispersió!$C$24*dispersió!$D$41)*dispersió!$I$12),0)","v":0.45456917873745045},{"$f":"IFERROR(dispersió!$I$10*((dispersió!$J$41+'Càlculs interns'!F355)^dispersió!$J$10)*(2*LN('Càlculs interns'!G355/dispersió!$O$47))^(1/2),0)","v":17.326556194315639},-17.326556194315639,null,540.27847277130422,{"$f":"IFERROR((letalitat!$P$12*1000)/((3.14159*dispersió!$I$10*((dispersió!$J$41+K355)^dispersió!$J$10)*dispersió!$K$10*((dispersió!$K$41+K355)^dispersió!$L$10)+dispersió!$C$24*dispersió!$D$41)*dispersió!$I$12),0)","v":0.66852682906131755},{"$f":"IFERROR(dispersió!$I$10*((dispersió!$J$41+'Càlculs interns'!K355)^dispersió!$J$10)*(2*LN('Càlculs interns'!L355/dispersió!$O$55))^(1/2),0)","v":13.374384540090505},-13.374384540090505,null,309.26963993629909,{"$f":"IFERROR((letalitat!$P$12*1000)/((3.14159*dispersió!$I$10*((dispersió!$J$41+P355)^dispersió!$J$10)*dispersió!$K$10*((dispersió!$K$41+P355)^dispersió!$L$10)+dispersió!$C$24*dispersió!$D$41)*dispersió!$I$12),0)","v":1.3048315379836188},{"$f":"IFERROR(dispersió!$I$10*((dispersió!$J$41+'Càlculs interns'!P355)^dispersió!$J$10)*(2*LN('Càlculs interns'!Q355/dispersió!$O$62))^(1/2),0)","v":8.3220923966573963},-8.3220923966573963]
[960.67766468122534,{"$f":"IFERROR((letalitat!$P$12*1000)/((3.14159*dispersió!$I$10*((dispersió!$J$41+A356)^dispersió!$J$10)*dispersió!$K$10*((dispersió!$K$41+A356)^dispersió!$L$10)+dispersió!$C$24*dispersió!$D$41)*dispersió!$I$12),0)","v":0.30836920934051681},{"$f":"IFERROR(dispersió!$I$10*((dispersió!$J$41+'Càlculs interns'!A356)^dispersió!$J$10)*(2*LN('Càlculs interns'!B356/dispersió!$O$41))^(1/2),0)","v":18.857637564064689},-18.857637564064689,null,752.29957304585605,{"$f":"IFERROR((letalitat!$P$12*1000)/((3.14159*dispersió!$I$10*((dispersió!$J$41+F356)^dispersió!$J$10)*dispersió!$K$10*((dispersió!$K$41+F356)^dispersió!$L$10)+dispersió!$C$24*dispersió!$D$41)*dispersió!$I$12),0)","v":0.43196205338185573},{"$f":"IFERROR(dispersió!$I$10*((dispersió!$J$41+'Càlculs interns'!F356)^dispersió!$J$10)*(2*LN('Càlculs interns'!G356/dispersió!$O$47))^(1/2),0)","v":15.359803664916168},-15.359803664916168,null,561.05841403173895,{"$f":"IFERROR((letalitat!$P$12*1000)/((3.14159*dispersió!$I$10*((dispersió!$J$41+K356)^dispersió!$J$10)*dispersió!$K$10*((dispersió!$K$41+K356)^dispersió!$L$10)+dispersió!$C$24*dispersió!$D$41)*dispersió!$I$12),0)","v":0.63688656684441436},{"$f":"IFERROR(dispersió!$I$10*((dispersió!$J$41+'Càlculs interns'!K356)^dispersió!$J$10)*(2*LN('Càlculs interns'!L356/dispersió!$O$55))^(1/2),0)","v":11.823715915738399},{"$f":"-M356","v":-11.823715915738399},null,321.16462608769518,{"$f":"IFERROR((letalitat!$P$12*1000)/((3.14159*dispersió!$I$10*((dispersió!$J$41+P356)^dispersió!$J$10)*dispersió!$K$10*((dispersió!$K$41+P356)^dispersió!$L$10)+dispersió!$C$24*dispersió!$D$41)*dispersió!$I$12),0)","v":1.2510608724358891},{"$f":"IFERROR(dispersió!$I$10*((dispersió!$J$41+'Càlculs interns'!P356)^dispersió!$J$10)*(2*LN('Càlculs interns'!Q356/dispersió!$O$62))^(1/2),0)","v":7.3421458065578644},-7.3421458065578644]
[996.25831892867814,{"$f":"IFERROR((letalitat!$P$12*1000)/((3.14159*dispersió!$I$10*((dispersió!$J$41+A357)^dispersió!$J$10)*dispersió!$K$10*((dispersió!$K$41+A357)^dispersió!$L$10)+dispersió!$C$24*dispersió!$D$41)*dispersió!$I$12),0)","v":0.29303099297494478},{"$f":"IFERROR(dispersió!$I$10*((dispersió!$J$41+'Càlculs interns'!A357)^dispersió!$J$10)*(2*LN('Càlculs interns'!B357/dispersió!$O$41))^(1/2),0)","v":15.707459934678633},-15.707459934678633,null,780.16252019570254,{"$f":"IFERROR((letalitat!$P$12*1000)/((3.14159*dispersió!$I$10*((dispersió!$J$41+F357)^dispersió!$J$10)*dispersió!$K$10*((dispersió!$K$41+F357)^dispersió!$L$10)+dispersió!$C$24*dispersió!$D$41)*dispersió!$I$12),0)","v":0.41113037423391502},{"$f":"IFERROR(dispersió!$I$10*((dispersió!$J$41+'Càlculs interns'!F357)^dispersió!$J$10)*(2*LN('Càlculs interns'!G357/dispersió!$O$47))^(1/2),0)","v":12.842255982225108},-12.842255982225108,null,581.83835529217367,{"$f":"IFERROR((letalitat!$P$12*1000)/((3.14159*dispersió!$I$10*((dispersió!$J$41+K357)^dispersió!$J$10)*dispersió!$K$10*((dispersió!$K$41+K357)^dispersió!$L$10)+dispersió!$C$24*dispersió!$D$41)*dispersió!$I$12),0)","v":0.6076095242512819},{"$f":"IFERROR(dispersió!$I$10*((dispersió!$J$41+'Càlculs interns'!K357)^dispersió!$J$10)*(2*LN('Càlculs interns'!L357/dispersió!$O$55))^(1/2),0)","v":9.8391885998658832},-9.8391885998658832,null,333.05961223909128,{"$f":"IFERROR((letalitat!$P$12*1000)/((3.14159*dispersió!$I$10*((dispersió!$J$41+P357)^dispersió!$J$10)*dispersió!$K$10*((dispersió!$K$41+P357)^dispersió!$L$10)+dispersió!$C$24*dispersió!$D$41)*dispersió!$I$12),0)","v":1.20077688188113},{"$f":"IFERROR(dispersió!$I$10*((dispersió!$J$41+'Càlculs interns'!P357)^dispersió!$J$10)*(2*LN('Càlculs interns'!Q357/dispersió!$O$62))^(1/2),0)","v":6.0966745798974209},-6.0966745798974209]
[1031.8389731761308,{"$f":"IFERROR((letalitat!$P$12*1000)/((3.14159*dispersió!$I$10*((dispersió!$J$41+A358)^dispersió!$J$10)*dispersió!$K$10*((dispersió!$K$41+A358)^dispersió!$L$10)+dispersió!$C$24*dispersió!$D$41)*dispersió!$I$12),0)","v":0.27889919872749652},{"$f":"IFERROR(dispersió!$I$10*((dispersió!$J$41+'Càlculs interns'!A358)^dispersió!$J$10)*(2*LN('Càlculs interns'!B358/dispersió!$O$41))^(1/2),0)","v":11.277639155974077},-11.277639155974077,null,808.02546734554903,{"$f":"IFERROR((letalitat!$P$12*1000)/((3.14159*dispersió!$I$10*((dispersió!$J$41+F358)^dispersió!$J$10)*dispersió!$K$10*((dispersió!$K$41+F358)^dispersió!$L$10)+dispersió!$C$24*dispersió!$D$41)*dispersió!$I$12),0)","v":0.39188691909848056},{"$f":"IFERROR(dispersió!$I$10*((dispersió!$J$41+'Càlculs interns'!F358)^dispersió!$J$10)*(2*LN('Càlculs interns'!G358/dispersió!$O$47))^(1/2),0)","v":9.3339868571950468},-9.3339868571950468,null,602.6182965526084,{"$f":"IFERROR((letalitat!$P$12*1000)/((3.14159*dispersió!$I$10*((dispersió!$J$41+K358)^dispersió!$J$10)*dispersió!$K$10*((dispersió!$K$41+K358)^dispersió!$L$10)+dispersió!$C$24*dispersió!$D$41)*dispersió!$I$12),0)","v":0.58045879152939495},{"$f":"IFERROR(dispersió!$I$10*((dispersió!$J$41+'Càlculs interns'!K358)^dispersió!$J$10)*(2*LN('Càlculs interns'!L358/dispersió!$O$55))^(1/2),0)","v":7.0607021009051945},-7.0607021009051945,null,344.95459839048738,{"$f":"IFERROR((letalitat!$P$12*1000)/((3.14159*dispersió!$I$10*((dispersió!$J$41+P358)^dispersió!$J$10)*dispersió!$K$10*((dispersió!$K$41+P358)^dispersió!$L$10)+dispersió!$C$24*dispersió!$D$41)*dispersió!$I$12),0)","v":1.1536768331786873},{"$f":"IFERROR(dispersió!$I$10*((dispersió!$J$41+'Càlculs interns'!P358)^dispersió!$J$10)*(2*LN('Càlculs interns'!Q358/dispersió!$O$62))^(1/2),0)","v":4.3621264900617573},-4.3621264900617573]
[{"$f":"dispersió!L41","v":1067.4196274235831},{"$f":"IFERROR((letalitat!$P$12*1000)/((3.14159*dispersió!$I$10*((dispersió!$J$41+A359)^dispersió!$J$10)*dispersió!$K$10*((dispersió!$K$41+A359)^dispersió!$L$10)+dispersió!$C$24*dispersió!$D$41)*dispersió!$I$12),0)","v":0.2658462677847046},{"$f":"IFERROR(dispersió!$I$10*((dispersió!$J$41+'Càlculs interns'!A359)^dispersió!$J$10)*(2*LN('Càlculs interns'!B359/dispersió!$O$41))^(1/2),0)","v":0},0,null,{"$f":"dispersió!L48","v":835.88841449539564},{"$f":"IFERROR((letalitat!$P$12*1000)/((3.14159*dispersió!$I$10*((dispersió!$J$41+F359)^dispersió!$J$10)*dispersió!$K$10*((dispersió!$K$41+F359)^dispersió!$L$10)+dispersió!$C$24*dispersió!$D$41)*dispersió!$I$12),0)","v":0.37406893216827092},{"$f":"IFERROR(dispersió!$I$10*((dispersió!$J$41+'Càlculs interns'!F359)^dispersió!$J$10)*(2*LN('Càlculs interns'!G359/dispersió!$O$47))^(1/2),0)","v":1.5622904429341926},{"$f":"-H359","v":-1.5622904429341926},null,{"$f":"dispersió!L55","v":623.39823781304347},{"$f":"IFERROR((letalitat!$P$12*1000)/((3.14159*dispersió!$I$10*((dispersió!$J$41+K359)^dispersió!$J$10)*dispersió!$K$10*((dispersió!$K$41+K359)^dispersió!$L$10)+dispersió!$C$24*dispersió!$D$41)*dispersió!$I$12),0)","v":0.5552268833606343},{"$f":"IFERROR(dispersió!$I$10*((dispersió!$J$41+'Càlculs interns'!K359)^dispersió!$J$10)*(2*LN('Càlculs interns'!L359/dispersió!$O$55))^(1/2),0)","v":0},0,null,{"$f":"dispersió!L62","v":356.84958454188359},{"$f":"IFERROR((letalitat!$P$12*1000)/((3.14159*dispersió!$I$10*((dispersió!$J$41+P359)^dispersió!$J$10)*dispersió!$K$10*((dispersió!$K$41+P359)^dispersió!$L$10)+dispersió!$C$24*dispersió!$D$41)*dispersió!$I$12),0)","v":1.1094904878011673},{"$f":"IFERROR(dispersió!$I$10*((dispersió!$J$41+'Càlculs interns'!P359)^dispersió!$J$10)*(2*LN('Càlculs interns'!Q359/dispersió!$O$62))^(1/2),0)","v":0},0]
[]
["Area 600m2"]
["Est. D"]
["LC1",null,"LC1+","LC1-",null,"LC10",null,"LC10+","LC10-",null,"LC50",null,"LC50+","LC50-",null,"LC99",null,"LC99+","LC99-"]
["X","C(x)","y+","y-",null,"X","C(x)","y+","y-",null,"X","C(x)","y+","y-",null,"X","C(x)","y+","y-"]
[0,{"$f":"IFERROR((letalitat!$P$13*1000)/((3.14159*dispersió!$C$10*((dispersió!$E$42+A365)^dispersió!$D$10)*dispersió!$E$10*((dispersió!$F$42+A365)^dispersió!$F$10)+dispersió!$C$24*dispersió!$D$42)*dispersió!$C$12),0)","v":3.5964128257511567},{"$f":"IFERROR(dispersió!$C$10*((dispersió!$E$42+'Càlculs interns'!A365)^dispersió!$D$10)*(2*LN('Càlculs interns'!B365/dispersió!$O$42))^(1/2),0)","v":12.999183647330984},{"$f":"-C365","v":-12.999183647330984},null,0,{"$f":"IFERROR((letalitat!$P$13*1000)/((3.14159*dispersió!$C$10*((dispersió!$E$42+F365)^dispersió!$D$10)*dispersió!$E$10*((dispersió!$F$42+F365)^dispersió!$F$10)+dispersió!$C$24*dispersió!$D$42)*dispersió!$C$12),0)","v":3.5964128257511567},{"$f":"IFERROR(dispersió!$C$10*((dispersió!$E$42+'Càlculs interns'!F365)^dispersió!$D$10)*(2*LN('Càlculs interns'!G365/dispersió!$O$48))^(1/2),0)","v":12.123003870279151},{"$f":"-H365","v":-12.123003870279151},null,0,{"$f":"IFERROR((letalitat!$P$13*1000)/((3.14159*dispersió!$C$10*((dispersió!$E$42+K365)^dispersió!$D$10)*dispersió!$E$10*((dispersió!$F$42+K365)^dispersió!$F$10)+dispersió!$C$24*dispersió!$D$42)*dispersió!$C$12),0)","v":3.5964128257511567},{"$f":"IFERROR(dispersió!$C$10*((dispersió!$E$42+'Càlculs interns'!K365)^dispersió!$D$10)*(2*LN('Càlculs interns'!L365/dispersió!$O$56))^(1/2),0)","v":11.008799388262998},{"$f":"-M365","v":-11.008799388262998},null,0,{"$f":"IFERROR((letalitat!$P$13*1000)/((3.14159*dispersió!$C$10*((dispersió!$E$42+P365)^dispersió!$D$10)*dispersió!$E$10*((dispersió!$F$42+P365)^dispersió!$F$10)+dispersió!$C$24*dispersió!$D$42)*dispersió!$C$12),0)","v":3.5964128257511567},{"$f":"IFERROR(dispersió!$C$10*((dispersió!$E$42+'Càlculs interns'!P365)^dispersió!$D$10)*(2*LN('Càlculs interns'!Q365/dispersió!$O$63))^(1/2),0)","v":8.7326317564409752},{"$f":"-R365","v":-8.7326317564409752}]
[{"$f":"A395/30","v":8.1724182411826778},{"$f":"IFERROR((letalitat!$P$13*1000)/((3.14159*dispersió!$C$10*((dispersió!$E$42+A366)^dispersió!$D$10)*dispersió!$E$10*((dispersió!$F$42+A366)^dispersió!$F$10)+dispersió!$C$24*dispersió!$D$42)*dispersió!$C$12),0)","v":2.9932486353344148},{"$f":"IFERROR(dispersió!$C$10*((dispersió!$E$42+'Càlculs interns'!A366)^dispersió!$D$10)*(2*LN('Càlculs interns'!B366/dispersió!$O$42))^(1/2),0)","v":13.923014008238393},-13.923014008238393,null,{"$f":"F395/30","v":6.3058843802159599},{"$f":"IFERROR((letalitat!$P$13*1000)/((3.14159*dispersió!$C$10*((dispersió!$E$42+F366)^dispersió!$D$10)*dispersió!$E$10*((dispersió!$F$42+F366)^dispersió!$F$10)+dispersió!$C$24*dispersió!$D$42)*dispersió!$C$12),0)","v":3.1168921084150361},{"$f":"IFERROR(dispersió!$C$10*((dispersió!$E$42+'Càlculs interns'!F366)^dispersió!$D$10)*(2*LN('Càlculs interns'!G366/dispersió!$O$48))^(1/2),0)","v":12.739473904688467},{"$f":"-H366","v":-12.739473904688467},null,{"$f":"K395/30","v":4.5454689665140968},{"$f":"IFERROR((letalitat!$P$13*1000)/((3.14159*dispersió!$C$10*((dispersió!$E$42+K366)^dispersió!$D$10)*dispersió!$E$10*((dispersió!$F$42+K366)^dispersió!$F$10)+dispersió!$C$24*dispersió!$D$42)*dispersió!$C$12),0)","v":3.2406618988047038},{"$f":"IFERROR(dispersió!$C$10*((dispersió!$E$42+'Càlculs interns'!K366)^dispersió!$D$10)*(2*LN('Càlculs interns'!L366/dispersió!$O$56))^(1/2),0)","v":11.359111720421277},{"$f":"-M366","v":-11.359111720421277},null,{"$f":"P395/30","v":2.2972337818714186},{"$f":"IFERROR((letalitat!$P$13*1000)/((3.14159*dispersió!$C$10*((dispersió!$E$42+P366)^dispersió!$D$10)*dispersió!$E$10*((dispersió!$F$42+P366)^dispersió!$F$10)+dispersió!$C$24*dispersió!$D$42)*dispersió!$C$12),0)","v":3.4097162012693238},{"$f":"IFERROR(dispersió!$C$10*((dispersió!$E$42+'Càlculs interns'!P366)^dispersió!$D$10)*(2*LN('Càlculs interns'!Q366/dispersió!$O$63))^(1/2),0)","v":8.7994070559091977},{"$f":"-R366","v":-8.7994070559091977}]
[{"$f":"A$366+A366","v":16.344836482365356},{"$f":"IFERROR((letalitat!$P$13*1000)/((3.14159*dispersió!$C$10*((dispersió!$E$42+A367)^dispersió!$D$10)*dispersió!$E$10*((dispersió!$F$42+A367)^dispersió!$F$10)+dispersió!$C$24*dispersió!$D$42)*dispersió!$C$12),0)","v":2.5302237233077292},{"$f":"IFERROR(dispersió!$C$10*((dispersió!$E$42+'Càlculs interns'!A367)^dispersió!$D$10)*(2*LN('Càlculs interns'!B367/dispersió!$O$42))^(1/2),0)","v":14.758296163932771},-14.758296163932771,null,{"$f":"F$366+F366","v":12.61176876043192},{"$f":"IFERROR((letalitat!$P$13*1000)/((3.14159*dispersió!$C$10*((dispersió!$E$42+F367)^dispersió!$D$10)*dispersió!$E$10*((dispersió!$F$42+F367)^dispersió!$F$10)+dispersió!$C$24*dispersió!$D$42)*dispersió!$C$12),0)","v":2.7272320291985501},{"$f":"IFERROR(dispersió!$C$10*((dispersió!$E$42+'Càlculs interns'!F367)^dispersió!$D$10)*(2*LN('Càlculs interns'!G367/dispersió!$O$48))^(1/2),0)","v":13.297541164030932},-13.297541164030932,null,{"$f":"K$366+K366","v":9.0909379330281936},{"$f":"IFERROR((letalitat!$P$13*1000)/((3.14159*dispersió!$C$10*((dispersió!$E$42+K367)^dispersió!$D$10)*dispersió!$E$10*((dispersió!$F$42+K367)^dispersió!$F$10)+dispersió!$C$24*dispersió!$D$42)*dispersió!$C$12),0)","v":2.9350924260511708},{"$f":"IFERROR(dispersió!$C$10*((dispersió!$E$42+'Càlculs interns'!K367)^dispersió!$D$10)*(2*LN('Càlculs interns'!L367/dispersió!$O$56))^(1/2),0)","v":11.674466108283653},-11.674466108283653,null,{"$f":"P$366+P366","v":4.5944675637428372},{"$f":"IFERROR((letalitat!$P$13*1000)/((3.14159*dispersió!$C$10*((dispersió!$E$42+P367)^dispersió!$D$10)*dispersió!$E$10*((dispersió!$F$42+P367)^dispersió!$F$10)+dispersió!$C$24*dispersió!$D$42)*dispersió!$C$12),0)","v":3.2371180913766775},{"$f":"IFERROR(dispersió!$C$10*((dispersió!$E$42+'Càlculs interns'!P367)^dispersió!$D$10)*(2*LN('Càlculs interns'!Q367/dispersió!$O$63))^(1/2),0)","v":8.8533205482157591},-8.8533205482157591]
[{"$f":"A$366+A367","v":24.517254723548035},{"$f":"IFERROR((letalitat!$P$13*1000)/((3.14159*dispersió!$C$10*((dispersió!$E$42+A368)^dispersió!$D$10)*dispersió!$E$10*((dispersió!$F$42+A368)^dispersió!$F$10)+dispersió!$C$24*dispersió!$D$42)*dispersió!$C$12),0)","v":2.1677622167010551},{"$f":"IFERROR(dispersió!$C$10*((dispersió!$E$42+'Càlculs interns'!A368)^dispersió!$D$10)*(2*LN('Càlculs interns'!B368/dispersió!$O$42))^(1/2),0)","v":15.511690650471342},-15.511690650471342,null,{"$f":"F$366+F367","v":18.917653140647879},{"$f":"IFERROR((letalitat!$P$13*1000)/((3.14159*dispersió!$C$10*((dispersió!$E$42+F368)^dispersió!$D$10)*dispersió!$E$10*((dispersió!$F$42+F368)^dispersió!$F$10)+dispersió!$C$24*dispersió!$D$42)*dispersió!$C$12),0)","v":2.4067387577686721},{"$f":"IFERROR(dispersió!$C$10*((dispersió!$E$42+'Càlculs interns'!F368)^dispersió!$D$10)*(2*LN('Càlculs interns'!G368/dispersió!$O$48))^(1/2),0)","v":13.800263967585325},-13.800263967585325,null,{"$f":"K$366+K367","v":13.63640689954229},{"$f":"IFERROR((letalitat!$P$13*1000)/((3.14159*dispersió!$C$10*((dispersió!$E$42+K368)^dispersió!$D$10)*dispersió!$E$10*((dispersió!$F$42+K368)^dispersió!$F$10)+dispersió!$C$24*dispersió!$D$42)*dispersió!$C$12),0)","v":2.6709061627905948},{"$f":"IFERROR(dispersió!$C$10*((dispersió!$E$42+'Càlculs interns'!K368)^dispersió!$D$10)*(2*LN('Càlculs interns'!L368/dispersió!$O$56))^(1/2),0)","v":11.955864397217365},-11.955864397217365,null,{"$f":"P$366+P367","v":6.8917013456142557},{"$f":"IFERROR((letalitat!$P$13*1000)/((3.14159*dispersió!$C$10*((dispersió!$E$42+P368)^dispersió!$D$10)*dispersió!$E$10*((dispersió!$F$42+P368)^dispersió!$F$10)+dispersió!$C$24*dispersió!$D$42)*dispersió!$C$12),0)","v":3.0772731594098239},{"$f":"IFERROR(dispersió!$C$10*((dispersió!$E$42+'Càlculs interns'!P368)^dispersió!$D$10)*(2*LN('Càlculs interns'!Q368/dispersió!$O$63))^(1/2),0)","v":8.8942999383615451},-8.8942999383615451]
[32.689672964730711,{"$f":"IFERROR((letalitat!$P$13*1000)/((3.14159*dispersió!$C$10*((dispersió!$E$42+A369)^dispersió!$D$10)*dispersió!$E$10*((dispersió!$F$42+A369)^dispersió!$F$10)+dispersió!$C$24*dispersió!$D$42)*dispersió!$C$12),0)","v":1.8790538768969225},{"$f":"IFERROR(dispersió!$C$10*((dispersió!$E$42+'Càlculs interns'!A369)^dispersió!$D$10)*(2*LN('Càlculs interns'!B369/dispersió!$O$42))^(1/2),0)","v":16.188420962234282},-16.188420962234282,null,25.223537520863839,{"$f":"IFERROR((letalitat!$P$13*1000)/((3.14159*dispersió!$C$10*((dispersió!$E$42+F369)^dispersió!$D$10)*dispersió!$E$10*((dispersió!$F$42+F369)^dispersió!$F$10)+dispersió!$C$24*dispersió!$D$42)*dispersió!$C$12),0)","v":2.1402118534180343},{"$f":"IFERROR(dispersió!$C$10*((dispersió!$E$42+'Càlculs interns'!F369)^dispersió!$D$10)*(2*LN('Càlculs interns'!G369/dispersió!$O$48))^(1/2),0)","v":14.250103465956611},-14.250103465956611,null,18.181875866056387,{"$f":"IFERROR((letalitat!$P$13*1000)/((3.14159*dispersió!$C$10*((dispersió!$E$42+K369)^dispersió!$D$10)*dispersió!$E$10*((dispersió!$F$42+K369)^dispersió!$F$10)+dispersió!$C$24*dispersió!$D$42)*dispersió!$C$12),0)","v":2.4411016024078647},{"$f":"IFERROR(dispersió!$C$10*((dispersió!$E$42+'Càlculs interns'!K369)^dispersió!$D$10)*(2*LN('Càlculs interns'!L369/dispersió!$O$56))^(1/2),0)","v":12.204105397198719},-12.204105397198719,null,9.1889351274856743,{"$f":"IFERROR((letalitat!$P$13*1000)/((3.14159*dispersió!$C$10*((dispersió!$E$42+P369)^dispersió!$D$10)*dispersió!$E$10*((dispersió!$F$42+P369)^dispersió!$F$10)+dispersió!$C$24*dispersió!$D$42)*dispersió!$C$12),0)","v":2.9289882662694668},{"$f":"IFERROR(dispersió!$C$10*((dispersió!$E$42+'Càlculs interns'!P369)^dispersió!$D$10)*(2*LN('Càlculs interns'!Q369/dispersió!$O$63))^(1/2),0)","v":8.9222369720180765},-8.9222369720180765]
[40.862091205913387,{"$f":"IFERROR((letalitat!$P$13*1000)/((3.14159*dispersió!$C$10*((dispersió!$E$42+A370)^dispersió!$D$10)*dispersió!$E$10*((dispersió!$F$42+A370)^dispersió!$F$10)+dispersió!$C$24*dispersió!$D$42)*dispersió!$C$12),0)","v":1.6455102486209336},{"$f":"IFERROR(dispersió!$C$10*((dispersió!$E$42+'Càlculs interns'!A370)^dispersió!$D$10)*(2*LN('Càlculs interns'!B370/dispersió!$O$42))^(1/2),0)","v":16.792567276520352},-16.792567276520352,null,31.5294219010798,{"$f":"IFERROR((letalitat!$P$13*1000)/((3.14159*dispersió!$C$10*((dispersió!$E$42+F370)^dispersió!$D$10)*dispersió!$E$10*((dispersió!$F$42+F370)^dispersió!$F$10)+dispersió!$C$24*dispersió!$D$42)*dispersió!$C$12),0)","v":1.9163198934597134},{"$f":"IFERROR(dispersió!$C$10*((dispersió!$E$42+'Càlculs interns'!F370)^dispersió!$D$10)*(2*LN('Càlculs interns'!G370/dispersió!$O$48))^(1/2),0)","v":14.649007397898107},-14.649007397898107,null,22.727344832570484,{"$f":"IFERROR((letalitat!$P$13*1000)/((3.14159*dispersió!$C$10*((dispersió!$E$42+K370)^dispersió!$D$10)*dispersió!$E$10*((dispersió!$F$42+K370)^dispersió!$F$10)+dispersió!$C$24*dispersió!$D$42)*dispersió!$C$12),0)","v":2.2400599653117332},{"$f":"IFERROR(dispersió!$C$10*((dispersió!$E$42+'Càlculs interns'!K370)^dispersió!$D$10)*(2*LN('Càlculs interns'!L370/dispersió!$O$56))^(1/2),0)","v":12.419797079471461},-12.419797079471461,null,11.486168909357094,{"$f":"IFERROR((letalitat!$P$13*1000)/((3.14159*dispersió!$C$10*((dispersió!$E$42+P370)^dispersió!$D$10)*dispersió!$E$10*((dispersió!$F$42+P370)^dispersió!$F$10)+dispersió!$C$24*dispersió!$D$42)*dispersió!$C$12),0)","v":2.791202459818539},{"$f":"IFERROR(dispersió!$C$10*((dispersió!$E$42+'Càlculs interns'!P370)^dispersió!$D$10)*(2*LN('Càlculs interns'!Q370/dispersió!$O$63))^(1/2),0)","v":8.9369845300967121},-8.9369845300967121]
[49.034509447096063,{"$f":"IFERROR((letalitat!$P$13*1000)/((3.14159*dispersió!$C$10*((dispersió!$E$42+A371)^dispersió!$D$10)*dispersió!$E$10*((dispersió!$F$42+A371)^dispersió!$F$10)+dispersió!$C$24*dispersió!$D$42)*dispersió!$C$12),0)","v":1.4539709020784499},{"$f":"IFERROR(dispersió!$C$10*((dispersió!$E$42+'Càlculs interns'!A371)^dispersió!$D$10)*(2*LN('Càlculs interns'!B371/dispersió!$O$42))^(1/2),0)","v":17.327293029569347},-17.327293029569347,null,37.835306281295757,{"$f":"IFERROR((letalitat!$P$13*1000)/((3.14159*dispersió!$C$10*((dispersió!$E$42+F371)^dispersió!$D$10)*dispersió!$E$10*((dispersió!$F$42+F371)^dispersió!$F$10)+dispersió!$C$24*dispersió!$D$42)*dispersió!$C$12),0)","v":1.7265024639280959},{"$f":"IFERROR(dispersió!$C$10*((dispersió!$E$42+'Càlculs interns'!F371)^dispersió!$D$10)*(2*LN('Càlculs interns'!G371/dispersió!$O$48))^(1/2),0)","v":14.99848097372433},-14.99848097372433,null,27.272813799084581,{"$f":"IFERROR((letalitat!$P$13*1000)/((3.14159*dispersió!$C$10*((dispersió!$E$42+K371)^dispersió!$D$10)*dispersió!$E$10*((dispersió!$F$42+K371)^dispersió!$F$10)+dispersió!$C$24*dispersió!$D$42)*dispersió!$C$12),0)","v":2.0632380362336362},{"$f":"IFERROR(dispersió!$C$10*((dispersió!$E$42+'Càlculs interns'!K371)^dispersió!$D$10)*(2*LN('Càlculs interns'!L371/dispersió!$O$56))^(1/2),0)","v":12.603367688321155},-12.603367688321155,null,13.783402691228513,{"$f":"IFERROR((letalitat!$P$13*1000)/((3.14159*dispersió!$C$10*((dispersió!$E$42+P371)^dispersió!$D$10)*dispersió!$E$10*((dispersió!$F$42+P371)^dispersió!$F$10)+dispersió!$C$24*dispersió!$D$42)*dispersió!$C$12),0)","v":2.6629700997206252},{"$f":"IFERROR(dispersió!$C$10*((dispersió!$E$42+'Càlculs interns'!P371)^dispersió!$D$10)*(2*LN('Càlculs interns'!Q371/dispersió!$O$63))^(1/2),0)","v":8.9383532829878405},-8.9383532829878405]
[57.206927688278739,{"$f":"IFERROR((letalitat!$P$13*1000)/((3.14159*dispersió!$C$10*((dispersió!$E$42+A372)^dispersió!$D$10)*dispersió!$E$10*((dispersió!$F$42+A372)^dispersió!$F$10)+dispersió!$C$24*dispersió!$D$42)*dispersió!$C$12),0)","v":1.2949371813285437},{"$f":"IFERROR(dispersió!$C$10*((dispersió!$E$42+'Càlculs interns'!A372)^dispersió!$D$10)*(2*LN('Càlculs interns'!B372/dispersió!$O$42))^(1/2),0)","v":17.795011070087497},-17.795011070087497,null,44.141190661511715,{"$f":"IFERROR((letalitat!$P$13*1000)/((3.14159*dispersió!$C$10*((dispersió!$E$42+F372)^dispersió!$D$10)*dispersió!$E$10*((dispersió!$F$42+F372)^dispersió!$F$10)+dispersió!$C$24*dispersió!$D$42)*dispersió!$C$12),0)","v":1.5642118586170863},{"$f":"IFERROR(dispersió!$C$10*((dispersió!$E$42+'Càlculs interns'!F372)^dispersió!$D$10)*(2*LN('Càlculs interns'!G372/dispersió!$O$48))^(1/2),0)","v":15.299642049355572},-15.299642049355572,null,31.818282765598678,{"$f":"IFERROR((letalitat!$P$13*1000)/((3.14159*dispersió!$C$10*((dispersió!$E$42+K372)^dispersió!$D$10)*dispersió!$E$10*((dispersió!$F$42+K372)^dispersió!$F$10)+dispersió!$C$24*dispersió!$D$42)*dispersió!$C$12),0)","v":1.9069364396456687},{"$f":"IFERROR(dispersió!$C$10*((dispersió!$E$42+'Càlculs interns'!K372)^dispersió!$D$10)*(2*LN('Càlculs interns'!L372/dispersió!$O$56))^(1/2),0)","v":12.755074108221574},-12.755074108221574,null,16.080636473099933,{"$f":"IFERROR((letalitat!$P$13*1000)/((3.14159*dispersió!$C$10*((dispersió!$E$42+P372)^dispersió!$D$10)*dispersió!$E$10*((dispersió!$F$42+P372)^dispersió!$F$10)+dispersió!$C$24*dispersió!$D$42)*dispersió!$C$12),0)","v":2.543446492424037},{"$f":"IFERROR(dispersió!$C$10*((dispersió!$E$42+'Càlculs interns'!P372)^dispersió!$D$10)*(2*LN('Càlculs interns'!Q372/dispersió!$O$63))^(1/2),0)","v":8.9261077082101288},-8.9261077082101288]
[65.379345929461422,{"$f":"IFERROR((letalitat!$P$13*1000)/((3.14159*dispersió!$C$10*((dispersió!$E$42+A373)^dispersió!$D$10)*dispersió!$E$10*((dispersió!$F$42+A373)^dispersió!$F$10)+dispersió!$C$24*dispersió!$D$42)*dispersió!$C$12),0)","v":1.1614304946219083},{"$f":"IFERROR(dispersió!$C$10*((dispersió!$E$42+'Càlculs interns'!A373)^dispersió!$D$10)*(2*LN('Càlculs interns'!B373/dispersió!$O$42))^(1/2),0)","v":18.197502623248205},-18.197502623248205,null,50.447075041727672,{"$f":"IFERROR((letalitat!$P$13*1000)/((3.14159*dispersió!$C$10*((dispersió!$E$42+F373)^dispersió!$D$10)*dispersió!$E$10*((dispersió!$F$42+F373)^dispersió!$F$10)+dispersió!$C$24*dispersió!$D$42)*dispersió!$C$12),0)","v":1.4243811935725068},{"$f":"IFERROR(dispersió!$C$10*((dispersió!$E$42+'Càlculs interns'!F373)^dispersió!$D$10)*(2*LN('Càlculs interns'!G373/dispersió!$O$48))^(1/2),0)","v":15.553261642891204},-15.553261642891204,null,36.363751732112775,{"$f":"IFERROR((letalitat!$P$13*1000)/((3.14159*dispersió!$C$10*((dispersió!$E$42+K373)^dispersió!$D$10)*dispersió!$E$10*((dispersió!$F$42+K373)^dispersió!$F$10)+dispersió!$C$24*dispersió!$D$42)*dispersió!$C$12),0)","v":1.768122838985551},{"$f":"IFERROR(dispersió!$C$10*((dispersió!$E$42+'Càlculs interns'!K373)^dispersió!$D$10)*(2*LN('Càlculs interns'!L373/dispersió!$O$56))^(1/2),0)","v":12.875006792918342},-12.875006792918342,null,18.377870254971352,{"$f":"IFERROR((letalitat!$P$13*1000)/((3.14159*dispersió!$C$10*((dispersió!$E$42+P373)^dispersió!$D$10)*dispersió!$E$10*((dispersió!$F$42+P373)^dispersió!$F$10)+dispersió!$C$24*dispersió!$D$42)*dispersió!$C$12),0)","v":2.4318755771890737},{"$f":"IFERROR(dispersió!$C$10*((dispersió!$E$42+'Càlculs interns'!P373)^dispersió!$D$10)*(2*LN('Càlculs interns'!Q373/dispersió!$O$63))^(1/2),0)","v":8.899961262045391},-8.899961262045391]
[73.551764170644105,{"$f":"IFERROR((letalitat!$P$13*1000)/((3.14159*dispersió!$C$10*((dispersió!$E$42+A374)^dispersió!$D$10)*dispersió!$E$10*((dispersió!$F$42+A374)^dispersió!$F$10)+dispersió!$C$24*dispersió!$D$42)*dispersió!$C$12),0)","v":1.0482392476003588},{"$f":"IFERROR(dispersió!$C$10*((dispersió!$E$42+'Càlculs interns'!A374)^dispersió!$D$10)*(2*LN('Càlculs interns'!B374/dispersió!$O$42))^(1/2),0)","v":18.536000330711815},-18.536000330711815,null,56.752959421943629,{"$f":"IFERROR((letalitat!$P$13*1000)/((3.14159*dispersió!$C$10*((dispersió!$E$42+F374)^dispersió!$D$10)*dispersió!$E$10*((dispersió!$F$42+F374)^dispersió!$F$10)+dispersió!$C$24*dispersió!$D$42)*dispersió!$C$12),0)","v":1.3030463451286216},{"$f":"IFERROR(dispersió!$C$10*((dispersió!$E$42+'Càlculs interns'!F374)^dispersió!$D$10)*(2*LN('Càlculs interns'!G374/dispersió!$O$48))^(1/2),0)","v":15.759791567065761},-15.759791567065761,null,40.909220698626868,{"$f":"IFERROR((letalitat!$P$13*1000)/((3.14159*dispersió!$C$10*((dispersió!$E$42+K374)^dispersió!$D$10)*dispersió!$E$10*((dispersió!$F$42+K374)^dispersió!$F$10)+dispersió!$C$24*dispersió!$D$42)*dispersió!$C$12),0)","v":1.6442958591086099},{"$f":"IFERROR(dispersió!$C$10*((dispersió!$E$42+'Càlculs interns'!K374)^dispersió!$D$10)*(2*LN('Càlculs interns'!L374/dispersió!$O$56))^(1/2),0)","v":12.963090902129286},-12.963090902129286,null,20.675104036842772,{"$f":"IFERROR((letalitat!$P$13*1000)/((3.14159*dispersió!$C$10*((dispersió!$E$42+P374)^dispersió!$D$10)*dispersió!$E$10*((dispersió!$F$42+P374)^dispersió!$F$10)+dispersió!$C$24*dispersió!$D$42)*dispersió!$C$12),0)","v":2.3275793139454088},{"$f":"IFERROR(dispersió!$C$10*((dispersió!$E$42+'Càlculs interns'!P374)^dispersió!$D$10)*(2*LN('Càlculs interns'!Q374/dispersió!$O$63))^(1/2),0)","v":8.8595704611663262},-8.8595704611663262]
[81.724182411826789,{"$f":"IFERROR((letalitat!$P$13*1000)/((3.14159*dispersió!$C$10*((dispersió!$E$42+A375)^dispersió!$D$10)*dispersió!$E$10*((dispersió!$F$42+A375)^dispersió!$F$10)+dispersió!$C$24*dispersió!$D$42)*dispersió!$C$12),0)","v":0.95141257792087452},{"$f":"IFERROR(dispersió!$C$10*((dispersió!$E$42+'Càlculs interns'!A375)^dispersió!$D$10)*(2*LN('Càlculs interns'!B375/dispersió!$O$42))^(1/2),0)","v":18.811243500936627},-18.811243500936627,null,63.058843802159586,{"$f":"IFERROR((letalitat!$P$13*1000)/((3.14159*dispersió!$C$10*((dispersió!$E$42+F375)^dispersió!$D$10)*dispersió!$E$10*((dispersió!$F$42+F375)^dispersió!$F$10)+dispersió!$C$24*dispersió!$D$42)*dispersió!$C$12),0)","v":1.1970739017279539},{"$f":"IFERROR(dispersió!$C$10*((dispersió!$E$42+'Càlculs interns'!F375)^dispersió!$D$10)*(2*LN('Càlculs interns'!G375/dispersió!$O$48))^(1/2),0)","v":15.91938068362294},-15.91938068362294,null,45.454689665140961,{"$f":"IFERROR((letalitat!$P$13*1000)/((3.14159*dispersió!$C$10*((dispersió!$E$42+K375)^dispersió!$D$10)*dispersió!$E$10*((dispersió!$F$42+K375)^dispersió!$F$10)+dispersió!$C$24*dispersió!$D$42)*dispersió!$C$12),0)","v":1.5333795666885268},{"$f":"IFERROR(dispersió!$C$10*((dispersió!$E$42+'Càlculs interns'!K375)^dispersió!$D$10)*(2*LN('Càlculs interns'!L375/dispersió!$O$56))^(1/2),0)","v":13.019083338758975},-13.019083338758975,null,22.972337818714191,{"$f":"IFERROR((letalitat!$P$13*1000)/((3.14159*dispersió!$C$10*((dispersió!$E$42+P375)^dispersió!$D$10)*dispersió!$E$10*((dispersió!$F$42+P375)^dispersió!$F$10)+dispersió!$C$24*dispersió!$D$42)*dispersió!$C$12),0)","v":2.2299484994937102},{"$f":"IFERROR(dispersió!$C$10*((dispersió!$E$42+'Càlculs interns'!P375)^dispersió!$D$10)*(2*LN('Càlculs interns'!Q375/dispersió!$O$63))^(1/2),0)","v":8.8045275723621046},-8.8045275723621046]
[89.896600653009472,{"$f":"IFERROR((letalitat!$P$13*1000)/((3.14159*dispersió!$C$10*((dispersió!$E$42+A376)^dispersió!$D$10)*dispersió!$E$10*((dispersió!$F$42+A376)^dispersió!$F$10)+dispersió!$C$24*dispersió!$D$42)*dispersió!$C$12),0)","v":0.86791382728911382},{"$f":"IFERROR(dispersió!$C$10*((dispersió!$E$42+'Càlculs interns'!A376)^dispersió!$D$10)*(2*LN('Càlculs interns'!B376/dispersió!$O$42))^(1/2),0)","v":19.023510959410387},-19.023510959410387,null,69.364728182375543,{"$f":"IFERROR((letalitat!$P$13*1000)/((3.14159*dispersió!$C$10*((dispersió!$E$42+F376)^dispersió!$D$10)*dispersió!$E$10*((dispersió!$F$42+F376)^dispersió!$F$10)+dispersió!$C$24*dispersió!$D$42)*dispersió!$C$12),0)","v":1.103963097998188},{"$f":"IFERROR(dispersió!$C$10*((dispersió!$E$42+'Càlculs interns'!F376)^dispersió!$D$10)*(2*LN('Càlculs interns'!G376/dispersió!$O$48))^(1/2),0)","v":16.031880722461221},-16.031880722461221,null,50.000158631655054,{"$f":"IFERROR((letalitat!$P$13*1000)/((3.14159*dispersió!$C$10*((dispersió!$E$42+K376)^dispersió!$D$10)*dispersió!$E$10*((dispersió!$F$42+K376)^dispersió!$F$10)+dispersió!$C$24*dispersió!$D$42)*dispersió!$C$12),0)","v":1.4336410859794027},{"$f":"IFERROR(dispersió!$C$10*((dispersió!$E$42+'Càlculs interns'!K376)^dispersió!$D$10)*(2*LN('Càlculs interns'!L376/dispersió!$O$56))^(1/2),0)","v":13.04256526907762},-13.04256526907762,null,25.269571600585611,{"$f":"IFERROR((letalitat!$P$13*1000)/((3.14159*dispersió!$C$10*((dispersió!$E$42+P376)^dispersió!$D$10)*dispersió!$E$10*((dispersió!$F$42+P376)^dispersió!$F$10)+dispersió!$C$24*dispersió!$D$42)*dispersió!$C$12),0)","v":2.1384347928410752},{"$f":"IFERROR(dispersió!$C$10*((dispersió!$E$42+'Càlculs interns'!P376)^dispersió!$D$10)*(2*LN('Càlculs interns'!Q376/dispersió!$O$63))^(1/2),0)","v":8.7343515215195922},-8.7343515215195922]
[98.069018894192155,{"$f":"IFERROR((letalitat!$P$13*1000)/((3.14159*dispersió!$C$10*((dispersió!$E$42+A377)^dispersió!$D$10)*dispersió!$E$10*((dispersió!$F$42+A377)^dispersió!$F$10)+dispersió!$C$24*dispersió!$D$42)*dispersió!$C$12),0)","v":0.79537929582747313},{"$f":"IFERROR(dispersió!$C$10*((dispersió!$E$42+'Càlculs interns'!A377)^dispersió!$D$10)*(2*LN('Càlculs interns'!B377/dispersió!$O$42))^(1/2),0)","v":19.172634690825003},-19.172634690825003,null,75.670612562591501,{"$f":"IFERROR((letalitat!$P$13*1000)/((3.14159*dispersió!$C$10*((dispersió!$E$42+F377)^dispersió!$D$10)*dispersió!$E$10*((dispersió!$F$42+F377)^dispersió!$F$10)+dispersió!$C$24*dispersió!$D$42)*dispersió!$C$12),0)","v":1.0216999854776085},{"$f":"IFERROR(dispersió!$C$10*((dispersió!$E$42+'Càlculs interns'!F377)^dispersió!$D$10)*(2*LN('Càlculs interns'!G377/dispersió!$O$48))^(1/2),0)","v":16.096841952909347},-16.096841952909347,null,54.545627598169148,{"$f":"IFERROR((letalitat!$P$13*1000)/((3.14159*dispersió!$C$10*((dispersió!$E$42+K377)^dispersió!$D$10)*dispersió!$E$10*((dispersió!$F$42+K377)^dispersió!$F$10)+dispersió!$C$24*dispersió!$D$42)*dispersió!$C$12),0)","v":1.3436258605783526},{"$f":"IFERROR(dispersió!$C$10*((dispersió!$E$42+'Càlculs interns'!K377)^dispersió!$D$10)*(2*LN('Càlculs interns'!L377/dispersió!$O$56))^(1/2),0)","v":13.032929486218071},{"$f":"-M377","v":-13.032929486218071},null,27.56680538245703,{"$f":"IFERROR((letalitat!$P$13*1000)/((3.14159*dispersió!$C$10*((dispersió!$E$42+P377)^dispersió!$D$10)*dispersió!$E$10*((dispersió!$F$42+P377)^dispersió!$F$10)+dispersió!$C$24*dispersió!$D$42)*dispersió!$C$12),0)","v":2.0525437707709258},{"$f":"IFERROR(dispersió!$C$10*((dispersió!$E$42+'Càlculs interns'!P377)^dispersió!$D$10)*(2*LN('Càlculs interns'!Q377/dispersió!$O$63))^(1/2),0)","v":8.6484765066789837},-8.6484765066789837]
[106.24143713537484,{"$f":"IFERROR((letalitat!$P$13*1000)/((3.14159*dispersió!$C$10*((dispersió!$E$42+A378)^dispersió!$D$10)*dispersió!$E$10*((dispersió!$F$42+A378)^dispersió!$F$10)+dispersió!$C$24*dispersió!$D$42)*dispersió!$C$12),0)","v":0.73194760040976681},{"$f":"IFERROR(dispersió!$C$10*((dispersió!$E$42+'Càlculs interns'!A378)^dispersió!$D$10)*(2*LN('Càlculs interns'!B378/dispersió!$O$42))^(1/2),0)","v":19.257995654565946},-19.257995654565946,null,81.976496942807458,{"$f":"IFERROR((letalitat!$P$13*1000)/((3.14159*dispersió!$C$10*((dispersió!$E$42+F378)^dispersió!$D$10)*dispersió!$E$10*((dispersió!$F$42+F378)^dispersió!$F$10)+dispersió!$C$24*dispersió!$D$42)*dispersió!$C$12),0)","v":0.94864890323910678},{"$f":"IFERROR(dispersió!$C$10*((dispersió!$E$42+'Càlculs interns'!F378)^dispersió!$D$10)*(2*LN('Càlculs interns'!G378/dispersió!$O$48))^(1/2),0)","v":16.113498273148547},-16.113498273148547,null,59.091096564683241,{"$f":"IFERROR((letalitat!$P$13*1000)/((3.14159*dispersió!$C$10*((dispersió!$E$42+K378)^dispersió!$D$10)*dispersió!$E$10*((dispersió!$F$42+K378)^dispersió!$F$10)+dispersió!$C$24*dispersió!$D$42)*dispersió!$C$12),0)","v":1.2621064642501663},{"$f":"IFERROR(dispersió!$C$10*((dispersió!$E$42+'Càlculs interns'!K378)^dispersió!$D$10)*(2*LN('Càlculs interns'!L378/dispersió!$O$56))^(1/2),0)","v":12.9893616434652},-12.9893616434652,null,29.86403916432845,{"$f":"IFERROR((letalitat!$P$13*1000)/((3.14159*dispersió!$C$10*((dispersió!$E$42+P378)^dispersió!$D$10)*dispersió!$E$10*((dispersió!$F$42+P378)^dispersió!$F$10)+dispersió!$C$24*dispersió!$D$42)*dispersió!$C$12),0)","v":1.9718288656253777},{"$f":"IFERROR(dispersió!$C$10*((dispersió!$E$42+'Càlculs interns'!P378)^dispersió!$D$10)*(2*LN('Càlculs interns'!Q378/dispersió!$O$63))^(1/2),0)","v":8.5462376172713039},{"$f":"-R378","v":-8.5462376172713039}]
[114.41385537655752,{"$f":"IFERROR((letalitat!$P$13*1000)/((3.14159*dispersió!$C$10*((dispersió!$E$42+A379)^dispersió!$D$10)*dispersió!$E$10*((dispersió!$F$42+A379)^dispersió!$F$10)+dispersió!$C$24*dispersió!$D$42)*dispersió!$C$12),0)","v":0.67613716595156781},{"$f":"IFERROR(dispersió!$C$10*((dispersió!$E$42+'Càlculs interns'!A379)^dispersió!$D$10)*(2*LN('Càlculs interns'!B379/dispersió!$O$42))^(1/2),0)","v":19.278501511035994},-19.278501511035994,null,88.282381323023415,{"$f":"IFERROR((letalitat!$P$13*1000)/((3.14159*dispersió!$C$10*((dispersió!$E$42+F379)^dispersió!$D$10)*dispersió!$E$10*((dispersió!$F$42+F379)^dispersió!$F$10)+dispersió!$C$24*dispersió!$D$42)*dispersió!$C$12),0)","v":0.88347087393213308},{"$f":"IFERROR(dispersió!$C$10*((dispersió!$E$42+'Càlculs interns'!F379)^dispersió!$D$10)*(2*LN('Càlculs interns'!G379/dispersió!$O$48))^(1/2),0)","v":16.080740445699039},-16.080740445699039,null,63.636565531197334,{"$f":"IFERROR((letalitat!$P$13*1000)/((3.14159*dispersió!$C$10*((dispersió!$E$42+K379)^dispersió!$D$10)*dispersió!$E$10*((dispersió!$F$42+K379)^dispersió!$F$10)+dispersió!$C$24*dispersió!$D$42)*dispersió!$C$12),0)","v":1.1880418805007662},{"$f":"IFERROR(dispersió!$C$10*((dispersió!$E$42+'Càlculs interns'!K379)^dispersió!$D$10)*(2*LN('Càlculs interns'!L379/dispersió!$O$56))^(1/2),0)","v":12.910813904864435},-12.910813904864435,null,32.161272946199865,{"$f":"IFERROR((letalitat!$P$13*1000)/((3.14159*dispersió!$C$10*((dispersió!$E$42+P379)^dispersió!$D$10)*dispersió!$E$10*((dispersió!$F$42+P379)^dispersió!$F$10)+dispersió!$C$24*dispersió!$D$42)*dispersió!$C$12),0)","v":1.895886061544084},{"$f":"IFERROR(dispersió!$C$10*((dispersió!$E$42+'Càlculs interns'!P379)^dispersió!$D$10)*(2*LN('Càlculs interns'!Q379/dispersió!$O$63))^(1/2),0)","v":8.4268524952446278},-8.4268524952446278]
[122.5862736177402,{"$f":"IFERROR((letalitat!$P$13*1000)/((3.14159*dispersió!$C$10*((dispersió!$E$42+A380)^dispersió!$D$10)*dispersió!$E$10*((dispersió!$F$42+A380)^dispersió!$F$10)+dispersió!$C$24*dispersió!$D$42)*dispersió!$C$12),0)","v":0.62675704389991371},{"$f":"IFERROR(dispersió!$C$10*((dispersió!$E$42+'Càlculs interns'!A380)^dispersió!$D$10)*(2*LN('Càlculs interns'!B380/dispersió!$O$42))^(1/2),0)","v":19.232544281159111},{"$f":"-C380","v":-19.232544281159111},null,94.588265703239372,{"$f":"IFERROR((letalitat!$P$13*1000)/((3.14159*dispersió!$C$10*((dispersió!$E$42+F380)^dispersió!$D$10)*dispersió!$E$10*((dispersió!$F$42+F380)^dispersió!$F$10)+dispersió!$C$24*dispersió!$D$42)*dispersió!$C$12),0)","v":0.82506164146143668},{"$f":"IFERROR(dispersió!$C$10*((dispersió!$E$42+'Càlculs interns'!F380)^dispersió!$D$10)*(2*LN('Càlculs interns'!G380/dispersió!$O$48))^(1/2),0)","v":15.997075147315384},{"$f":"-H380","v":-15.997075147315384},null,68.182034497711427,{"$f":"IFERROR((letalitat!$P$13*1000)/((3.14159*dispersió!$C$10*((dispersió!$E$42+K380)^dispersió!$D$10)*dispersió!$E$10*((dispersió!$F$42+K380)^dispersió!$F$10)+dispersió!$C$24*dispersió!$D$42)*dispersió!$C$12),0)","v":1.1205449198738877},{"$f":"IFERROR(dispersió!$C$10*((dispersió!$E$42+'Càlculs interns'!K380)^dispersió!$D$10)*(2*LN('Càlculs interns'!L380/dispersió!$O$56))^(1/2),0)","v":12.795968867637624},-12.795968867637624,null,34.458506728071285,{"$f":"IFERROR((letalitat!$P$13*1000)/((3.14159*dispersió!$C$10*((dispersió!$E$42+P380)^dispersió!$D$10)*dispersió!$E$10*((dispersió!$F$42+P380)^dispersió!$F$10)+dispersió!$C$24*dispersió!$D$42)*dispersió!$C$12),0)","v":1.8243492448707168},{"$f":"IFERROR(dispersió!$C$10*((dispersió!$E$42+'Càlculs interns'!P380)^dispersió!$D$10)*(2*LN('Càlculs interns'!Q380/dispersió!$O$63))^(1/2),0)","v":8.2893976794304525},-8.2893976794304525]
[130.75869185892287,{"$f":"IFERROR((letalitat!$P$13*1000)/((3.14159*dispersió!$C$10*((dispersió!$E$42+A381)^dispersió!$D$10)*dispersió!$E$10*((dispersió!$F$42+A381)^dispersió!$F$10)+dispersió!$C$24*dispersió!$D$42)*dispersió!$C$12),0)","v":0.58284114611245508},{"$f":"IFERROR(dispersió!$C$10*((dispersió!$E$42+'Càlculs interns'!A381)^dispersió!$D$10)*(2*LN('Càlculs interns'!B381/dispersió!$O$42))^(1/2),0)","v":19.117933892072919},-19.117933892072919,null,100.89415008345533,{"$f":"IFERROR((letalitat!$P$13*1000)/((3.14159*dispersió!$C$10*((dispersió!$E$42+F381)^dispersió!$D$10)*dispersió!$E$10*((dispersió!$F$42+F381)^dispersió!$F$10)+dispersió!$C$24*dispersió!$D$42)*dispersió!$C$12),0)","v":0.7725041824803065},{"$f":"IFERROR(dispersió!$C$10*((dispersió!$E$42+'Càlculs interns'!F381)^dispersió!$D$10)*(2*LN('Càlculs interns'!G381/dispersió!$O$48))^(1/2),0)","v":15.860566049486181},-15.860566049486181,null,72.727503464225521,{"$f":"IFERROR((letalitat!$P$13*1000)/((3.14159*dispersió!$C$10*((dispersió!$E$42+K381)^dispersió!$D$10)*dispersió!$E$10*((dispersió!$F$42+K381)^dispersió!$F$10)+dispersió!$C$24*dispersió!$D$42)*dispersió!$C$12),0)","v":1.058856000267197},{"$f":"IFERROR(dispersió!$C$10*((dispersió!$E$42+'Càlculs interns'!K381)^dispersió!$D$10)*(2*LN('Càlculs interns'!L381/dispersió!$O$56))^(1/2),0)","v":12.643190582941454},-12.643190582941454,null,36.755740509942704,{"$f":"IFERROR((letalitat!$P$13*1000)/((3.14159*dispersió!$C$10*((dispersió!$E$42+P381)^dispersió!$D$10)*dispersió!$E$10*((dispersió!$F$42+P381)^dispersió!$F$10)+dispersió!$C$24*dispersió!$D$42)*dispersió!$C$12),0)","v":1.7568861203101265},{"$f":"IFERROR(dispersió!$C$10*((dispersió!$E$42+'Càlculs interns'!P381)^dispersió!$D$10)*(2*LN('Càlculs interns'!Q381/dispersió!$O$63))^(1/2),0)","v":8.1327776790764972},-8.1327776790764972]
[138.93111010010554,{"$f":"IFERROR((letalitat!$P$13*1000)/((3.14159*dispersió!$C$10*((dispersió!$E$42+A382)^dispersió!$D$10)*dispersió!$E$10*((dispersió!$F$42+A382)^dispersió!$F$10)+dispersió!$C$24*dispersió!$D$42)*dispersió!$C$12),0)","v":0.54359915750765264},{"$f":"IFERROR(dispersió!$C$10*((dispersió!$E$42+'Càlculs interns'!A382)^dispersió!$D$10)*(2*LN('Càlculs interns'!B382/dispersió!$O$42))^(1/2),0)","v":18.931800745004267},-18.931800745004267,null,107.20003446367129,{"$f":"IFERROR((letalitat!$P$13*1000)/((3.14159*dispersió!$C$10*((dispersió!$E$42+F382)^dispersió!$D$10)*dispersió!$E$10*((dispersió!$F$42+F382)^dispersió!$F$10)+dispersió!$C$24*dispersió!$D$42)*dispersió!$C$12),0)","v":0.72503198751320297},{"$f":"IFERROR(dispersió!$C$10*((dispersió!$E$42+'Càlculs interns'!F382)^dispersió!$D$10)*(2*LN('Càlculs interns'!G382/dispersió!$O$48))^(1/2),0)","v":15.668751020107328},-15.668751020107328,null,77.272972430739614,{"$f":"IFERROR((letalitat!$P$13*1000)/((3.14159*dispersió!$C$10*((dispersió!$E$42+K382)^dispersió!$D$10)*dispersió!$E$10*((dispersió!$F$42+K382)^dispersió!$F$10)+dispersió!$C$24*dispersió!$D$42)*dispersió!$C$12),0)","v":1.0023219312305072},{"$f":"IFERROR(dispersió!$C$10*((dispersió!$E$42+'Càlculs interns'!K382)^dispersió!$D$10)*(2*LN('Càlculs interns'!L382/dispersió!$O$56))^(1/2),0)","v":12.450457931010611},-12.450457931010611,null,39.052974291814124,{"$f":"IFERROR((letalitat!$P$13*1000)/((3.14159*dispersió!$C$10*((dispersió!$E$42+P382)^dispersió!$D$10)*dispersió!$E$10*((dispersió!$F$42+P382)^dispersió!$F$10)+dispersió!$C$24*dispersió!$D$42)*dispersió!$C$12),0)","v":1.6931946175221881},{"$f":"IFERROR(dispersió!$C$10*((dispersió!$E$42+'Càlculs interns'!P382)^dispersió!$D$10)*(2*LN('Càlculs interns'!Q382/dispersió!$O$63))^(1/2),0)","v":7.9556839020452861},-7.9556839020452861]
[147.10352834128821,{"$f":"IFERROR((letalitat!$P$13*1000)/((3.14159*dispersió!$C$10*((dispersió!$E$42+A383)^dispersió!$D$10)*dispersió!$E$10*((dispersió!$F$42+A383)^dispersió!$F$10)+dispersió!$C$24*dispersió!$D$42)*dispersió!$C$12),0)","v":0.50837948292435298},{"$f":"IFERROR(dispersió!$C$10*((dispersió!$E$42+'Càlculs interns'!A383)^dispersió!$D$10)*(2*LN('Càlculs interns'!B383/dispersió!$O$42))^(1/2),0)","v":18.670456251976248},-18.670456251976248,null,113.50591884388724,{"$f":"IFERROR((letalitat!$P$13*1000)/((3.14159*dispersió!$C$10*((dispersió!$E$42+F383)^dispersió!$D$10)*dispersió!$E$10*((dispersió!$F$42+F383)^dispersió!$F$10)+dispersió!$C$24*dispersió!$D$42)*dispersió!$C$12),0)","v":0.68200043023219536},{"$f":"IFERROR(dispersió!$C$10*((dispersió!$E$42+'Càlculs interns'!F383)^dispersió!$D$10)*(2*LN('Càlculs interns'!G383/dispersió!$O$48))^(1/2),0)","v":15.418526257067768},-15.418526257067768,null,81.818441397253707,{"$f":"IFERROR((letalitat!$P$13*1000)/((3.14159*dispersió!$C$10*((dispersió!$E$42+K383)^dispersió!$D$10)*dispersió!$E$10*((dispersió!$F$42+K383)^dispersió!$F$10)+dispersió!$C$24*dispersió!$D$42)*dispersió!$C$12),0)","v":0.95037865559265933},{"$f":"IFERROR(dispersió!$C$10*((dispersió!$E$42+'Càlculs interns'!K383)^dispersió!$D$10)*(2*LN('Càlculs interns'!L383/dispersió!$O$56))^(1/2),0)","v":12.215273129864023},-12.215273129864023,null,41.350208073685543,{"$f":"IFERROR((letalitat!$P$13*1000)/((3.14159*dispersió!$C$10*((dispersió!$E$42+P383)^dispersió!$D$10)*dispersió!$E$10*((dispersió!$F$42+P383)^dispersió!$F$10)+dispersió!$C$24*dispersió!$D$42)*dispersió!$C$12),0)","v":1.6329997237590552},{"$f":"IFERROR(dispersió!$C$10*((dispersió!$E$42+'Càlculs interns'!P383)^dispersió!$D$10)*(2*LN('Càlculs interns'!Q383/dispersió!$O$63))^(1/2),0)","v":7.7565391010784364},-7.7565391010784364]
[155.27594658247088,{"$f":"IFERROR((letalitat!$P$13*1000)/((3.14159*dispersió!$C$10*((dispersió!$E$42+A384)^dispersió!$D$10)*dispersió!$E$10*((dispersió!$F$42+A384)^dispersió!$F$10)+dispersió!$C$24*dispersió!$D$42)*dispersió!$C$12),0)","v":0.47664098245197439},{"$f":"IFERROR(dispersió!$C$10*((dispersió!$E$42+'Càlculs interns'!A384)^dispersió!$D$10)*(2*LN('Càlculs interns'!B384/dispersió!$O$42))^(1/2),0)","v":18.329193640608374},-18.329193640608374,null,119.8118032241032,{"$f":"IFERROR((letalitat!$P$13*1000)/((3.14159*dispersió!$C$10*((dispersió!$E$42+F384)^dispersió!$D$10)*dispersió!$E$10*((dispersió!$F$42+F384)^dispersió!$F$10)+dispersió!$C$24*dispersió!$D$42)*dispersió!$C$12),0)","v":0.64286426513373474},{"$f":"IFERROR(dispersió!$C$10*((dispersió!$E$42+'Càlculs interns'!F384)^dispersió!$D$10)*(2*LN('Càlculs interns'!G384/dispersió!$O$48))^(1/2),0)","v":15.105982869071831},-15.105982869071831,null,86.363910363767801,{"$f":"IFERROR((letalitat!$P$13*1000)/((3.14159*dispersió!$C$10*((dispersió!$E$42+K384)^dispersió!$D$10)*dispersió!$E$10*((dispersió!$F$42+K384)^dispersió!$F$10)+dispersió!$C$24*dispersió!$D$42)*dispersió!$C$12),0)","v":0.90253713783949308},{"$f":"IFERROR(dispersió!$C$10*((dispersió!$E$42+'Càlculs interns'!K384)^dispersió!$D$10)*(2*LN('Càlculs interns'!L384/dispersió!$O$56))^(1/2),0)","v":11.934534114450859},-11.934534114450859,null,43.647441855556963,{"$f":"IFERROR((letalitat!$P$13*1000)/((3.14159*dispersió!$C$10*((dispersió!$E$42+P384)^dispersió!$D$10)*dispersió!$E$10*((dispersió!$F$42+P384)^dispersió!$F$10)+dispersió!$C$24*dispersió!$D$42)*dispersió!$C$12),0)","v":1.5760506873213525},{"$f":"IFERROR(dispersió!$C$10*((dispersió!$E$42+'Càlculs interns'!P384)^dispersió!$D$10)*(2*LN('Càlculs interns'!Q384/dispersió!$O$63))^(1/2),0)","v":7.5334206051180335},-7.5334206051180335]
[163.44836482365355,{"$f":"IFERROR((letalitat!$P$13*1000)/((3.14159*dispersió!$C$10*((dispersió!$E$42+A385)^dispersió!$D$10)*dispersió!$E$10*((dispersió!$F$42+A385)^dispersió!$F$10)+dispersió!$C$24*dispersió!$D$42)*dispersió!$C$12),0)","v":0.44793119795936237},{"$f":"IFERROR(dispersió!$C$10*((dispersió!$E$42+'Càlculs interns'!A385)^dispersió!$D$10)*(2*LN('Càlculs interns'!B385/dispersió!$O$42))^(1/2),0)","v":17.902000204765947},-17.902000204765947,null,126.11768760431916,{"$f":"IFERROR((letalitat!$P$13*1000)/((3.14159*dispersió!$C$10*((dispersió!$E$42+F385)^dispersió!$D$10)*dispersió!$E$10*((dispersió!$F$42+F385)^dispersió!$F$10)+dispersió!$C$24*dispersió!$D$42)*dispersió!$C$12),0)","v":0.60715980811485071},{"$f":"IFERROR(dispersió!$C$10*((dispersió!$E$42+'Càlculs interns'!F385)^dispersió!$D$10)*(2*LN('Càlculs interns'!G385/dispersió!$O$48))^(1/2),0)","v":14.726172490137946},-14.726172490137946,null,90.909379330281894,{"$f":"IFERROR((letalitat!$P$13*1000)/((3.14159*dispersió!$C$10*((dispersió!$E$42+K385)^dispersió!$D$10)*dispersió!$E$10*((dispersió!$F$42+K385)^dispersió!$F$10)+dispersió!$C$24*dispersió!$D$42)*dispersió!$C$12),0)","v":0.85837176804802018},{"$f":"IFERROR(dispersió!$C$10*((dispersió!$E$42+'Càlculs interns'!K385)^dispersió!$D$10)*(2*LN('Càlculs interns'!L385/dispersió!$O$56))^(1/2),0)","v":11.604352671642165},-11.604352671642165,null,45.944675637428382,{"$f":"IFERROR((letalitat!$P$13*1000)/((3.14159*dispersió!$C$10*((dispersió!$E$42+P385)^dispersió!$D$10)*dispersió!$E$10*((dispersió!$F$42+P385)^dispersió!$F$10)+dispersió!$C$24*dispersió!$D$42)*dispersió!$C$12),0)","v":1.5221185443500507},{"$f":"IFERROR(dispersió!$C$10*((dispersió!$E$42+'Càlculs interns'!P385)^dispersió!$D$10)*(2*LN('Càlculs interns'!Q385/dispersió!$O$63))^(1/2),0)","v":7.2839515304150559},-7.2839515304150559]
[171.62078306483622,{"$f":"IFERROR((letalitat!$P$13*1000)/((3.14159*dispersió!$C$10*((dispersió!$E$42+A386)^dispersió!$D$10)*dispersió!$E$10*((dispersió!$F$42+A386)^dispersió!$F$10)+dispersió!$C$24*dispersió!$D$42)*dispersió!$C$12),0)","v":0.42186942523461979},{"$f":"IFERROR(dispersió!$C$10*((dispersió!$E$42+'Càlculs interns'!A386)^dispersió!$D$10)*(2*LN('Càlculs interns'!B386/dispersió!$O$42))^(1/2),0)","v":17.381132615550637},-17.381132615550637,null,132.42357198453513,{"$f":"IFERROR((letalitat!$P$13*1000)/((3.14159*dispersió!$C$10*((dispersió!$E$42+F386)^dispersió!$D$10)*dispersió!$E$10*((dispersió!$F$42+F386)^dispersió!$F$10)+dispersió!$C$24*dispersió!$D$42)*dispersió!$C$12),0)","v":0.57449072431622272},{"$f":"IFERROR(dispersió!$C$10*((dispersió!$E$42+'Càlculs interns'!F386)^dispersió!$D$10)*(2*LN('Càlculs interns'!G386/dispersió!$O$48))^(1/2),0)","v":14.272762755016711},-14.272762755016711,null,95.454848296795987,{"$f":"IFERROR((letalitat!$P$13*1000)/((3.14159*dispersió!$C$10*((dispersió!$E$42+K386)^dispersió!$D$10)*dispersió!$E$10*((dispersió!$F$42+K386)^dispersió!$F$10)+dispersió!$C$24*dispersió!$D$42)*dispersió!$C$12),0)","v":0.81751078721944126},{"$f":"IFERROR(dispersió!$C$10*((dispersió!$E$42+'Càlculs interns'!K386)^dispersió!$D$10)*(2*LN('Càlculs interns'!L386/dispersió!$O$56))^(1/2),0)","v":11.219788093354177},-11.219788093354177,null,48.241909419299802,{"$f":"IFERROR((letalitat!$P$13*1000)/((3.14159*dispersió!$C$10*((dispersió!$E$42+P386)^dispersió!$D$10)*dispersió!$E$10*((dispersió!$F$42+P386)^dispersió!$F$10)+dispersió!$C$24*dispersió!$D$42)*dispersió!$C$12),0)","v":1.4709939280358051},{"$f":"IFERROR(dispersió!$C$10*((dispersió!$E$42+'Càlculs interns'!P386)^dispersió!$D$10)*(2*LN('Càlculs interns'!Q386/dispersió!$O$63))^(1/2),0)","v":7.0051419487321462},-7.0051419487321462]
[179.79320130601889,{"$f":"IFERROR((letalitat!$P$13*1000)/((3.14159*dispersió!$C$10*((dispersió!$E$42+A387)^dispersió!$D$10)*dispersió!$E$10*((dispersió!$F$42+A387)^dispersió!$F$10)+dispersió!$C$24*dispersió!$D$42)*dispersió!$C$12),0)","v":0.39813343956901642},{"$f":"IFERROR(dispersió!$C$10*((dispersió!$E$42+'Càlculs interns'!A387)^dispersió!$D$10)*(2*LN('Càlculs interns'!B387/dispersió!$O$42))^(1/2),0)","v":16.756470609634132},-16.756470609634132,null,138.72945636475109,{"$f":"IFERROR((letalitat!$P$13*1000)/((3.14159*dispersió!$C$10*((dispersió!$E$42+F387)^dispersió!$D$10)*dispersió!$E$10*((dispersió!$F$42+F387)^dispersió!$F$10)+dispersió!$C$24*dispersió!$D$42)*dispersió!$C$12),0)","v":0.54451661603954893},{"$f":"IFERROR(dispersió!$C$10*((dispersió!$E$42+'Càlculs interns'!F387)^dispersió!$D$10)*(2*LN('Càlculs interns'!G387/dispersió!$O$48))^(1/2),0)","v":13.737514183058847},-13.737514183058847,null,100.00031726331008,{"$f":"IFERROR((letalitat!$P$13*1000)/((3.14159*dispersió!$C$10*((dispersió!$E$42+K387)^dispersió!$D$10)*dispersió!$E$10*((dispersió!$F$42+K387)^dispersió!$F$10)+dispersió!$C$24*dispersió!$D$42)*dispersió!$C$12),0)","v":0.77962834509896684},{"$f":"IFERROR(dispersió!$C$10*((dispersió!$E$42+'Càlculs interns'!K387)^dispersió!$D$10)*(2*LN('Càlculs interns'!L387/dispersió!$O$56))^(1/2),0)","v":10.774443557286265},-10.774443557286265,null,50.539143201171221,{"$f":"IFERROR((letalitat!$P$13*1000)/((3.14159*dispersió!$C$10*((dispersió!$E$42+P387)^dispersió!$D$10)*dispersió!$E$10*((dispersió!$F$42+P387)^dispersió!$F$10)+dispersió!$C$24*dispersió!$D$42)*dispersió!$C$12),0)","v":1.4224851249144768},{"$f":"IFERROR(dispersió!$C$10*((dispersió!$E$42+'Càlculs interns'!P387)^dispersió!$D$10)*(2*LN('Càlculs interns'!Q387/dispersió!$O$63))^(1/2),0)","v":6.6931485475855101},-6.6931485475855101]
[187.96561954720156,{"$f":"IFERROR((letalitat!$P$13*1000)/((3.14159*dispersió!$C$10*((dispersió!$E$42+A388)^dispersió!$D$10)*dispersió!$E$10*((dispersió!$F$42+A388)^dispersió!$F$10)+dispersió!$C$24*dispersió!$D$42)*dispersió!$C$12),0)","v":0.37644900186012792},{"$f":"IFERROR(dispersió!$C$10*((dispersió!$E$42+'Càlculs interns'!A388)^dispersió!$D$10)*(2*LN('Càlculs interns'!B388/dispersió!$O$42))^(1/2),0)","v":16.014492780957639},-16.014492780957639,null,145.03534074496704,{"$f":"IFERROR((letalitat!$P$13*1000)/((3.14159*dispersió!$C$10*((dispersió!$E$42+F388)^dispersió!$D$10)*dispersió!$E$10*((dispersió!$F$42+F388)^dispersió!$F$10)+dispersió!$C$24*dispersió!$D$42)*dispersió!$C$12),0)","v":0.51694380007961327},{"$f":"IFERROR(dispersió!$C$10*((dispersió!$E$42+'Càlculs interns'!F388)^dispersió!$D$10)*(2*LN('Càlculs interns'!G388/dispersió!$O$48))^(1/2),0)","v":13.109452239848901},-13.109452239848901,null,104.54578622982417,{"$f":"IFERROR((letalitat!$P$13*1000)/((3.14159*dispersió!$C$10*((dispersió!$E$42+K388)^dispersió!$D$10)*dispersió!$E$10*((dispersió!$F$42+K388)^dispersió!$F$10)+dispersió!$C$24*dispersió!$D$42)*dispersió!$C$12),0)","v":0.74443788282296308},{"$f":"IFERROR(dispersió!$C$10*((dispersió!$E$42+'Càlculs interns'!K388)^dispersió!$D$10)*(2*LN('Càlculs interns'!L388/dispersió!$O$56))^(1/2),0)","v":10.2598279088543},-10.2598279088543,null,52.836376983042641,{"$f":"IFERROR((letalitat!$P$13*1000)/((3.14159*dispersió!$C$10*((dispersió!$E$42+P388)^dispersió!$D$10)*dispersió!$E$10*((dispersió!$F$42+P388)^dispersió!$F$10)+dispersió!$C$24*dispersió!$D$42)*dispersió!$C$12),0)","v":1.3764163476859492},{"$f":"IFERROR(dispersió!$C$10*((dispersió!$E$42+'Càlculs interns'!P388)^dispersió!$D$10)*(2*LN('Càlculs interns'!Q388/dispersió!$O$63))^(1/2),0)","v":6.3428947474463939},-6.3428947474463939]
[196.13803778838422,{"$f":"IFERROR((letalitat!$P$13*1000)/((3.14159*dispersió!$C$10*((dispersió!$E$42+A389)^dispersió!$D$10)*dispersió!$E$10*((dispersió!$F$42+A389)^dispersió!$F$10)+dispersió!$C$24*dispersió!$D$42)*dispersió!$C$12),0)","v":0.3565814996165888},{"$f":"IFERROR(dispersió!$C$10*((dispersió!$E$42+'Càlculs interns'!A389)^dispersió!$D$10)*(2*LN('Càlculs interns'!B389/dispersió!$O$42))^(1/2),0)","v":15.136566235392957},-15.136566235392957,null,151.341225125183,{"$f":"IFERROR((letalitat!$P$13*1000)/((3.14159*dispersió!$C$10*((dispersió!$E$42+F389)^dispersió!$D$10)*dispersió!$E$10*((dispersió!$F$42+F389)^dispersió!$F$10)+dispersió!$C$24*dispersió!$D$42)*dispersió!$C$12),0)","v":0.49151780891156516},{"$f":"IFERROR(dispersió!$C$10*((dispersió!$E$42+'Càlculs interns'!F389)^dispersió!$D$10)*(2*LN('Càlculs interns'!G389/dispersió!$O$48))^(1/2),0)","v":12.373485688775657},-12.373485688775657,null,109.09125519633827,{"$f":"IFERROR((letalitat!$P$13*1000)/((3.14159*dispersió!$C$10*((dispersió!$E$42+K389)^dispersió!$D$10)*dispersió!$E$10*((dispersió!$F$42+K389)^dispersió!$F$10)+dispersió!$C$24*dispersió!$D$42)*dispersió!$C$12),0)","v":0.71168659578767957},{"$f":"IFERROR(dispersió!$C$10*((dispersió!$E$42+'Càlculs interns'!K389)^dispersió!$D$10)*(2*LN('Càlculs interns'!L389/dispersió!$O$56))^(1/2),0)","v":9.6642909269001489},-9.6642909269001489,null,55.13361076491406,{"$f":"IFERROR((letalitat!$P$13*1000)/((3.14159*dispersió!$C$10*((dispersió!$E$42+P389)^dispersió!$D$10)*dispersió!$E$10*((dispersió!$F$42+P389)^dispersió!$F$10)+dispersió!$C$24*dispersió!$D$42)*dispersió!$C$12),0)","v":1.3326261980730363},{"$f":"IFERROR(dispersió!$C$10*((dispersió!$E$42+'Càlculs interns'!P389)^dispersió!$D$10)*(2*LN('Càlculs interns'!Q389/dispersió!$O$63))^(1/2),0)","v":5.9474367607971281},-5.9474367607971281]
[204.31045602956689,{"$f":"IFERROR((letalitat!$P$13*1000)/((3.14159*dispersió!$C$10*((dispersió!$E$42+A390)^dispersió!$D$10)*dispersió!$E$10*((dispersió!$F$42+A390)^dispersió!$F$10)+dispersió!$C$24*dispersió!$D$42)*dispersió!$C$12),0)","v":0.33832924082141586},{"$f":"IFERROR(dispersió!$C$10*((dispersió!$E$42+'Càlculs interns'!A390)^dispersió!$D$10)*(2*LN('Càlculs interns'!B390/dispersió!$O$42))^(1/2),0)","v":14.095888311108149},-14.095888311108149,null,157.64710950539896,{"$f":"IFERROR((letalitat!$P$13*1000)/((3.14159*dispersió!$C$10*((dispersió!$E$42+F390)^dispersió!$D$10)*dispersió!$E$10*((dispersió!$F$42+F390)^dispersió!$F$10)+dispersió!$C$24*dispersió!$D$42)*dispersió!$C$12),0)","v":0.46801725816805279},{"$f":"IFERROR(dispersió!$C$10*((dispersió!$E$42+'Càlculs interns'!F390)^dispersió!$D$10)*(2*LN('Càlculs interns'!G390/dispersió!$O$48))^(1/2),0)","v":11.507937015254937},-11.507937015254937,null,113.63672416285236,{"$f":"IFERROR((letalitat!$P$13*1000)/((3.14159*dispersió!$C$10*((dispersió!$E$42+K390)^dispersió!$D$10)*dispersió!$E$10*((dispersió!$F$42+K390)^dispersió!$F$10)+dispersió!$C$24*dispersió!$D$42)*dispersió!$C$12),0)","v":0.68115078131326778},{"$f":"IFERROR(dispersió!$C$10*((dispersió!$E$42+'Càlculs interns'!K390)^dispersió!$D$10)*(2*LN('Càlculs interns'!L390/dispersió!$O$56))^(1/2),0)","v":8.9711200271643428},-8.9711200271643428,null,57.43084454678548,{"$f":"IFERROR((letalitat!$P$13*1000)/((3.14159*dispersió!$C$10*((dispersió!$E$42+P390)^dispersió!$D$10)*dispersió!$E$10*((dispersió!$F$42+P390)^dispersió!$F$10)+dispersió!$C$24*dispersió!$D$42)*dispersió!$C$12),0)","v":1.2909662967349469},{"$f":"IFERROR(dispersió!$C$10*((dispersió!$E$42+'Càlculs interns'!P390)^dispersió!$D$10)*(2*LN('Càlculs interns'!Q390/dispersió!$O$63))^(1/2),0)","v":5.496829533712364},-5.496829533712364]
[212.48287427074956,{"$f":"IFERROR((letalitat!$P$13*1000)/((3.14159*dispersió!$C$10*((dispersió!$E$42+A391)^dispersió!$D$10)*dispersió!$E$10*((dispersió!$F$42+A391)^dispersió!$F$10)+dispersió!$C$24*dispersió!$D$42)*dispersió!$C$12),0)","v":0.32151803751021718},{"$f":"IFERROR(dispersió!$C$10*((dispersió!$E$42+'Càlculs interns'!A391)^dispersió!$D$10)*(2*LN('Càlculs interns'!B391/dispersió!$O$42))^(1/2),0)","v":12.851491940221724},-12.851491940221724,null,163.95299388561492,{"$f":"IFERROR((letalitat!$P$13*1000)/((3.14159*dispersió!$C$10*((dispersió!$E$42+F391)^dispersió!$D$10)*dispersió!$E$10*((dispersió!$F$42+F391)^dispersió!$F$10)+dispersió!$C$24*dispersió!$D$42)*dispersió!$C$12),0)","v":0.44624880384187265},{"$f":"IFERROR(dispersió!$C$10*((dispersió!$E$42+'Càlculs interns'!F391)^dispersió!$D$10)*(2*LN('Càlculs interns'!G391/dispersió!$O$48))^(1/2),0)","v":10.47970313214711},-10.47970313214711,null,118.18219312936645,{"$f":"IFERROR((letalitat!$P$13*1000)/((3.14159*dispersió!$C$10*((dispersió!$E$42+K391)^dispersió!$D$10)*dispersió!$E$10*((dispersió!$F$42+K391)^dispersió!$F$10)+dispersió!$C$24*dispersió!$D$42)*dispersió!$C$12),0)","v":0.65263191422568001},{"$f":"IFERROR(dispersió!$C$10*((dispersió!$E$42+'Càlculs interns'!K391)^dispersió!$D$10)*(2*LN('Càlculs interns'!L391/dispersió!$O$56))^(1/2),0)","v":8.1548093939133537},-8.1548093939133537,null,59.728078328656899,{"$f":"IFERROR((letalitat!$P$13*1000)/((3.14159*dispersió!$C$10*((dispersió!$E$42+P391)^dispersió!$D$10)*dispersió!$E$10*((dispersió!$F$42+P391)^dispersió!$F$10)+dispersió!$C$24*dispersió!$D$42)*dispersió!$C$12),0)","v":1.2513000602542321},{"$f":"IFERROR(dispersió!$C$10*((dispersió!$E$42+'Càlculs interns'!P391)^dispersió!$D$10)*(2*LN('Càlculs interns'!Q391/dispersió!$O$63))^(1/2),0)","v":4.9759014481799113},-4.9759014481799113]
[220.65529251193223,{"$f":"IFERROR((letalitat!$P$13*1000)/((3.14159*dispersió!$C$10*((dispersió!$E$42+A392)^dispersió!$D$10)*dispersió!$E$10*((dispersió!$F$42+A392)^dispersió!$F$10)+dispersió!$C$24*dispersió!$D$42)*dispersió!$C$12),0)","v":0.30599680317162697},{"$f":"IFERROR(dispersió!$C$10*((dispersió!$E$42+'Càlculs interns'!A392)^dispersió!$D$10)*(2*LN('Càlculs interns'!B392/dispersió!$O$42))^(1/2),0)","v":11.33486704438617},-11.33486704438617,null,170.25887826583087,{"$f":"IFERROR((letalitat!$P$13*1000)/((3.14159*dispersió!$C$10*((dispersió!$E$42+F392)^dispersió!$D$10)*dispersió!$E$10*((dispersió!$F$42+F392)^dispersió!$F$10)+dispersió!$C$24*dispersió!$D$42)*dispersió!$C$12),0)","v":0.42604297385659023},{"$f":"IFERROR(dispersió!$C$10*((dispersió!$E$42+'Càlculs interns'!F392)^dispersió!$D$10)*(2*LN('Càlculs interns'!G392/dispersió!$O$48))^(1/2),0)","v":9.2334591669776405},-9.2334591669776405,null,122.72766209588055,{"$f":"IFERROR((letalitat!$P$13*1000)/((3.14159*dispersió!$C$10*((dispersió!$E$42+K392)^dispersió!$D$10)*dispersió!$E$10*((dispersió!$F$42+K392)^dispersió!$F$10)+dispersió!$C$24*dispersió!$D$42)*dispersió!$C$12),0)","v":0.62595332384245783},{"$f":"IFERROR(dispersió!$C$10*((dispersió!$E$42+'Càlculs interns'!K392)^dispersió!$D$10)*(2*LN('Càlculs interns'!L392/dispersió!$O$56))^(1/2),0)","v":7.1727325574837826},-7.1727325574837826,null,62.025312110528318,{"$f":"IFERROR((letalitat!$P$13*1000)/((3.14159*dispersió!$C$10*((dispersió!$E$42+P392)^dispersió!$D$10)*dispersió!$E$10*((dispersió!$F$42+P392)^dispersió!$F$10)+dispersió!$C$24*dispersió!$D$42)*dispersió!$C$12),0)","v":1.2135016078012617},{"$f":"IFERROR(dispersió!$C$10*((dispersió!$E$42+'Càlculs interns'!P392)^dispersió!$D$10)*(2*LN('Càlculs interns'!Q392/dispersió!$O$63))^(1/2),0)","v":4.3592812140843176},-4.3592812140843176]
[228.8277107531149,{"$f":"IFERROR((letalitat!$P$13*1000)/((3.14159*dispersió!$C$10*((dispersió!$E$42+A393)^dispersió!$D$10)*dispersió!$E$10*((dispersió!$F$42+A393)^dispersió!$F$10)+dispersió!$C$24*dispersió!$D$42)*dispersió!$C$12),0)","v":0.29163395268307679},{"$f":"IFERROR(dispersió!$C$10*((dispersió!$E$42+'Càlculs interns'!A393)^dispersió!$D$10)*(2*LN('Càlculs interns'!B393/dispersió!$O$42))^(1/2),0)","v":9.4134984540136752},-9.4134984540136752,null,176.56476264604683,{"$f":"IFERROR((letalitat!$P$13*1000)/((3.14159*dispersió!$C$10*((dispersió!$E$42+F393)^dispersió!$D$10)*dispersió!$E$10*((dispersió!$F$42+F393)^dispersió!$F$10)+dispersió!$C$24*dispersió!$D$42)*dispersió!$C$12),0)","v":0.40725070522698931},{"$f":"IFERROR(dispersió!$C$10*((dispersió!$E$42+'Càlculs interns'!F393)^dispersió!$D$10)*(2*LN('Càlculs interns'!G393/dispersió!$O$48))^(1/2),0)","v":7.6622546787444765},-7.6622546787444765,null,127.27313106239464,{"$f":"IFERROR((letalitat!$P$13*1000)/((3.14159*dispersió!$C$10*((dispersió!$E$42+K393)^dispersió!$D$10)*dispersió!$E$10*((dispersió!$F$42+K393)^dispersió!$F$10)+dispersió!$C$24*dispersió!$D$42)*dispersió!$C$12),0)","v":0.60095736987796533},{"$f":"IFERROR(dispersió!$C$10*((dispersió!$E$42+'Càlculs interns'!K393)^dispersió!$D$10)*(2*LN('Càlculs interns'!L393/dispersió!$O$56))^(1/2),0)","v":5.9424485523347705},-5.9424485523347705,null,64.322545892399731,{"$f":"IFERROR((letalitat!$P$13*1000)/((3.14159*dispersió!$C$10*((dispersió!$E$42+P393)^dispersió!$D$10)*dispersió!$E$10*((dispersió!$F$42+P393)^dispersió!$F$10)+dispersió!$C$24*dispersió!$D$42)*dispersió!$C$12),0)","v":1.1774547823082666},{"$f":"IFERROR(dispersió!$C$10*((dispersió!$E$42+'Càlculs interns'!P393)^dispersió!$D$10)*(2*LN('Càlculs interns'!Q393/dispersió!$O$63))^(1/2),0)","v":3.5978259250337836},-3.5978259250337836]
[237.00012899429757,{"$f":"IFERROR((letalitat!$P$13*1000)/((3.14159*dispersió!$C$10*((dispersió!$E$42+A394)^dispersió!$D$10)*dispersió!$E$10*((dispersió!$F$42+A394)^dispersió!$F$10)+dispersió!$C$24*dispersió!$D$42)*dispersió!$C$12),0)","v":0.2783144417428679},{"$f":"IFERROR(dispersió!$C$10*((dispersió!$E$42+'Càlculs interns'!A394)^dispersió!$D$10)*(2*LN('Càlculs interns'!B394/dispersió!$O$42))^(1/2),0)","v":6.7476887950609212},-6.7476887950609212,null,182.87064702626279,{"$f":"IFERROR((letalitat!$P$13*1000)/((3.14159*dispersió!$C$10*((dispersió!$E$42+F394)^dispersió!$D$10)*dispersió!$E$10*((dispersió!$F$42+F394)^dispersió!$F$10)+dispersió!$C$24*dispersió!$D$42)*dispersió!$C$12),0)","v":0.38974045372086163},{"$f":"IFERROR(dispersió!$C$10*((dispersió!$E$42+'Càlculs interns'!F394)^dispersió!$D$10)*(2*LN('Càlculs interns'!G394/dispersió!$O$48))^(1/2),0)","v":5.4922539087499302},-5.4922539087499302,null,131.81860002890875,{"$f":"IFERROR((letalitat!$P$13*1000)/((3.14159*dispersió!$C$10*((dispersió!$E$42+K394)^dispersió!$D$10)*dispersió!$E$10*((dispersió!$F$42+K394)^dispersió!$F$10)+dispersió!$C$24*dispersió!$D$42)*dispersió!$C$12),0)","v":0.57750303388884938},{"$f":"IFERROR(dispersió!$C$10*((dispersió!$E$42+'Càlculs interns'!K394)^dispersió!$D$10)*(2*LN('Càlculs interns'!L394/dispersió!$O$56))^(1/2),0)","v":4.2526742709942136},-4.2526742709942136,null,66.619779674271143,{"$f":"IFERROR((letalitat!$P$13*1000)/((3.14159*dispersió!$C$10*((dispersió!$E$42+P394)^dispersió!$D$10)*dispersió!$E$10*((dispersió!$F$42+P394)^dispersió!$F$10)+dispersió!$C$24*dispersió!$D$42)*dispersió!$C$12),0)","v":1.1430522729080146},{"$f":"IFERROR(dispersió!$C$10*((dispersió!$E$42+'Càlculs interns'!P394)^dispersió!$D$10)*(2*LN('Càlculs interns'!Q394/dispersió!$O$63))^(1/2),0)","v":2.5652892482999414},-2.5652892482999414]
[{"$f":"dispersió!G42","v":245.17254723548032},{"$f":"IFERROR((letalitat!$P$13*1000)/((3.14159*dispersió!$C$10*((dispersió!$E$42+A395)^dispersió!$D$10)*dispersió!$E$10*((dispersió!$F$42+A395)^dispersió!$F$10)+dispersió!$C$24*dispersió!$D$42)*dispersió!$C$12),0)","v":0.2659373190840581},{"$f":"IFERROR(dispersió!$C$10*((dispersió!$E$42+'Càlculs interns'!A395)^dispersió!$D$10)*(2*LN('Càlculs interns'!B395/dispersió!$O$42))^(1/2),0)","v":0},0,null,{"$f":"dispersió!G49","v":189.1765314064788},{"$f":"IFERROR((letalitat!$P$13*1000)/((3.14159*dispersió!$C$10*((dispersió!$E$42+F395)^dispersió!$D$10)*dispersió!$E$10*((dispersió!$F$42+F395)^dispersió!$F$10)+dispersió!$C$24*dispersió!$D$42)*dispersió!$C$12),0)","v":0.37339577045838801},{"$f":"IFERROR(dispersió!$C$10*((dispersió!$E$42+'Càlculs interns'!F395)^dispersió!$D$10)*(2*LN('Càlculs interns'!G395/dispersió!$O$48))^(1/2),0)","v":0},0,null,{"$f":"dispersió!G56","v":136.36406899542291},{"$f":"IFERROR((letalitat!$P$13*1000)/((3.14159*dispersió!$C$10*((dispersió!$E$42+K395)^dispersió!$D$10)*dispersió!$E$10*((dispersió!$F$42+K395)^dispersió!$F$10)+dispersió!$C$24*dispersió!$D$42)*dispersió!$C$12),0)","v":0.55546385813884824},{"$f":"IFERROR(dispersió!$C$10*((dispersió!$E$42+'Càlculs interns'!K395)^dispersió!$D$10)*(2*LN('Càlculs interns'!L395/dispersió!$O$56))^(1/2),0)","v":0},0,null,{"$f":"dispersió!G63","v":68.917013456142556},{"$f":"IFERROR((letalitat!$P$13*1000)/((3.14159*dispersió!$C$10*((dispersió!$E$42+P395)^dispersió!$D$10)*dispersió!$E$10*((dispersió!$F$42+P395)^dispersió!$F$10)+dispersió!$C$24*dispersió!$D$42)*dispersió!$C$12),0)","v":1.1101948270545969},{"$f":"IFERROR(dispersió!$C$10*((dispersió!$E$42+'Càlculs interns'!P395)^dispersió!$D$10)*(2*LN('Càlculs interns'!Q395/dispersió!$O$63))^(1/2),0)","v":0},0]
[]
[]
["Est. F"]
["LC1",null,"LC1+","LC1-",null,"LC10",null,"LC10+","LC10-",null,"LC50",null,"LC50+","LC50-",null,"LC99",null,"LC99+","LC99-"]
["X","C(x)","y+","y-",null,"X","C(x)","y+","y-",null,"X","C(x)","y+","y-",null,"X","C(x)","y+","y-"]
[0,{"$f":"IFERROR((letalitat!$P$13*1000)/((3.14159*dispersió!$I$10*((dispersió!$J$42+A401)^dispersió!$J$10)*dispersió!$K$10*((dispersió!$K$42+A401)^dispersió!$L$10)+dispersió!$C$24*dispersió!$D$42)*dispersió!$I$12),0)","v":11.065885617695873},{"$f":"IFERROR(dispersió!$I$10*((dispersió!$J$42+'Càlculs interns'!A401)^dispersió!$J$10)*(2*LN('Càlculs interns'!B401/dispersió!$O$42))^(1/2),0)","v":15.553834832090203},{"$f":"-C401","v":-15.553834832090203},null,0,{"$f":"IFERROR((letalitat!$P$13*1000)/((3.14159*dispersió!$I$10*((dispersió!$J$42+F401)^dispersió!$J$10)*dispersió!$K$10*((dispersió!$K$42+F401)^dispersió!$L$10)+dispersió!$C$24*dispersió!$D$42)*dispersió!$I$12),0)","v":11.065885617695873},{"$f":"IFERROR(dispersió!$I$10*((dispersió!$J$42+'Càlculs interns'!F401)^dispersió!$J$10)*(2*LN('Càlculs interns'!G401/dispersió!$O$48))^(1/2),0)","v":14.829370361741882},{"$f":"-H401","v":-14.829370361741882},null,0,{"$f":"IFERROR((letalitat!$P$13*1000)/((3.14159*dispersió!$I$10*((dispersió!$J$42+K401)^dispersió!$J$10)*dispersió!$K$10*((dispersió!$K$42+K401)^dispersió!$L$10)+dispersió!$C$24*dispersió!$D$42)*dispersió!$I$12),0)","v":11.065885617695873},{"$f":"IFERROR(dispersió!$I$10*((dispersió!$J$42+'Càlculs interns'!K401)^dispersió!$J$10)*(2*LN('Càlculs interns'!L401/dispersió!$O$56))^(1/2),0)","v":13.933293453377241},{"$f":"-M401","v":-13.933293453377241},null,0,{"$f":"IFERROR((letalitat!$P$13*1000)/((3.14159*dispersió!$I$10*((dispersió!$J$42+P401)^dispersió!$J$10)*dispersió!$K$10*((dispersió!$K$42+P401)^dispersió!$L$10)+dispersió!$C$24*dispersió!$D$42)*dispersió!$I$12),0)","v":11.065885617695873},{"$f":"IFERROR(dispersió!$I$10*((dispersió!$J$42+'Càlculs interns'!P401)^dispersió!$J$10)*(2*LN('Càlculs interns'!Q401/dispersió!$O$63))^(1/2),0)","v":12.214821320040121},{"$f":"-R401","v":-12.214821320040121}]
[{"$f":"A431/30","v":56.44738351970657},{"$f":"IFERROR((letalitat!$P$13*1000)/((3.14159*dispersió!$I$10*((dispersió!$J$42+A402)^dispersió!$J$10)*dispersió!$K$10*((dispersió!$K$42+A402)^dispersió!$L$10)+dispersió!$C$24*dispersió!$D$42)*dispersió!$I$12),0)","v":7.4057526265314859},{"$f":"IFERROR(dispersió!$I$10*((dispersió!$J$42+'Càlculs interns'!A402)^dispersió!$J$10)*(2*LN('Càlculs interns'!B402/dispersió!$O$42))^(1/2),0)","v":19.852611978624257},-19.852611978624257,null,{"$f":"F431/30","v":44.557380149170072},{"$f":"IFERROR((letalitat!$P$13*1000)/((3.14159*dispersió!$I$10*((dispersió!$J$42+F402)^dispersió!$J$10)*dispersió!$K$10*((dispersió!$K$42+F402)^dispersió!$L$10)+dispersió!$C$24*dispersió!$D$42)*dispersió!$I$12),0)","v":8.0081511831458254},{"$f":"IFERROR(dispersió!$I$10*((dispersió!$J$42+'Càlculs interns'!F402)^dispersió!$J$10)*(2*LN('Càlculs interns'!G402/dispersió!$O$48))^(1/2),0)","v":18.027354465307994},{"$f":"-H402","v":-18.027354465307994},null,{"$f":"K431/30","v":33.502724762844863},{"$f":"IFERROR((letalitat!$P$13*1000)/((3.14159*dispersió!$I$10*((dispersió!$J$42+K402)^dispersió!$J$10)*dispersió!$K$10*((dispersió!$K$42+K402)^dispersió!$L$10)+dispersió!$C$24*dispersió!$D$42)*dispersió!$I$12),0)","v":8.6372444488366398},{"$f":"IFERROR(dispersió!$I$10*((dispersió!$J$42+'Càlculs interns'!K402)^dispersió!$J$10)*(2*LN('Càlculs interns'!L402/dispersió!$O$56))^(1/2),0)","v":16.143742025794403},{"$f":"-M402","v":-16.143742025794403},null,{"$f":"P431/30","v":19.750372972667599},{"$f":"IFERROR((letalitat!$P$13*1000)/((3.14159*dispersió!$I$10*((dispersió!$J$42+P402)^dispersió!$J$10)*dispersió!$K$10*((dispersió!$K$42+P402)^dispersió!$L$10)+dispersió!$C$24*dispersió!$D$42)*dispersió!$I$12),0)","v":9.5286596419189618},{"$f":"IFERROR(dispersió!$I$10*((dispersió!$J$42+'Càlculs interns'!P402)^dispersió!$J$10)*(2*LN('Càlculs interns'!Q402/dispersió!$O$63))^(1/2),0)","v":13.277977406177941},{"$f":"-R402","v":-13.277977406177941}]
[{"$f":"A$402+A402","v":112.89476703941314},{"$f":"IFERROR((letalitat!$P$13*1000)/((3.14159*dispersió!$I$10*((dispersió!$J$42+A403)^dispersió!$J$10)*dispersió!$K$10*((dispersió!$K$42+A403)^dispersió!$L$10)+dispersió!$C$24*dispersió!$D$42)*dispersió!$I$12),0)","v":5.3119277077436378},{"$f":"IFERROR(dispersió!$I$10*((dispersió!$J$42+'Càlculs interns'!A403)^dispersió!$J$10)*(2*LN('Càlculs interns'!B403/dispersió!$O$42))^(1/2),0)","v":23.594529496737074},-23.594529496737074,null,{"$f":"F$402+F402","v":89.114760298340144},{"$f":"IFERROR((letalitat!$P$13*1000)/((3.14159*dispersió!$I$10*((dispersió!$J$42+F403)^dispersió!$J$10)*dispersió!$K$10*((dispersió!$K$42+F403)^dispersió!$L$10)+dispersió!$C$24*dispersió!$D$42)*dispersió!$I$12),0)","v":6.06590328173034},{"$f":"IFERROR(dispersió!$I$10*((dispersió!$J$42+'Càlculs interns'!F403)^dispersió!$J$10)*(2*LN('Càlculs interns'!G403/dispersió!$O$48))^(1/2),0)","v":20.845278847900055},-20.845278847900055,null,{"$f":"K$402+K402","v":67.005449525689727},{"$f":"IFERROR((letalitat!$P$13*1000)/((3.14159*dispersió!$I$10*((dispersió!$J$42+K403)^dispersió!$J$10)*dispersió!$K$10*((dispersió!$K$42+K403)^dispersió!$L$10)+dispersió!$C$24*dispersió!$D$42)*dispersió!$I$12),0)","v":6.9267846632107437},{"$f":"IFERROR(dispersió!$I$10*((dispersió!$J$42+'Càlculs interns'!K403)^dispersió!$J$10)*(2*LN('Càlculs interns'!L403/dispersió!$O$56))^(1/2),0)","v":18.115914166613862},-18.115914166613862,null,{"$f":"P$402+P402","v":39.500745945335197},{"$f":"IFERROR((letalitat!$P$13*1000)/((3.14159*dispersió!$I$10*((dispersió!$J$42+P403)^dispersió!$J$10)*dispersió!$K$10*((dispersió!$K$42+P403)^dispersió!$L$10)+dispersió!$C$24*dispersió!$D$42)*dispersió!$I$12),0)","v":8.2870495265446422},{"$f":"IFERROR(dispersió!$I$10*((dispersió!$J$42+'Càlculs interns'!P403)^dispersió!$J$10)*(2*LN('Càlculs interns'!Q403/dispersió!$O$63))^(1/2),0)","v":14.241362815148225},-14.241362815148225]
[{"$f":"A$402+A403","v":169.34215055911972},{"$f":"IFERROR((letalitat!$P$13*1000)/((3.14159*dispersió!$I$10*((dispersió!$J$42+A404)^dispersió!$J$10)*dispersió!$K$10*((dispersió!$K$42+A404)^dispersió!$L$10)+dispersió!$C$24*dispersió!$D$42)*dispersió!$I$12),0)","v":4.0140869118252001},{"$f":"IFERROR(dispersió!$I$10*((dispersió!$J$42+'Càlculs interns'!A404)^dispersió!$J$10)*(2*LN('Càlculs interns'!B404/dispersió!$O$42))^(1/2),0)","v":26.897087217741301},-26.897087217741301,null,{"$f":"F$402+F403","v":133.67214044751023},{"$f":"IFERROR((letalitat!$P$13*1000)/((3.14159*dispersió!$I$10*((dispersió!$J$42+F404)^dispersió!$J$10)*dispersió!$K$10*((dispersió!$K$42+F404)^dispersió!$L$10)+dispersió!$C$24*dispersió!$D$42)*dispersió!$I$12),0)","v":4.7662129712658254},{"$f":"IFERROR(dispersió!$I$10*((dispersió!$J$42+'Càlculs interns'!F404)^dispersió!$J$10)*(2*LN('Càlculs interns'!G404/dispersió!$O$48))^(1/2),0)","v":23.350111863023475},-23.350111863023475,null,{"$f":"K$402+K403","v":100.50817428853459},{"$f":"IFERROR((letalitat!$P$13*1000)/((3.14159*dispersió!$I$10*((dispersió!$J$42+K404)^dispersió!$J$10)*dispersió!$K$10*((dispersió!$K$42+K404)^dispersió!$L$10)+dispersió!$C$24*dispersió!$D$42)*dispersió!$I$12),0)","v":5.6852224886943068},{"$f":"IFERROR(dispersió!$I$10*((dispersió!$J$42+'Càlculs interns'!K404)^dispersió!$J$10)*(2*LN('Càlculs interns'!L404/dispersió!$O$56))^(1/2),0)","v":19.882574310405918},-19.882574310405918,null,{"$f":"P$402+P403","v":59.251118918002796},{"$f":"IFERROR((letalitat!$P$13*1000)/((3.14159*dispersió!$I$10*((dispersió!$J$42+P404)^dispersió!$J$10)*dispersió!$K$10*((dispersió!$K$42+P404)^dispersió!$L$10)+dispersió!$C$24*dispersió!$D$42)*dispersió!$I$12),0)","v":7.2737410299986962},{"$f":"IFERROR(dispersió!$I$10*((dispersió!$J$42+'Càlculs interns'!P404)^dispersió!$J$10)*(2*LN('Càlculs interns'!Q404/dispersió!$O$63))^(1/2),0)","v":15.112750247223396},-15.112750247223396]
[{"$f":"A$402+A404","v":225.78953407882628},{"$f":"IFERROR((letalitat!$P$13*1000)/((3.14159*dispersió!$I$10*((dispersió!$J$42+A405)^dispersió!$J$10)*dispersió!$K$10*((dispersió!$K$42+A405)^dispersió!$L$10)+dispersió!$C$24*dispersió!$D$42)*dispersió!$I$12),0)","v":3.1548310957191057},{"$f":"IFERROR(dispersió!$I$10*((dispersió!$J$42+'Càlculs interns'!A405)^dispersió!$J$10)*(2*LN('Càlculs interns'!B405/dispersió!$O$42))^(1/2),0)","v":29.832992128015857},-29.832992128015857,null,{"$f":"F$402+F404","v":178.22952059668029},{"$f":"IFERROR((letalitat!$P$13*1000)/((3.14159*dispersió!$I$10*((dispersió!$J$42+F405)^dispersió!$J$10)*dispersió!$K$10*((dispersió!$K$42+F405)^dispersió!$L$10)+dispersió!$C$24*dispersió!$D$42)*dispersió!$I$12),0)","v":3.8556954727653325},{"$f":"IFERROR(dispersió!$I$10*((dispersió!$J$42+'Càlculs interns'!F405)^dispersió!$J$10)*(2*LN('Càlculs interns'!G405/dispersió!$O$48))^(1/2),0)","v":25.586308970135875},-25.586308970135875,null,{"$f":"K$402+K404","v":134.01089905137945},{"$f":"IFERROR((letalitat!$P$13*1000)/((3.14159*dispersió!$I$10*((dispersió!$J$42+K405)^dispersió!$J$10)*dispersió!$K$10*((dispersió!$K$42+K405)^dispersió!$L$10)+dispersió!$C$24*dispersió!$D$42)*dispersió!$I$12),0)","v":4.7580538004350368},{"$f":"IFERROR(dispersió!$I$10*((dispersió!$J$42+'Càlculs interns'!K405)^dispersió!$J$10)*(2*LN('Càlculs interns'!L405/dispersió!$O$56))^(1/2),0)","v":21.467143542952712},-21.467143542952712,null,{"$f":"P$402+P404","v":79.001491890670394},{"$f":"IFERROR((letalitat!$P$13*1000)/((3.14159*dispersió!$I$10*((dispersió!$J$42+P405)^dispersió!$J$10)*dispersió!$K$10*((dispersió!$K$42+P405)^dispersió!$L$10)+dispersió!$C$24*dispersió!$D$42)*dispersió!$I$12),0)","v":6.4379458670888035},{"$f":"IFERROR(dispersió!$I$10*((dispersió!$J$42+'Càlculs interns'!P405)^dispersió!$J$10)*(2*LN('Càlculs interns'!Q405/dispersió!$O$63))^(1/2),0)","v":15.898275271132988},-15.898275271132988]
[282.23691759853284,{"$f":"IFERROR((letalitat!$P$13*1000)/((3.14159*dispersió!$I$10*((dispersió!$J$42+A406)^dispersió!$J$10)*dispersió!$K$10*((dispersió!$K$42+A406)^dispersió!$L$10)+dispersió!$C$24*dispersió!$D$42)*dispersió!$I$12),0)","v":2.5555186045006848},{"$f":"IFERROR(dispersió!$I$10*((dispersió!$J$42+'Càlculs interns'!A406)^dispersió!$J$10)*(2*LN('Càlculs interns'!B406/dispersió!$O$42))^(1/2),0)","v":32.450622317159201},-32.450622317159201,null,222.78690074585035,{"$f":"IFERROR((letalitat!$P$13*1000)/((3.14159*dispersió!$I$10*((dispersió!$J$42+F406)^dispersió!$J$10)*dispersió!$K$10*((dispersió!$K$42+F406)^dispersió!$L$10)+dispersió!$C$24*dispersió!$D$42)*dispersió!$I$12),0)","v":3.1928712376488484},{"$f":"IFERROR(dispersió!$I$10*((dispersió!$J$42+'Càlculs interns'!F406)^dispersió!$J$10)*(2*LN('Càlculs interns'!G406/dispersió!$O$48))^(1/2),0)","v":27.584843759191983},-27.584843759191983,null,167.51362381422433,{"$f":"IFERROR((letalitat!$P$13*1000)/((3.14159*dispersió!$I$10*((dispersió!$J$42+K406)^dispersió!$J$10)*dispersió!$K$10*((dispersió!$K$42+K406)^dispersió!$L$10)+dispersió!$C$24*dispersió!$D$42)*dispersió!$I$12),0)","v":4.0479528479280642},{"$f":"IFERROR(dispersió!$I$10*((dispersió!$J$42+'Càlculs interns'!K406)^dispersió!$J$10)*(2*LN('Càlculs interns'!L406/dispersió!$O$56))^(1/2),0)","v":22.88681221736212},-22.88681221736212,null,98.751864863338,{"$f":"IFERROR((letalitat!$P$13*1000)/((3.14159*dispersió!$I$10*((dispersió!$J$42+P406)^dispersió!$J$10)*dispersió!$K$10*((dispersió!$K$42+P406)^dispersió!$L$10)+dispersió!$C$24*dispersió!$D$42)*dispersió!$I$12),0)","v":5.741447203749444},{"$f":"IFERROR(dispersió!$I$10*((dispersió!$J$42+'Càlculs interns'!P406)^dispersió!$J$10)*(2*LN('Càlculs interns'!Q406/dispersió!$O$63))^(1/2),0)","v":16.602782846787591},-16.602782846787591]
[338.68430111823943,{"$f":"IFERROR((letalitat!$P$13*1000)/((3.14159*dispersió!$I$10*((dispersió!$J$42+A407)^dispersió!$J$10)*dispersió!$K$10*((dispersió!$K$42+A407)^dispersió!$L$10)+dispersió!$C$24*dispersió!$D$42)*dispersió!$I$12),0)","v":2.1198458148223249},{"$f":"IFERROR(dispersió!$I$10*((dispersió!$J$42+'Càlculs interns'!A407)^dispersió!$J$10)*(2*LN('Càlculs interns'!B407/dispersió!$O$42))^(1/2),0)","v":34.783841154607138},-34.783841154607138,null,267.3442808950204,{"$f":"IFERROR((letalitat!$P$13*1000)/((3.14159*dispersió!$I$10*((dispersió!$J$42+F407)^dispersió!$J$10)*dispersió!$K$10*((dispersió!$K$42+F407)^dispersió!$L$10)+dispersió!$C$24*dispersió!$D$42)*dispersió!$I$12),0)","v":2.6947500776439548},{"$f":"IFERROR(dispersió!$I$10*((dispersió!$J$42+'Càlculs interns'!F407)^dispersió!$J$10)*(2*LN('Càlculs interns'!G407/dispersió!$O$48))^(1/2),0)","v":29.368069072809568},-29.368069072809568,null,201.01634857706921,{"$f":"IFERROR((letalitat!$P$13*1000)/((3.14159*dispersió!$I$10*((dispersió!$J$42+K407)^dispersió!$J$10)*dispersió!$K$10*((dispersió!$K$42+K407)^dispersió!$L$10)+dispersió!$C$24*dispersió!$D$42)*dispersió!$I$12),0)","v":3.4919749421732167},{"$f":"IFERROR(dispersió!$I$10*((dispersió!$J$42+'Càlculs interns'!K407)^dispersió!$J$10)*(2*LN('Càlculs interns'!L407/dispersió!$O$56))^(1/2),0)","v":24.154440893276174},-24.154440893276174,null,118.50223783600561,{"$f":"IFERROR((letalitat!$P$13*1000)/((3.14159*dispersió!$I$10*((dispersió!$J$42+P407)^dispersió!$J$10)*dispersió!$K$10*((dispersió!$K$42+P407)^dispersió!$L$10)+dispersió!$C$24*dispersió!$D$42)*dispersió!$I$12),0)","v":5.1553673673338523},{"$f":"IFERROR(dispersió!$I$10*((dispersió!$J$42+'Càlculs interns'!P407)^dispersió!$J$10)*(2*LN('Càlculs interns'!Q407/dispersió!$O$63))^(1/2),0)","v":17.230081236446544},-17.230081236446544]
[395.13168463794602,{"$f":"IFERROR((letalitat!$P$13*1000)/((3.14159*dispersió!$I$10*((dispersió!$J$42+A408)^dispersió!$J$10)*dispersió!$K$10*((dispersió!$K$42+A408)^dispersió!$L$10)+dispersió!$C$24*dispersió!$D$42)*dispersió!$I$12),0)","v":1.7923879136127043},{"$f":"IFERROR(dispersió!$I$10*((dispersió!$J$42+'Càlculs interns'!A408)^dispersió!$J$10)*(2*LN('Càlculs interns'!B408/dispersió!$O$42))^(1/2),0)","v":36.857163562192774},-36.857163562192774,null,311.90166104419046,{"$f":"IFERROR((letalitat!$P$13*1000)/((3.14159*dispersió!$I$10*((dispersió!$J$42+F408)^dispersió!$J$10)*dispersió!$K$10*((dispersió!$K$42+F408)^dispersió!$L$10)+dispersió!$C$24*dispersió!$D$42)*dispersió!$I$12),0)","v":2.3103354335821029},{"$f":"IFERROR(dispersió!$I$10*((dispersió!$J$42+'Càlculs interns'!F408)^dispersió!$J$10)*(2*LN('Càlculs interns'!G408/dispersió!$O$48))^(1/2),0)","v":30.952494317120326},-30.952494317120326,null,234.51907333991409,{"$f":"IFERROR((letalitat!$P$13*1000)/((3.14159*dispersió!$I$10*((dispersió!$J$42+K408)^dispersió!$J$10)*dispersió!$K$10*((dispersió!$K$42+K408)^dispersió!$L$10)+dispersió!$C$24*dispersió!$D$42)*dispersió!$I$12),0)","v":3.0482480092879443},{"$f":"IFERROR(dispersió!$I$10*((dispersió!$J$42+'Càlculs interns'!K408)^dispersió!$J$10)*(2*LN('Càlculs interns'!L408/dispersió!$O$56))^(1/2),0)","v":25.27975596107224},-25.27975596107224,null,138.25261080867321,{"$f":"IFERROR((letalitat!$P$13*1000)/((3.14159*dispersió!$I$10*((dispersió!$J$42+P408)^dispersió!$J$10)*dispersió!$K$10*((dispersió!$K$42+P408)^dispersió!$L$10)+dispersió!$C$24*dispersió!$D$42)*dispersió!$I$12),0)","v":4.6577196583718941},{"$f":"IFERROR(dispersió!$I$10*((dispersió!$J$42+'Càlculs interns'!P408)^dispersió!$J$10)*(2*LN('Càlculs interns'!Q408/dispersió!$O$63))^(1/2),0)","v":17.78312696152906},-17.78312696152906]
[451.57906815765261,{"$f":"IFERROR((letalitat!$P$13*1000)/((3.14159*dispersió!$I$10*((dispersió!$J$42+A409)^dispersió!$J$10)*dispersió!$K$10*((dispersió!$K$42+A409)^dispersió!$L$10)+dispersió!$C$24*dispersió!$D$42)*dispersió!$I$12),0)","v":1.5394490754495693},{"$f":"IFERROR(dispersió!$I$10*((dispersió!$J$42+'Càlculs interns'!A409)^dispersió!$J$10)*(2*LN('Càlculs interns'!B409/dispersió!$O$42))^(1/2),0)","v":38.688689411306179},-38.688689411306179,null,356.45904119336052,{"$f":"IFERROR((letalitat!$P$13*1000)/((3.14159*dispersió!$I$10*((dispersió!$J$42+F409)^dispersió!$J$10)*dispersió!$K$10*((dispersió!$K$42+F409)^dispersió!$L$10)+dispersió!$C$24*dispersió!$D$42)*dispersió!$I$12),0)","v":2.0069721330126762},{"$f":"IFERROR(dispersió!$I$10*((dispersió!$J$42+'Càlculs interns'!F409)^dispersió!$J$10)*(2*LN('Càlculs interns'!G409/dispersió!$O$48))^(1/2),0)","v":32.350457393024406},-32.350457393024406,null,268.02179810275896,{"$f":"IFERROR((letalitat!$P$13*1000)/((3.14159*dispersió!$I$10*((dispersió!$J$42+K409)^dispersió!$J$10)*dispersió!$K$10*((dispersió!$K$42+K409)^dispersió!$L$10)+dispersió!$C$24*dispersió!$D$42)*dispersió!$I$12),0)","v":2.6881544620835172},{"$f":"IFERROR(dispersió!$I$10*((dispersió!$J$42+'Càlculs interns'!K409)^dispersió!$J$10)*(2*LN('Càlculs interns'!L409/dispersió!$O$56))^(1/2),0)","v":26.270123141778473},-26.270123141778473,null,158.00298378134082,{"$f":"IFERROR((letalitat!$P$13*1000)/((3.14159*dispersió!$I$10*((dispersió!$J$42+P409)^dispersió!$J$10)*dispersió!$K$10*((dispersió!$K$42+P409)^dispersió!$L$10)+dispersió!$C$24*dispersió!$D$42)*dispersió!$I$12),0)","v":4.2316098327502978},{"$f":"IFERROR(dispersió!$I$10*((dispersió!$J$42+'Càlculs interns'!P409)^dispersió!$J$10)*(2*LN('Càlculs interns'!Q409/dispersió!$O$63))^(1/2),0)","v":18.264158478522212},-18.264158478522212]
[508.0264516773592,{"$f":"IFERROR((letalitat!$P$13*1000)/((3.14159*dispersió!$I$10*((dispersió!$J$42+A410)^dispersió!$J$10)*dispersió!$K$10*((dispersió!$K$42+A410)^dispersió!$L$10)+dispersió!$C$24*dispersió!$D$42)*dispersió!$I$12),0)","v":1.3395821105361931},{"$f":"IFERROR(dispersió!$I$10*((dispersió!$J$42+'Càlculs interns'!A410)^dispersió!$J$10)*(2*LN('Càlculs interns'!B410/dispersió!$O$42))^(1/2),0)","v":40.291868497928604},-40.291868497928604,null,401.01642134253058,{"$f":"IFERROR((letalitat!$P$13*1000)/((3.14159*dispersió!$I$10*((dispersió!$J$42+F410)^dispersió!$J$10)*dispersió!$K$10*((dispersió!$K$42+F410)^dispersió!$L$10)+dispersió!$C$24*dispersió!$D$42)*dispersió!$I$12),0)","v":1.7629853240611144},{"$f":"IFERROR(dispersió!$I$10*((dispersió!$J$42+'Càlculs interns'!F410)^dispersió!$J$10)*(2*LN('Càlculs interns'!G410/dispersió!$O$48))^(1/2),0)","v":33.571173563225983},-33.571173563225983,null,301.52452286560384,{"$f":"IFERROR((letalitat!$P$13*1000)/((3.14159*dispersió!$I$10*((dispersió!$J$42+K410)^dispersió!$J$10)*dispersió!$K$10*((dispersió!$K$42+K410)^dispersió!$L$10)+dispersió!$C$24*dispersió!$D$42)*dispersió!$I$12),0)","v":2.3916418259191188},{"$f":"IFERROR(dispersió!$I$10*((dispersió!$J$42+'Càlculs interns'!K410)^dispersió!$J$10)*(2*LN('Càlculs interns'!L410/dispersió!$O$56))^(1/2),0)","v":27.13105886412373},-27.13105886412373,null,177.75335675400842,{"$f":"IFERROR((letalitat!$P$13*1000)/((3.14159*dispersió!$I$10*((dispersió!$J$42+P410)^dispersió!$J$10)*dispersió!$K$10*((dispersió!$K$42+P410)^dispersió!$L$10)+dispersió!$C$24*dispersió!$D$42)*dispersió!$I$12),0)","v":3.8639290042892198},{"$f":"IFERROR(dispersió!$I$10*((dispersió!$J$42+'Càlculs interns'!P410)^dispersió!$J$10)*(2*LN('Càlculs interns'!Q410/dispersió!$O$63))^(1/2),0)","v":18.67479114543719},-18.67479114543719]
[564.4738351970658,{"$f":"IFERROR((letalitat!$P$13*1000)/((3.14159*dispersió!$I$10*((dispersió!$J$42+A411)^dispersió!$J$10)*dispersió!$K$10*((dispersió!$K$42+A411)^dispersió!$L$10)+dispersió!$C$24*dispersió!$D$42)*dispersió!$I$12),0)","v":1.1785981812609549},{"$f":"IFERROR(dispersió!$I$10*((dispersió!$J$42+'Càlculs interns'!A411)^dispersió!$J$10)*(2*LN('Càlculs interns'!B411/dispersió!$O$42))^(1/2),0)","v":41.676607182384167},-41.676607182384167,null,445.57380149170064,{"$f":"IFERROR((letalitat!$P$13*1000)/((3.14159*dispersió!$I$10*((dispersió!$J$42+F411)^dispersió!$J$10)*dispersió!$K$10*((dispersió!$K$42+F411)^dispersió!$L$10)+dispersió!$C$24*dispersió!$D$42)*dispersió!$I$12),0)","v":1.5635326008107793},{"$f":"IFERROR(dispersió!$I$10*((dispersió!$J$42+'Càlculs interns'!F411)^dispersió!$J$10)*(2*LN('Càlculs interns'!G411/dispersió!$O$48))^(1/2),0)","v":34.621412240730237},-34.621412240730237,null,335.02724762844872,{"$f":"IFERROR((letalitat!$P$13*1000)/((3.14159*dispersió!$I$10*((dispersió!$J$42+K411)^dispersió!$J$10)*dispersió!$K$10*((dispersió!$K$42+K411)^dispersió!$L$10)+dispersió!$C$24*dispersió!$D$42)*dispersió!$I$12),0)","v":2.1443380050620333},{"$f":"IFERROR(dispersió!$I$10*((dispersió!$J$42+'Càlculs interns'!K411)^dispersió!$J$10)*(2*LN('Càlculs interns'!L411/dispersió!$O$56))^(1/2),0)","v":27.866571990415633},-27.866571990415633,null,197.50372972667603,{"$f":"IFERROR((letalitat!$P$13*1000)/((3.14159*dispersió!$I$10*((dispersió!$J$42+P411)^dispersió!$J$10)*dispersió!$K$10*((dispersió!$K$42+P411)^dispersió!$L$10)+dispersió!$C$24*dispersió!$D$42)*dispersió!$I$12),0)","v":3.5444046752720113},{"$f":"IFERROR(dispersió!$I$10*((dispersió!$J$42+'Càlculs interns'!P411)^dispersió!$J$10)*(2*LN('Càlculs interns'!Q411/dispersió!$O$63))^(1/2),0)","v":19.016082120672184},-19.016082120672184]
[620.92121871677239,{"$f":"IFERROR((letalitat!$P$13*1000)/((3.14159*dispersió!$I$10*((dispersió!$J$42+A412)^dispersió!$J$10)*dispersió!$K$10*((dispersió!$K$42+A412)^dispersió!$L$10)+dispersió!$C$24*dispersió!$D$42)*dispersió!$I$12),0)","v":1.0467968548514943},{"$f":"IFERROR(dispersió!$I$10*((dispersió!$J$42+'Càlculs interns'!A412)^dispersió!$J$10)*(2*LN('Càlculs interns'!B412/dispersió!$O$42))^(1/2),0)","v":42.84997867426344},-42.84997867426344,null,490.13118164087069,{"$f":"IFERROR((letalitat!$P$13*1000)/((3.14159*dispersió!$I$10*((dispersió!$J$42+F412)^dispersió!$J$10)*dispersió!$K$10*((dispersió!$K$42+F412)^dispersió!$L$10)+dispersió!$C$24*dispersió!$D$42)*dispersió!$I$12),0)","v":1.3981704253427101},{"$f":"IFERROR(dispersió!$I$10*((dispersió!$J$42+'Càlculs interns'!F412)^dispersió!$J$10)*(2*LN('Càlculs interns'!G412/dispersió!$O$48))^(1/2),0)","v":35.505938701775108},-35.505938701775108,null,368.5299723912936,{"$f":"IFERROR((letalitat!$P$13*1000)/((3.14159*dispersió!$I$10*((dispersió!$J$42+K412)^dispersió!$J$10)*dispersió!$K$10*((dispersió!$K$42+K412)^dispersió!$L$10)+dispersió!$C$24*dispersió!$D$42)*dispersió!$I$12),0)","v":1.9357302110826078},{"$f":"IFERROR(dispersió!$I$10*((dispersió!$J$42+'Càlculs interns'!K412)^dispersió!$J$10)*(2*LN('Càlculs interns'!L412/dispersió!$O$56))^(1/2),0)","v":28.479390510223197},-28.479390510223197,null,217.25410269934363,{"$f":"IFERROR((letalitat!$P$13*1000)/((3.14159*dispersió!$I$10*((dispersió!$J$42+P412)^dispersió!$J$10)*dispersió!$K$10*((dispersió!$K$42+P412)^dispersió!$L$10)+dispersió!$C$24*dispersió!$D$42)*dispersió!$I$12),0)","v":3.2649089693078461},{"$f":"IFERROR(dispersió!$I$10*((dispersió!$J$42+'Càlculs interns'!P412)^dispersió!$J$10)*(2*LN('Càlculs interns'!Q412/dispersió!$O$63))^(1/2),0)","v":19.288570879814454},-19.288570879814454]
[677.36860223647898,{"$f":"IFERROR((letalitat!$P$13*1000)/((3.14159*dispersió!$I$10*((dispersió!$J$42+A413)^dispersió!$J$10)*dispersió!$K$10*((dispersió!$K$42+A413)^dispersió!$L$10)+dispersió!$C$24*dispersió!$D$42)*dispersió!$I$12),0)","v":0.93735659079736533},{"$f":"IFERROR(dispersió!$I$10*((dispersió!$J$42+'Càlculs interns'!A413)^dispersió!$J$10)*(2*LN('Càlculs interns'!B413/dispersió!$O$42))^(1/2),0)","v":43.81667883041699},-43.81667883041699,null,534.68856179004081,{"$f":"IFERROR((letalitat!$P$13*1000)/((3.14159*dispersió!$I$10*((dispersió!$J$42+F413)^dispersió!$J$10)*dispersió!$K$10*((dispersió!$K$42+F413)^dispersió!$L$10)+dispersió!$C$24*dispersió!$D$42)*dispersió!$I$12),0)","v":1.259373673523174},{"$f":"IFERROR(dispersió!$I$10*((dispersió!$J$42+'Càlculs interns'!F413)^dispersió!$J$10)*(2*LN('Càlculs interns'!G413/dispersió!$O$48))^(1/2),0)","v":36.227798209238713},-36.227798209238713,null,402.03269715413848,{"$f":"IFERROR((letalitat!$P$13*1000)/((3.14159*dispersió!$I$10*((dispersió!$J$42+K413)^dispersió!$J$10)*dispersió!$K$10*((dispersió!$K$42+K413)^dispersió!$L$10)+dispersió!$C$24*dispersió!$D$42)*dispersió!$I$12),0)","v":1.7579864102033977},{"$f":"IFERROR(dispersió!$I$10*((dispersió!$J$42+'Càlculs interns'!K413)^dispersió!$J$10)*(2*LN('Càlculs interns'!L413/dispersió!$O$56))^(1/2),0)","v":28.971105810502525},-28.971105810502525,null,237.00447567201124,{"$f":"IFERROR((letalitat!$P$13*1000)/((3.14159*dispersió!$I$10*((dispersió!$J$42+P413)^dispersió!$J$10)*dispersió!$K$10*((dispersió!$K$42+P413)^dispersió!$L$10)+dispersió!$C$24*dispersió!$D$42)*dispersió!$I$12),0)","v":3.0189509291911962},{"$f":"IFERROR(dispersió!$I$10*((dispersió!$J$42+'Càlculs interns'!P413)^dispersió!$J$10)*(2*LN('Càlculs interns'!Q413/dispersió!$O$63))^(1/2),0)","v":19.492298761228643},-19.492298761228643]
[733.81598575618557,{"$f":"IFERROR((letalitat!$P$13*1000)/((3.14159*dispersió!$I$10*((dispersió!$J$42+A414)^dispersió!$J$10)*dispersió!$K$10*((dispersió!$K$42+A414)^dispersió!$L$10)+dispersió!$C$24*dispersió!$D$42)*dispersió!$I$12),0)","v":0.84536171571869778},{"$f":"IFERROR(dispersió!$I$10*((dispersió!$J$42+'Càlculs interns'!A414)^dispersió!$J$10)*(2*LN('Càlculs interns'!B414/dispersió!$O$42))^(1/2),0)","v":44.57930678172891},-44.57930678172891,null,579.24594193921087,{"$f":"IFERROR((letalitat!$P$13*1000)/((3.14159*dispersió!$I$10*((dispersió!$J$42+F414)^dispersió!$J$10)*dispersió!$K$10*((dispersió!$K$42+F414)^dispersió!$L$10)+dispersió!$C$24*dispersió!$D$42)*dispersió!$I$12),0)","v":1.1416054599471055},{"$f":"IFERROR(dispersió!$I$10*((dispersió!$J$42+'Càlculs interns'!F414)^dispersió!$J$10)*(2*LN('Càlculs interns'!G414/dispersió!$O$48))^(1/2),0)","v":36.788487000519488},-36.788487000519488,null,435.53542191698335,{"$f":"IFERROR((letalitat!$P$13*1000)/((3.14159*dispersió!$I$10*((dispersió!$J$42+K414)^dispersió!$J$10)*dispersió!$K$10*((dispersió!$K$42+K414)^dispersió!$L$10)+dispersió!$C$24*dispersió!$D$42)*dispersió!$I$12),0)","v":1.605174627470964},{"$f":"IFERROR(dispersió!$I$10*((dispersió!$J$42+'Càlculs interns'!K414)^dispersió!$J$10)*(2*LN('Càlculs interns'!L414/dispersió!$O$56))^(1/2),0)","v":29.342253667256774},-29.342253667256774,null,256.75484864467882,{"$f":"IFERROR((letalitat!$P$13*1000)/((3.14159*dispersió!$I$10*((dispersió!$J$42+P414)^dispersió!$J$10)*dispersió!$K$10*((dispersió!$K$42+P414)^dispersió!$L$10)+dispersió!$C$24*dispersió!$D$42)*dispersió!$I$12),0)","v":2.8013008439001545},{"$f":"IFERROR(dispersió!$I$10*((dispersió!$J$42+'Càlculs interns'!P414)^dispersió!$J$10)*(2*LN('Càlculs interns'!Q414/dispersió!$O$63))^(1/2),0)","v":19.626809083880286},-19.626809083880286]
[790.26336927589216,{"$f":"IFERROR((letalitat!$P$13*1000)/((3.14159*dispersió!$I$10*((dispersió!$J$42+A415)^dispersió!$J$10)*dispersió!$K$10*((dispersió!$K$42+A415)^dispersió!$L$10)+dispersió!$C$24*dispersió!$D$42)*dispersió!$I$12),0)","v":0.7671935325609518},{"$f":"IFERROR(dispersió!$I$10*((dispersió!$J$42+'Càlculs interns'!A415)^dispersió!$J$10)*(2*LN('Càlculs interns'!B415/dispersió!$O$42))^(1/2),0)","v":45.138514560018322},-45.138514560018322,null,623.80332208838092,{"$f":"IFERROR((letalitat!$P$13*1000)/((3.14159*dispersió!$I$10*((dispersió!$J$42+F415)^dispersió!$J$10)*dispersió!$K$10*((dispersió!$K$42+F415)^dispersió!$L$10)+dispersió!$C$24*dispersió!$D$42)*dispersió!$I$12),0)","v":1.0407156542360183},{"$f":"IFERROR(dispersió!$I$10*((dispersió!$J$42+'Càlculs interns'!F415)^dispersió!$J$10)*(2*LN('Càlculs interns'!G415/dispersió!$O$48))^(1/2),0)","v":37.188034888221345},-37.188034888221345,null,469.03814667982823,{"$f":"IFERROR((letalitat!$P$13*1000)/((3.14159*dispersió!$I$10*((dispersió!$J$42+K415)^dispersió!$J$10)*dispersió!$K$10*((dispersió!$K$42+K415)^dispersió!$L$10)+dispersió!$C$24*dispersió!$D$42)*dispersió!$I$12),0)","v":1.4727345480213161},{"$f":"IFERROR(dispersió!$I$10*((dispersió!$J$42+'Càlculs interns'!K415)^dispersió!$J$10)*(2*LN('Càlculs interns'!L415/dispersió!$O$56))^(1/2),0)","v":29.592342234366559},-29.592342234366559,null,276.50522161734642,{"$f":"IFERROR((letalitat!$P$13*1000)/((3.14159*dispersió!$I$10*((dispersió!$J$42+P415)^dispersió!$J$10)*dispersió!$K$10*((dispersió!$K$42+P415)^dispersió!$L$10)+dispersió!$C$24*dispersió!$D$42)*dispersió!$I$12),0)","v":2.6077098030557497},{"$f":"IFERROR(dispersió!$I$10*((dispersió!$J$42+'Càlculs interns'!P415)^dispersió!$J$10)*(2*LN('Càlculs interns'!Q415/dispersió!$O$63))^(1/2),0)","v":19.691127673639642},-19.691127673639642]
[846.71075279559875,{"$f":"IFERROR((letalitat!$P$13*1000)/((3.14159*dispersió!$I$10*((dispersió!$J$42+A416)^dispersió!$J$10)*dispersió!$K$10*((dispersió!$K$42+A416)^dispersió!$L$10)+dispersió!$C$24*dispersió!$D$42)*dispersió!$I$12),0)","v":0.70013759108384144},{"$f":"IFERROR(dispersió!$I$10*((dispersió!$J$42+'Càlculs interns'!A416)^dispersió!$J$10)*(2*LN('Càlculs interns'!B416/dispersió!$O$42))^(1/2),0)","v":45.493048181979496},-45.493048181979496,null,668.36070223755098,{"$f":"IFERROR((letalitat!$P$13*1000)/((3.14159*dispersió!$I$10*((dispersió!$J$42+F416)^dispersió!$J$10)*dispersió!$K$10*((dispersió!$K$42+F416)^dispersió!$L$10)+dispersió!$C$24*dispersió!$D$42)*dispersió!$I$12),0)","v":0.95354182541234245},{"$f":"IFERROR(dispersió!$I$10*((dispersió!$J$42+'Càlculs interns'!F416)^dispersió!$J$10)*(2*LN('Càlculs interns'!G416/dispersió!$O$48))^(1/2),0)","v":37.425011222635717},-37.425011222635717,null,502.54087144267311,{"$f":"IFERROR((letalitat!$P$13*1000)/((3.14159*dispersió!$I$10*((dispersió!$J$42+K416)^dispersió!$J$10)*dispersió!$K$10*((dispersió!$K$42+K416)^dispersió!$L$10)+dispersió!$C$24*dispersió!$D$42)*dispersió!$I$12),0)","v":1.3571127347369119},{"$f":"IFERROR(dispersió!$I$10*((dispersió!$J$42+'Càlculs interns'!K416)^dispersió!$J$10)*(2*LN('Càlculs interns'!L416/dispersió!$O$56))^(1/2),0)","v":29.71983075192157},-29.71983075192157,null,296.25559459001403,{"$f":"IFERROR((letalitat!$P$13*1000)/((3.14159*dispersió!$I$10*((dispersió!$J$42+P416)^dispersió!$J$10)*dispersió!$K$10*((dispersió!$K$42+P416)^dispersió!$L$10)+dispersió!$C$24*dispersió!$D$42)*dispersió!$I$12),0)","v":2.4346984358570638},{"$f":"IFERROR(dispersió!$I$10*((dispersió!$J$42+'Càlculs interns'!P416)^dispersió!$J$10)*(2*LN('Càlculs interns'!Q416/dispersió!$O$63))^(1/2),0)","v":19.683721841775544},-19.683721841775544]
[903.15813631530534,{"$f":"IFERROR((letalitat!$P$13*1000)/((3.14159*dispersió!$I$10*((dispersió!$J$42+A417)^dispersió!$J$10)*dispersió!$K$10*((dispersió!$K$42+A417)^dispersió!$L$10)+dispersió!$C$24*dispersió!$D$42)*dispersió!$I$12),0)","v":0.64212352574831189},{"$f":"IFERROR(dispersió!$I$10*((dispersió!$J$42+'Càlculs interns'!A417)^dispersió!$J$10)*(2*LN('Càlculs interns'!B417/dispersió!$O$42))^(1/2),0)","v":45.639687233181036},-45.639687233181036,null,712.91808238672104,{"$f":"IFERROR((letalitat!$P$13*1000)/((3.14159*dispersió!$I$10*((dispersió!$J$42+F417)^dispersió!$J$10)*dispersió!$K$10*((dispersió!$K$42+F417)^dispersió!$L$10)+dispersió!$C$24*dispersió!$D$42)*dispersió!$I$12),0)","v":0.87763832761446359},{"$f":"IFERROR(dispersió!$I$10*((dispersió!$J$42+'Càlculs interns'!F417)^dispersió!$J$10)*(2*LN('Càlculs interns'!G417/dispersió!$O$48))^(1/2),0)","v":37.496455991510786},-37.496455991510786,null,536.04359620551793,{"$f":"IFERROR((letalitat!$P$13*1000)/((3.14159*dispersió!$I$10*((dispersió!$J$42+K417)^dispersió!$J$10)*dispersió!$K$10*((dispersió!$K$42+K417)^dispersió!$L$10)+dispersió!$C$24*dispersió!$D$42)*dispersió!$I$12),0)","v":1.2555061870529545},{"$f":"IFERROR(dispersió!$I$10*((dispersió!$J$42+'Càlculs interns'!K417)^dispersió!$J$10)*(2*LN('Càlculs interns'!L417/dispersió!$O$56))^(1/2),0)","v":29.722056973469702},-29.722056973469702,null,316.00596756268163,{"$f":"IFERROR((letalitat!$P$13*1000)/((3.14159*dispersió!$I$10*((dispersió!$J$42+P417)^dispersió!$J$10)*dispersió!$K$10*((dispersió!$K$42+P417)^dispersió!$L$10)+dispersió!$C$24*dispersió!$D$42)*dispersió!$I$12),0)","v":2.2793963263354269},{"$f":"IFERROR(dispersió!$I$10*((dispersió!$J$42+'Càlculs interns'!P417)^dispersió!$J$10)*(2*LN('Càlculs interns'!Q417/dispersió!$O$63))^(1/2),0)","v":19.602433691847512},-19.602433691847512]
[959.60551983501193,{"$f":"IFERROR((letalitat!$P$13*1000)/((3.14159*dispersió!$I$10*((dispersió!$J$42+A418)^dispersió!$J$10)*dispersió!$K$10*((dispersió!$K$42+A418)^dispersió!$L$10)+dispersió!$C$24*dispersió!$D$42)*dispersió!$I$12),0)","v":0.59154857600016419},{"$f":"IFERROR(dispersió!$I$10*((dispersió!$J$42+'Càlculs interns'!A418)^dispersió!$J$10)*(2*LN('Càlculs interns'!B418/dispersió!$O$42))^(1/2),0)","v":45.573076641451586},-45.573076641451586,null,757.4754625358911,{"$f":"IFERROR((letalitat!$P$13*1000)/((3.14159*dispersió!$I$10*((dispersió!$J$42+F418)^dispersió!$J$10)*dispersió!$K$10*((dispersió!$K$42+F418)^dispersió!$L$10)+dispersió!$C$24*dispersió!$D$42)*dispersió!$I$12),0)","v":0.81108853544311699},{"$f":"IFERROR(dispersió!$I$10*((dispersió!$J$42+'Càlculs interns'!F418)^dispersió!$J$10)*(2*LN('Càlculs interns'!G418/dispersió!$O$48))^(1/2),0)","v":37.397728435951663},-37.397728435951663,null,569.54632096836281,{"$f":"IFERROR((letalitat!$P$13*1000)/((3.14159*dispersió!$I$10*((dispersió!$J$42+K418)^dispersió!$J$10)*dispersió!$K$10*((dispersió!$K$42+K418)^dispersió!$L$10)+dispersió!$C$24*dispersió!$D$42)*dispersió!$I$12),0)","v":1.1656790370981427},{"$f":"IFERROR(dispersió!$I$10*((dispersió!$J$42+'Càlculs interns'!K418)^dispersió!$J$10)*(2*LN('Càlculs interns'!L418/dispersió!$O$56))^(1/2),0)","v":29.595105204099493},-29.595105204099493,null,335.75634053534924,{"$f":"IFERROR((letalitat!$P$13*1000)/((3.14159*dispersió!$I$10*((dispersió!$J$42+P418)^dispersió!$J$10)*dispersió!$K$10*((dispersió!$K$42+P418)^dispersió!$L$10)+dispersió!$C$24*dispersió!$D$42)*dispersió!$I$12),0)","v":2.1394188681131201},{"$f":"IFERROR(dispersió!$I$10*((dispersió!$J$42+'Càlculs interns'!P418)^dispersió!$J$10)*(2*LN('Càlculs interns'!Q418/dispersió!$O$63))^(1/2),0)","v":19.444380682565637},-19.444380682565637]
[1016.0529033547185,{"$f":"IFERROR((letalitat!$P$13*1000)/((3.14159*dispersió!$I$10*((dispersió!$J$42+A419)^dispersió!$J$10)*dispersió!$K$10*((dispersió!$K$42+A419)^dispersió!$L$10)+dispersió!$C$24*dispersió!$D$42)*dispersió!$I$12),0)","v":0.54715530810914059},{"$f":"IFERROR(dispersió!$I$10*((dispersió!$J$42+'Càlculs interns'!A419)^dispersió!$J$10)*(2*LN('Càlculs interns'!B419/dispersió!$O$42))^(1/2),0)","v":45.28542972470369},-45.28542972470369,null,802.03284268506115,{"$f":"IFERROR((letalitat!$P$13*1000)/((3.14159*dispersió!$I$10*((dispersió!$J$42+F419)^dispersió!$J$10)*dispersió!$K$10*((dispersió!$K$42+F419)^dispersió!$L$10)+dispersió!$C$24*dispersió!$D$42)*dispersió!$I$12),0)","v":0.75237225485250003},{"$f":"IFERROR(dispersió!$I$10*((dispersió!$J$42+'Càlculs interns'!F419)^dispersió!$J$10)*(2*LN('Càlculs interns'!G419/dispersió!$O$48))^(1/2),0)","v":37.12225454351244},-37.12225454351244,null,603.04904573120768,{"$f":"IFERROR((letalitat!$P$13*1000)/((3.14159*dispersió!$I$10*((dispersió!$J$42+K419)^dispersió!$J$10)*dispersió!$K$10*((dispersió!$K$42+K419)^dispersió!$L$10)+dispersió!$C$24*dispersió!$D$42)*dispersió!$I$12),0)","v":1.085829506118865},{"$f":"IFERROR(dispersió!$I$10*((dispersió!$J$42+'Càlculs interns'!K419)^dispersió!$J$10)*(2*LN('Càlculs interns'!L419/dispersió!$O$56))^(1/2),0)","v":29.333598998654747},-29.333598998654747,null,355.50671350801684,{"$f":"IFERROR((letalitat!$P$13*1000)/((3.14159*dispersió!$I$10*((dispersió!$J$42+P419)^dispersió!$J$10)*dispersió!$K$10*((dispersió!$K$42+P419)^dispersió!$L$10)+dispersió!$C$24*dispersió!$D$42)*dispersió!$I$12),0)","v":2.0127720208403015},{"$f":"IFERROR(dispersió!$I$10*((dispersió!$J$42+'Càlculs interns'!P419)^dispersió!$J$10)*(2*LN('Càlculs interns'!Q419/dispersió!$O$63))^(1/2),0)","v":19.20581199606163},-19.20581199606163]
[1072.500286874425,{"$f":"IFERROR((letalitat!$P$13*1000)/((3.14159*dispersió!$I$10*((dispersió!$J$42+A420)^dispersió!$J$10)*dispersió!$K$10*((dispersió!$K$42+A420)^dispersió!$L$10)+dispersió!$C$24*dispersió!$D$42)*dispersió!$I$12),0)","v":0.50794526333801571},{"$f":"IFERROR(dispersió!$I$10*((dispersió!$J$42+'Càlculs interns'!A420)^dispersió!$J$10)*(2*LN('Càlculs interns'!B420/dispersió!$O$42))^(1/2),0)","v":44.766062012693354},-44.766062012693354,null,846.59022283423121,{"$f":"IFERROR((letalitat!$P$13*1000)/((3.14159*dispersió!$I$10*((dispersió!$J$42+F420)^dispersió!$J$10)*dispersió!$K$10*((dispersió!$K$42+F420)^dispersió!$L$10)+dispersió!$C$24*dispersió!$D$42)*dispersió!$I$12),0)","v":0.7002704969346164},{"$f":"IFERROR(dispersió!$I$10*((dispersió!$J$42+'Càlculs interns'!F420)^dispersió!$J$10)*(2*LN('Càlculs interns'!G420/dispersió!$O$48))^(1/2),0)","v":36.661139358902155},-36.661139358902155,null,636.55177049405256,{"$f":"IFERROR((letalitat!$P$13*1000)/((3.14159*dispersió!$I$10*((dispersió!$J$42+K420)^dispersió!$J$10)*dispersió!$K$10*((dispersió!$K$42+K420)^dispersió!$L$10)+dispersió!$C$24*dispersió!$D$42)*dispersió!$I$12),0)","v":1.0144919731236584},{"$f":"IFERROR(dispersió!$I$10*((dispersió!$J$42+'Càlculs interns'!K420)^dispersió!$J$10)*(2*LN('Càlculs interns'!L420/dispersió!$O$56))^(1/2),0)","v":28.930391020491118},-28.930391020491118,null,375.25708648068445,{"$f":"IFERROR((letalitat!$P$13*1000)/((3.14159*dispersió!$I$10*((dispersió!$J$42+P420)^dispersió!$J$10)*dispersió!$K$10*((dispersió!$K$42+P420)^dispersió!$L$10)+dispersió!$C$24*dispersió!$D$42)*dispersió!$I$12),0)","v":1.8977780401608306},{"$f":"IFERROR(dispersió!$I$10*((dispersió!$J$42+'Càlculs interns'!P420)^dispersió!$J$10)*(2*LN('Càlculs interns'!Q420/dispersió!$O$63))^(1/2),0)","v":18.881902324066701},-18.881902324066701]
[1128.9476703941316,{"$f":"IFERROR((letalitat!$P$13*1000)/((3.14159*dispersió!$I$10*((dispersió!$J$42+A421)^dispersió!$J$10)*dispersió!$K$10*((dispersió!$K$42+A421)^dispersió!$L$10)+dispersió!$C$24*dispersió!$D$42)*dispersió!$I$12),0)","v":0.47311691954208768},{"$f":"IFERROR(dispersió!$I$10*((dispersió!$J$42+'Càlculs interns'!A421)^dispersió!$J$10)*(2*LN('Càlculs interns'!B421/dispersió!$O$42))^(1/2),0)","v":44.000685051912029},-44.000685051912029,null,891.14760298340127,{"$f":"IFERROR((letalitat!$P$13*1000)/((3.14159*dispersió!$I$10*((dispersió!$J$42+F421)^dispersió!$J$10)*dispersió!$K$10*((dispersió!$K$42+F421)^dispersió!$L$10)+dispersió!$C$24*dispersió!$D$42)*dispersió!$I$12),0)","v":0.65379602363274503},{"$f":"IFERROR(dispersió!$I$10*((dispersió!$J$42+'Càlculs interns'!F421)^dispersió!$J$10)*(2*LN('Càlculs interns'!G421/dispersió!$O$48))^(1/2),0)","v":36.002585701114924},-36.002585701114924,null,670.05449525689744,{"$f":"IFERROR((letalitat!$P$13*1000)/((3.14159*dispersió!$I$10*((dispersió!$J$42+K421)^dispersió!$J$10)*dispersió!$K$10*((dispersió!$K$42+K421)^dispersió!$L$10)+dispersió!$C$24*dispersió!$D$42)*dispersió!$I$12),0)","v":0.95046394909895593},{"$f":"IFERROR(dispersió!$I$10*((dispersió!$J$42+'Càlculs interns'!K421)^dispersió!$J$10)*(2*LN('Càlculs interns'!L421/dispersió!$O$56))^(1/2),0)","v":28.376103888113168},-28.376103888113168,null,395.00745945335206,{"$f":"IFERROR((letalitat!$P$13*1000)/((3.14159*dispersió!$I$10*((dispersió!$J$42+P421)^dispersió!$J$10)*dispersió!$K$10*((dispersió!$K$42+P421)^dispersió!$L$10)+dispersió!$C$24*dispersió!$D$42)*dispersió!$I$12),0)","v":1.7930171066954226},{"$f":"IFERROR(dispersió!$I$10*((dispersió!$J$42+'Càlculs interns'!P421)^dispersió!$J$10)*(2*LN('Càlculs interns'!Q421/dispersió!$O$63))^(1/2),0)","v":18.466453090539737},-18.466453090539737]
[1185.3950539138382,{"$f":"IFERROR((letalitat!$P$13*1000)/((3.14159*dispersió!$I$10*((dispersió!$J$42+A422)^dispersió!$J$10)*dispersió!$K$10*((dispersió!$K$42+A422)^dispersió!$L$10)+dispersió!$C$24*dispersió!$D$42)*dispersió!$I$12),0)","v":0.44202041984732887},{"$f":"IFERROR(dispersió!$I$10*((dispersió!$J$42+'Càlculs interns'!A422)^dispersió!$J$10)*(2*LN('Càlculs interns'!B422/dispersió!$O$42))^(1/2),0)","v":42.970337881571304},-42.970337881571304,null,935.70498313257133,{"$f":"IFERROR((letalitat!$P$13*1000)/((3.14159*dispersió!$I$10*((dispersió!$J$42+F422)^dispersió!$J$10)*dispersió!$K$10*((dispersió!$K$42+F422)^dispersió!$L$10)+dispersió!$C$24*dispersió!$D$42)*dispersió!$I$12),0)","v":0.6121419721847422},{"$f":"IFERROR(dispersió!$I$10*((dispersió!$J$42+'Càlculs interns'!F422)^dispersió!$J$10)*(2*LN('Càlculs interns'!G422/dispersió!$O$48))^(1/2),0)","v":35.131019081766418},-35.131019081766418,null,703.55722001974232,{"$f":"IFERROR((letalitat!$P$13*1000)/((3.14159*dispersió!$I$10*((dispersió!$J$42+K422)^dispersió!$J$10)*dispersió!$K$10*((dispersió!$K$42+K422)^dispersió!$L$10)+dispersió!$C$24*dispersió!$D$42)*dispersió!$I$12),0)","v":0.89275096742280191},{"$f":"IFERROR(dispersió!$I$10*((dispersió!$J$42+'Càlculs interns'!K422)^dispersió!$J$10)*(2*LN('Càlculs interns'!L422/dispersió!$O$56))^(1/2),0)","v":27.658443472631536},-27.658443472631536,null,414.75783242601966,{"$f":"IFERROR((letalitat!$P$13*1000)/((3.14159*dispersió!$I$10*((dispersió!$J$42+P422)^dispersió!$J$10)*dispersió!$K$10*((dispersió!$K$42+P422)^dispersió!$L$10)+dispersió!$C$24*dispersió!$D$42)*dispersió!$I$12),0)","v":1.6972811060869561},{"$f":"IFERROR(dispersió!$I$10*((dispersió!$J$42+'Càlculs interns'!P422)^dispersió!$J$10)*(2*LN('Càlculs interns'!Q422/dispersió!$O$63))^(1/2),0)","v":17.951450749354962},-17.951450749354962]
[1241.8424374335448,{"$f":"IFERROR((letalitat!$P$13*1000)/((3.14159*dispersió!$I$10*((dispersió!$J$42+A423)^dispersió!$J$10)*dispersió!$K$10*((dispersió!$K$42+A423)^dispersió!$L$10)+dispersió!$C$24*dispersió!$D$42)*dispersió!$I$12),0)","v":0.41412406398136853},{"$f":"IFERROR(dispersió!$I$10*((dispersió!$J$42+'Càlculs interns'!A423)^dispersió!$J$10)*(2*LN('Càlculs interns'!B423/dispersió!$O$42))^(1/2),0)","v":41.649739591665124},-41.649739591665124,null,980.26236328174139,{"$f":"IFERROR((letalitat!$P$13*1000)/((3.14159*dispersió!$I$10*((dispersió!$J$42+F423)^dispersió!$J$10)*dispersió!$K$10*((dispersió!$K$42+F423)^dispersió!$L$10)+dispersió!$C$24*dispersió!$D$42)*dispersió!$I$12),0)","v":0.57464335876098682},{"$f":"IFERROR(dispersió!$I$10*((dispersió!$J$42+'Càlculs interns'!F423)^dispersió!$J$10)*(2*LN('Càlculs interns'!G423/dispersió!$O$48))^(1/2),0)","v":34.025741855077662},-34.025741855077662,null,737.05994478258719,{"$f":"IFERROR((letalitat!$P$13*1000)/((3.14159*dispersió!$I$10*((dispersió!$J$42+K423)^dispersió!$J$10)*dispersió!$K$10*((dispersió!$K$42+K423)^dispersió!$L$10)+dispersió!$C$24*dispersió!$D$42)*dispersió!$I$12),0)","v":0.84052453173619068},{"$f":"IFERROR(dispersió!$I$10*((dispersió!$J$42+'Càlculs interns'!K423)^dispersió!$J$10)*(2*LN('Càlculs interns'!L423/dispersió!$O$56))^(1/2),0)","v":26.761146437816173},-26.761146437816173,null,434.50820539868727,{"$f":"IFERROR((letalitat!$P$13*1000)/((3.14159*dispersió!$I$10*((dispersió!$J$42+P423)^dispersió!$J$10)*dispersió!$K$10*((dispersió!$K$42+P423)^dispersió!$L$10)+dispersió!$C$24*dispersió!$D$42)*dispersió!$I$12),0)","v":1.6095367690235132},{"$f":"IFERROR(dispersió!$I$10*((dispersió!$J$42+'Càlculs interns'!P423)^dispersió!$J$10)*(2*LN('Càlculs interns'!Q423/dispersió!$O$63))^(1/2),0)","v":17.326394002119354},-17.326394002119354]
[1298.2898209532514,{"$f":"IFERROR((letalitat!$P$13*1000)/((3.14159*dispersió!$I$10*((dispersió!$J$42+A424)^dispersió!$J$10)*dispersió!$K$10*((dispersió!$K$42+A424)^dispersió!$L$10)+dispersió!$C$24*dispersió!$D$42)*dispersió!$I$12),0)","v":0.38898918152462825},{"$f":"IFERROR(dispersió!$I$10*((dispersió!$J$42+'Càlculs interns'!A424)^dispersió!$J$10)*(2*LN('Càlculs interns'!B424/dispersió!$O$42))^(1/2),0)","v":40.004661503880904},-40.004661503880904,null,1024.8197434309116,{"$f":"IFERROR((letalitat!$P$13*1000)/((3.14159*dispersió!$I$10*((dispersió!$J$42+F424)^dispersió!$J$10)*dispersió!$K$10*((dispersió!$K$42+F424)^dispersió!$L$10)+dispersió!$C$24*dispersió!$D$42)*dispersió!$I$12),0)","v":0.54074788816497199},{"$f":"IFERROR(dispersió!$I$10*((dispersió!$J$42+'Càlculs interns'!F424)^dispersió!$J$10)*(2*LN('Càlculs interns'!G424/dispersió!$O$48))^(1/2),0)","v":32.658788848520999},-32.658788848520999,null,770.56266954543207,{"$f":"IFERROR((letalitat!$P$13*1000)/((3.14159*dispersió!$I$10*((dispersió!$J$42+K424)^dispersió!$J$10)*dispersió!$K$10*((dispersió!$K$42+K424)^dispersió!$L$10)+dispersió!$C$24*dispersió!$D$42)*dispersió!$I$12),0)","v":0.79308969610014102},{"$f":"IFERROR(dispersió!$I$10*((dispersió!$J$42+'Càlculs interns'!K424)^dispersió!$J$10)*(2*LN('Càlculs interns'!L424/dispersió!$O$56))^(1/2),0)","v":25.662306449094132},-25.662306449094132,null,454.25857837135487,{"$f":"IFERROR((letalitat!$P$13*1000)/((3.14159*dispersió!$I$10*((dispersió!$J$42+P424)^dispersió!$J$10)*dispersió!$K$10*((dispersió!$K$42+P424)^dispersió!$L$10)+dispersió!$C$24*dispersió!$D$42)*dispersió!$I$12),0)","v":1.5288960759259465},{"$f":"IFERROR(dispersió!$I$10*((dispersió!$J$42+'Càlculs interns'!P424)^dispersió!$J$10)*(2*LN('Càlculs interns'!Q424/dispersió!$O$63))^(1/2),0)","v":16.57722727048062},-16.57722727048062]
[1354.737204472958,{"$f":"IFERROR((letalitat!$P$13*1000)/((3.14159*dispersió!$I$10*((dispersió!$J$42+A425)^dispersió!$J$10)*dispersió!$K$10*((dispersió!$K$42+A425)^dispersió!$L$10)+dispersió!$C$24*dispersió!$D$42)*dispersió!$I$12),0)","v":0.36625106422239606},{"$f":"IFERROR(dispersió!$I$10*((dispersió!$J$42+'Càlculs interns'!A425)^dispersió!$J$10)*(2*LN('Càlculs interns'!B425/dispersió!$O$42))^(1/2),0)","v":37.987526150173089},-37.987526150173089,null,1069.3771235800816,{"$f":"IFERROR((letalitat!$P$13*1000)/((3.14159*dispersió!$I$10*((dispersió!$J$42+F425)^dispersió!$J$10)*dispersió!$K$10*((dispersió!$K$42+F425)^dispersió!$L$10)+dispersió!$C$24*dispersió!$D$42)*dispersió!$I$12),0)","v":0.50999357621020769},{"$f":"IFERROR(dispersió!$I$10*((dispersió!$J$42+'Càlculs interns'!F425)^dispersió!$J$10)*(2*LN('Càlculs interns'!G425/dispersió!$O$48))^(1/2),0)","v":30.991337220741237},-30.991337220741237,null,804.06539430827695,{"$f":"IFERROR((letalitat!$P$13*1000)/((3.14159*dispersió!$I$10*((dispersió!$J$42+K425)^dispersió!$J$10)*dispersió!$K$10*((dispersió!$K$42+K425)^dispersió!$L$10)+dispersió!$C$24*dispersió!$D$42)*dispersió!$I$12),0)","v":0.74985983121267041},{"$f":"IFERROR(dispersió!$I$10*((dispersió!$J$42+'Càlculs interns'!K425)^dispersió!$J$10)*(2*LN('Càlculs interns'!L425/dispersió!$O$56))^(1/2),0)","v":24.331574689678973},-24.331574689678973,null,474.00895134402248,{"$f":"IFERROR((letalitat!$P$13*1000)/((3.14159*dispersió!$I$10*((dispersió!$J$42+P425)^dispersió!$J$10)*dispersió!$K$10*((dispersió!$K$42+P425)^dispersió!$L$10)+dispersió!$C$24*dispersió!$D$42)*dispersió!$I$12),0)","v":1.4545923409720485},{"$f":"IFERROR(dispersió!$I$10*((dispersió!$J$42+'Càlculs interns'!P425)^dispersió!$J$10)*(2*LN('Càlculs interns'!Q425/dispersió!$O$63))^(1/2),0)","v":15.684559655772519},-15.684559655772519]
[1411.1845879926645,{"$f":"IFERROR((letalitat!$P$13*1000)/((3.14159*dispersió!$I$10*((dispersió!$J$42+A426)^dispersió!$J$10)*dispersió!$K$10*((dispersió!$K$42+A426)^dispersió!$L$10)+dispersió!$C$24*dispersió!$D$42)*dispersió!$I$12),0)","v":0.3456043363361409},{"$f":"IFERROR(dispersió!$I$10*((dispersió!$J$42+'Càlculs interns'!A426)^dispersió!$J$10)*(2*LN('Càlculs interns'!B426/dispersió!$O$42))^(1/2),0)","v":35.529531151158913},-35.529531151158913,null,1113.9345037292517,{"$f":"IFERROR((letalitat!$P$13*1000)/((3.14159*dispersió!$I$10*((dispersió!$J$42+F426)^dispersió!$J$10)*dispersió!$K$10*((dispersió!$K$42+F426)^dispersió!$L$10)+dispersió!$C$24*dispersió!$D$42)*dispersió!$I$12),0)","v":0.48199142004640178},{"$f":"IFERROR(dispersió!$I$10*((dispersió!$J$42+'Càlculs interns'!F426)^dispersió!$J$10)*(2*LN('Càlculs interns'!G426/dispersió!$O$48))^(1/2),0)","v":28.967280578290769},-28.967280578290769,null,837.56811907112183,{"$f":"IFERROR((letalitat!$P$13*1000)/((3.14159*dispersió!$I$10*((dispersió!$J$42+K426)^dispersió!$J$10)*dispersió!$K$10*((dispersió!$K$42+K426)^dispersió!$L$10)+dispersió!$C$24*dispersió!$D$42)*dispersió!$I$12),0)","v":0.71033680826641343},{"$f":"IFERROR(dispersió!$I$10*((dispersió!$J$42+'Càlculs interns'!K426)^dispersió!$J$10)*(2*LN('Càlculs interns'!L426/dispersió!$O$56))^(1/2),0)","v":22.725152009611548},-22.725152009611548,null,493.75932431669008,{"$f":"IFERROR((letalitat!$P$13*1000)/((3.14159*dispersió!$I$10*((dispersió!$J$42+P426)^dispersió!$J$10)*dispersió!$K$10*((dispersió!$K$42+P426)^dispersió!$L$10)+dispersió!$C$24*dispersió!$D$42)*dispersió!$I$12),0)","v":1.3859607668983778},{"$f":"IFERROR(dispersió!$I$10*((dispersió!$J$42+'Càlculs interns'!P426)^dispersió!$J$10)*(2*LN('Càlculs interns'!Q426/dispersió!$O$63))^(1/2),0)","v":14.620480945685788},-14.620480945685788]
[1467.6319715123711,{"$f":"IFERROR((letalitat!$P$13*1000)/((3.14159*dispersió!$I$10*((dispersió!$J$42+A427)^dispersió!$J$10)*dispersió!$K$10*((dispersió!$K$42+A427)^dispersió!$L$10)+dispersió!$C$24*dispersió!$D$42)*dispersió!$I$12),0)","v":0.32679161546971941},{"$f":"IFERROR(dispersió!$I$10*((dispersió!$J$42+'Càlculs interns'!A427)^dispersió!$J$10)*(2*LN('Càlculs interns'!B427/dispersió!$O$42))^(1/2),0)","v":32.525216657272914},-32.525216657272914,null,1158.4918838784217,{"$f":"IFERROR((letalitat!$P$13*1000)/((3.14159*dispersió!$I$10*((dispersió!$J$42+F427)^dispersió!$J$10)*dispersió!$K$10*((dispersió!$K$42+F427)^dispersió!$L$10)+dispersió!$C$24*dispersió!$D$42)*dispersió!$I$12),0)","v":0.45641185094505571},{"$f":"IFERROR(dispersió!$I$10*((dispersió!$J$42+'Càlculs interns'!F427)^dispersió!$J$10)*(2*LN('Càlculs interns'!G427/dispersió!$O$48))^(1/2),0)","v":26.500631736277207},-26.500631736277207,null,871.07084383396671,{"$f":"IFERROR((letalitat!$P$13*1000)/((3.14159*dispersió!$I$10*((dispersió!$J$42+K427)^dispersió!$J$10)*dispersió!$K$10*((dispersió!$K$42+K427)^dispersió!$L$10)+dispersió!$C$24*dispersió!$D$42)*dispersió!$I$12),0)","v":0.67409530743950252},{"$f":"IFERROR(dispersió!$I$10*((dispersió!$J$42+'Càlculs interns'!K427)^dispersió!$J$10)*(2*LN('Càlculs interns'!L427/dispersió!$O$56))^(1/2),0)","v":20.77597545775911},-20.77597545775911,null,513.50969728935763,{"$f":"IFERROR((letalitat!$P$13*1000)/((3.14159*dispersió!$I$10*((dispersió!$J$42+P427)^dispersió!$J$10)*dispersió!$K$10*((dispersió!$K$42+P427)^dispersió!$L$10)+dispersió!$C$24*dispersió!$D$42)*dispersió!$I$12),0)","v":1.3224225425259994},{"$f":"IFERROR(dispersió!$I$10*((dispersió!$J$42+'Càlculs interns'!P427)^dispersió!$J$10)*(2*LN('Càlculs interns'!Q427/dispersió!$O$63))^(1/2),0)","v":13.342323091914938},-13.342323091914938]
[1524.0793550320777,{"$f":"IFERROR((letalitat!$P$13*1000)/((3.14159*dispersió!$I$10*((dispersió!$J$42+A428)^dispersió!$J$10)*dispersió!$K$10*((dispersió!$K$42+A428)^dispersió!$L$10)+dispersió!$C$24*dispersió!$D$42)*dispersió!$I$12),0)","v":0.30959464065117959},{"$f":"IFERROR(dispersió!$I$10*((dispersió!$J$42+'Càlculs interns'!A428)^dispersió!$J$10)*(2*LN('Càlculs interns'!B428/dispersió!$O$42))^(1/2),0)","v":28.79806326034295},-28.79806326034295,null,1203.0492640275918,{"$f":"IFERROR((letalitat!$P$13*1000)/((3.14159*dispersió!$I$10*((dispersió!$J$42+F428)^dispersió!$J$10)*dispersió!$K$10*((dispersió!$K$42+F428)^dispersió!$L$10)+dispersió!$C$24*dispersió!$D$42)*dispersió!$I$12),0)","v":0.43297405094587765},{"$f":"IFERROR(dispersió!$I$10*((dispersió!$J$42+'Càlculs interns'!F428)^dispersió!$J$10)*(2*LN('Càlculs interns'!G428/dispersió!$O$48))^(1/2),0)","v":23.447416747847203},-23.447416747847203,null,904.57356859681158,{"$f":"IFERROR((letalitat!$P$13*1000)/((3.14159*dispersió!$I$10*((dispersió!$J$42+K428)^dispersió!$J$10)*dispersió!$K$10*((dispersió!$K$42+K428)^dispersió!$L$10)+dispersió!$C$24*dispersió!$D$42)*dispersió!$I$12),0)","v":0.64077029552789166},{"$f":"IFERROR(dispersió!$I$10*((dispersió!$J$42+'Càlculs interns'!K428)^dispersió!$J$10)*(2*LN('Càlculs interns'!L428/dispersió!$O$56))^(1/2),0)","v":18.371832143670741},-18.371832143670741,null,533.26007026202524,{"$f":"IFERROR((letalitat!$P$13*1000)/((3.14159*dispersió!$I$10*((dispersió!$J$42+P428)^dispersió!$J$10)*dispersió!$K$10*((dispersió!$K$42+P428)^dispersió!$L$10)+dispersió!$C$24*dispersió!$D$42)*dispersió!$I$12),0)","v":1.2634717653630643},{"$f":"IFERROR(dispersió!$I$10*((dispersió!$J$42+'Càlculs interns'!P428)^dispersió!$J$10)*(2*LN('Càlculs interns'!Q428/dispersió!$O$63))^(1/2),0)","v":11.778745695269333},-11.778745695269333]
[1580.5267385517843,{"$f":"IFERROR((letalitat!$P$13*1000)/((3.14159*dispersió!$I$10*((dispersió!$J$42+A429)^dispersió!$J$10)*dispersió!$K$10*((dispersió!$K$42+A429)^dispersió!$L$10)+dispersió!$C$24*dispersió!$D$42)*dispersió!$I$12),0)","v":0.29382726983216584},{"$f":"IFERROR(dispersió!$I$10*((dispersió!$J$42+'Càlculs interns'!A429)^dispersió!$J$10)*(2*LN('Càlculs interns'!B429/dispersió!$O$42))^(1/2),0)","v":24.006905182701612},-24.006905182701612,null,1247.6066441767618,{"$f":"IFERROR((letalitat!$P$13*1000)/((3.14159*dispersió!$I$10*((dispersió!$J$42+F429)^dispersió!$J$10)*dispersió!$K$10*((dispersió!$K$42+F429)^dispersió!$L$10)+dispersió!$C$24*dispersió!$D$42)*dispersió!$I$12),0)","v":0.41143745897140305},{"$f":"IFERROR(dispersió!$I$10*((dispersió!$J$42+'Càlculs interns'!F429)^dispersió!$J$10)*(2*LN('Càlculs interns'!G429/dispersió!$O$48))^(1/2),0)","v":19.529105723632664},-19.529105723632664,null,938.07629335965646,{"$f":"IFERROR((letalitat!$P$13*1000)/((3.14159*dispersió!$I$10*((dispersió!$J$42+K429)^dispersió!$J$10)*dispersió!$K$10*((dispersió!$K$42+K429)^dispersió!$L$10)+dispersió!$C$24*dispersió!$D$42)*dispersió!$I$12),0)","v":0.61004695958076205},{"$f":"IFERROR(dispersió!$I$10*((dispersió!$J$42+'Càlculs interns'!K429)^dispersió!$J$10)*(2*LN('Càlculs interns'!L429/dispersió!$O$56))^(1/2),0)","v":15.295772928996172},-15.295772928996172,null,553.01044323469284,{"$f":"IFERROR((letalitat!$P$13*1000)/((3.14159*dispersió!$I$10*((dispersió!$J$42+P429)^dispersió!$J$10)*dispersió!$K$10*((dispersió!$K$42+P429)^dispersió!$L$10)+dispersió!$C$24*dispersió!$D$42)*dispersió!$I$12),0)","v":1.2086646306109605},{"$f":"IFERROR(dispersió!$I$10*((dispersió!$J$42+'Càlculs interns'!P429)^dispersió!$J$10)*(2*LN('Càlculs interns'!Q429/dispersió!$O$63))^(1/2),0)","v":9.7918475694273948},-9.7918475694273948]
[1636.9741220714909,{"$f":"IFERROR((letalitat!$P$13*1000)/((3.14159*dispersió!$I$10*((dispersió!$J$42+A430)^dispersió!$J$10)*dispersió!$K$10*((dispersió!$K$42+A430)^dispersió!$L$10)+dispersió!$C$24*dispersió!$D$42)*dispersió!$I$12),0)","v":0.27932990766358157},{"$f":"IFERROR(dispersió!$I$10*((dispersió!$J$42+'Càlculs interns'!A430)^dispersió!$J$10)*(2*LN('Càlculs interns'!B430/dispersió!$O$42))^(1/2),0)","v":17.279553803044006},-17.279553803044006,null,1292.1640243259319,{"$f":"IFERROR((letalitat!$P$13*1000)/((3.14159*dispersió!$I$10*((dispersió!$J$42+F430)^dispersió!$J$10)*dispersió!$K$10*((dispersió!$K$42+F430)^dispersió!$L$10)+dispersió!$C$24*dispersió!$D$42)*dispersió!$I$12),0)","v":0.39159496604174876},{"$f":"IFERROR(dispersió!$I$10*((dispersió!$J$42+'Càlculs interns'!F430)^dispersió!$J$10)*(2*LN('Càlculs interns'!G430/dispersió!$O$48))^(1/2),0)","v":14.031982867470811},-14.031982867470811,null,971.57901812250134,{"$f":"IFERROR((letalitat!$P$13*1000)/((3.14159*dispersió!$I$10*((dispersió!$J$42+K430)^dispersió!$J$10)*dispersió!$K$10*((dispersió!$K$42+K430)^dispersió!$L$10)+dispersió!$C$24*dispersió!$D$42)*dispersió!$I$12),0)","v":0.5816525592883095},{"$f":"IFERROR(dispersió!$I$10*((dispersió!$J$42+'Càlculs interns'!K430)^dispersió!$J$10)*(2*LN('Càlculs interns'!L430/dispersió!$O$56))^(1/2),0)","v":10.992503556755567},-10.992503556755567,null,572.76081620736045,{"$f":"IFERROR((letalitat!$P$13*1000)/((3.14159*dispersió!$I$10*((dispersió!$J$42+P430)^dispersió!$J$10)*dispersió!$K$10*((dispersió!$K$42+P430)^dispersió!$L$10)+dispersió!$C$24*dispersió!$D$42)*dispersió!$I$12),0)","v":1.1576104488573074},{"$f":"IFERROR(dispersió!$I$10*((dispersió!$J$42+'Càlculs interns'!P430)^dispersió!$J$10)*(2*LN('Càlculs interns'!Q430/dispersió!$O$63))^(1/2),0)","v":7.0286346611737569},-7.0286346611737569]
[{"$f":"dispersió!L42","v":1693.421505591197},{"$f":"IFERROR((letalitat!$P$13*1000)/((3.14159*dispersió!$I$10*((dispersió!$J$42+A431)^dispersió!$J$10)*dispersió!$K$10*((dispersió!$K$42+A431)^dispersió!$L$10)+dispersió!$C$24*dispersió!$D$42)*dispersió!$I$12),0)","v":0.26596503753104023},{"$f":"IFERROR(dispersió!$I$10*((dispersió!$J$42+'Càlculs interns'!A431)^dispersió!$J$10)*(2*LN('Càlculs interns'!B431/dispersió!$O$42))^(1/2),0)","v":0},0,null,{"$f":"dispersió!L49","v":1336.7214044751022},{"$f":"IFERROR((letalitat!$P$13*1000)/((3.14159*dispersió!$I$10*((dispersió!$J$42+F431)^dispersió!$J$10)*dispersió!$K$10*((dispersió!$K$42+F431)^dispersió!$L$10)+dispersió!$C$24*dispersió!$D$42)*dispersió!$I$12),0)","v":0.37326742465322887},{"$f":"IFERROR(dispersió!$I$10*((dispersió!$J$42+'Càlculs interns'!F431)^dispersió!$J$10)*(2*LN('Càlculs interns'!G431/dispersió!$O$48))^(1/2),0)","v":0},0,null,{"$f":"dispersió!L56","v":1005.0817428853459},{"$f":"IFERROR((letalitat!$P$13*1000)/((3.14159*dispersió!$I$10*((dispersió!$J$42+K431)^dispersió!$J$10)*dispersió!$K$10*((dispersió!$K$42+K431)^dispersió!$L$10)+dispersió!$C$24*dispersió!$D$42)*dispersió!$I$12),0)","v":0.55534978980787941},{"$f":"IFERROR(dispersió!$I$10*((dispersió!$J$42+'Càlculs interns'!K431)^dispersió!$J$10)*(2*LN('Càlculs interns'!L431/dispersió!$O$56))^(1/2),0)","v":0},0,null,{"$f":"dispersió!L63","v":592.51118918002794},{"$f":"IFERROR((letalitat!$P$13*1000)/((3.14159*dispersió!$I$10*((dispersió!$J$42+P431)^dispersió!$J$10)*dispersió!$K$10*((dispersió!$K$42+P431)^dispersió!$L$10)+dispersió!$C$24*dispersió!$D$42)*dispersió!$I$12),0)","v":1.1099641473920734},{"$f":"IFERROR(dispersió!$I$10*((dispersió!$J$42+'Càlculs interns'!P431)^dispersió!$J$10)*(2*LN('Càlculs interns'!Q431/dispersió!$O$63))^(1/2),0)","v":0},0]
[]
["Area 900m2"]
["Est. D"]
["LC1",null,"LC1+","LC1-",null,"LC10",null,"LC10+","LC10-",null,"LC50",null,"LC50+","LC50-",null,"LC99",null,"LC99+","LC99-"]
["X","C(x)","y+","y-",null,"X","C(x)","y+","y-",null,"X","C(x)","y+","y-",null,"X","C(x)","y+","y-"]
[0,{"$f":"IFERROR((letalitat!$P$14*1000)/((3.14159*dispersió!$C$10*((dispersió!$E$43+A437)^dispersió!$D$10)*dispersió!$E$10*((dispersió!$F$43+A437)^dispersió!$F$10)+dispersió!$C$24*dispersió!$D$43)*dispersió!$C$12),0)","v":4.4046881637456634},{"$f":"IFERROR(dispersió!$C$10*((dispersió!$E$43+'Càlculs interns'!A437)^dispersió!$D$10)*(2*LN('Càlculs interns'!B437/dispersió!$O$42))^(1/2),0)","v":16.528888678191763},{"$f":"-C437","v":-16.528888678191763},null,0,{"$f":"IFERROR((letalitat!$P$14*1000)/((3.14159*dispersió!$C$10*((dispersió!$E$43+F437)^dispersió!$D$10)*dispersió!$E$10*((dispersió!$F$43+F437)^dispersió!$F$10)+dispersió!$C$24*dispersió!$D$43)*dispersió!$C$12),0)","v":4.4046881637456634},{"$f":"IFERROR(dispersió!$C$10*((dispersió!$E$43+'Càlculs interns'!F437)^dispersió!$D$10)*(2*LN('Càlculs interns'!G437/dispersió!$O$48))^(1/2),0)","v":15.497962186968484},{"$f":"-H437","v":-15.497962186968484},null,0,{"$f":"IFERROR((letalitat!$P$14*1000)/((3.14159*dispersió!$C$10*((dispersió!$E$43+K437)^dispersió!$D$10)*dispersió!$E$10*((dispersió!$F$43+K437)^dispersió!$F$10)+dispersió!$C$24*dispersió!$D$43)*dispersió!$C$12),0)","v":4.4046881637456634},{"$f":"IFERROR(dispersió!$C$10*((dispersió!$E$43+'Càlculs interns'!K437)^dispersió!$D$10)*(2*LN('Càlculs interns'!L437/dispersió!$O$56))^(1/2),0)","v":14.19600273482045},{"$f":"-M437","v":-14.19600273482045},null,0,{"$f":"IFERROR((letalitat!$P$14*1000)/((3.14159*dispersió!$C$10*((dispersió!$E$43+P437)^dispersió!$D$10)*dispersió!$E$10*((dispersió!$F$43+P437)^dispersió!$F$10)+dispersió!$C$24*dispersió!$D$43)*dispersió!$C$12),0)","v":4.4046881637456634},{"$f":"IFERROR(dispersió!$C$10*((dispersió!$E$43+'Càlculs interns'!P437)^dispersió!$D$10)*(2*LN('Càlculs interns'!Q437/dispersió!$O$63))^(1/2),0)","v":11.581203900324967},{"$f":"-R437","v":-11.581203900324967}]
[{"$f":"A467/30","v":10.633133637860425},{"$f":"IFERROR((letalitat!$P$14*1000)/((3.14159*dispersió!$C$10*((dispersió!$E$43+A438)^dispersió!$D$10)*dispersió!$E$10*((dispersió!$F$43+A438)^dispersió!$F$10)+dispersió!$C$24*dispersió!$D$43)*dispersió!$C$12),0)","v":3.5427475045140149},{"$f":"IFERROR(dispersió!$C$10*((dispersió!$E$43+'Càlculs interns'!A438)^dispersió!$D$10)*(2*LN('Càlculs interns'!B438/dispersió!$O$42))^(1/2),0)","v":17.705938893657969},-17.705938893657969,null,{"$f":"F467/30","v":8.2610365994788655},{"$f":"IFERROR((letalitat!$P$14*1000)/((3.14159*dispersió!$C$10*((dispersió!$E$43+F438)^dispersió!$D$10)*dispersió!$E$10*((dispersió!$F$43+F438)^dispersió!$F$10)+dispersió!$C$24*dispersió!$D$43)*dispersió!$C$12),0)","v":3.7107570695372685},{"$f":"IFERROR(dispersió!$C$10*((dispersió!$E$43+'Càlculs interns'!F438)^dispersió!$D$10)*(2*LN('Càlculs interns'!G438/dispersió!$O$48))^(1/2),0)","v":16.291402090217638},{"$f":"-H438","v":-16.291402090217638},null,{"$f":"K467/30","v":6.0259394541931446},{"$f":"IFERROR((letalitat!$P$14*1000)/((3.14159*dispersió!$C$10*((dispersió!$E$43+K438)^dispersió!$D$10)*dispersió!$E$10*((dispersió!$F$43+K438)^dispersió!$F$10)+dispersió!$C$24*dispersió!$D$43)*dispersió!$C$12),0)","v":3.880708357471971},{"$f":"IFERROR(dispersió!$C$10*((dispersió!$E$43+'Càlculs interns'!K438)^dispersió!$D$10)*(2*LN('Càlculs interns'!L438/dispersió!$O$56))^(1/2),0)","v":14.656347379730491},{"$f":"-M438","v":-14.656347379730491},null,{"$f":"P467/30","v":3.1833744737326914},{"$f":"IFERROR((letalitat!$P$14*1000)/((3.14159*dispersió!$C$10*((dispersió!$E$43+P438)^dispersió!$D$10)*dispersió!$E$10*((dispersió!$F$43+P438)^dispersió!$F$10)+dispersió!$C$24*dispersió!$D$43)*dispersió!$C$12),0)","v":4.1150083526819197},{"$f":"IFERROR(dispersió!$C$10*((dispersió!$E$43+'Càlculs interns'!P438)^dispersió!$D$10)*(2*LN('Càlculs interns'!Q438/dispersió!$O$63))^(1/2),0)","v":11.683218927917711},{"$f":"-R438","v":-11.683218927917711}]
[{"$f":"A$438+A438","v":21.26626727572085},{"$f":"IFERROR((letalitat!$P$14*1000)/((3.14159*dispersió!$C$10*((dispersió!$E$43+A439)^dispersió!$D$10)*dispersió!$E$10*((dispersió!$F$43+A439)^dispersió!$F$10)+dispersió!$C$24*dispersió!$D$43)*dispersió!$C$12),0)","v":2.9175918588405949},{"$f":"IFERROR(dispersió!$C$10*((dispersió!$E$43+'Càlculs interns'!A439)^dispersió!$D$10)*(2*LN('Càlculs interns'!B439/dispersió!$O$42))^(1/2),0)","v":18.771364554381094},-18.771364554381094,null,{"$f":"F$438+F438","v":16.522073198957731},{"$f":"IFERROR((letalitat!$P$14*1000)/((3.14159*dispersió!$C$10*((dispersió!$E$43+F439)^dispersió!$D$10)*dispersió!$E$10*((dispersió!$F$43+F439)^dispersió!$F$10)+dispersió!$C$24*dispersió!$D$43)*dispersió!$C$12),0)","v":3.173377628367168},{"$f":"IFERROR(dispersió!$C$10*((dispersió!$E$43+'Càlculs interns'!F439)^dispersió!$D$10)*(2*LN('Càlculs interns'!G439/dispersió!$O$48))^(1/2),0)","v":17.010486326435259},-17.010486326435259,null,{"$f":"K$438+K438","v":12.051878908386289},{"$f":"IFERROR((letalitat!$P$14*1000)/((3.14159*dispersió!$C$10*((dispersió!$E$43+K439)^dispersió!$D$10)*dispersió!$E$10*((dispersió!$F$43+K439)^dispersió!$F$10)+dispersió!$C$24*dispersió!$D$43)*dispersió!$C$12),0)","v":3.4478541396334785},{"$f":"IFERROR(dispersió!$C$10*((dispersió!$E$43+'Càlculs interns'!K439)^dispersió!$D$10)*(2*LN('Càlculs interns'!L439/dispersió!$O$56))^(1/2),0)","v":15.071401336586055},-15.071401336586055,null,{"$f":"P$438+P438","v":6.3667489474653829},{"$f":"IFERROR((letalitat!$P$14*1000)/((3.14159*dispersió!$C$10*((dispersió!$E$43+P439)^dispersió!$D$10)*dispersió!$E$10*((dispersió!$F$43+P439)^dispersió!$F$10)+dispersió!$C$24*dispersió!$D$43)*dispersió!$C$12),0)","v":3.8540190557424872},{"$f":"IFERROR(dispersió!$C$10*((dispersió!$E$43+'Càlculs interns'!P439)^dispersió!$D$10)*(2*LN('Càlculs interns'!Q439/dispersió!$O$63))^(1/2),0)","v":11.767514316346299},-11.767514316346299]
[{"$f":"A$438+A439","v":31.899400913581275},{"$f":"IFERROR((letalitat!$P$14*1000)/((3.14159*dispersió!$C$10*((dispersió!$E$43+A440)^dispersió!$D$10)*dispersió!$E$10*((dispersió!$F$43+A440)^dispersió!$F$10)+dispersió!$C$24*dispersió!$D$43)*dispersió!$C$12),0)","v":2.4488206378955044},{"$f":"IFERROR(dispersió!$C$10*((dispersió!$E$43+'Càlculs interns'!A440)^dispersió!$D$10)*(2*LN('Càlculs interns'!B440/dispersió!$O$42))^(1/2),0)","v":19.732965050462834},-19.732965050462834,null,{"$f":"F$438+F439","v":24.783109798436598},{"$f":"IFERROR((letalitat!$P$14*1000)/((3.14159*dispersió!$C$10*((dispersió!$E$43+F440)^dispersió!$D$10)*dispersió!$E$10*((dispersió!$F$43+F440)^dispersió!$F$10)+dispersió!$C$24*dispersió!$D$43)*dispersió!$C$12),0)","v":2.7480992899035619},{"$f":"IFERROR(dispersió!$C$10*((dispersió!$E$43+'Càlculs interns'!F440)^dispersió!$D$10)*(2*LN('Càlculs interns'!G440/dispersió!$O$48))^(1/2),0)","v":17.658744710656485},-17.658744710656485,null,{"$f":"K$438+K439","v":18.077818362579436},{"$f":"IFERROR((letalitat!$P$14*1000)/((3.14159*dispersió!$C$10*((dispersió!$E$43+K440)^dispersió!$D$10)*dispersió!$E$10*((dispersió!$F$43+K440)^dispersió!$F$10)+dispersió!$C$24*dispersió!$D$43)*dispersió!$C$12),0)","v":3.0857730066670692},{"$f":"IFERROR(dispersió!$C$10*((dispersió!$E$43+'Càlculs interns'!K440)^dispersió!$D$10)*(2*LN('Càlculs interns'!L440/dispersió!$O$56))^(1/2),0)","v":15.442282230789605},-15.442282230789605,null,{"$f":"P$438+P439","v":9.5501234211980748},{"$f":"IFERROR((letalitat!$P$14*1000)/((3.14159*dispersió!$C$10*((dispersió!$E$43+P440)^dispersió!$D$10)*dispersió!$E$10*((dispersió!$F$43+P440)^dispersió!$F$10)+dispersió!$C$24*dispersió!$D$43)*dispersió!$C$12),0)","v":3.6179523420485893},{"$f":"IFERROR(dispersió!$C$10*((dispersió!$E$43+'Càlculs interns'!P440)^dispersió!$D$10)*(2*LN('Càlculs interns'!Q440/dispersió!$O$63))^(1/2),0)","v":11.833966473449957},-11.833966473449957]
[42.532534551441699,{"$f":"IFERROR((letalitat!$P$14*1000)/((3.14159*dispersió!$C$10*((dispersió!$E$43+A441)^dispersió!$D$10)*dispersió!$E$10*((dispersió!$F$43+A441)^dispersió!$F$10)+dispersió!$C$24*dispersió!$D$43)*dispersió!$C$12),0)","v":2.0878427076882939},{"$f":"IFERROR(dispersió!$C$10*((dispersió!$E$43+'Càlculs interns'!A441)^dispersió!$D$10)*(2*LN('Càlculs interns'!B441/dispersió!$O$42))^(1/2),0)","v":20.597119891997629},-20.597119891997629,null,33.044146397915462,{"$f":"IFERROR((letalitat!$P$14*1000)/((3.14159*dispersió!$C$10*((dispersió!$E$43+F441)^dispersió!$D$10)*dispersió!$E$10*((dispersió!$F$43+F441)^dispersió!$F$10)+dispersió!$C$24*dispersió!$D$43)*dispersió!$C$12),0)","v":2.4054444999305504},{"$f":"IFERROR(dispersió!$C$10*((dispersió!$E$43+'Càlculs interns'!F441)^dispersió!$D$10)*(2*LN('Càlculs interns'!G441/dispersió!$O$48))^(1/2),0)","v":18.239167200935558},-18.239167200935558,null,24.103757816772578,{"$f":"IFERROR((letalitat!$P$14*1000)/((3.14159*dispersió!$C$10*((dispersió!$E$43+K441)^dispersió!$D$10)*dispersió!$E$10*((dispersió!$F$43+K441)^dispersió!$F$10)+dispersió!$C$24*dispersió!$D$43)*dispersió!$C$12),0)","v":2.7796244289812355},{"$f":"IFERROR(dispersió!$C$10*((dispersió!$E$43+'Càlculs interns'!K441)^dispersió!$D$10)*(2*LN('Càlculs interns'!L441/dispersió!$O$56))^(1/2),0)","v":15.769944023466083},-15.769944023466083,null,12.733497894930766,{"$f":"IFERROR((letalitat!$P$14*1000)/((3.14159*dispersió!$C$10*((dispersió!$E$43+P441)^dispersió!$D$10)*dispersió!$E$10*((dispersió!$F$43+P441)^dispersió!$F$10)+dispersió!$C$24*dispersió!$D$43)*dispersió!$C$12),0)","v":3.403664199875013},{"$f":"IFERROR(dispersió!$C$10*((dispersió!$E$43+'Càlculs interns'!P441)^dispersió!$D$10)*(2*LN('Càlculs interns'!Q441/dispersió!$O$63))^(1/2),0)","v":11.88241826382133},-11.88241826382133]
[53.165668189302124,{"$f":"IFERROR((letalitat!$P$14*1000)/((3.14159*dispersió!$C$10*((dispersió!$E$43+A442)^dispersió!$D$10)*dispersió!$E$10*((dispersió!$F$43+A442)^dispersió!$F$10)+dispersió!$C$24*dispersió!$D$43)*dispersió!$C$12),0)","v":1.8036826213133541},{"$f":"IFERROR(dispersió!$C$10*((dispersió!$E$43+'Càlculs interns'!A442)^dispersió!$D$10)*(2*LN('Càlculs interns'!B442/dispersió!$O$42))^(1/2),0)","v":21.368898447263586},-21.368898447263586,null,41.305182997394326,{"$f":"IFERROR((letalitat!$P$14*1000)/((3.14159*dispersió!$C$10*((dispersió!$E$43+F442)^dispersió!$D$10)*dispersió!$E$10*((dispersió!$F$43+F442)^dispersió!$F$10)+dispersió!$C$24*dispersió!$D$43)*dispersió!$C$12),0)","v":2.1251124062618394},{"$f":"IFERROR(dispersió!$C$10*((dispersió!$E$43+'Càlculs interns'!F442)^dispersió!$D$10)*(2*LN('Càlculs interns'!G442/dispersió!$O$48))^(1/2),0)","v":18.75417715109359},-18.75417715109359,null,30.129697270965721,{"$f":"IFERROR((letalitat!$P$14*1000)/((3.14159*dispersió!$C$10*((dispersió!$E$43+K442)^dispersió!$D$10)*dispersió!$E$10*((dispersió!$F$43+K442)^dispersió!$F$10)+dispersió!$C$24*dispersió!$D$43)*dispersió!$C$12),0)","v":2.5183215197002733},{"$f":"IFERROR(dispersió!$C$10*((dispersió!$E$43+'Càlculs interns'!K442)^dispersió!$D$10)*(2*LN('Càlculs interns'!L442/dispersió!$O$56))^(1/2),0)","v":16.055140808628241},-16.055140808628241,null,15.916872368663457,{"$f":"IFERROR((letalitat!$P$14*1000)/((3.14159*dispersió!$C$10*((dispersió!$E$43+P442)^dispersió!$D$10)*dispersió!$E$10*((dispersió!$F$43+P442)^dispersió!$F$10)+dispersió!$C$24*dispersió!$D$43)*dispersió!$C$12),0)","v":3.2085068180155907},{"$f":"IFERROR(dispersió!$C$10*((dispersió!$E$43+'Càlculs interns'!P442)^dispersió!$D$10)*(2*LN('Càlculs interns'!Q442/dispersió!$O$63))^(1/2),0)","v":11.912669445576112},-11.912669445576112]
[63.798801827162549,{"$f":"IFERROR((letalitat!$P$14*1000)/((3.14159*dispersió!$C$10*((dispersió!$E$43+A443)^dispersió!$D$10)*dispersió!$E$10*((dispersió!$F$43+A443)^dispersió!$F$10)+dispersió!$C$24*dispersió!$D$43)*dispersió!$C$12),0)","v":1.5757869054352254},{"$f":"IFERROR(dispersió!$C$10*((dispersió!$E$43+'Càlculs interns'!A443)^dispersió!$D$10)*(2*LN('Càlculs interns'!B443/dispersió!$O$42))^(1/2),0)","v":22.052263255890345},-22.052263255890345,null,49.566219596873189,{"$f":"IFERROR((letalitat!$P$14*1000)/((3.14159*dispersió!$C$10*((dispersió!$E$43+F443)^dispersió!$D$10)*dispersió!$E$10*((dispersió!$F$43+F443)^dispersió!$F$10)+dispersió!$C$24*dispersió!$D$43)*dispersió!$C$12),0)","v":1.8927115147419931},{"$f":"IFERROR(dispersió!$C$10*((dispersió!$E$43+'Càlculs interns'!F443)^dispersió!$D$10)*(2*LN('Càlculs interns'!G443/dispersió!$O$48))^(1/2),0)","v":19.20567084672782},-19.20567084672782,null,36.155636725158864,{"$f":"IFERROR((letalitat!$P$14*1000)/((3.14159*dispersió!$C$10*((dispersió!$E$43+K443)^dispersió!$D$10)*dispersió!$E$10*((dispersió!$F$43+K443)^dispersió!$F$10)+dispersió!$C$24*dispersió!$D$43)*dispersió!$C$12),0)","v":2.2934219795520163},{"$f":"IFERROR(dispersió!$C$10*((dispersió!$E$43+'Càlculs interns'!K443)^dispersió!$D$10)*(2*LN('Càlculs interns'!L443/dispersió!$O$56))^(1/2),0)","v":16.298416995781434},-16.298416995781434,null,19.10024684239615,{"$f":"IFERROR((letalitat!$P$14*1000)/((3.14159*dispersió!$C$10*((dispersió!$E$43+P443)^dispersió!$D$10)*dispersió!$E$10*((dispersió!$F$43+P443)^dispersió!$F$10)+dispersió!$C$24*dispersió!$D$43)*dispersió!$C$12),0)","v":3.0302328062848081},{"$f":"IFERROR(dispersió!$C$10*((dispersió!$E$43+'Càlculs interns'!P443)^dispersió!$D$10)*(2*LN('Càlculs interns'!Q443/dispersió!$O$63))^(1/2),0)","v":11.924468590949434},-11.924468590949434]
[74.431935465022974,{"$f":"IFERROR((letalitat!$P$14*1000)/((3.14159*dispersió!$C$10*((dispersió!$E$43+A444)^dispersió!$D$10)*dispersió!$E$10*((dispersió!$F$43+A444)^dispersió!$F$10)+dispersió!$C$24*dispersió!$D$43)*dispersió!$C$12),0)","v":1.3900681329491753},{"$f":"IFERROR(dispersió!$C$10*((dispersió!$E$43+'Càlculs interns'!A444)^dispersió!$D$10)*(2*LN('Càlculs interns'!B444/dispersió!$O$42))^(1/2),0)","v":22.650249863598045},-22.650249863598045,null,57.827256196352053,{"$f":"IFERROR((letalitat!$P$14*1000)/((3.14159*dispersió!$C$10*((dispersió!$E$43+F444)^dispersió!$D$10)*dispersió!$E$10*((dispersió!$F$43+F444)^dispersió!$F$10)+dispersió!$C$24*dispersió!$D$43)*dispersió!$C$12),0)","v":1.6977953539362409},{"$f":"IFERROR(dispersió!$C$10*((dispersió!$E$43+'Càlculs interns'!F444)^dispersió!$D$10)*(2*LN('Càlculs interns'!G444/dispersió!$O$48))^(1/2),0)","v":19.595066836615622},-19.595066836615622,null,42.181576179352007,{"$f":"IFERROR((letalitat!$P$14*1000)/((3.14159*dispersió!$C$10*((dispersió!$E$43+K444)^dispersió!$D$10)*dispersió!$E$10*((dispersió!$F$43+K444)^dispersió!$F$10)+dispersió!$C$24*dispersió!$D$43)*dispersió!$C$12),0)","v":2.0983948725460744},{"$f":"IFERROR(dispersió!$C$10*((dispersió!$E$43+'Càlculs interns'!K444)^dispersió!$D$10)*(2*LN('Càlculs interns'!L444/dispersió!$O$56))^(1/2),0)","v":16.500106342867038},-16.500106342867038,null,22.283621316128841,{"$f":"IFERROR((letalitat!$P$14*1000)/((3.14159*dispersió!$C$10*((dispersió!$E$43+P444)^dispersió!$D$10)*dispersió!$E$10*((dispersió!$F$43+P444)^dispersió!$F$10)+dispersió!$C$24*dispersió!$D$43)*dispersió!$C$12),0)","v":2.8669217793186772},{"$f":"IFERROR(dispersió!$C$10*((dispersió!$E$43+'Càlculs interns'!P444)^dispersió!$D$10)*(2*LN('Càlculs interns'!Q444/dispersió!$O$63))^(1/2),0)","v":11.91750542848855},-11.91750542848855]
[85.065069102883399,{"$f":"IFERROR((letalitat!$P$14*1000)/((3.14159*dispersió!$C$10*((dispersió!$E$43+A445)^dispersió!$D$10)*dispersió!$E$10*((dispersió!$F$43+A445)^dispersió!$F$10)+dispersió!$C$24*dispersió!$D$43)*dispersió!$C$12),0)","v":1.2366038681458396},{"$f":"IFERROR(dispersió!$C$10*((dispersió!$E$43+'Càlculs interns'!A445)^dispersió!$D$10)*(2*LN('Càlculs interns'!B445/dispersió!$O$42))^(1/2),0)","v":23.165104919949133},-23.165104919949133,null,66.088292795830924,{"$f":"IFERROR((letalitat!$P$14*1000)/((3.14159*dispersió!$C$10*((dispersió!$E$43+F445)^dispersió!$D$10)*dispersió!$E$10*((dispersió!$F$43+F445)^dispersió!$F$10)+dispersió!$C$24*dispersió!$D$43)*dispersió!$C$12),0)","v":1.5326271413833443},{"$f":"IFERROR(dispersió!$C$10*((dispersió!$E$43+'Càlculs interns'!F445)^dispersió!$D$10)*(2*LN('Càlculs interns'!G445/dispersió!$O$48))^(1/2),0)","v":19.923348331439261},-19.923348331439261,null,48.20751563354515,{"$f":"IFERROR((letalitat!$P$14*1000)/((3.14159*dispersió!$C$10*((dispersió!$E$43+K445)^dispersió!$D$10)*dispersió!$E$10*((dispersió!$F$43+K445)^dispersió!$F$10)+dispersió!$C$24*dispersió!$D$43)*dispersió!$C$12),0)","v":1.9281189938475158},{"$f":"IFERROR(dispersió!$C$10*((dispersió!$E$43+'Càlculs interns'!K445)^dispersió!$D$10)*(2*LN('Càlculs interns'!L445/dispersió!$O$56))^(1/2),0)","v":16.660332394834544},-16.660332394834544,null,25.466995789861532,{"$f":"IFERROR((letalitat!$P$14*1000)/((3.14159*dispersió!$C$10*((dispersió!$E$43+P445)^dispersió!$D$10)*dispersió!$E$10*((dispersió!$F$43+P445)^dispersió!$F$10)+dispersió!$C$24*dispersió!$D$43)*dispersió!$C$12),0)","v":2.716923071626248},{"$f":"IFERROR(dispersió!$C$10*((dispersió!$E$43+'Càlculs interns'!P445)^dispersió!$D$10)*(2*LN('Càlculs interns'!Q445/dispersió!$O$63))^(1/2),0)","v":11.891402850652057},-11.891402850652057]
[95.698202740743824,{"$f":"IFERROR((letalitat!$P$14*1000)/((3.14159*dispersió!$C$10*((dispersió!$E$43+A446)^dispersió!$D$10)*dispersió!$E$10*((dispersió!$F$43+A446)^dispersió!$F$10)+dispersió!$C$24*dispersió!$D$43)*dispersió!$C$12),0)","v":1.1082393907380585},{"$f":"IFERROR(dispersió!$C$10*((dispersió!$E$43+'Càlculs interns'!A446)^dispersió!$D$10)*(2*LN('Càlculs interns'!B446/dispersió!$O$42))^(1/2),0)","v":23.598385599015185},-23.598385599015185,null,74.349329395309795,{"$f":"IFERROR((letalitat!$P$14*1000)/((3.14159*dispersió!$C$10*((dispersió!$E$43+F446)^dispersió!$D$10)*dispersió!$E$10*((dispersió!$F$43+F446)^dispersió!$F$10)+dispersió!$C$24*dispersió!$D$43)*dispersió!$C$12),0)","v":1.3913758368482805},{"$f":"IFERROR(dispersió!$C$10*((dispersió!$E$43+'Càlculs interns'!F446)^dispersió!$D$10)*(2*LN('Càlculs interns'!G446/dispersió!$O$48))^(1/2),0)","v":20.191094125557356},-20.191094125557356,null,54.233455087738292,{"$f":"IFERROR((letalitat!$P$14*1000)/((3.14159*dispersió!$C$10*((dispersió!$E$43+K446)^dispersió!$D$10)*dispersió!$E$10*((dispersió!$F$43+K446)^dispersió!$F$10)+dispersió!$C$24*dispersió!$D$43)*dispersió!$C$12),0)","v":1.7785305487871612},{"$f":"IFERROR(dispersió!$C$10*((dispersió!$E$43+'Càlculs interns'!K446)^dispersió!$D$10)*(2*LN('Càlculs interns'!L446/dispersió!$O$56))^(1/2),0)","v":16.779006897478382},-16.779006897478382,null,28.650370263594223,{"$f":"IFERROR((letalitat!$P$14*1000)/((3.14159*dispersió!$C$10*((dispersió!$E$43+P446)^dispersió!$D$10)*dispersió!$E$10*((dispersió!$F$43+P446)^dispersió!$F$10)+dispersió!$C$24*dispersió!$D$43)*dispersió!$C$12),0)","v":2.5788103791127197},{"$f":"IFERROR(dispersió!$C$10*((dispersió!$E$43+'Càlculs interns'!P446)^dispersió!$D$10)*(2*LN('Càlculs interns'!Q446/dispersió!$O$63))^(1/2),0)","v":11.845707968700534},-11.845707968700534]
[106.33133637860425,{"$f":"IFERROR((letalitat!$P$14*1000)/((3.14159*dispersió!$C$10*((dispersió!$E$43+A447)^dispersió!$D$10)*dispersió!$E$10*((dispersió!$F$43+A447)^dispersió!$F$10)+dispersió!$C$24*dispersió!$D$43)*dispersió!$C$12),0)","v":0.99970889705048072},{"$f":"IFERROR(dispersió!$C$10*((dispersió!$E$43+'Càlculs interns'!A447)^dispersió!$D$10)*(2*LN('Càlculs interns'!B447/dispersió!$O$42))^(1/2),0)","v":23.951026655332694},-23.951026655332694,null,82.610365994788665,{"$f":"IFERROR((letalitat!$P$14*1000)/((3.14159*dispersió!$C$10*((dispersió!$E$43+F447)^dispersió!$D$10)*dispersió!$E$10*((dispersió!$F$43+F447)^dispersió!$F$10)+dispersió!$C$24*dispersió!$D$43)*dispersió!$C$12),0)","v":1.2695782401353037},{"$f":"IFERROR(dispersió!$C$10*((dispersió!$E$43+'Càlculs interns'!F447)^dispersió!$D$10)*(2*LN('Càlculs interns'!G447/dispersió!$O$48))^(1/2),0)","v":20.398497203164609},-20.398497203164609,null,60.259394541931435,{"$f":"IFERROR((letalitat!$P$14*1000)/((3.14159*dispersió!$C$10*((dispersió!$E$43+K447)^dispersió!$D$10)*dispersió!$E$10*((dispersió!$F$43+K447)^dispersió!$F$10)+dispersió!$C$24*dispersió!$D$43)*dispersió!$C$12),0)","v":1.6463704234863445},{"$f":"IFERROR(dispersió!$C$10*((dispersió!$E$43+'Càlculs interns'!K447)^dispersió!$D$10)*(2*LN('Càlculs interns'!L447/dispersió!$O$56))^(1/2),0)","v":16.855824371016546},-16.855824371016546,null,31.833744737326914,{"$f":"IFERROR((letalitat!$P$14*1000)/((3.14159*dispersió!$C$10*((dispersió!$E$43+P447)^dispersió!$D$10)*dispersió!$E$10*((dispersió!$F$43+P447)^dispersió!$F$10)+dispersió!$C$24*dispersió!$D$43)*dispersió!$C$12),0)","v":2.4513454011970977},{"$f":"IFERROR(dispersió!$C$10*((dispersió!$E$43+'Càlculs interns'!P447)^dispersió!$D$10)*(2*LN('Càlculs interns'!Q447/dispersió!$O$63))^(1/2),0)","v":11.779881627424011},-11.779881627424011]
[116.96447001646467,{"$f":"IFERROR((letalitat!$P$14*1000)/((3.14159*dispersió!$C$10*((dispersió!$E$43+A448)^dispersió!$D$10)*dispersió!$E$10*((dispersió!$F$43+A448)^dispersió!$F$10)+dispersió!$C$24*dispersió!$D$43)*dispersió!$C$12),0)","v":0.90706607674671735},{"$f":"IFERROR(dispersió!$C$10*((dispersió!$E$43+'Càlculs interns'!A448)^dispersió!$D$10)*(2*LN('Càlculs interns'!B448/dispersió!$O$42))^(1/2),0)","v":24.22338038588185},-24.22338038588185,null,90.871402594267536,{"$f":"IFERROR((letalitat!$P$14*1000)/((3.14159*dispersió!$C$10*((dispersió!$E$43+F448)^dispersió!$D$10)*dispersió!$E$10*((dispersió!$F$43+F448)^dispersió!$F$10)+dispersió!$C$24*dispersió!$D$43)*dispersió!$C$12),0)","v":1.1637705829104874},{"$f":"IFERROR(dispersió!$C$10*((dispersió!$E$43+'Càlculs interns'!F448)^dispersió!$D$10)*(2*LN('Càlculs interns'!G448/dispersió!$O$48))^(1/2),0)","v":20.545371044092079},-20.545371044092079,null,66.285333996124578,{"$f":"IFERROR((letalitat!$P$14*1000)/((3.14159*dispersió!$C$10*((dispersió!$E$43+K448)^dispersió!$D$10)*dispersió!$E$10*((dispersió!$F$43+K448)^dispersió!$F$10)+dispersió!$C$24*dispersió!$D$43)*dispersió!$C$12),0)","v":1.5289996751622932},{"$f":"IFERROR(dispersió!$C$10*((dispersió!$E$43+'Càlculs interns'!K448)^dispersió!$D$10)*(2*LN('Càlculs interns'!L448/dispersió!$O$56))^(1/2),0)","v":16.890251599068172},-16.890251599068172,null,35.017119211059608,{"$f":"IFERROR((letalitat!$P$14*1000)/((3.14159*dispersió!$C$10*((dispersió!$E$43+P448)^dispersió!$D$10)*dispersió!$E$10*((dispersió!$F$43+P448)^dispersió!$F$10)+dispersió!$C$24*dispersió!$D$43)*dispersió!$C$12),0)","v":2.3334483931905829},{"$f":"IFERROR(dispersió!$C$10*((dispersió!$E$43+'Càlculs interns'!P448)^dispersió!$D$10)*(2*LN('Càlculs interns'!Q448/dispersió!$O$63))^(1/2),0)","v":11.693285740829413},-11.693285740829413]
[127.5976036543251,{"$f":"IFERROR((letalitat!$P$14*1000)/((3.14159*dispersió!$C$10*((dispersió!$E$43+A449)^dispersió!$D$10)*dispersió!$E$10*((dispersió!$F$43+A449)^dispersió!$F$10)+dispersió!$C$24*dispersió!$D$43)*dispersió!$C$12),0)","v":0.82730548039183494},{"$f":"IFERROR(dispersió!$C$10*((dispersió!$E$43+'Càlculs interns'!A449)^dispersió!$D$10)*(2*LN('Càlculs interns'!B449/dispersió!$O$42))^(1/2),0)","v":24.415232880732638},-24.415232880732638,null,99.132439193746407,{"$f":"IFERROR((letalitat!$P$14*1000)/((3.14159*dispersió!$C$10*((dispersió!$E$43+F449)^dispersió!$D$10)*dispersió!$E$10*((dispersió!$F$43+F449)^dispersió!$F$10)+dispersió!$C$24*dispersió!$D$43)*dispersió!$C$12),0)","v":1.0712310385508141},{"$f":"IFERROR(dispersió!$C$10*((dispersió!$E$43+'Càlculs interns'!F449)^dispersió!$D$10)*(2*LN('Càlculs interns'!G449/dispersió!$O$48))^(1/2),0)","v":20.631143457705431},-20.631143457705431,null,72.311273450317728,{"$f":"IFERROR((letalitat!$P$14*1000)/((3.14159*dispersió!$C$10*((dispersió!$E$43+K449)^dispersió!$D$10)*dispersió!$E$10*((dispersió!$F$43+K449)^dispersió!$F$10)+dispersió!$C$24*dispersió!$D$43)*dispersió!$C$12),0)","v":1.4242627741097862},{"$f":"IFERROR(dispersió!$C$10*((dispersió!$E$43+'Càlculs interns'!K449)^dispersió!$D$10)*(2*LN('Càlculs interns'!L449/dispersió!$O$56))^(1/2),0)","v":16.88151084453995},-16.88151084453995,null,38.200493684792299,{"$f":"IFERROR((letalitat!$P$14*1000)/((3.14159*dispersió!$C$10*((dispersió!$E$43+P449)^dispersió!$D$10)*dispersió!$E$10*((dispersió!$F$43+P449)^dispersió!$F$10)+dispersió!$C$24*dispersió!$D$43)*dispersió!$C$12),0)","v":2.2241741015618914},{"$f":"IFERROR(dispersió!$C$10*((dispersió!$E$43+'Càlculs interns'!P449)^dispersió!$D$10)*(2*LN('Càlculs interns'!Q449/dispersió!$O$63))^(1/2),0)","v":11.585167680417905},-11.585167680417905]
[138.23073729218552,{"$f":"IFERROR((letalitat!$P$14*1000)/((3.14159*dispersió!$C$10*((dispersió!$E$43+A450)^dispersió!$D$10)*dispersió!$E$10*((dispersió!$F$43+A450)^dispersió!$F$10)+dispersió!$C$24*dispersió!$D$43)*dispersió!$C$12),0)","v":0.75810493992983508},{"$f":"IFERROR(dispersió!$C$10*((dispersió!$E$43+'Càlculs interns'!A450)^dispersió!$D$10)*(2*LN('Càlculs interns'!B450/dispersió!$O$42))^(1/2),0)","v":24.525798006275025},-24.525798006275025,null,107.39347579322528,{"$f":"IFERROR((letalitat!$P$14*1000)/((3.14159*dispersió!$C$10*((dispersió!$E$43+F450)^dispersió!$D$10)*dispersió!$E$10*((dispersió!$F$43+F450)^dispersió!$F$10)+dispersió!$C$24*dispersió!$D$43)*dispersió!$C$12),0)","v":0.98979649986896912},{"$f":"IFERROR(dispersió!$C$10*((dispersió!$E$43+'Càlculs interns'!F450)^dispersió!$D$10)*(2*LN('Càlculs interns'!G450/dispersió!$O$48))^(1/2),0)","v":20.654837134486087},-20.654837134486087,null,78.337212904510878,{"$f":"IFERROR((letalitat!$P$14*1000)/((3.14159*dispersió!$C$10*((dispersió!$E$43+K450)^dispersió!$D$10)*dispersió!$E$10*((dispersió!$F$43+K450)^dispersió!$F$10)+dispersió!$C$24*dispersió!$D$43)*dispersió!$C$12),0)","v":1.3303848826228741},{"$f":"IFERROR(dispersió!$C$10*((dispersió!$E$43+'Càlculs interns'!K450)^dispersió!$D$10)*(2*LN('Càlculs interns'!L450/dispersió!$O$56))^(1/2),0)","v":16.828555343021673},-16.828555343021673,null,41.38386815852499,{"$f":"IFERROR((letalitat!$P$14*1000)/((3.14159*dispersió!$C$10*((dispersió!$E$43+P450)^dispersió!$D$10)*dispersió!$E$10*((dispersió!$F$43+P450)^dispersió!$F$10)+dispersió!$C$24*dispersió!$D$43)*dispersió!$C$12),0)","v":2.1226919444050689},{"$f":"IFERROR(dispersió!$C$10*((dispersió!$E$43+'Càlculs interns'!P450)^dispersió!$D$10)*(2*LN('Càlculs interns'!Q450/dispersió!$O$63))^(1/2),0)","v":11.454640727344618},-11.454640727344618]
[148.86387093004595,{"$f":"IFERROR((letalitat!$P$14*1000)/((3.14159*dispersió!$C$10*((dispersió!$E$43+A451)^dispersió!$D$10)*dispersió!$E$10*((dispersió!$F$43+A451)^dispersió!$F$10)+dispersió!$C$24*dispersió!$D$43)*dispersió!$C$12),0)","v":0.69764673808034394},{"$f":"IFERROR(dispersió!$C$10*((dispersió!$E$43+'Càlculs interns'!A451)^dispersió!$D$10)*(2*LN('Càlculs interns'!B451/dispersió!$O$42))^(1/2),0)","v":24.553688632660464},-24.553688632660464,null,115.65451239270415,{"$f":"IFERROR((letalitat!$P$14*1000)/((3.14159*dispersió!$C$10*((dispersió!$E$43+F451)^dispersió!$D$10)*dispersió!$E$10*((dispersió!$F$43+F451)^dispersió!$F$10)+dispersió!$C$24*dispersió!$D$43)*dispersió!$C$12),0)","v":0.91773009202419209},{"$f":"IFERROR(dispersió!$C$10*((dispersió!$E$43+'Càlculs interns'!F451)^dispersió!$D$10)*(2*LN('Càlculs interns'!G451/dispersió!$O$48))^(1/2),0)","v":20.615035161811893},-20.615035161811893,null,84.363152358704028,{"$f":"IFERROR((letalitat!$P$14*1000)/((3.14159*dispersió!$C$10*((dispersió!$E$43+K451)^dispersió!$D$10)*dispersió!$E$10*((dispersió!$F$43+K451)^dispersió!$F$10)+dispersió!$C$24*dispersió!$D$43)*dispersió!$C$12),0)","v":1.2458937775861345},{"$f":"IFERROR(dispersió!$C$10*((dispersió!$E$43+'Càlculs interns'!K451)^dispersió!$D$10)*(2*LN('Càlculs interns'!L451/dispersió!$O$56))^(1/2),0)","v":16.730035092508714},-16.730035092508714,null,44.567242632257681,{"$f":"IFERROR((letalitat!$P$14*1000)/((3.14159*dispersió!$C$10*((dispersió!$E$43+P451)^dispersió!$D$10)*dispersió!$E$10*((dispersió!$F$43+P451)^dispersió!$F$10)+dispersió!$C$24*dispersió!$D$43)*dispersió!$C$12),0)","v":2.0282695756229727},{"$f":"IFERROR(dispersió!$C$10*((dispersió!$E$43+'Càlculs interns'!P451)^dispersió!$D$10)*(2*LN('Càlculs interns'!Q451/dispersió!$O$63))^(1/2),0)","v":11.300659257653656},-11.300659257653656]
[159.49700456790637,{"$f":"IFERROR((letalitat!$P$14*1000)/((3.14159*dispersió!$C$10*((dispersió!$E$43+A452)^dispersió!$D$10)*dispersió!$E$10*((dispersió!$F$43+A452)^dispersió!$F$10)+dispersió!$C$24*dispersió!$D$43)*dispersió!$C$12),0)","v":0.644491159053732},{"$f":"IFERROR(dispersió!$C$10*((dispersió!$E$43+'Càlculs interns'!A452)^dispersió!$D$10)*(2*LN('Càlculs interns'!B452/dispersió!$O$42))^(1/2),0)","v":24.496862511216726},-24.496862511216726,null,123.91554899218302,{"$f":"IFERROR((letalitat!$P$14*1000)/((3.14159*dispersió!$C$10*((dispersió!$E$43+F452)^dispersió!$D$10)*dispersió!$E$10*((dispersió!$F$43+F452)^dispersió!$F$10)+dispersió!$C$24*dispersió!$D$43)*dispersió!$C$12),0)","v":0.85362396886588121},{"$f":"IFERROR(dispersió!$C$10*((dispersió!$E$43+'Càlculs interns'!F452)^dispersió!$D$10)*(2*LN('Càlculs interns'!G452/dispersió!$O$48))^(1/2),0)","v":20.509828455885941},-20.509828455885941,null,90.389091812897178,{"$f":"IFERROR((letalitat!$P$14*1000)/((3.14159*dispersió!$C$10*((dispersió!$E$43+K452)^dispersió!$D$10)*dispersió!$E$10*((dispersió!$F$43+K452)^dispersió!$F$10)+dispersió!$C$24*dispersió!$D$43)*dispersió!$C$12),0)","v":1.1695598630218014},{"$f":"IFERROR(dispersió!$C$10*((dispersió!$E$43+'Càlculs interns'!K452)^dispersió!$D$10)*(2*LN('Càlculs interns'!L452/dispersió!$O$56))^(1/2),0)","v":16.584250107997388},{"$f":"-M452","v":-16.584250107997388},null,47.750617105990372,{"$f":"IFERROR((letalitat!$P$14*1000)/((3.14159*dispersió!$C$10*((dispersió!$E$43+P452)^dispersió!$D$10)*dispersió!$E$10*((dispersió!$F$43+P452)^dispersió!$F$10)+dispersió!$C$24*dispersió!$D$43)*dispersió!$C$12),0)","v":1.9402591711759725},{"$f":"IFERROR(dispersió!$C$10*((dispersió!$E$43+'Càlculs interns'!P452)^dispersió!$D$10)*(2*LN('Càlculs interns'!Q452/dispersió!$O$63))^(1/2),0)","v":11.121986809853766},-11.121986809853766]
[170.1301382057668,{"$f":"IFERROR((letalitat!$P$14*1000)/((3.14159*dispersió!$C$10*((dispersió!$E$43+A453)^dispersió!$D$10)*dispersió!$E$10*((dispersió!$F$43+A453)^dispersió!$F$10)+dispersió!$C$24*dispersió!$D$43)*dispersió!$C$12),0)","v":0.59748558546937203},{"$f":"IFERROR(dispersió!$C$10*((dispersió!$E$43+'Càlculs interns'!A453)^dispersió!$D$10)*(2*LN('Càlculs interns'!B453/dispersió!$O$42))^(1/2),0)","v":24.352537616733219},-24.352537616733219,null,132.17658559166188,{"$f":"IFERROR((letalitat!$P$14*1000)/((3.14159*dispersió!$C$10*((dispersió!$E$43+F453)^dispersió!$D$10)*dispersió!$E$10*((dispersió!$F$43+F453)^dispersió!$F$10)+dispersió!$C$24*dispersió!$D$43)*dispersió!$C$12),0)","v":0.7963270448515265},{"$f":"IFERROR(dispersió!$C$10*((dispersió!$E$43+'Càlculs interns'!F453)^dispersió!$D$10)*(2*LN('Càlculs interns'!G453/dispersió!$O$48))^(1/2),0)","v":20.3367402338685},-20.3367402338685,null,96.415031267090328,{"$f":"IFERROR((letalitat!$P$14*1000)/((3.14159*dispersió!$C$10*((dispersió!$E$43+K453)^dispersió!$D$10)*dispersió!$E$10*((dispersió!$F$43+K453)^dispersió!$F$10)+dispersió!$C$24*dispersió!$D$43)*dispersió!$C$12),0)","v":1.1003496262326657},{"$f":"IFERROR(dispersió!$C$10*((dispersió!$E$43+'Càlculs interns'!K453)^dispersió!$D$10)*(2*LN('Càlculs interns'!L453/dispersió!$O$56))^(1/2),0)","v":16.389087004805937},-16.389087004805937,null,50.933991579723063,{"$f":"IFERROR((letalitat!$P$14*1000)/((3.14159*dispersió!$C$10*((dispersió!$E$43+P453)^dispersió!$D$10)*dispersió!$E$10*((dispersió!$F$43+P453)^dispersió!$F$10)+dispersió!$C$24*dispersió!$D$43)*dispersió!$C$12),0)","v":1.8580859229557916},{"$f":"IFERROR(dispersió!$C$10*((dispersió!$E$43+'Càlculs interns'!P453)^dispersió!$D$10)*(2*LN('Càlculs interns'!Q453/dispersió!$O$63))^(1/2),0)","v":10.91715439015759},-10.91715439015759]
[180.76327184362722,{"$f":"IFERROR((letalitat!$P$14*1000)/((3.14159*dispersió!$C$10*((dispersió!$E$43+A454)^dispersió!$D$10)*dispersió!$E$10*((dispersió!$F$43+A454)^dispersió!$F$10)+dispersió!$C$24*dispersió!$D$43)*dispersió!$C$12),0)","v":0.55569815778733977},{"$f":"IFERROR(dispersió!$C$10*((dispersió!$E$43+'Càlculs interns'!A454)^dispersió!$D$10)*(2*LN('Càlculs interns'!B454/dispersió!$O$42))^(1/2),0)","v":24.117068214225579},-24.117068214225579,null,140.43762219114075,{"$f":"IFERROR((letalitat!$P$14*1000)/((3.14159*dispersió!$C$10*((dispersió!$E$43+F454)^dispersió!$D$10)*dispersió!$E$10*((dispersió!$F$43+F454)^dispersió!$F$10)+dispersió!$C$24*dispersió!$D$43)*dispersió!$C$12),0)","v":0.74489060917991334},{"$f":"IFERROR(dispersió!$C$10*((dispersió!$E$43+'Càlculs interns'!F454)^dispersió!$D$10)*(2*LN('Càlculs interns'!G454/dispersió!$O$48))^(1/2),0)","v":20.092619946374406},-20.092619946374406,null,102.44097072128348,{"$f":"IFERROR((letalitat!$P$14*1000)/((3.14159*dispersió!$C$10*((dispersió!$E$43+K454)^dispersió!$D$10)*dispersió!$E$10*((dispersió!$F$43+K454)^dispersió!$F$10)+dispersió!$C$24*dispersió!$D$43)*dispersió!$C$12),0)","v":1.0373891965903075},{"$f":"IFERROR(dispersió!$C$10*((dispersió!$E$43+'Càlculs interns'!K454)^dispersió!$D$10)*(2*LN('Càlculs interns'!L454/dispersió!$O$56))^(1/2),0)","v":16.14193275723942},-16.14193275723942,null,54.117366053455754,{"$f":"IFERROR((letalitat!$P$14*1000)/((3.14159*dispersió!$C$10*((dispersió!$E$43+P454)^dispersió!$D$10)*dispersió!$E$10*((dispersió!$F$43+P454)^dispersió!$F$10)+dispersió!$C$24*dispersió!$D$43)*dispersió!$C$12),0)","v":1.7812383360029864},{"$f":"IFERROR(dispersió!$C$10*((dispersió!$E$43+'Càlculs interns'!P454)^dispersió!$D$10)*(2*LN('Càlculs interns'!Q454/dispersió!$O$63))^(1/2),0)","v":10.684405137505074},{"$f":"-R454","v":-10.684405137505074}]
[191.39640548148765,{"$f":"IFERROR((letalitat!$P$14*1000)/((3.14159*dispersió!$C$10*((dispersió!$E$43+A455)^dispersió!$D$10)*dispersió!$E$10*((dispersió!$F$43+A455)^dispersió!$F$10)+dispersió!$C$24*dispersió!$D$43)*dispersió!$C$12),0)","v":0.51836868862701813},{"$f":"IFERROR(dispersió!$C$10*((dispersió!$E$43+'Càlculs interns'!A455)^dispersió!$D$10)*(2*LN('Càlculs interns'!B455/dispersió!$O$42))^(1/2),0)","v":23.785767606999599},-23.785767606999599,null,148.69865879061962,{"$f":"IFERROR((letalitat!$P$14*1000)/((3.14159*dispersió!$C$10*((dispersió!$E$43+F455)^dispersió!$D$10)*dispersió!$E$10*((dispersió!$F$43+F455)^dispersió!$F$10)+dispersió!$C$24*dispersió!$D$43)*dispersió!$C$12),0)","v":0.69852693684439149},{"$f":"IFERROR(dispersió!$C$10*((dispersió!$E$43+'Càlculs interns'!F455)^dispersió!$D$10)*(2*LN('Càlculs interns'!G455/dispersió!$O$48))^(1/2),0)","v":19.773494903766512},-19.773494903766512,null,108.46691017547663,{"$f":"IFERROR((letalitat!$P$14*1000)/((3.14159*dispersió!$C$10*((dispersió!$E$43+K455)^dispersió!$D$10)*dispersió!$E$10*((dispersió!$F$43+K455)^dispersió!$F$10)+dispersió!$C$24*dispersió!$D$43)*dispersió!$C$12),0)","v":0.97993557410633558},{"$f":"IFERROR(dispersió!$C$10*((dispersió!$E$43+'Càlculs interns'!K455)^dispersió!$D$10)*(2*LN('Càlculs interns'!L455/dispersió!$O$56))^(1/2),0)","v":15.839556284730143},-15.839556284730143,null,57.300740527188445,{"$f":"IFERROR((letalitat!$P$14*1000)/((3.14159*dispersió!$C$10*((dispersió!$E$43+P455)^dispersió!$D$10)*dispersió!$E$10*((dispersió!$F$43+P455)^dispersió!$F$10)+dispersió!$C$24*dispersió!$D$43)*dispersió!$C$12),0)","v":1.7092600083584202},{"$f":"IFERROR(dispersió!$C$10*((dispersió!$E$43+'Càlculs interns'!P455)^dispersió!$D$10)*(2*LN('Càlculs interns'!Q455/dispersió!$O$63))^(1/2),0)","v":10.4216195077724},-10.4216195077724]
[202.02953911934807,{"$f":"IFERROR((letalitat!$P$14*1000)/((3.14159*dispersió!$C$10*((dispersió!$E$43+A456)^dispersió!$D$10)*dispersió!$E$10*((dispersió!$F$43+A456)^dispersió!$F$10)+dispersió!$C$24*dispersió!$D$43)*dispersió!$C$12),0)","v":0.48487188267618592},{"$f":"IFERROR(dispersió!$C$10*((dispersió!$E$43+'Càlculs interns'!A456)^dispersió!$D$10)*(2*LN('Càlculs interns'!B456/dispersió!$O$42))^(1/2),0)","v":23.352655101274152},{"$f":"-C456","v":-23.352655101274152},null,156.95969539009849,{"$f":"IFERROR((letalitat!$P$14*1000)/((3.14159*dispersió!$C$10*((dispersió!$E$43+F456)^dispersió!$D$10)*dispersió!$E$10*((dispersió!$F$43+F456)^dispersió!$F$10)+dispersió!$C$24*dispersió!$D$43)*dispersió!$C$12),0)","v":0.6565774631407767},{"$f":"IFERROR(dispersió!$C$10*((dispersió!$E$43+'Càlculs interns'!F456)^dispersió!$D$10)*(2*LN('Càlculs interns'!G456/dispersió!$O$48))^(1/2),0)","v":19.374361063092532},{"$f":"-H456","v":-19.374361063092532},null,114.49284962966978,{"$f":"IFERROR((letalitat!$P$14*1000)/((3.14159*dispersió!$C$10*((dispersió!$E$43+K456)^dispersió!$D$10)*dispersió!$E$10*((dispersió!$F$43+K456)^dispersió!$F$10)+dispersió!$C$24*dispersió!$D$43)*dispersió!$C$12),0)","v":0.92735373577100644},{"$f":"IFERROR(dispersió!$C$10*((dispersió!$E$43+'Càlculs interns'!K456)^dispersió!$D$10)*(2*LN('Càlculs interns'!L456/dispersió!$O$56))^(1/2),0)","v":15.47794329763053},-15.47794329763053,null,60.484115000921136,{"$f":"IFERROR((letalitat!$P$14*1000)/((3.14159*dispersió!$C$10*((dispersió!$E$43+P456)^dispersió!$D$10)*dispersió!$E$10*((dispersió!$F$43+P456)^dispersió!$F$10)+dispersió!$C$24*dispersió!$D$43)*dispersió!$C$12),0)","v":1.6417426370103287},{"$f":"IFERROR(dispersió!$C$10*((dispersió!$E$43+'Càlculs interns'!P456)^dispersió!$D$10)*(2*LN('Càlculs interns'!Q456/dispersió!$O$63))^(1/2),0)","v":10.126211917570924},-10.126211917570924]
[212.6626727572085,{"$f":"IFERROR((letalitat!$P$14*1000)/((3.14159*dispersió!$C$10*((dispersió!$E$43+A457)^dispersió!$D$10)*dispersió!$E$10*((dispersió!$F$43+A457)^dispersió!$F$10)+dispersió!$C$24*dispersió!$D$43)*dispersió!$C$12),0)","v":0.45468945499683627},{"$f":"IFERROR(dispersió!$C$10*((dispersió!$E$43+'Càlculs interns'!A457)^dispersió!$D$10)*(2*LN('Càlculs interns'!B457/dispersió!$O$42))^(1/2),0)","v":22.810090631783485},-22.810090631783485,null,165.22073198957736,{"$f":"IFERROR((letalitat!$P$14*1000)/((3.14159*dispersió!$C$10*((dispersió!$E$43+F457)^dispersió!$D$10)*dispersió!$E$10*((dispersió!$F$43+F457)^dispersió!$F$10)+dispersió!$C$24*dispersió!$D$43)*dispersió!$C$12),0)","v":0.6184880758962259},{"$f":"IFERROR(dispersió!$C$10*((dispersió!$E$43+'Càlculs interns'!F457)^dispersió!$D$10)*(2*LN('Càlculs interns'!G457/dispersió!$O$48))^(1/2),0)","v":18.888883031238404},-18.888883031238404,null,120.51878908386293,{"$f":"IFERROR((letalitat!$P$14*1000)/((3.14159*dispersió!$C$10*((dispersió!$E$43+K457)^dispersió!$D$10)*dispersió!$E$10*((dispersió!$F$43+K457)^dispersió!$F$10)+dispersió!$C$24*dispersió!$D$43)*dispersió!$C$12),0)","v":0.87909828576482452},{"$f":"IFERROR(dispersió!$C$10*((dispersió!$E$43+'Càlculs interns'!K457)^dispersió!$D$10)*(2*LN('Càlculs interns'!L457/dispersió!$O$56))^(1/2),0)","v":15.052060985637329},-15.052060985637329,null,63.667489474653827,{"$f":"IFERROR((letalitat!$P$14*1000)/((3.14159*dispersió!$C$10*((dispersió!$E$43+P457)^dispersió!$D$10)*dispersió!$E$10*((dispersió!$F$43+P457)^dispersió!$F$10)+dispersió!$C$24*dispersió!$D$43)*dispersió!$C$12),0)","v":1.5783200431997675},{"$f":"IFERROR(dispersió!$C$10*((dispersió!$E$43+'Càlculs interns'!P457)^dispersió!$D$10)*(2*LN('Càlculs interns'!Q457/dispersió!$O$63))^(1/2),0)","v":9.7949843176438431},-9.7949843176438431]
[223.29580639506892,{"$f":"IFERROR((letalitat!$P$14*1000)/((3.14159*dispersió!$C$10*((dispersió!$E$43+A458)^dispersió!$D$10)*dispersió!$E$10*((dispersió!$F$43+A458)^dispersió!$F$10)+dispersió!$C$24*dispersió!$D$43)*dispersió!$C$12),0)","v":0.42738876668571546},{"$f":"IFERROR(dispersió!$C$10*((dispersió!$E$43+'Càlculs interns'!A458)^dispersió!$D$10)*(2*LN('Càlculs interns'!B458/dispersió!$O$42))^(1/2),0)","v":22.148235713103478},-22.148235713103478,null,173.48176858905623,{"$f":"IFERROR((letalitat!$P$14*1000)/((3.14159*dispersió!$C$10*((dispersió!$E$43+F458)^dispersió!$D$10)*dispersió!$E$10*((dispersió!$F$43+F458)^dispersió!$F$10)+dispersió!$C$24*dispersió!$D$43)*dispersió!$C$12),0)","v":0.58378976150714801},{"$f":"IFERROR(dispersió!$C$10*((dispersió!$E$43+'Càlculs interns'!F458)^dispersió!$D$10)*(2*LN('Càlculs interns'!G458/dispersió!$O$48))^(1/2),0)","v":18.308953202764741},-18.308953202764741,null,126.54472853805608,{"$f":"IFERROR((letalitat!$P$14*1000)/((3.14159*dispersió!$C$10*((dispersió!$E$43+K458)^dispersió!$D$10)*dispersió!$E$10*((dispersió!$F$43+K458)^dispersió!$F$10)+dispersió!$C$24*dispersió!$D$43)*dispersió!$C$12),0)","v":0.83469864699984997},{"$f":"IFERROR(dispersió!$C$10*((dispersió!$E$43+'Càlculs interns'!K458)^dispersió!$D$10)*(2*LN('Càlculs interns'!L458/dispersió!$O$56))^(1/2),0)","v":14.555513477375909},-14.555513477375909,null,66.850863948386518,{"$f":"IFERROR((letalitat!$P$14*1000)/((3.14159*dispersió!$C$10*((dispersió!$E$43+P458)^dispersió!$D$10)*dispersió!$E$10*((dispersió!$F$43+P458)^dispersió!$F$10)+dispersió!$C$24*dispersió!$D$43)*dispersió!$C$12),0)","v":1.5186630493628737},{"$f":"IFERROR(dispersió!$C$10*((dispersió!$E$43+'Càlculs interns'!P458)^dispersió!$D$10)*(2*LN('Càlculs interns'!Q458/dispersió!$O$63))^(1/2),0)","v":9.4239124727312387},-9.4239124727312387]
[233.92894003292935,{"$f":"IFERROR((letalitat!$P$14*1000)/((3.14159*dispersió!$C$10*((dispersió!$E$43+A459)^dispersió!$D$10)*dispersió!$E$10*((dispersió!$F$43+A459)^dispersió!$F$10)+dispersió!$C$24*dispersió!$D$43)*dispersió!$C$12),0)","v":0.40260629074190019},{"$f":"IFERROR(dispersió!$C$10*((dispersió!$E$43+'Càlculs interns'!A459)^dispersió!$D$10)*(2*LN('Càlculs interns'!B459/dispersió!$O$42))^(1/2),0)","v":21.354233426664422},-21.354233426664422,null,181.7428051885351,{"$f":"IFERROR((letalitat!$P$14*1000)/((3.14159*dispersió!$C$10*((dispersió!$E$43+F459)^dispersió!$D$10)*dispersió!$E$10*((dispersió!$F$43+F459)^dispersió!$F$10)+dispersió!$C$24*dispersió!$D$43)*dispersió!$C$12),0)","v":0.55208331787903631},{"$f":"IFERROR(dispersió!$C$10*((dispersió!$E$43+'Càlculs interns'!F459)^dispersió!$D$10)*(2*LN('Càlculs interns'!G459/dispersió!$O$48))^(1/2),0)","v":17.624022549236368},-17.624022549236368,null,132.57066799224921,{"$f":"IFERROR((letalitat!$P$14*1000)/((3.14159*dispersió!$C$10*((dispersió!$E$43+K459)^dispersió!$D$10)*dispersió!$E$10*((dispersió!$F$43+K459)^dispersió!$F$10)+dispersió!$C$24*dispersió!$D$43)*dispersió!$C$12),0)","v":0.79374703369041533},{"$f":"IFERROR(dispersió!$C$10*((dispersió!$E$43+'Càlculs interns'!K459)^dispersió!$D$10)*(2*LN('Càlculs interns'!L459/dispersió!$O$56))^(1/2),0)","v":13.980019889632887},-13.980019889632887,null,70.034238422119216,{"$f":"IFERROR((letalitat!$P$14*1000)/((3.14159*dispersió!$C$10*((dispersió!$E$43+P459)^dispersió!$D$10)*dispersió!$E$10*((dispersió!$F$43+P459)^dispersió!$F$10)+dispersió!$C$24*dispersió!$D$43)*dispersió!$C$12),0)","v":1.462475070813158},{"$f":"IFERROR(dispersió!$C$10*((dispersió!$E$43+'Càlculs interns'!P459)^dispersió!$D$10)*(2*LN('Càlculs interns'!Q459/dispersió!$O$63))^(1/2),0)","v":9.0078226786029099},-9.0078226786029099]
[244.56207367078977,{"$f":"IFERROR((letalitat!$P$14*1000)/((3.14159*dispersió!$C$10*((dispersió!$E$43+A460)^dispersió!$D$10)*dispersió!$E$10*((dispersió!$F$43+A460)^dispersió!$F$10)+dispersió!$C$24*dispersió!$D$43)*dispersió!$C$12),0)","v":0.38003469723431366},{"$f":"IFERROR(dispersió!$C$10*((dispersió!$E$43+'Càlculs interns'!A460)^dispersió!$D$10)*(2*LN('Càlculs interns'!B460/dispersió!$O$42))^(1/2),0)","v":20.410909570133626},-20.410909570133626,null,190.00384178801397,{"$f":"IFERROR((letalitat!$P$14*1000)/((3.14159*dispersió!$C$10*((dispersió!$E$43+F460)^dispersió!$D$10)*dispersió!$E$10*((dispersió!$F$43+F460)^dispersió!$F$10)+dispersió!$C$24*dispersió!$D$43)*dispersió!$C$12),0)","v":0.5230271852472963},{"$f":"IFERROR(dispersió!$C$10*((dispersió!$E$43+'Càlculs interns'!F460)^dispersió!$D$10)*(2*LN('Càlculs interns'!G460/dispersió!$O$48))^(1/2),0)","v":16.820041802883743},-16.820041802883743,null,138.59660744644236,{"$f":"IFERROR((letalitat!$P$14*1000)/((3.14159*dispersió!$C$10*((dispersió!$E$43+K460)^dispersió!$D$10)*dispersió!$E$10*((dispersió!$F$43+K460)^dispersió!$F$10)+dispersió!$C$24*dispersió!$D$43)*dispersió!$C$12),0)","v":0.75588862351247055},{"$f":"IFERROR(dispersió!$C$10*((dispersió!$E$43+'Càlculs interns'!K460)^dispersió!$D$10)*(2*LN('Càlculs interns'!L460/dispersió!$O$56))^(1/2),0)","v":13.314589331840141},-13.314589331840141,null,73.217612895851914,{"$f":"IFERROR((letalitat!$P$14*1000)/((3.14159*dispersió!$C$10*((dispersió!$E$43+P460)^dispersió!$D$10)*dispersió!$E$10*((dispersió!$F$43+P460)^dispersió!$F$10)+dispersió!$C$24*dispersió!$D$43)*dispersió!$C$12),0)","v":1.4094883098055377},{"$f":"IFERROR(dispersió!$C$10*((dispersió!$E$43+'Càlculs interns'!P460)^dispersió!$D$10)*(2*LN('Càlculs interns'!Q460/dispersió!$O$63))^(1/2),0)","v":8.5398809958447703},-8.5398809958447703]
[255.1952073086502,{"$f":"IFERROR((letalitat!$P$14*1000)/((3.14159*dispersió!$C$10*((dispersió!$E$43+A461)^dispersió!$D$10)*dispersió!$E$10*((dispersió!$F$43+A461)^dispersió!$F$10)+dispersió!$C$24*dispersió!$D$43)*dispersió!$C$12),0)","v":0.35941267825209294},{"$f":"IFERROR(dispersió!$C$10*((dispersió!$E$43+'Càlculs interns'!A461)^dispersió!$D$10)*(2*LN('Càlculs interns'!B461/dispersió!$O$42))^(1/2),0)","v":19.294604962837074},-19.294604962837074,null,198.26487838749284,{"$f":"IFERROR((letalitat!$P$14*1000)/((3.14159*dispersió!$C$10*((dispersió!$E$43+F461)^dispersió!$D$10)*dispersió!$E$10*((dispersió!$F$43+F461)^dispersió!$F$10)+dispersió!$C$24*dispersió!$D$43)*dispersió!$C$12),0)","v":0.49632768798360166},{"$f":"IFERROR(dispersió!$C$10*((dispersió!$E$43+'Càlculs interns'!F461)^dispersió!$D$10)*(2*LN('Càlculs interns'!G461/dispersió!$O$48))^(1/2),0)","v":15.877695247369344},-15.877695247369344,null,144.62254690063551,{"$f":"IFERROR((letalitat!$P$14*1000)/((3.14159*dispersió!$C$10*((dispersió!$E$43+K461)^dispersió!$D$10)*dispersió!$E$10*((dispersió!$F$43+K461)^dispersió!$F$10)+dispersió!$C$24*dispersió!$D$43)*dispersió!$C$12),0)","v":0.7208134811906014},{"$f":"IFERROR(dispersió!$C$10*((dispersió!$E$43+'Càlculs interns'!K461)^dispersió!$D$10)*(2*LN('Càlculs interns'!L461/dispersió!$O$56))^(1/2),0)","v":12.544145291044515},-12.544145291044515,null,76.400987369584612,{"$f":"IFERROR((letalitat!$P$14*1000)/((3.14159*dispersió!$C$10*((dispersió!$E$43+P461)^dispersió!$D$10)*dispersió!$E$10*((dispersió!$F$43+P461)^dispersió!$F$10)+dispersió!$C$24*dispersió!$D$43)*dispersió!$C$12),0)","v":1.3594604592924568},{"$f":"IFERROR(dispersió!$C$10*((dispersió!$E$43+'Càlculs interns'!P461)^dispersió!$D$10)*(2*LN('Càlculs interns'!Q461/dispersió!$O$63))^(1/2),0)","v":8.0107413463607529},-8.0107413463607529]
[265.82834094651059,{"$f":"IFERROR((letalitat!$P$14*1000)/((3.14159*dispersió!$C$10*((dispersió!$E$43+A462)^dispersió!$D$10)*dispersió!$E$10*((dispersió!$F$43+A462)^dispersió!$F$10)+dispersió!$C$24*dispersió!$D$43)*dispersió!$C$12),0)","v":0.34051686668833597},{"$f":"IFERROR(dispersió!$C$10*((dispersió!$E$43+'Càlculs interns'!A462)^dispersió!$D$10)*(2*LN('Càlculs interns'!B462/dispersió!$O$42))^(1/2),0)","v":17.971302337707517},-17.971302337707517,null,206.52591498697171,{"$f":"IFERROR((letalitat!$P$14*1000)/((3.14159*dispersió!$C$10*((dispersió!$E$43+F462)^dispersió!$D$10)*dispersió!$E$10*((dispersió!$F$43+F462)^dispersió!$F$10)+dispersió!$C$24*dispersió!$D$43)*dispersió!$C$12),0)","v":0.47173115588073894},{"$f":"IFERROR(dispersió!$C$10*((dispersió!$E$43+'Càlculs interns'!F462)^dispersió!$D$10)*(2*LN('Càlculs interns'!G462/dispersió!$O$48))^(1/2),0)","v":14.7692454539448},-14.7692454539448,null,150.64848635482866,{"$f":"IFERROR((letalitat!$P$14*1000)/((3.14159*dispersió!$C$10*((dispersió!$E$43+K462)^dispersió!$D$10)*dispersió!$E$10*((dispersió!$F$43+K462)^dispersió!$F$10)+dispersió!$C$24*dispersió!$D$43)*dispersió!$C$12),0)","v":0.68824988552352817},{"$f":"IFERROR(dispersió!$C$10*((dispersió!$E$43+'Càlculs interns'!K462)^dispersió!$D$10)*(2*LN('Càlculs interns'!L462/dispersió!$O$56))^(1/2),0)","v":11.647068301268078},-11.647068301268078,null,79.584361843317311,{"$f":"IFERROR((letalitat!$P$14*1000)/((3.14159*dispersió!$C$10*((dispersió!$E$43+P462)^dispersió!$D$10)*dispersió!$E$10*((dispersió!$F$43+P462)^dispersió!$F$10)+dispersió!$C$24*dispersió!$D$43)*dispersió!$C$12),0)","v":1.3121718395461355},{"$f":"IFERROR(dispersió!$C$10*((dispersió!$E$43+'Càlculs interns'!P462)^dispersió!$D$10)*(2*LN('Càlculs interns'!Q462/dispersió!$O$63))^(1/2),0)","v":7.4070225798736962},-7.4070225798736962]
[276.46147458437099,{"$f":"IFERROR((letalitat!$P$14*1000)/((3.14159*dispersió!$C$10*((dispersió!$E$43+A463)^dispersió!$D$10)*dispersió!$E$10*((dispersió!$F$43+A463)^dispersió!$F$10)+dispersió!$C$24*dispersió!$D$43)*dispersió!$C$12),0)","v":0.32315536950562679},{"$f":"IFERROR(dispersió!$C$10*((dispersió!$E$43+'Càlculs interns'!A463)^dispersió!$D$10)*(2*LN('Càlculs interns'!B463/dispersió!$O$42))^(1/2),0)","v":16.389042410194261},-16.389042410194261,null,214.78695158645058,{"$f":"IFERROR((letalitat!$P$14*1000)/((3.14159*dispersió!$C$10*((dispersió!$E$43+F463)^dispersió!$D$10)*dispersió!$E$10*((dispersió!$F$43+F463)^dispersió!$F$10)+dispersió!$C$24*dispersió!$D$43)*dispersió!$C$12),0)","v":0.44901752174675574},{"$f":"IFERROR(dispersió!$C$10*((dispersió!$E$43+'Càlculs interns'!F463)^dispersió!$D$10)*(2*LN('Càlculs interns'!G463/dispersió!$O$48))^(1/2),0)","v":13.452354810953979},-13.452354810953979,null,156.67442580902181,{"$f":"IFERROR((letalitat!$P$14*1000)/((3.14159*dispersió!$C$10*((dispersió!$E$43+K463)^dispersió!$D$10)*dispersió!$E$10*((dispersió!$F$43+K463)^dispersió!$F$10)+dispersió!$C$24*dispersió!$D$43)*dispersió!$C$12),0)","v":0.65795878775514405},{"$f":"IFERROR(dispersió!$C$10*((dispersió!$E$43+'Càlculs interns'!K463)^dispersió!$D$10)*(2*LN('Càlculs interns'!L463/dispersió!$O$56))^(1/2),0)","v":10.590383564636692},-10.590383564636692,null,82.767736317050009,{"$f":"IFERROR((letalitat!$P$14*1000)/((3.14159*dispersió!$C$10*((dispersió!$E$43+P463)^dispersió!$D$10)*dispersió!$E$10*((dispersió!$F$43+P463)^dispersió!$F$10)+dispersió!$C$24*dispersió!$D$43)*dispersió!$C$12),0)","v":1.2674229036893221},{"$f":"IFERROR(dispersió!$C$10*((dispersió!$E$43+'Càlculs interns'!P463)^dispersió!$D$10)*(2*LN('Càlculs interns'!Q463/dispersió!$O$63))^(1/2),0)","v":6.7083228237940258},-6.7083228237940258]
[287.09460822223139,{"$f":"IFERROR((letalitat!$P$14*1000)/((3.14159*dispersió!$C$10*((dispersió!$E$43+A464)^dispersió!$D$10)*dispersió!$E$10*((dispersió!$F$43+A464)^dispersió!$F$10)+dispersió!$C$24*dispersió!$D$43)*dispersió!$C$12),0)","v":0.3071625562948298},{"$f":"IFERROR(dispersió!$C$10*((dispersió!$E$43+'Càlculs interns'!A464)^dispersió!$D$10)*(2*LN('Càlculs interns'!B464/dispersió!$O$42))^(1/2),0)","v":14.461023900939056},-14.461023900939056,null,223.04798818592946,{"$f":"IFERROR((letalitat!$P$14*1000)/((3.14159*dispersió!$C$10*((dispersió!$E$43+F464)^dispersió!$D$10)*dispersió!$E$10*((dispersió!$F$43+F464)^dispersió!$F$10)+dispersió!$C$24*dispersió!$D$43)*dispersió!$C$12),0)","v":0.42799508694475297},{"$f":"IFERROR(dispersió!$C$10*((dispersió!$E$43+'Càlculs interns'!F464)^dispersió!$D$10)*(2*LN('Càlculs interns'!G464/dispersió!$O$48))^(1/2),0)","v":11.856316165060834},-11.856316165060834,null,162.70036526321496,{"$f":"IFERROR((letalitat!$P$14*1000)/((3.14159*dispersió!$C$10*((dispersió!$E$43+K464)^dispersió!$D$10)*dispersió!$E$10*((dispersió!$F$43+K464)^dispersió!$F$10)+dispersió!$C$24*dispersió!$D$43)*dispersió!$C$12),0)","v":0.62972918713915604},{"$f":"IFERROR(dispersió!$C$10*((dispersió!$E$43+'Càlculs interns'!K464)^dispersió!$D$10)*(2*LN('Càlculs interns'!L464/dispersió!$O$56))^(1/2),0)","v":9.319034172317604},-9.319034172317604,null,85.951110790782707,{"$f":"IFERROR((letalitat!$P$14*1000)/((3.14159*dispersió!$C$10*((dispersió!$E$43+P464)^dispersió!$D$10)*dispersió!$E$10*((dispersió!$F$43+P464)^dispersió!$F$10)+dispersió!$C$24*dispersió!$D$43)*dispersió!$C$12),0)","v":1.2250320586704122},{"$f":"IFERROR(dispersió!$C$10*((dispersió!$E$43+'Càlculs interns'!P464)^dispersió!$D$10)*(2*LN('Càlculs interns'!Q464/dispersió!$O$63))^(1/2),0)","v":5.8805557446536145},-5.8805557446536145]
[297.72774186009178,{"$f":"IFERROR((letalitat!$P$14*1000)/((3.14159*dispersió!$C$10*((dispersió!$E$43+A465)^dispersió!$D$10)*dispersió!$E$10*((dispersió!$F$43+A465)^dispersió!$F$10)+dispersió!$C$24*dispersió!$D$43)*dispersió!$C$12),0)","v":0.29239483151986662},{"$f":"IFERROR(dispersió!$C$10*((dispersió!$E$43+'Càlculs interns'!A465)^dispersió!$D$10)*(2*LN('Càlculs interns'!B465/dispersió!$O$42))^(1/2),0)","v":12.019657369689449},-12.019657369689449,null,231.30902478540833,{"$f":"IFERROR((letalitat!$P$14*1000)/((3.14159*dispersió!$C$10*((dispersió!$E$43+F465)^dispersió!$D$10)*dispersió!$E$10*((dispersió!$F$43+F465)^dispersió!$F$10)+dispersió!$C$24*dispersió!$D$43)*dispersió!$C$12),0)","v":0.40849621717805129},{"$f":"IFERROR(dispersió!$C$10*((dispersió!$E$43+'Càlculs interns'!F465)^dispersió!$D$10)*(2*LN('Càlculs interns'!G465/dispersió!$O$48))^(1/2),0)","v":9.8446155497754031},-9.8446155497754031,null,168.72630471740811,{"$f":"IFERROR((letalitat!$P$14*1000)/((3.14159*dispersió!$C$10*((dispersió!$E$43+K465)^dispersió!$D$10)*dispersió!$E$10*((dispersió!$F$43+K465)^dispersió!$F$10)+dispersió!$C$24*dispersió!$D$43)*dispersió!$C$12),0)","v":0.60337425409596046},{"$f":"IFERROR(dispersió!$C$10*((dispersió!$E$43+'Càlculs interns'!K465)^dispersió!$D$10)*(2*LN('Càlculs interns'!L465/dispersió!$O$56))^(1/2),0)","v":7.7267129405475243},-7.7267129405475243,null,89.134485264515405,{"$f":"IFERROR((letalitat!$P$14*1000)/((3.14159*dispersió!$C$10*((dispersió!$E$43+P465)^dispersió!$D$10)*dispersió!$E$10*((dispersió!$F$43+P465)^dispersió!$F$10)+dispersió!$C$24*dispersió!$D$43)*dispersió!$C$12),0)","v":1.1848337568177076},{"$f":"IFERROR(dispersió!$C$10*((dispersió!$E$43+'Càlculs interns'!P465)^dispersió!$D$10)*(2*LN('Càlculs interns'!Q465/dispersió!$O$63))^(1/2),0)","v":4.8578020097392578},-4.8578020097392578]
[308.36087549795218,{"$f":"IFERROR((letalitat!$P$14*1000)/((3.14159*dispersió!$C$10*((dispersió!$E$43+A466)^dispersió!$D$10)*dispersió!$E$10*((dispersió!$F$43+A466)^dispersió!$F$10)+dispersió!$C$24*dispersió!$D$43)*dispersió!$C$12),0)","v":0.27872718330421575},{"$f":"IFERROR(dispersió!$C$10*((dispersió!$E$43+'Càlculs interns'!A466)^dispersió!$D$10)*(2*LN('Càlculs interns'!B466/dispersió!$O$42))^(1/2),0)","v":8.6370640399499798},-8.6370640399499798,null,239.5700613848872,{"$f":"IFERROR((letalitat!$P$14*1000)/((3.14159*dispersió!$C$10*((dispersió!$E$43+F466)^dispersió!$D$10)*dispersió!$E$10*((dispersió!$F$43+F466)^dispersió!$F$10)+dispersió!$C$24*dispersió!$D$43)*dispersió!$C$12),0)","v":0.39037378393537064},{"$f":"IFERROR(dispersió!$C$10*((dispersió!$E$43+'Càlculs interns'!F466)^dispersió!$D$10)*(2*LN('Càlculs interns'!G466/dispersió!$O$48))^(1/2),0)","v":7.0686991446719194},-7.0686991446719194,null,174.75224417160126,{"$f":"IFERROR((letalitat!$P$14*1000)/((3.14159*dispersió!$C$10*((dispersió!$E$43+K466)^dispersió!$D$10)*dispersió!$E$10*((dispersió!$F$43+K466)^dispersió!$F$10)+dispersió!$C$24*dispersió!$D$43)*dispersió!$C$12),0)","v":0.57872806584776704},{"$f":"IFERROR(dispersió!$C$10*((dispersió!$E$43+'Càlculs interns'!K466)^dispersió!$D$10)*(2*LN('Càlculs interns'!L466/dispersió!$O$56))^(1/2),0)","v":5.5419554384156449},-5.5419554384156449,null,92.317859738248103,{"$f":"IFERROR((letalitat!$P$14*1000)/((3.14159*dispersió!$C$10*((dispersió!$E$43+P466)^dispersió!$D$10)*dispersió!$E$10*((dispersió!$F$43+P466)^dispersió!$F$10)+dispersió!$C$24*dispersió!$D$43)*dispersió!$C$12),0)","v":1.1466768201859108},{"$f":"IFERROR(dispersió!$C$10*((dispersió!$E$43+'Càlculs interns'!P466)^dispersió!$D$10)*(2*LN('Càlculs interns'!Q466/dispersió!$O$63))^(1/2),0)","v":3.4712891538709783},-3.4712891538709783]
[{"$f":"dispersió!G43","v":318.99400913581275},{"$f":"IFERROR((letalitat!$P$14*1000)/((3.14159*dispersió!$C$10*((dispersió!$E$43+A467)^dispersió!$D$10)*dispersió!$E$10*((dispersió!$F$43+A467)^dispersió!$F$10)+dispersió!$C$24*dispersió!$D$43)*dispersió!$C$12),0)","v":0.26605034950185286},{"$f":"IFERROR(dispersió!$C$10*((dispersió!$E$43+'Càlculs interns'!A467)^dispersió!$D$10)*(2*LN('Càlculs interns'!B467/dispersió!$O$42))^(1/2),0)","v":0},0,null,{"$f":"dispersió!G50","v":247.83109798436595},{"$f":"IFERROR((letalitat!$P$14*1000)/((3.14159*dispersió!$C$10*((dispersió!$E$43+F467)^dispersió!$D$10)*dispersió!$E$10*((dispersió!$F$43+F467)^dispersió!$F$10)+dispersió!$C$24*dispersió!$D$43)*dispersió!$C$12),0)","v":0.37349820725416749},{"$f":"IFERROR(dispersió!$C$10*((dispersió!$E$43+'Càlculs interns'!F467)^dispersió!$D$10)*(2*LN('Càlculs interns'!G467/dispersió!$O$48))^(1/2),0)","v":0},0,null,{"$f":"dispersió!G57","v":180.77818362579433},{"$f":"IFERROR((letalitat!$P$14*1000)/((3.14159*dispersió!$C$10*((dispersió!$E$43+K467)^dispersió!$D$10)*dispersió!$E$10*((dispersió!$F$43+K467)^dispersió!$F$10)+dispersió!$C$24*dispersió!$D$43)*dispersió!$C$12),0)","v":0.55564284628683147},{"$f":"IFERROR(dispersió!$C$10*((dispersió!$E$43+'Càlculs interns'!K467)^dispersió!$D$10)*(2*LN('Càlculs interns'!L467/dispersió!$O$56))^(1/2),0)","v":0},0,null,{"$f":"dispersió!G64","v":95.501234211980744},{"$f":"IFERROR((letalitat!$P$14*1000)/((3.14159*dispersió!$C$10*((dispersió!$E$43+P467)^dispersió!$D$10)*dispersió!$E$10*((dispersió!$F$43+P467)^dispersió!$F$10)+dispersió!$C$24*dispersió!$D$43)*dispersió!$C$12),0)","v":1.1104229657596207},{"$f":"IFERROR(dispersió!$C$10*((dispersió!$E$43+'Càlculs interns'!P467)^dispersió!$D$10)*(2*LN('Càlculs interns'!Q467/dispersió!$O$63))^(1/2),0)","v":0},0]
[]
["Est. F"]
["LC1",null,"LC1+","LC1-",null,"LC10",null,"LC10+","LC10-",null,"LC50",null,"LC50+","LC50-",null,"LC99",null,"LC99+","LC99-"]
["X","C(x)","y+","y-",null,"X","C(x)","y+","y-",null,"X","C(x)","y+","y-",null,"X","C(x)","y+","y-"]
[0,{"$f":"IFERROR((letalitat!$P$14*1000)/((3.14159*dispersió!$I$10*((dispersió!$J$43+A472)^dispersió!$J$10)*dispersió!$K$10*((dispersió!$K$43+A472)^dispersió!$L$10)+dispersió!$C$24*dispersió!$D$43)*dispersió!$I$12),0)","v":13.552886657678968},{"$f":"IFERROR(dispersió!$I$10*((dispersió!$J$43+'Càlculs interns'!A472)^dispersió!$J$10)*(2*LN('Càlculs interns'!B472/dispersió!$O$42))^(1/2),0)","v":19.560640701838313},{"$f":"-C472","v":-19.560640701838313},null,0,{"$f":"IFERROR((letalitat!$P$14*1000)/((3.14159*dispersió!$I$10*((dispersió!$J$43+F472)^dispersió!$J$10)*dispersió!$K$10*((dispersió!$K$43+F472)^dispersió!$L$10)+dispersió!$C$24*dispersió!$D$43)*dispersió!$I$12),0)","v":13.552886657678968},{"$f":"IFERROR(dispersió!$I$10*((dispersió!$J$43+'Càlculs interns'!F472)^dispersió!$J$10)*(2*LN('Càlculs interns'!G472/dispersió!$O$48))^(1/2),0)","v":18.697629145938869},{"$f":"-H472","v":-18.697629145938869},null,0,{"$f":"IFERROR((letalitat!$P$14*1000)/((3.14159*dispersió!$I$10*((dispersió!$J$43+K472)^dispersió!$J$10)*dispersió!$K$10*((dispersió!$K$43+K472)^dispersió!$L$10)+dispersió!$C$24*dispersió!$D$43)*dispersió!$I$12),0)","v":13.552886657678968},{"$f":"IFERROR(dispersió!$I$10*((dispersió!$J$43+'Càlculs interns'!K472)^dispersió!$J$10)*(2*LN('Càlculs interns'!L472/dispersió!$O$56))^(1/2),0)","v":17.633519143307371},{"$f":"-M472","v":-17.633519143307371},null,0,{"$f":"IFERROR((letalitat!$P$14*1000)/((3.14159*dispersió!$I$10*((dispersió!$J$43+P472)^dispersió!$J$10)*dispersió!$K$10*((dispersió!$K$43+P472)^dispersió!$L$10)+dispersió!$C$24*dispersió!$D$43)*dispersió!$I$12),0)","v":13.552886657678968},{"$f":"IFERROR(dispersió!$I$10*((dispersió!$J$43+'Càlculs interns'!P472)^dispersió!$J$10)*(2*LN('Càlculs interns'!Q472/dispersió!$O$63))^(1/2),0)","v":15.605729316865009},{"$f":"-R472","v":-15.605729316865009}]
[{"$f":"A502/30","v":73.696995940277603},{"$f":"IFERROR((letalitat!$P$14*1000)/((3.14159*dispersió!$I$10*((dispersió!$J$43+A473)^dispersió!$J$10)*dispersió!$K$10*((dispersió!$K$43+A473)^dispersió!$L$10)+dispersió!$C$24*dispersió!$D$43)*dispersió!$I$12),0)","v":8.554362601784895},{"$f":"IFERROR(dispersió!$I$10*((dispersió!$J$43+'Càlculs interns'!A473)^dispersió!$J$10)*(2*LN('Càlculs interns'!B473/dispersió!$O$42))^(1/2),0)","v":25.107618130664502},-25.107618130664502,null,{"$f":"F502/30","v":58.314164931924964},{"$f":"IFERROR((letalitat!$P$14*1000)/((3.14159*dispersió!$I$10*((dispersió!$J$43+F473)^dispersió!$J$10)*dispersió!$K$10*((dispersió!$K$43+F473)^dispersió!$L$10)+dispersió!$C$24*dispersió!$D$43)*dispersió!$I$12),0)","v":9.3347232409412193},{"$f":"IFERROR(dispersió!$I$10*((dispersió!$J$43+'Càlculs interns'!F473)^dispersió!$J$10)*(2*LN('Càlculs interns'!G473/dispersió!$O$48))^(1/2),0)","v":22.844382145622177},{"$f":"-H473","v":-22.844382145622177},null,{"$f":"K502/30","v":44.040868294363534},{"$f":"IFERROR((letalitat!$P$14*1000)/((3.14159*dispersió!$I$10*((dispersió!$J$43+K473)^dispersió!$J$10)*dispersió!$K$10*((dispersió!$K$43+K473)^dispersió!$L$10)+dispersió!$C$24*dispersió!$D$43)*dispersió!$I$12),0)","v":10.16119382378659},{"$f":"IFERROR(dispersió!$I$10*((dispersió!$J$43+'Càlculs interns'!K473)^dispersió!$J$10)*(2*LN('Càlculs interns'!L473/dispersió!$O$56))^(1/2),0)","v":20.523482292077052},{"$f":"-M473","v":-20.523482292077052},null,{"$f":"P502/30","v":26.281121541678367},{"$f":"IFERROR((letalitat!$P$14*1000)/((3.14159*dispersió!$I$10*((dispersió!$J$43+P473)^dispersió!$J$10)*dispersió!$K$10*((dispersió!$K$43+P473)^dispersió!$L$10)+dispersió!$C$24*dispersió!$D$43)*dispersió!$I$12),0)","v":11.35551538427366},{"$f":"IFERROR(dispersió!$I$10*((dispersió!$J$43+'Càlculs interns'!P473)^dispersió!$J$10)*(2*LN('Càlculs interns'!Q473/dispersió!$O$63))^(1/2),0)","v":17.02926635415632},{"$f":"-R473","v":-17.02926635415632}]
[{"$f":"A$473+A473","v":147.39399188055521},{"$f":"IFERROR((letalitat!$P$14*1000)/((3.14159*dispersió!$I$10*((dispersió!$J$43+A474)^dispersió!$J$10)*dispersió!$K$10*((dispersió!$K$43+A474)^dispersió!$L$10)+dispersió!$C$24*dispersió!$D$43)*dispersió!$I$12),0)","v":5.9206863783562751},{"$f":"IFERROR(dispersió!$I$10*((dispersió!$J$43+'Càlculs interns'!A474)^dispersió!$J$10)*(2*LN('Càlculs interns'!B474/dispersió!$O$42))^(1/2),0)","v":29.917646676506976},-29.917646676506976,null,{"$f":"F$473+F473","v":116.62832986384993},{"$f":"IFERROR((letalitat!$P$14*1000)/((3.14159*dispersió!$I$10*((dispersió!$J$43+F474)^dispersió!$J$10)*dispersió!$K$10*((dispersió!$K$43+F474)^dispersió!$L$10)+dispersió!$C$24*dispersió!$D$43)*dispersió!$I$12),0)","v":6.8408113808218012},{"$f":"IFERROR(dispersió!$I$10*((dispersió!$J$43+'Càlculs interns'!F474)^dispersió!$J$10)*(2*LN('Càlculs interns'!G474/dispersió!$O$48))^(1/2),0)","v":26.484585801462206},-26.484585801462206,null,{"$f":"K$473+K473","v":88.081736588727068},{"$f":"IFERROR((letalitat!$P$14*1000)/((3.14159*dispersió!$I$10*((dispersió!$J$43+K474)^dispersió!$J$10)*dispersió!$K$10*((dispersió!$K$43+K474)^dispersió!$L$10)+dispersió!$C$24*dispersió!$D$43)*dispersió!$I$12),0)","v":7.9122113880028557},{"$f":"IFERROR(dispersió!$I$10*((dispersió!$J$43+'Càlculs interns'!K474)^dispersió!$J$10)*(2*LN('Càlculs interns'!L474/dispersió!$O$56))^(1/2),0)","v":23.092485674688131},-23.092485674688131,null,{"$f":"P$473+P473","v":52.562243083356734},{"$f":"IFERROR((letalitat!$P$14*1000)/((3.14159*dispersió!$I$10*((dispersió!$J$43+P474)^dispersió!$J$10)*dispersió!$K$10*((dispersió!$K$43+P474)^dispersió!$L$10)+dispersió!$C$24*dispersió!$D$43)*dispersió!$I$12),0)","v":9.6549315749268292},{"$f":"IFERROR(dispersió!$I$10*((dispersió!$J$43+'Càlculs interns'!P474)^dispersió!$J$10)*(2*LN('Càlculs interns'!Q474/dispersió!$O$63))^(1/2),0)","v":18.315186027956852},{"$f":"-R474","v":-18.315186027956852}]
[{"$f":"A$473+A474","v":221.09098782083282},{"$f":"IFERROR((letalitat!$P$14*1000)/((3.14159*dispersió!$I$10*((dispersió!$J$43+A475)^dispersió!$J$10)*dispersió!$K$10*((dispersió!$K$43+A475)^dispersió!$L$10)+dispersió!$C$24*dispersió!$D$43)*dispersió!$I$12),0)","v":4.3704798628200621},{"$f":"IFERROR(dispersió!$I$10*((dispersió!$J$43+'Càlculs interns'!A475)^dispersió!$J$10)*(2*LN('Càlculs interns'!B475/dispersió!$O$42))^(1/2),0)","v":34.154745176117572},-34.154745176117572,null,{"$f":"F$473+F474","v":174.94249479577491},{"$f":"IFERROR((letalitat!$P$14*1000)/((3.14159*dispersió!$I$10*((dispersió!$J$43+F475)^dispersió!$J$10)*dispersió!$K$10*((dispersió!$K$43+F475)^dispersió!$L$10)+dispersió!$C$24*dispersió!$D$43)*dispersió!$I$12),0)","v":5.251820257674277},{"$f":"IFERROR(dispersió!$I$10*((dispersió!$J$43+'Càlculs interns'!F475)^dispersió!$J$10)*(2*LN('Càlculs interns'!G475/dispersió!$O$48))^(1/2),0)","v":29.713453189779877},-29.713453189779877,null,{"$f":"K$473+K474","v":132.12260488309062},{"$f":"IFERROR((letalitat!$P$14*1000)/((3.14159*dispersió!$I$10*((dispersió!$J$43+K475)^dispersió!$J$10)*dispersió!$K$10*((dispersió!$K$43+K475)^dispersió!$L$10)+dispersió!$C$24*dispersió!$D$43)*dispersió!$I$12),0)","v":6.3513390251059771},{"$f":"IFERROR(dispersió!$I$10*((dispersió!$J$43+'Càlculs interns'!K475)^dispersió!$J$10)*(2*LN('Càlculs interns'!L475/dispersió!$O$56))^(1/2),0)","v":25.388388055292353},-25.388388055292353,null,{"$f":"P$473+P474","v":78.843364625035093},{"$f":"IFERROR((letalitat!$P$14*1000)/((3.14159*dispersió!$I$10*((dispersió!$J$43+P475)^dispersió!$J$10)*dispersió!$K$10*((dispersió!$K$43+P475)^dispersió!$L$10)+dispersió!$C$24*dispersió!$D$43)*dispersió!$I$12),0)","v":8.3156329472759865},{"$f":"IFERROR(dispersió!$I$10*((dispersió!$J$43+'Càlculs interns'!P475)^dispersió!$J$10)*(2*LN('Càlculs interns'!Q475/dispersió!$O$63))^(1/2),0)","v":19.475637657048786},-19.475637657048786]
[294.78798376111041,{"$f":"IFERROR((letalitat!$P$14*1000)/((3.14159*dispersió!$I$10*((dispersió!$J$43+A476)^dispersió!$J$10)*dispersió!$K$10*((dispersió!$K$43+A476)^dispersió!$L$10)+dispersió!$C$24*dispersió!$D$43)*dispersió!$I$12),0)","v":3.3792467757370566},{"$f":"IFERROR(dispersió!$I$10*((dispersió!$J$43+'Càlculs interns'!A476)^dispersió!$J$10)*(2*LN('Càlculs interns'!B476/dispersió!$O$42))^(1/2),0)","v":37.917350194877599},-37.917350194877599,null,233.25665972769986,{"$f":"IFERROR((letalitat!$P$14*1000)/((3.14159*dispersió!$I$10*((dispersió!$J$43+F476)^dispersió!$J$10)*dispersió!$K$10*((dispersió!$K$43+F476)^dispersió!$L$10)+dispersió!$C$24*dispersió!$D$43)*dispersió!$I$12),0)","v":4.1769985371061589},{"$f":"IFERROR(dispersió!$I$10*((dispersió!$J$43+'Càlculs interns'!F476)^dispersió!$J$10)*(2*LN('Càlculs interns'!G476/dispersió!$O$48))^(1/2),0)","v":32.592330021352169},-32.592330021352169,null,176.16347317745414,{"$f":"IFERROR((letalitat!$P$14*1000)/((3.14159*dispersió!$I$10*((dispersió!$J$43+K476)^dispersió!$J$10)*dispersió!$K$10*((dispersió!$K$43+K476)^dispersió!$L$10)+dispersió!$C$24*dispersió!$D$43)*dispersió!$I$12),0)","v":5.2249763742733082},{"$f":"IFERROR(dispersió!$I$10*((dispersió!$J$43+'Càlculs interns'!K476)^dispersió!$J$10)*(2*LN('Càlculs interns'!L476/dispersió!$O$56))^(1/2),0)","v":27.444461600844168},-27.444461600844168,null,105.12448616671347,{"$f":"IFERROR((letalitat!$P$14*1000)/((3.14159*dispersió!$I$10*((dispersió!$J$43+P476)^dispersió!$J$10)*dispersió!$K$10*((dispersió!$K$43+P476)^dispersió!$L$10)+dispersió!$C$24*dispersió!$D$43)*dispersió!$I$12),0)","v":7.2436167645460312},{"$f":"IFERROR(dispersió!$I$10*((dispersió!$J$43+'Càlculs interns'!P476)^dispersió!$J$10)*(2*LN('Càlculs interns'!Q476/dispersió!$O$63))^(1/2),0)","v":20.520017371291981},-20.520017371291981]
[368.484979701388,{"$f":"IFERROR((letalitat!$P$14*1000)/((3.14159*dispersió!$I$10*((dispersió!$J$43+A477)^dispersió!$J$10)*dispersió!$K$10*((dispersió!$K$43+A477)^dispersió!$L$10)+dispersió!$C$24*dispersió!$D$43)*dispersió!$I$12),0)","v":2.7047790815137693},{"$f":"IFERROR(dispersió!$I$10*((dispersió!$J$43+'Càlculs interns'!A477)^dispersió!$J$10)*(2*LN('Càlculs interns'!B477/dispersió!$O$42))^(1/2),0)","v":41.269838714533613},-41.269838714533613,null,291.5708246596248,{"$f":"IFERROR((letalitat!$P$14*1000)/((3.14159*dispersió!$I$10*((dispersió!$J$43+F477)^dispersió!$J$10)*dispersió!$K$10*((dispersió!$K$43+F477)^dispersió!$L$10)+dispersió!$C$24*dispersió!$D$43)*dispersió!$I$12),0)","v":3.4147023110307049},{"$f":"IFERROR(dispersió!$I$10*((dispersió!$J$43+'Càlculs interns'!F477)^dispersió!$J$10)*(2*LN('Càlculs interns'!G477/dispersió!$O$48))^(1/2),0)","v":35.16315667140578},-35.16315667140578,null,220.20434147181766,{"$f":"IFERROR((letalitat!$P$14*1000)/((3.14159*dispersió!$I$10*((dispersió!$J$43+K477)^dispersió!$J$10)*dispersió!$K$10*((dispersió!$K$43+K477)^dispersió!$L$10)+dispersió!$C$24*dispersió!$D$43)*dispersió!$I$12),0)","v":4.3851373560139431},{"$f":"IFERROR(dispersió!$I$10*((dispersió!$J$43+'Càlculs interns'!K477)^dispersió!$J$10)*(2*LN('Càlculs interns'!L477/dispersió!$O$56))^(1/2),0)","v":29.284649529028638},-29.284649529028638,null,131.40560770839184,{"$f":"IFERROR((letalitat!$P$14*1000)/((3.14159*dispersió!$I$10*((dispersió!$J$43+P477)^dispersió!$J$10)*dispersió!$K$10*((dispersió!$K$43+P477)^dispersió!$L$10)+dispersió!$C$24*dispersió!$D$43)*dispersió!$I$12),0)","v":6.3727603064243148},{"$f":"IFERROR(dispersió!$I$10*((dispersió!$J$43+'Càlculs interns'!P477)^dispersió!$J$10)*(2*LN('Càlculs interns'!Q477/dispersió!$O$63))^(1/2),0)","v":21.455625747531855},-21.455625747531855]
[442.18197564166559,{"$f":"IFERROR((letalitat!$P$14*1000)/((3.14159*dispersió!$I$10*((dispersió!$J$43+A478)^dispersió!$J$10)*dispersió!$K$10*((dispersió!$K$43+A478)^dispersió!$L$10)+dispersió!$C$24*dispersió!$D$43)*dispersió!$I$12),0)","v":2.2233935978711794},{"$f":"IFERROR(dispersió!$I$10*((dispersió!$J$43+'Càlculs interns'!A478)^dispersió!$J$10)*(2*LN('Càlculs interns'!B478/dispersió!$O$42))^(1/2),0)","v":44.256820835407694},-44.256820835407694,null,349.88498959154975,{"$f":"IFERROR((letalitat!$P$14*1000)/((3.14159*dispersió!$I$10*((dispersió!$J$43+F478)^dispersió!$J$10)*dispersió!$K$10*((dispersió!$K$43+F478)^dispersió!$L$10)+dispersió!$C$24*dispersió!$D$43)*dispersió!$I$12),0)","v":2.8531743265311165},{"$f":"IFERROR(dispersió!$I$10*((dispersió!$J$43+'Càlculs interns'!F478)^dispersió!$J$10)*(2*LN('Càlculs interns'!G478/dispersió!$O$48))^(1/2),0)","v":37.455839124399525},-37.455839124399525,null,264.24520976618118,{"$f":"IFERROR((letalitat!$P$14*1000)/((3.14159*dispersió!$I$10*((dispersió!$J$43+K478)^dispersió!$J$10)*dispersió!$K$10*((dispersió!$K$43+K478)^dispersió!$L$10)+dispersió!$C$24*dispersió!$D$43)*dispersió!$I$12),0)","v":3.741520064427267},{"$f":"IFERROR(dispersió!$I$10*((dispersió!$J$43+'Càlculs interns'!K478)^dispersió!$J$10)*(2*LN('Càlculs interns'!L478/dispersió!$O$56))^(1/2),0)","v":30.92662127563781},-30.92662127563781,null,157.68672925007021,{"$f":"IFERROR((letalitat!$P$14*1000)/((3.14159*dispersió!$I$10*((dispersió!$J$43+P478)^dispersió!$J$10)*dispersió!$K$10*((dispersió!$K$43+P478)^dispersió!$L$10)+dispersió!$C$24*dispersió!$D$43)*dispersió!$I$12),0)","v":5.6558048790556068},{"$f":"IFERROR(dispersió!$I$10*((dispersió!$J$43+'Càlculs interns'!P478)^dispersió!$J$10)*(2*LN('Càlculs interns'!Q478/dispersió!$O$63))^(1/2),0)","v":22.2881348808172},-22.2881348808172]
[515.87897158194323,{"$f":"IFERROR((letalitat!$P$14*1000)/((3.14159*dispersió!$I$10*((dispersió!$J$43+A479)^dispersió!$J$10)*dispersió!$K$10*((dispersió!$K$43+A479)^dispersió!$L$10)+dispersió!$C$24*dispersió!$D$43)*dispersió!$I$12),0)","v":1.8666446271254247},{"$f":"IFERROR(dispersió!$I$10*((dispersió!$J$43+'Càlculs interns'!A479)^dispersió!$J$10)*(2*LN('Càlculs interns'!B479/dispersió!$O$42))^(1/2),0)","v":46.910395228783656},-46.910395228783656,null,408.1991545234747,{"$f":"IFERROR((letalitat!$P$14*1000)/((3.14159*dispersió!$I$10*((dispersió!$J$43+F479)^dispersió!$J$10)*dispersió!$K$10*((dispersió!$K$43+F479)^dispersió!$L$10)+dispersió!$C$24*dispersió!$D$43)*dispersió!$I$12),0)","v":2.4266053323111771},{"$f":"IFERROR(dispersió!$I$10*((dispersió!$J$43+'Càlculs interns'!F479)^dispersió!$J$10)*(2*LN('Càlculs interns'!G479/dispersió!$O$48))^(1/2),0)","v":39.492296607992841},-39.492296607992841,null,308.2860780605447,{"$f":"IFERROR((letalitat!$P$14*1000)/((3.14159*dispersió!$I$10*((dispersió!$J$43+K479)^dispersió!$J$10)*dispersió!$K$10*((dispersió!$K$43+K479)^dispersió!$L$10)+dispersió!$C$24*dispersió!$D$43)*dispersió!$I$12),0)","v":3.2367309601473568},{"$f":"IFERROR(dispersió!$I$10*((dispersió!$J$43+'Càlculs interns'!K479)^dispersió!$J$10)*(2*LN('Càlculs interns'!L479/dispersió!$O$56))^(1/2),0)","v":32.383617183519327},-32.383617183519327,null,183.96785079174859,{"$f":"IFERROR((letalitat!$P$14*1000)/((3.14159*dispersió!$I$10*((dispersió!$J$43+P479)^dispersió!$J$10)*dispersió!$K$10*((dispersió!$K$43+P479)^dispersió!$L$10)+dispersió!$C$24*dispersió!$D$43)*dispersió!$I$12),0)","v":5.0584142108494552},{"$f":"IFERROR(dispersió!$I$10*((dispersió!$J$43+'Càlculs interns'!P479)^dispersió!$J$10)*(2*LN('Càlculs interns'!Q479/dispersió!$O$63))^(1/2),0)","v":23.021918123692437},-23.021918123692437]
[589.57596752222082,{"$f":"IFERROR((letalitat!$P$14*1000)/((3.14159*dispersió!$I$10*((dispersió!$J$43+A480)^dispersió!$J$10)*dispersió!$K$10*((dispersió!$K$43+A480)^dispersió!$L$10)+dispersió!$C$24*dispersió!$D$43)*dispersió!$I$12),0)","v":1.5941320284070921},{"$f":"IFERROR(dispersió!$I$10*((dispersió!$J$43+'Càlculs interns'!A480)^dispersió!$J$10)*(2*LN('Càlculs interns'!B480/dispersió!$O$42))^(1/2),0)","v":49.25417362652},-49.25417362652,null,466.51331945539965,{"$f":"IFERROR((letalitat!$P$14*1000)/((3.14159*dispersió!$I$10*((dispersió!$J$43+F480)^dispersió!$J$10)*dispersió!$K$10*((dispersió!$K$43+F480)^dispersió!$L$10)+dispersió!$C$24*dispersió!$D$43)*dispersió!$I$12),0)","v":2.0942245137985429},{"$f":"IFERROR(dispersió!$I$10*((dispersió!$J$43+'Càlculs interns'!F480)^dispersió!$J$10)*(2*LN('Càlculs interns'!G480/dispersió!$O$48))^(1/2),0)","v":41.28883174580308},-41.28883174580308,null,352.32694635490822,{"$f":"IFERROR((letalitat!$P$14*1000)/((3.14159*dispersió!$I$10*((dispersió!$J$43+K480)^dispersió!$J$10)*dispersió!$K$10*((dispersió!$K$43+K480)^dispersió!$L$10)+dispersió!$C$24*dispersió!$D$43)*dispersió!$I$12),0)","v":2.8329537911328524},{"$f":"IFERROR(dispersió!$I$10*((dispersió!$J$43+'Càlculs interns'!K480)^dispersió!$J$10)*(2*LN('Càlculs interns'!L480/dispersió!$O$56))^(1/2),0)","v":33.665605366268956},-33.665605366268956,null,210.24897233342696,{"$f":"IFERROR((letalitat!$P$14*1000)/((3.14159*dispersió!$I$10*((dispersió!$J$43+P480)^dispersió!$J$10)*dispersió!$K$10*((dispersió!$K$43+P480)^dispersió!$L$10)+dispersió!$C$24*dispersió!$D$43)*dispersió!$I$12),0)","v":4.5552363787567582},{"$f":"IFERROR(dispersió!$I$10*((dispersió!$J$43+'Càlculs interns'!P480)^dispersió!$J$10)*(2*LN('Càlculs interns'!Q480/dispersió!$O$63))^(1/2),0)","v":23.660282415979246},-23.660282415979246]
[663.27296346249841,{"$f":"IFERROR((letalitat!$P$14*1000)/((3.14159*dispersió!$I$10*((dispersió!$J$43+A481)^dispersió!$J$10)*dispersió!$K$10*((dispersió!$K$43+A481)^dispersió!$L$10)+dispersió!$C$24*dispersió!$D$43)*dispersió!$I$12),0)","v":1.3807262174470849},{"$f":"IFERROR(dispersió!$I$10*((dispersió!$J$43+'Càlculs interns'!A481)^dispersió!$J$10)*(2*LN('Càlculs interns'!B481/dispersió!$O$42))^(1/2),0)","v":51.305665446824015},-51.305665446824015,null,524.8274843873246,{"$f":"IFERROR((letalitat!$P$14*1000)/((3.14159*dispersió!$I$10*((dispersió!$J$43+F481)^dispersió!$J$10)*dispersió!$K$10*((dispersió!$K$43+F481)^dispersió!$L$10)+dispersió!$C$24*dispersió!$D$43)*dispersió!$I$12),0)","v":1.8296724867504288},{"$f":"IFERROR(dispersió!$I$10*((dispersió!$J$43+'Càlculs interns'!F481)^dispersió!$J$10)*(2*LN('Càlculs interns'!G481/dispersió!$O$48))^(1/2),0)","v":42.857589125283049},-42.857589125283049,null,396.36781464927174,{"$f":"IFERROR((letalitat!$P$14*1000)/((3.14159*dispersió!$I$10*((dispersió!$J$43+K481)^dispersió!$J$10)*dispersió!$K$10*((dispersió!$K$43+K481)^dispersió!$L$10)+dispersió!$C$24*dispersió!$D$43)*dispersió!$I$12),0)","v":2.5044723127962496},{"$f":"IFERROR(dispersió!$I$10*((dispersió!$J$43+'Càlculs interns'!K481)^dispersió!$J$10)*(2*LN('Càlculs interns'!L481/dispersió!$O$56))^(1/2),0)","v":34.780029246051321},-34.780029246051321,null,236.53009387510534,{"$f":"IFERROR((letalitat!$P$14*1000)/((3.14159*dispersió!$I$10*((dispersió!$J$43+P481)^dispersió!$J$10)*dispersió!$K$10*((dispersió!$K$43+P481)^dispersió!$L$10)+dispersió!$C$24*dispersió!$D$43)*dispersió!$I$12),0)","v":4.1272642330861542},{"$f":"IFERROR(dispersió!$I$10*((dispersió!$J$43+'Càlculs interns'!P481)^dispersió!$J$10)*(2*LN('Càlculs interns'!Q481/dispersió!$O$63))^(1/2),0)","v":24.20563066302217},-24.20563066302217]
[736.969959402776,{"$f":"IFERROR((letalitat!$P$14*1000)/((3.14159*dispersió!$I$10*((dispersió!$J$43+A482)^dispersió!$J$10)*dispersió!$K$10*((dispersió!$K$43+A482)^dispersió!$L$10)+dispersió!$C$24*dispersió!$D$43)*dispersió!$I$12),0)","v":1.2101049174985747},{"$f":"IFERROR(dispersió!$I$10*((dispersió!$J$43+'Càlculs interns'!A482)^dispersió!$J$10)*(2*LN('Càlculs interns'!B482/dispersió!$O$42))^(1/2),0)","v":53.077757881495103},-53.077757881495103,null,583.14164931924961,{"$f":"IFERROR((letalitat!$P$14*1000)/((3.14159*dispersió!$I$10*((dispersió!$J$43+F482)^dispersió!$J$10)*dispersió!$K$10*((dispersió!$K$43+F482)^dispersió!$L$10)+dispersió!$C$24*dispersió!$D$43)*dispersió!$I$12),0)","v":1.6152806325236997},{"$f":"IFERROR(dispersió!$I$10*((dispersió!$J$43+'Càlculs interns'!F482)^dispersió!$J$10)*(2*LN('Càlculs interns'!G482/dispersió!$O$48))^(1/2),0)","v":44.207484160076284},-44.207484160076284,null,440.40868294363526,{"$f":"IFERROR((letalitat!$P$14*1000)/((3.14159*dispersió!$I$10*((dispersió!$J$43+K482)^dispersió!$J$10)*dispersió!$K$10*((dispersió!$K$43+K482)^dispersió!$L$10)+dispersió!$C$24*dispersió!$D$43)*dispersió!$I$12),0)","v":2.2333084661425215},{"$f":"IFERROR(dispersió!$I$10*((dispersió!$J$43+'Càlculs interns'!K482)^dispersió!$J$10)*(2*LN('Càlculs interns'!L482/dispersió!$O$56))^(1/2),0)","v":35.732299211571046},-35.732299211571046,null,262.81121541678368,{"$f":"IFERROR((letalitat!$P$14*1000)/((3.14159*dispersió!$I$10*((dispersió!$J$43+P482)^dispersió!$J$10)*dispersió!$K$10*((dispersió!$K$43+P482)^dispersió!$L$10)+dispersió!$C$24*dispersió!$D$43)*dispersió!$I$12),0)","v":3.7600415412774488},{"$f":"IFERROR(dispersió!$I$10*((dispersió!$J$43+'Càlculs interns'!P482)^dispersió!$J$10)*(2*LN('Càlculs interns'!Q482/dispersió!$O$63))^(1/2),0)","v":24.659572415966331},-24.659572415966331]
[810.66695534305359,{"$f":"IFERROR((letalitat!$P$14*1000)/((3.14159*dispersió!$I$10*((dispersió!$J$43+A483)^dispersió!$J$10)*dispersió!$K$10*((dispersió!$K$43+A483)^dispersió!$L$10)+dispersió!$C$24*dispersió!$D$43)*dispersió!$I$12),0)","v":1.0712751616419174},{"$f":"IFERROR(dispersió!$I$10*((dispersió!$J$43+'Càlculs interns'!A483)^dispersió!$J$10)*(2*LN('Càlculs interns'!B483/dispersió!$O$42))^(1/2),0)","v":54.579659768171382},-54.579659768171382,null,641.45581425117462,{"$f":"IFERROR((letalitat!$P$14*1000)/((3.14159*dispersió!$I$10*((dispersió!$J$43+F483)^dispersió!$J$10)*dispersió!$K$10*((dispersió!$K$43+F483)^dispersió!$L$10)+dispersió!$C$24*dispersió!$D$43)*dispersió!$I$12),0)","v":1.4388346693678369},{"$f":"IFERROR(dispersió!$I$10*((dispersió!$J$43+'Càlculs interns'!F483)^dispersió!$J$10)*(2*LN('Càlculs interns'!G483/dispersió!$O$48))^(1/2),0)","v":45.344804296979639},-45.344804296979639,null,484.44955123799878,{"$f":"IFERROR((letalitat!$P$14*1000)/((3.14159*dispersió!$I$10*((dispersió!$J$43+K483)^dispersió!$J$10)*dispersió!$K$10*((dispersió!$K$43+K483)^dispersió!$L$10)+dispersió!$C$24*dispersió!$D$43)*dispersió!$I$12),0)","v":2.0065851188209223},{"$f":"IFERROR(dispersió!$I$10*((dispersió!$J$43+'Càlculs interns'!K483)^dispersió!$J$10)*(2*LN('Càlculs interns'!L483/dispersió!$O$56))^(1/2),0)","v":36.526115761846192},-36.526115761846192,null,289.09233695846206,{"$f":"IFERROR((letalitat!$P$14*1000)/((3.14159*dispersió!$I$10*((dispersió!$J$43+P483)^dispersió!$J$10)*dispersió!$K$10*((dispersió!$K$43+P483)^dispersió!$L$10)+dispersió!$C$24*dispersió!$D$43)*dispersió!$I$12),0)","v":3.4424256741286072},{"$f":"IFERROR(dispersió!$I$10*((dispersió!$J$43+'Càlculs interns'!P483)^dispersió!$J$10)*(2*LN('Càlculs interns'!Q483/dispersió!$O$63))^(1/2),0)","v":25.022994651890411},-25.022994651890411]
[884.36395128333118,{"$f":"IFERROR((letalitat!$P$14*1000)/((3.14159*dispersió!$I$10*((dispersió!$J$43+A484)^dispersió!$J$10)*dispersió!$K$10*((dispersió!$K$43+A484)^dispersió!$L$10)+dispersió!$C$24*dispersió!$D$43)*dispersió!$I$12),0)","v":0.95660206704657036},{"$f":"IFERROR(dispersió!$I$10*((dispersió!$J$43+'Càlculs interns'!A484)^dispersió!$J$10)*(2*LN('Càlculs interns'!B484/dispersió!$O$42))^(1/2),0)","v":55.817505275027358},-55.817505275027358,null,699.76997918309962,{"$f":"IFERROR((letalitat!$P$14*1000)/((3.14159*dispersió!$I$10*((dispersió!$J$43+F484)^dispersió!$J$10)*dispersió!$K$10*((dispersió!$K$43+F484)^dispersió!$L$10)+dispersió!$C$24*dispersió!$D$43)*dispersió!$I$12),0)","v":1.2916632579181819},{"$f":"IFERROR(dispersió!$I$10*((dispersió!$J$43+'Càlculs interns'!F484)^dispersió!$J$10)*(2*LN('Càlculs interns'!G484/dispersió!$O$48))^(1/2),0)","v":46.27359433290421},-46.27359433290421,null,528.49041953236235,{"$f":"IFERROR((letalitat!$P$14*1000)/((3.14159*dispersió!$I$10*((dispersió!$J$43+K484)^dispersió!$J$10)*dispersió!$K$10*((dispersió!$K$43+K484)^dispersió!$L$10)+dispersió!$C$24*dispersió!$D$43)*dispersió!$I$12),0)","v":1.8148792195850716},{"$f":"IFERROR(dispersió!$I$10*((dispersió!$J$43+'Càlculs interns'!K484)^dispersió!$J$10)*(2*LN('Càlculs interns'!L484/dispersió!$O$56))^(1/2),0)","v":37.163674953617175},-37.163674953617175,null,315.37345850014043,{"$f":"IFERROR((letalitat!$P$14*1000)/((3.14159*dispersió!$I$10*((dispersió!$J$43+P484)^dispersió!$J$10)*dispersió!$K$10*((dispersió!$K$43+P484)^dispersió!$L$10)+dispersió!$C$24*dispersió!$D$43)*dispersió!$I$12),0)","v":3.1657213171191692},{"$f":"IFERROR(dispersió!$I$10*((dispersió!$J$43+'Càlculs interns'!P484)^dispersió!$J$10)*(2*LN('Càlculs interns'!Q484/dispersió!$O$63))^(1/2),0)","v":25.296099874105334},-25.296099874105334]
[958.06094722360876,{"$f":"IFERROR((letalitat!$P$14*1000)/((3.14159*dispersió!$I$10*((dispersió!$J$43+A485)^dispersió!$J$10)*dispersió!$K$10*((dispersió!$K$43+A485)^dispersió!$L$10)+dispersió!$C$24*dispersió!$D$43)*dispersió!$I$12),0)","v":0.86064122640921947},{"$f":"IFERROR(dispersió!$I$10*((dispersió!$J$43+'Càlculs interns'!A485)^dispersió!$J$10)*(2*LN('Càlculs interns'!B485/dispersió!$O$42))^(1/2),0)","v":56.794725748290077},-56.794725748290077,null,758.08414411502463,{"$f":"IFERROR((letalitat!$P$14*1000)/((3.14159*dispersió!$I$10*((dispersió!$J$43+F485)^dispersió!$J$10)*dispersió!$K$10*((dispersió!$K$43+F485)^dispersió!$L$10)+dispersió!$C$24*dispersió!$D$43)*dispersió!$I$12),0)","v":1.1674662104862894},{"$f":"IFERROR(dispersió!$I$10*((dispersió!$J$43+'Càlculs interns'!F485)^dispersió!$J$10)*(2*LN('Càlculs interns'!G485/dispersió!$O$48))^(1/2),0)","v":46.995889054999921},-46.995889054999921,null,572.53128782672593,{"$f":"IFERROR((letalitat!$P$14*1000)/((3.14159*dispersió!$I$10*((dispersió!$J$43+K485)^dispersió!$J$10)*dispersió!$K$10*((dispersió!$K$43+K485)^dispersió!$L$10)+dispersió!$C$24*dispersió!$D$43)*dispersió!$I$12),0)","v":1.6511632238512435},{"$f":"IFERROR(dispersió!$I$10*((dispersió!$J$43+'Càlculs interns'!K485)^dispersió!$J$10)*(2*LN('Càlculs interns'!L485/dispersió!$O$56))^(1/2),0)","v":37.645785583000723},-37.645785583000723,null,341.6545800418188,{"$f":"IFERROR((letalitat!$P$14*1000)/((3.14159*dispersió!$I$10*((dispersió!$J$43+P485)^dispersió!$J$10)*dispersió!$K$10*((dispersió!$K$43+P485)^dispersió!$L$10)+dispersió!$C$24*dispersió!$D$43)*dispersió!$I$12),0)","v":2.9230650362343451},{"$f":"IFERROR(dispersió!$I$10*((dispersió!$J$43+'Càlculs interns'!P485)^dispersió!$J$10)*(2*LN('Càlculs interns'!Q485/dispersió!$O$63))^(1/2),0)","v":25.478415324101228},-25.478415324101228]
[1031.7579431638865,{"$f":"IFERROR((letalitat!$P$14*1000)/((3.14159*dispersió!$I$10*((dispersió!$J$43+A486)^dispersió!$J$10)*dispersió!$K$10*((dispersió!$K$43+A486)^dispersió!$L$10)+dispersió!$C$24*dispersió!$D$43)*dispersió!$I$12),0)","v":0.77942039345703196},{"$f":"IFERROR(dispersió!$I$10*((dispersió!$J$43+'Càlculs interns'!A486)^dispersió!$J$10)*(2*LN('Càlculs interns'!B486/dispersió!$O$42))^(1/2),0)","v":57.512249726982155},-57.512249726982155,null,816.39830904694963,{"$f":"IFERROR((letalitat!$P$14*1000)/((3.14159*dispersió!$I$10*((dispersió!$J$43+F486)^dispersió!$J$10)*dispersió!$K$10*((dispersió!$K$43+F486)^dispersió!$L$10)+dispersió!$C$24*dispersió!$D$43)*dispersió!$I$12),0)","v":1.0615722856240974},{"$f":"IFERROR(dispersió!$I$10*((dispersió!$J$43+'Càlculs interns'!F486)^dispersió!$J$10)*(2*LN('Càlculs interns'!G486/dispersió!$O$48))^(1/2),0)","v":47.511828236525432},-47.511828236525432,null,616.57215612108951,{"$f":"IFERROR((letalitat!$P$14*1000)/((3.14159*dispersió!$I$10*((dispersió!$J$43+K486)^dispersió!$J$10)*dispersió!$K$10*((dispersió!$K$43+K486)^dispersió!$L$10)+dispersió!$C$24*dispersió!$D$43)*dispersió!$I$12),0)","v":1.5101067653157809},{"$f":"IFERROR(dispersió!$I$10*((dispersió!$J$43+'Càlculs interns'!K486)^dispersió!$J$10)*(2*LN('Càlculs interns'!L486/dispersió!$O$56))^(1/2),0)","v":37.971914030165436},-37.971914030165436,null,367.93570158349718,{"$f":"IFERROR((letalitat!$P$14*1000)/((3.14159*dispersió!$I$10*((dispersió!$J$43+P486)^dispersió!$J$10)*dispersió!$K$10*((dispersió!$K$43+P486)^dispersió!$L$10)+dispersió!$C$24*dispersió!$D$43)*dispersió!$I$12),0)","v":2.7089818981836351},{"$f":"IFERROR(dispersió!$I$10*((dispersió!$J$43+'Càlculs interns'!P486)^dispersió!$J$10)*(2*LN('Càlculs interns'!Q486/dispersió!$O$63))^(1/2),0)","v":25.568774255050144},-25.568774255050144]
[1105.4549391041642,{"$f":"IFERROR((letalitat!$P$14*1000)/((3.14159*dispersió!$I$10*((dispersió!$J$43+A487)^dispersió!$J$10)*dispersió!$K$10*((dispersió!$K$43+A487)^dispersió!$L$10)+dispersió!$C$24*dispersió!$D$43)*dispersió!$I$12),0)","v":0.70998280686786075},{"$f":"IFERROR(dispersió!$I$10*((dispersió!$J$43+'Càlculs interns'!A487)^dispersió!$J$10)*(2*LN('Càlculs interns'!B487/dispersió!$O$42))^(1/2),0)","v":57.968561762315218},-57.968561762315218,null,874.71247397887464,{"$f":"IFERROR((letalitat!$P$14*1000)/((3.14159*dispersió!$I$10*((dispersió!$J$43+F487)^dispersió!$J$10)*dispersió!$K$10*((dispersió!$K$43+F487)^dispersió!$L$10)+dispersió!$C$24*dispersió!$D$43)*dispersió!$I$12),0)","v":0.97045538426997557},{"$f":"IFERROR(dispersió!$I$10*((dispersió!$J$43+'Càlculs interns'!F487)^dispersió!$J$10)*(2*LN('Càlculs interns'!G487/dispersió!$O$48))^(1/2),0)","v":47.819670919347971},-47.819670919347971,null,660.61302441545308,{"$f":"IFERROR((letalitat!$P$14*1000)/((3.14159*dispersió!$I$10*((dispersió!$J$43+K487)^dispersió!$J$10)*dispersió!$K$10*((dispersió!$K$43+K487)^dispersió!$L$10)+dispersió!$C$24*dispersió!$D$43)*dispersió!$I$12),0)","v":1.3876051110035448},{"$f":"IFERROR(dispersió!$I$10*((dispersió!$J$43+'Càlculs interns'!K487)^dispersió!$J$10)*(2*LN('Càlculs interns'!L487/dispersió!$O$56))^(1/2),0)","v":38.14016315100784},-38.14016315100784,null,394.21682312517555,{"$f":"IFERROR((letalitat!$P$14*1000)/((3.14159*dispersió!$I$10*((dispersió!$J$43+P487)^dispersió!$J$10)*dispersió!$K$10*((dispersió!$K$43+P487)^dispersió!$L$10)+dispersió!$C$24*dispersió!$D$43)*dispersió!$I$12),0)","v":2.519061776218563},{"$f":"IFERROR(dispersió!$I$10*((dispersió!$J$43+'Càlculs interns'!P487)^dispersió!$J$10)*(2*LN('Càlculs interns'!Q487/dispersió!$O$63))^(1/2),0)","v":25.565267496484218},-25.565267496484218]
[1179.1519350444419,{"$f":"IFERROR((letalitat!$P$14*1000)/((3.14159*dispersió!$I$10*((dispersió!$J$43+A488)^dispersió!$J$10)*dispersió!$K$10*((dispersió!$K$43+A488)^dispersió!$L$10)+dispersió!$C$24*dispersió!$D$43)*dispersió!$I$12),0)","v":0.65008837990604917},{"$f":"IFERROR(dispersió!$I$10*((dispersió!$J$43+'Càlculs interns'!A488)^dispersió!$J$10)*(2*LN('Càlculs interns'!B488/dispersió!$O$42))^(1/2),0)","v":58.159630189784004},-58.159630189784004,null,933.02663891079965,{"$f":"IFERROR((letalitat!$P$14*1000)/((3.14159*dispersió!$I$10*((dispersió!$J$43+F488)^dispersió!$J$10)*dispersió!$K$10*((dispersió!$K$43+F488)^dispersió!$L$10)+dispersió!$C$24*dispersió!$D$43)*dispersió!$I$12),0)","v":0.89141106238752643},{"$f":"IFERROR(dispersió!$I$10*((dispersió!$J$43+'Càlculs interns'!F488)^dispersió!$J$10)*(2*LN('Càlculs interns'!G488/dispersió!$O$48))^(1/2),0)","v":47.915712403526236},-47.915712403526236,null,704.65389270981666,{"$f":"IFERROR((letalitat!$P$14*1000)/((3.14159*dispersió!$I$10*((dispersió!$J$43+K488)^dispersió!$J$10)*dispersió!$K$10*((dispersió!$K$43+K488)^dispersió!$L$10)+dispersió!$C$24*dispersió!$D$43)*dispersió!$I$12),0)","v":1.2804539914154494},{"$f":"IFERROR(dispersió!$I$10*((dispersió!$J$43+'Càlculs interns'!K488)^dispersió!$J$10)*(2*LN('Càlculs interns'!L488/dispersió!$O$56))^(1/2),0)","v":38.147183628746902},-38.147183628746902,null,420.49794466685393,{"$f":"IFERROR((letalitat!$P$14*1000)/((3.14159*dispersió!$I$10*((dispersió!$J$43+P488)^dispersió!$J$10)*dispersió!$K$10*((dispersió!$K$43+P488)^dispersió!$L$10)+dispersió!$C$24*dispersió!$D$43)*dispersió!$I$12),0)","v":2.3497200567233332},{"$f":"IFERROR(dispersió!$I$10*((dispersió!$J$43+'Càlculs interns'!P488)^dispersió!$J$10)*(2*LN('Càlculs interns'!Q488/dispersió!$O$63))^(1/2),0)","v":25.465160476285202},-25.465160476285202]
[1252.8489309847196,{"$f":"IFERROR((letalitat!$P$14*1000)/((3.14159*dispersió!$I$10*((dispersió!$J$43+A489)^dispersió!$J$10)*dispersió!$K$10*((dispersió!$K$43+A489)^dispersió!$L$10)+dispersió!$C$24*dispersió!$D$43)*dispersió!$I$12),0)","v":0.59801315937575661},{"$f":"IFERROR(dispersió!$I$10*((dispersió!$J$43+'Càlculs interns'!A489)^dispersió!$J$10)*(2*LN('Càlculs interns'!B489/dispersió!$O$42))^(1/2),0)","v":58.078696553668586},-58.078696553668586,null,991.34080384272465,{"$f":"IFERROR((letalitat!$P$14*1000)/((3.14159*dispersió!$I$10*((dispersió!$J$43+F489)^dispersió!$J$10)*dispersió!$K$10*((dispersió!$K$43+F489)^dispersió!$L$10)+dispersió!$C$24*dispersió!$D$43)*dispersió!$I$12),0)","v":0.82233528122471344},{"$f":"IFERROR(dispersió!$I$10*((dispersió!$J$43+'Càlculs interns'!F489)^dispersió!$J$10)*(2*LN('Càlculs interns'!G489/dispersió!$O$48))^(1/2),0)","v":47.794094964544698},-47.794094964544698,null,748.69476100418024,{"$f":"IFERROR((letalitat!$P$14*1000)/((3.14159*dispersió!$I$10*((dispersió!$J$43+K489)^dispersió!$J$10)*dispersió!$K$10*((dispersió!$K$43+K489)^dispersió!$L$10)+dispersió!$C$24*dispersió!$D$43)*dispersió!$I$12),0)","v":1.1861210685183166},{"$f":"IFERROR(dispersió!$I$10*((dispersió!$J$43+'Càlculs interns'!K489)^dispersió!$J$10)*(2*LN('Càlculs interns'!L489/dispersió!$O$56))^(1/2),0)","v":37.988008007969178},-37.988008007969178,null,446.7790662085323,{"$f":"IFERROR((letalitat!$P$14*1000)/((3.14159*dispersió!$I$10*((dispersió!$J$43+P489)^dispersió!$J$10)*dispersió!$K$10*((dispersió!$K$43+P489)^dispersió!$L$10)+dispersió!$C$24*dispersió!$D$43)*dispersió!$I$12),0)","v":2.1980186460386566},{"$f":"IFERROR(dispersió!$I$10*((dispersió!$J$43+'Càlculs interns'!P489)^dispersió!$J$10)*(2*LN('Càlculs interns'!Q489/dispersió!$O$63))^(1/2),0)","v":25.264766879418328},-25.264766879418328]
[1326.5459269249973,{"$f":"IFERROR((letalitat!$P$14*1000)/((3.14159*dispersió!$I$10*((dispersió!$J$43+A490)^dispersió!$J$10)*dispersió!$K$10*((dispersió!$K$43+A490)^dispersió!$L$10)+dispersió!$C$24*dispersió!$D$43)*dispersió!$I$12),0)","v":0.55241166794059571},{"$f":"IFERROR(dispersió!$I$10*((dispersió!$J$43+'Càlculs interns'!A490)^dispersió!$J$10)*(2*LN('Càlculs interns'!B490/dispersió!$O$42))^(1/2),0)","v":57.715900566477195},-57.715900566477195,null,1049.6549687746497,{"$f":"IFERROR((letalitat!$P$14*1000)/((3.14159*dispersió!$I$10*((dispersió!$J$43+F490)^dispersió!$J$10)*dispersió!$K$10*((dispersió!$K$43+F490)^dispersió!$L$10)+dispersió!$C$24*dispersió!$D$43)*dispersió!$I$12),0)","v":0.76156998090093475},{"$f":"IFERROR(dispersió!$I$10*((dispersió!$J$43+'Càlculs interns'!F490)^dispersió!$J$10)*(2*LN('Càlculs interns'!G490/dispersió!$O$48))^(1/2),0)","v":47.446489062185783},-47.446489062185783,null,792.73562929854381,{"$f":"IFERROR((letalitat!$P$14*1000)/((3.14159*dispersió!$I$10*((dispersió!$J$43+K490)^dispersió!$J$10)*dispersió!$K$10*((dispersió!$K$43+K490)^dispersió!$L$10)+dispersió!$C$24*dispersió!$D$43)*dispersió!$I$12),0)","v":1.1025825291213611},{"$f":"IFERROR(dispersió!$I$10*((dispersió!$J$43+'Càlculs interns'!K490)^dispersió!$J$10)*(2*LN('Càlculs interns'!L490/dispersió!$O$56))^(1/2),0)","v":37.655787373800571},-37.655787373800571,null,473.06018775021067,{"$f":"IFERROR((letalitat!$P$14*1000)/((3.14159*dispersió!$I$10*((dispersió!$J$43+P490)^dispersió!$J$10)*dispersió!$K$10*((dispersió!$K$43+P490)^dispersió!$L$10)+dispersió!$C$24*dispersió!$D$43)*dispersió!$I$12),0)","v":2.0615305961713912},{"$f":"IFERROR(dispersió!$I$10*((dispersió!$J$43+'Càlculs interns'!P490)^dispersió!$J$10)*(2*LN('Càlculs interns'!Q490/dispersió!$O$63))^(1/2),0)","v":24.959264340525952},-24.959264340525952]
[1400.242922865275,{"$f":"IFERROR((letalitat!$P$14*1000)/((3.14159*dispersió!$I$10*((dispersió!$J$43+A491)^dispersió!$J$10)*dispersió!$K$10*((dispersió!$K$43+A491)^dispersió!$L$10)+dispersió!$C$24*dispersió!$D$43)*dispersió!$I$12),0)","v":0.51222048802351361},{"$f":"IFERROR(dispersió!$I$10*((dispersió!$J$43+'Càlculs interns'!A491)^dispersió!$J$10)*(2*LN('Càlculs interns'!B491/dispersió!$O$42))^(1/2),0)","v":57.05768946688427},-57.05768946688427,null,1107.9691337065747,{"$f":"IFERROR((letalitat!$P$14*1000)/((3.14159*dispersió!$I$10*((dispersió!$J$43+F491)^dispersió!$J$10)*dispersió!$K$10*((dispersió!$K$43+F491)^dispersió!$L$10)+dispersió!$C$24*dispersió!$D$43)*dispersió!$I$12),0)","v":0.70779330685488528},{"$f":"IFERROR(dispersió!$I$10*((dispersió!$J$43+'Càlculs interns'!F491)^dispersió!$J$10)*(2*LN('Càlculs interns'!G491/dispersió!$O$48))^(1/2),0)","v":46.861602075645798},-46.861602075645798,null,836.77649759290739,{"$f":"IFERROR((letalitat!$P$14*1000)/((3.14159*dispersió!$I$10*((dispersió!$J$43+K491)^dispersió!$J$10)*dispersió!$K$10*((dispersió!$K$43+K491)^dispersió!$L$10)+dispersió!$C$24*dispersió!$D$43)*dispersió!$I$12),0)","v":1.0282043961871601},{"$f":"IFERROR(dispersió!$I$10*((dispersió!$J$43+'Càlculs interns'!K491)^dispersió!$J$10)*(2*LN('Càlculs interns'!L491/dispersió!$O$56))^(1/2),0)","v":37.141395723434506},-37.141395723434506,null,499.34130929188905,{"$f":"IFERROR((letalitat!$P$14*1000)/((3.14159*dispersió!$I$10*((dispersió!$J$43+P491)^dispersió!$J$10)*dispersió!$K$10*((dispersió!$K$43+P491)^dispersió!$L$10)+dispersió!$C$24*dispersió!$D$43)*dispersió!$I$12),0)","v":1.9382366548558303},{"$f":"IFERROR(dispersió!$I$10*((dispersió!$J$43+'Càlculs interns'!P491)^dispersió!$J$10)*(2*LN('Càlculs interns'!Q491/dispersió!$O$63))^(1/2),0)","v":24.542428507394849},-24.542428507394849]
[1473.9399188055527,{"$f":"IFERROR((letalitat!$P$14*1000)/((3.14159*dispersió!$I$10*((dispersió!$J$43+A492)^dispersió!$J$10)*dispersió!$K$10*((dispersió!$K$43+A492)^dispersió!$L$10)+dispersió!$C$24*dispersió!$D$43)*dispersió!$I$12),0)","v":0.47658949668778161},{"$f":"IFERROR(dispersió!$I$10*((dispersió!$J$43+'Càlculs interns'!A492)^dispersió!$J$10)*(2*LN('Càlculs interns'!B492/dispersió!$O$42))^(1/2),0)","v":56.085922112034844},-56.085922112034844,null,1166.2832986384997,{"$f":"IFERROR((letalitat!$P$14*1000)/((3.14159*dispersió!$I$10*((dispersió!$J$43+F492)^dispersió!$J$10)*dispersió!$K$10*((dispersió!$K$43+F492)^dispersió!$L$10)+dispersió!$C$24*dispersió!$D$43)*dispersió!$I$12),0)","v":0.65994027630124019},{"$f":"IFERROR(dispersió!$I$10*((dispersió!$J$43+'Càlculs interns'!F492)^dispersió!$J$10)*(2*LN('Càlculs interns'!G492/dispersió!$O$48))^(1/2),0)","v":46.02444061496309},-46.02444061496309,null,880.81736588727097,{"$f":"IFERROR((letalitat!$P$14*1000)/((3.14159*dispersió!$I$10*((dispersió!$J$43+K492)^dispersió!$J$10)*dispersió!$K$10*((dispersió!$K$43+K492)^dispersió!$L$10)+dispersió!$C$24*dispersió!$D$43)*dispersió!$I$12),0)","v":0.96165507504889025},{"$f":"IFERROR(dispersió!$I$10*((dispersió!$J$43+'Càlculs interns'!K492)^dispersió!$J$10)*(2*LN('Càlculs interns'!L492/dispersió!$O$56))^(1/2),0)","v":36.432843100389057},-36.432843100389057,null,525.62243083356736,{"$f":"IFERROR((letalitat!$P$14*1000)/((3.14159*dispersió!$I$10*((dispersió!$J$43+P492)^dispersió!$J$10)*dispersió!$K$10*((dispersió!$K$43+P492)^dispersió!$L$10)+dispersió!$C$24*dispersió!$D$43)*dispersió!$I$12),0)","v":1.8264454408008584},{"$f":"IFERROR(dispersió!$I$10*((dispersió!$J$43+'Càlculs interns'!P492)^dispersió!$J$10)*(2*LN('Càlculs interns'!Q492/dispersió!$O$63))^(1/2),0)","v":24.006246746614838},-24.006246746614838]
[1547.6369147458304,{"$f":"IFERROR((letalitat!$P$14*1000)/((3.14159*dispersió!$I$10*((dispersió!$J$43+A493)^dispersió!$J$10)*dispersió!$K$10*((dispersió!$K$43+A493)^dispersió!$L$10)+dispersió!$C$24*dispersió!$D$43)*dispersió!$I$12),0)","v":0.44483201164255065},{"$f":"IFERROR(dispersió!$I$10*((dispersió!$J$43+'Càlculs interns'!A493)^dispersió!$J$10)*(2*LN('Càlculs interns'!B493/dispersió!$O$42))^(1/2),0)","v":54.776512739590615},-54.776512739590615,null,1224.5974635704247,{"$f":"IFERROR((letalitat!$P$14*1000)/((3.14159*dispersió!$I$10*((dispersió!$J$43+F493)^dispersió!$J$10)*dispersió!$K$10*((dispersió!$K$43+F493)^dispersió!$L$10)+dispersió!$C$24*dispersió!$D$43)*dispersió!$I$12),0)","v":0.61714457522670974},{"$f":"IFERROR(dispersió!$I$10*((dispersió!$J$43+'Càlculs interns'!F493)^dispersió!$J$10)*(2*LN('Càlculs interns'!G493/dispersió!$O$48))^(1/2),0)","v":44.915199421984141},-44.915199421984141,null,924.85823418163454,{"$f":"IFERROR((letalitat!$P$14*1000)/((3.14159*dispersió!$I$10*((dispersió!$J$43+K493)^dispersió!$J$10)*dispersió!$K$10*((dispersió!$K$43+K493)^dispersió!$L$10)+dispersió!$C$24*dispersió!$D$43)*dispersió!$I$12),0)","v":0.90184006146688078},{"$f":"IFERROR(dispersió!$I$10*((dispersió!$J$43+'Càlculs interns'!K493)^dispersió!$J$10)*(2*LN('Càlculs interns'!L493/dispersió!$O$56))^(1/2),0)","v":35.514397109566644},-35.514397109566644,null,551.90355237524568,{"$f":"IFERROR((letalitat!$P$14*1000)/((3.14159*dispersió!$I$10*((dispersió!$J$43+P493)^dispersió!$J$10)*dispersió!$K$10*((dispersió!$K$43+P493)^dispersió!$L$10)+dispersió!$C$24*dispersió!$D$43)*dispersió!$I$12),0)","v":1.7247312857630681},{"$f":"IFERROR(dispersió!$I$10*((dispersió!$J$43+'Càlculs interns'!P493)^dispersió!$J$10)*(2*LN('Càlculs interns'!Q493/dispersió!$O$63))^(1/2),0)","v":23.340346342504748},-23.340346342504748]
[1621.3339106861081,{"$f":"IFERROR((letalitat!$P$14*1000)/((3.14159*dispersió!$I$10*((dispersió!$J$43+A494)^dispersió!$J$10)*dispersió!$K$10*((dispersió!$K$43+A494)^dispersió!$L$10)+dispersió!$C$24*dispersió!$D$43)*dispersió!$I$12),0)","v":0.41638810596924175},{"$f":"IFERROR(dispersió!$I$10*((dispersió!$J$43+'Càlculs interns'!A494)^dispersió!$J$10)*(2*LN('Càlculs interns'!B494/dispersió!$O$42))^(1/2),0)","v":53.097339789387092},-53.097339789387092,null,1282.9116285023497,{"$f":"IFERROR((letalitat!$P$14*1000)/((3.14159*dispersió!$I$10*((dispersió!$J$43+F494)^dispersió!$J$10)*dispersió!$K$10*((dispersió!$K$43+F494)^dispersió!$L$10)+dispersió!$C$24*dispersió!$D$43)*dispersió!$I$12),0)","v":0.57869526777910285},{"$f":"IFERROR(dispersió!$I$10*((dispersió!$J$43+'Càlculs interns'!F494)^dispersió!$J$10)*(2*LN('Càlculs interns'!G494/dispersió!$O$48))^(1/2),0)","v":43.507552608290339},-43.507552608290339,null,968.89910247599812,{"$f":"IFERROR((letalitat!$P$14*1000)/((3.14159*dispersió!$I$10*((dispersió!$J$43+K494)^dispersió!$J$10)*dispersió!$K$10*((dispersió!$K$43+K494)^dispersió!$L$10)+dispersió!$C$24*dispersió!$D$43)*dispersió!$I$12),0)","v":0.84785260219790892},{"$f":"IFERROR(dispersió!$I$10*((dispersió!$J$43+'Càlculs interns'!K494)^dispersió!$J$10)*(2*LN('Càlculs interns'!L494/dispersió!$O$56))^(1/2),0)","v":34.365236096039183},-34.365236096039183,null,578.184673916924,{"$f":"IFERROR((letalitat!$P$14*1000)/((3.14159*dispersió!$I$10*((dispersió!$J$43+P494)^dispersió!$J$10)*dispersió!$K$10*((dispersió!$K$43+P494)^dispersió!$L$10)+dispersió!$C$24*dispersió!$D$43)*dispersió!$I$12),0)","v":1.6318854182990266},{"$f":"IFERROR(dispersió!$I$10*((dispersió!$J$43+'Càlculs interns'!P494)^dispersió!$J$10)*(2*LN('Càlculs interns'!Q494/dispersió!$O$63))^(1/2),0)","v":22.531123105743468},-22.531123105743468]
[1695.0309066263858,{"$f":"IFERROR((letalitat!$P$14*1000)/((3.14159*dispersió!$I$10*((dispersió!$J$43+A495)^dispersió!$J$10)*dispersió!$K$10*((dispersió!$K$43+A495)^dispersió!$L$10)+dispersió!$C$24*dispersió!$D$43)*dispersió!$I$12),0)","v":0.39079724434873697},{"$f":"IFERROR(dispersió!$I$10*((dispersió!$J$43+'Càlculs interns'!A495)^dispersió!$J$10)*(2*LN('Càlculs interns'!B495/dispersió!$O$42))^(1/2),0)","v":51.004910936392157},-51.004910936392157,null,1341.2257934342747,{"$f":"IFERROR((letalitat!$P$14*1000)/((3.14159*dispersió!$I$10*((dispersió!$J$43+F495)^dispersió!$J$10)*dispersió!$K$10*((dispersió!$K$43+F495)^dispersió!$L$10)+dispersió!$C$24*dispersió!$D$43)*dispersió!$I$12),0)","v":0.54400418988921617},{"$f":"IFERROR(dispersió!$I$10*((dispersió!$J$43+'Càlculs interns'!F495)^dispersió!$J$10)*(2*LN('Càlculs interns'!G495/dispersió!$O$48))^(1/2),0)","v":41.765932155222451},-41.765932155222451,null,1012.9399707703617,{"$f":"IFERROR((letalitat!$P$14*1000)/((3.14159*dispersió!$I$10*((dispersió!$J$43+K495)^dispersió!$J$10)*dispersió!$K$10*((dispersió!$K$43+K495)^dispersió!$L$10)+dispersió!$C$24*dispersió!$D$43)*dispersió!$I$12),0)","v":0.79893599204713384},{"$f":"IFERROR(dispersió!$I$10*((dispersió!$J$43+'Càlculs interns'!K495)^dispersió!$J$10)*(2*LN('Càlculs interns'!L495/dispersió!$O$56))^(1/2),0)","v":32.957307239707013},-32.957307239707013,null,604.46579545860232,{"$f":"IFERROR((letalitat!$P$14*1000)/((3.14159*dispersió!$I$10*((dispersió!$J$43+P495)^dispersió!$J$10)*dispersió!$K$10*((dispersió!$K$43+P495)^dispersió!$L$10)+dispersió!$C$24*dispersió!$D$43)*dispersió!$I$12),0)","v":1.5468773166777721},{"$f":"IFERROR(dispersió!$I$10*((dispersió!$J$43+'Càlculs interns'!P495)^dispersió!$J$10)*(2*LN('Càlculs interns'!Q495/dispersió!$O$63))^(1/2),0)","v":21.560359912511725},-21.560359912511725]
[1768.7279025666635,{"$f":"IFERROR((letalitat!$P$14*1000)/((3.14159*dispersió!$I$10*((dispersió!$J$43+A496)^dispersió!$J$10)*dispersió!$K$10*((dispersió!$K$43+A496)^dispersió!$L$10)+dispersió!$C$24*dispersió!$D$43)*dispersió!$I$12),0)","v":0.3676776170703987},{"$f":"IFERROR(dispersió!$I$10*((dispersió!$J$43+'Càlculs interns'!A496)^dispersió!$J$10)*(2*LN('Càlculs interns'!B496/dispersió!$O$42))^(1/2),0)","v":48.438779986341636},-48.438779986341636,null,1399.5399583661997,{"$f":"IFERROR((letalitat!$P$14*1000)/((3.14159*dispersió!$I$10*((dispersió!$J$43+F496)^dispersió!$J$10)*dispersió!$K$10*((dispersió!$K$43+F496)^dispersió!$L$10)+dispersió!$C$24*dispersió!$D$43)*dispersió!$I$12),0)","v":0.51258110466304907},{"$f":"IFERROR(dispersió!$I$10*((dispersió!$J$43+'Càlculs interns'!F496)^dispersió!$J$10)*(2*LN('Càlculs interns'!G496/dispersió!$O$48))^(1/2),0)","v":39.640974750310967},-39.640974750310967,null,1056.9808390647252,{"$f":"IFERROR((letalitat!$P$14*1000)/((3.14159*dispersió!$I$10*((dispersió!$J$43+K496)^dispersió!$J$10)*dispersió!$K$10*((dispersió!$K$43+K496)^dispersió!$L$10)+dispersió!$C$24*dispersió!$D$43)*dispersió!$I$12),0)","v":0.75445446398713789},{"$f":"IFERROR(dispersió!$I$10*((dispersió!$J$43+'Càlculs interns'!K496)^dispersió!$J$10)*(2*LN('Càlculs interns'!L496/dispersió!$O$56))^(1/2),0)","v":31.251744989186395},-31.251744989186395,null,630.74691700028063,{"$f":"IFERROR((letalitat!$P$14*1000)/((3.14159*dispersió!$I$10*((dispersió!$J$43+P496)^dispersió!$J$10)*dispersió!$K$10*((dispersió!$K$43+P496)^dispersió!$L$10)+dispersió!$C$24*dispersió!$D$43)*dispersió!$I$12),0)","v":1.4688238808091758},{"$f":"IFERROR(dispersió!$I$10*((dispersió!$J$43+'Càlculs interns'!P496)^dispersió!$J$10)*(2*LN('Càlculs interns'!Q496/dispersió!$O$63))^(1/2),0)","v":20.402920310980679},-20.402920310980679]
[1842.4248985069412,{"$f":"IFERROR((letalitat!$P$14*1000)/((3.14159*dispersió!$I$10*((dispersió!$J$43+A497)^dispersió!$J$10)*dispersió!$K$10*((dispersió!$K$43+A497)^dispersió!$L$10)+dispersió!$C$24*dispersió!$D$43)*dispersió!$I$12),0)","v":0.34671035316123466},{"$f":"IFERROR(dispersió!$I$10*((dispersió!$J$43+'Càlculs interns'!A497)^dispersió!$J$10)*(2*LN('Càlculs interns'!B497/dispersió!$O$42))^(1/2),0)","v":45.311561356037892},-45.311561356037892,null,1457.8541232981247,{"$f":"IFERROR((letalitat!$P$14*1000)/((3.14159*dispersió!$I$10*((dispersió!$J$43+F497)^dispersió!$J$10)*dispersió!$K$10*((dispersió!$K$43+F497)^dispersió!$L$10)+dispersió!$C$24*dispersió!$D$43)*dispersió!$I$12),0)","v":0.48401456893693584},{"$f":"IFERROR(dispersió!$I$10*((dispersió!$J$43+'Càlculs interns'!F497)^dispersió!$J$10)*(2*LN('Càlculs interns'!G497/dispersió!$O$48))^(1/2),0)","v":37.061380627647004},-37.061380627647004,null,1101.0217073590886,{"$f":"IFERROR((letalitat!$P$14*1000)/((3.14159*dispersió!$I$10*((dispersió!$J$43+K497)^dispersió!$J$10)*dispersió!$K$10*((dispersió!$K$43+K497)^dispersió!$L$10)+dispersió!$C$24*dispersió!$D$43)*dispersió!$I$12),0)","v":0.71387049756157872},{"$f":"IFERROR(dispersió!$I$10*((dispersió!$J$43+'Càlculs interns'!K497)^dispersió!$J$10)*(2*LN('Càlculs interns'!L497/dispersió!$O$56))^(1/2),0)","v":29.192466983842959},-29.192466983842959,null,657.02803854195895,{"$f":"IFERROR((letalitat!$P$14*1000)/((3.14159*dispersió!$I$10*((dispersió!$J$43+P497)^dispersió!$J$10)*dispersió!$K$10*((dispersió!$K$43+P497)^dispersió!$L$10)+dispersió!$C$24*dispersió!$D$43)*dispersió!$I$12),0)","v":1.3969646659056345},{"$f":"IFERROR(dispersió!$I$10*((dispersió!$J$43+'Càlculs interns'!P497)^dispersió!$J$10)*(2*LN('Càlculs interns'!Q497/dispersió!$O$63))^(1/2),0)","v":19.022627432451017},-19.022627432451017]
[1916.1218944472189,{"$f":"IFERROR((letalitat!$P$14*1000)/((3.14159*dispersió!$I$10*((dispersió!$J$43+A498)^dispersió!$J$10)*dispersió!$K$10*((dispersió!$K$43+A498)^dispersió!$L$10)+dispersió!$C$24*dispersió!$D$43)*dispersió!$I$12),0)","v":0.32762733302654923},{"$f":"IFERROR(dispersió!$I$10*((dispersió!$J$43+'Càlculs interns'!A498)^dispersió!$J$10)*(2*LN('Càlculs interns'!B498/dispersió!$O$42))^(1/2),0)","v":41.489381489084188},-41.489381489084188,null,1516.1682882300497,{"$f":"IFERROR((letalitat!$P$14*1000)/((3.14159*dispersió!$I$10*((dispersió!$J$43+F498)^dispersió!$J$10)*dispersió!$K$10*((dispersió!$K$43+F498)^dispersió!$L$10)+dispersió!$C$24*dispersió!$D$43)*dispersió!$I$12),0)","v":0.45795705202547704},{"$f":"IFERROR(dispersió!$I$10*((dispersió!$J$43+'Càlculs interns'!F498)^dispersió!$J$10)*(2*LN('Càlculs interns'!G498/dispersió!$O$48))^(1/2),0)","v":33.917977142521579},-33.917977142521579,null,1145.0625756534521,{"$f":"IFERROR((letalitat!$P$14*1000)/((3.14159*dispersió!$I$10*((dispersió!$J$43+K498)^dispersió!$J$10)*dispersió!$K$10*((dispersió!$K$43+K498)^dispersió!$L$10)+dispersió!$C$24*dispersió!$D$43)*dispersió!$I$12),0)","v":0.67672697218450972},{"$f":"IFERROR(dispersió!$I$10*((dispersió!$J$43+'Càlculs interns'!K498)^dispersió!$J$10)*(2*LN('Càlculs interns'!L498/dispersió!$O$56))^(1/2),0)","v":26.693632854719048},-26.693632854719048,null,683.30916008363727,{"$f":"IFERROR((letalitat!$P$14*1000)/((3.14159*dispersió!$I$10*((dispersió!$J$43+P498)^dispersió!$J$10)*dispersió!$K$10*((dispersió!$K$43+P498)^dispersió!$L$10)+dispersió!$C$24*dispersió!$D$43)*dispersió!$I$12),0)","v":1.3306418522293597},{"$f":"IFERROR(dispersió!$I$10*((dispersió!$J$43+'Càlculs interns'!P498)^dispersió!$J$10)*(2*LN('Càlculs interns'!Q498/dispersió!$O$63))^(1/2),0)","v":17.364195783463583},-17.364195783463583]
[1989.8188903874966,{"$f":"IFERROR((letalitat!$P$14*1000)/((3.14159*dispersió!$I$10*((dispersió!$J$43+A499)^dispersió!$J$10)*dispersió!$K$10*((dispersió!$K$43+A499)^dispersió!$L$10)+dispersió!$C$24*dispersió!$D$43)*dispersió!$I$12),0)","v":0.31020168777954243},{"$f":"IFERROR(dispersió!$I$10*((dispersió!$J$43+'Càlculs interns'!A499)^dispersió!$J$10)*(2*LN('Càlculs interns'!B499/dispersió!$O$42))^(1/2),0)","v":36.748358170360852},-36.748358170360852,null,1574.4824531619747,{"$f":"IFERROR((letalitat!$P$14*1000)/((3.14159*dispersió!$I$10*((dispersió!$J$43+F499)^dispersió!$J$10)*dispersió!$K$10*((dispersió!$K$43+F499)^dispersió!$L$10)+dispersió!$C$24*dispersió!$D$43)*dispersió!$I$12),0)","v":0.43411325520747163},{"$f":"IFERROR(dispersió!$I$10*((dispersió!$J$43+'Càlculs interns'!F499)^dispersió!$J$10)*(2*LN('Càlculs interns'!G499/dispersió!$O$48))^(1/2),0)","v":30.028239892568727},-30.028239892568727,null,1189.1034439478155,{"$f":"IFERROR((letalitat!$P$14*1000)/((3.14159*dispersió!$I$10*((dispersió!$J$43+K499)^dispersió!$J$10)*dispersió!$K$10*((dispersió!$K$43+K499)^dispersió!$L$10)+dispersió!$C$24*dispersió!$D$43)*dispersió!$I$12),0)","v":0.64263301386954352},{"$f":"IFERROR(dispersió!$I$10*((dispersió!$J$43+'Càlculs interns'!K499)^dispersió!$J$10)*(2*LN('Càlculs interns'!L499/dispersió!$O$56))^(1/2),0)","v":23.611702771807852},-23.611702771807852,null,709.59028162531558,{"$f":"IFERROR((letalitat!$P$14*1000)/((3.14159*dispersió!$I$10*((dispersió!$J$43+P499)^dispersió!$J$10)*dispersió!$K$10*((dispersió!$K$43+P499)^dispersió!$L$10)+dispersió!$C$24*dispersió!$D$43)*dispersió!$I$12),0)","v":1.2692839424848963},{"$f":"IFERROR(dispersió!$I$10*((dispersió!$J$43+'Càlculs interns'!P499)^dispersió!$J$10)*(2*LN('Càlculs interns'!Q499/dispersió!$O$63))^(1/2),0)","v":15.335257529261471},-15.335257529261471]
[2063.5158863277743,{"$f":"IFERROR((letalitat!$P$14*1000)/((3.14159*dispersió!$I$10*((dispersió!$J$43+A500)^dispersió!$J$10)*dispersió!$K$10*((dispersió!$K$43+A500)^dispersió!$L$10)+dispersió!$C$24*dispersió!$D$43)*dispersió!$I$12),0)","v":0.29424032573739239},{"$f":"IFERROR(dispersió!$I$10*((dispersió!$J$43+'Càlculs interns'!A500)^dispersió!$J$10)*(2*LN('Càlculs interns'!B500/dispersió!$O$42))^(1/2),0)","v":30.656460516972125},-30.656460516972125,null,1632.7966180938997,{"$f":"IFERROR((letalitat!$P$14*1000)/((3.14159*dispersió!$I$10*((dispersió!$J$43+F500)^dispersió!$J$10)*dispersió!$K$10*((dispersió!$K$43+F500)^dispersió!$L$10)+dispersió!$C$24*dispersió!$D$43)*dispersió!$I$12),0)","v":0.41223086509504819},{"$f":"IFERROR(dispersió!$I$10*((dispersió!$J$43+'Càlculs interns'!F500)^dispersió!$J$10)*(2*LN('Càlculs interns'!G500/dispersió!$O$48))^(1/2),0)","v":25.039980937444003},-25.039980937444003,null,1233.144312242179,{"$f":"IFERROR((letalitat!$P$14*1000)/((3.14159*dispersió!$I$10*((dispersió!$J$43+K500)^dispersió!$J$10)*dispersió!$K$10*((dispersió!$K$43+K500)^dispersió!$L$10)+dispersió!$C$24*dispersió!$D$43)*dispersió!$I$12),0)","v":0.61125268361212415},{"$f":"IFERROR(dispersió!$I$10*((dispersió!$J$43+'Càlculs interns'!K500)^dispersió!$J$10)*(2*LN('Càlculs interns'!L500/dispersió!$O$56))^(1/2),0)","v":19.669491123106486},-19.669491123106486,null,735.8714031669939,{"$f":"IFERROR((letalitat!$P$14*1000)/((3.14159*dispersió!$I$10*((dispersió!$J$43+P500)^dispersió!$J$10)*dispersió!$K$10*((dispersió!$K$43+P500)^dispersió!$L$10)+dispersió!$C$24*dispersió!$D$43)*dispersió!$I$12),0)","v":1.2123924136129609},{"$f":"IFERROR(dispersió!$I$10*((dispersió!$J$43+'Càlculs interns'!P500)^dispersió!$J$10)*(2*LN('Càlculs interns'!Q500/dispersió!$O$63))^(1/2),0)","v":12.757518656938494},-12.757518656938494]
[2137.212882268052,{"$f":"IFERROR((letalitat!$P$14*1000)/((3.14159*dispersió!$I$10*((dispersió!$J$43+A501)^dispersió!$J$10)*dispersió!$K$10*((dispersió!$K$43+A501)^dispersió!$L$10)+dispersió!$C$24*dispersió!$D$43)*dispersió!$I$12),0)","v":0.27957800390758497},{"$f":"IFERROR(dispersió!$I$10*((dispersió!$J$43+'Càlculs interns'!A501)^dispersió!$J$10)*(2*LN('Càlculs interns'!B501/dispersió!$O$42))^(1/2),0)","v":22.113060467398146},-22.113060467398146,null,1691.1107830258247,{"$f":"IFERROR((letalitat!$P$14*1000)/((3.14159*dispersió!$I$10*((dispersió!$J$43+F501)^dispersió!$J$10)*dispersió!$K$10*((dispersió!$K$43+F501)^dispersió!$L$10)+dispersió!$C$24*dispersió!$D$43)*dispersió!$I$12),0)","v":0.3920931753586997},{"$f":"IFERROR(dispersió!$I$10*((dispersió!$J$43+'Càlculs interns'!F501)^dispersió!$J$10)*(2*LN('Càlculs interns'!G501/dispersió!$O$48))^(1/2),0)","v":18.055991517032243},-18.055991517032243,null,1277.1851805365425,{"$f":"IFERROR((letalitat!$P$14*1000)/((3.14159*dispersió!$I$10*((dispersió!$J$43+K501)^dispersió!$J$10)*dispersió!$K$10*((dispersió!$K$43+K501)^dispersió!$L$10)+dispersió!$C$24*dispersió!$D$43)*dispersió!$I$12),0)","v":0.58229587098547664},{"$f":"IFERROR(dispersió!$I$10*((dispersió!$J$43+'Càlculs interns'!K501)^dispersió!$J$10)*(2*LN('Càlculs interns'!L501/dispersió!$O$56))^(1/2),0)","v":14.159442879743258},-14.159442879743258,null,762.15252470867222,{"$f":"IFERROR((letalitat!$P$14*1000)/((3.14159*dispersió!$I$10*((dispersió!$J$43+P501)^dispersió!$J$10)*dispersió!$K$10*((dispersió!$K$43+P501)^dispersió!$L$10)+dispersió!$C$24*dispersió!$D$43)*dispersió!$I$12),0)","v":1.1595307256084728},{"$f":"IFERROR(dispersió!$I$10*((dispersió!$J$43+'Càlculs interns'!P501)^dispersió!$J$10)*(2*LN('Càlculs interns'!Q501/dispersió!$O$63))^(1/2),0)","v":9.1760709939482865},-9.1760709939482865]
[{"$f":"dispersió!L43","v":2210.9098782083279},{"$f":"IFERROR((letalitat!$P$14*1000)/((3.14159*dispersió!$I$10*((dispersió!$J$43+A502)^dispersió!$J$10)*dispersió!$K$10*((dispersió!$K$43+A502)^dispersió!$L$10)+dispersió!$C$24*dispersió!$D$43)*dispersió!$I$12),0)","v":0.26607258804962219},{"$f":"IFERROR(dispersió!$I$10*((dispersió!$J$43+'Càlculs interns'!A502)^dispersió!$J$10)*(2*LN('Càlculs interns'!B502/dispersió!$O$42))^(1/2),0)","v":0},0,null,{"$f":"dispersió!L50","v":1749.4249479577488},{"$f":"IFERROR((letalitat!$P$14*1000)/((3.14159*dispersió!$I$10*((dispersió!$J$43+F502)^dispersió!$J$10)*dispersió!$K$10*((dispersió!$K$43+F502)^dispersió!$L$10)+dispersió!$C$24*dispersió!$D$43)*dispersió!$I$12),0)","v":0.37351315541514801},{"$f":"IFERROR(dispersió!$I$10*((dispersió!$J$43+'Càlculs interns'!F502)^dispersió!$J$10)*(2*LN('Càlculs interns'!G502/dispersió!$O$48))^(1/2),0)","v":0},0,null,{"$f":"dispersió!L57","v":1321.2260488309059},{"$f":"IFERROR((letalitat!$P$14*1000)/((3.14159*dispersió!$I$10*((dispersió!$J$43+K502)^dispersió!$J$10)*dispersió!$K$10*((dispersió!$K$43+K502)^dispersió!$L$10)+dispersió!$C$24*dispersió!$D$43)*dispersió!$I$12),0)","v":0.55551091291875421},{"$f":"IFERROR(dispersió!$I$10*((dispersió!$J$43+'Càlculs interns'!K502)^dispersió!$J$10)*(2*LN('Càlculs interns'!L502/dispersió!$O$56))^(1/2),0)","v":0},0,null,{"$f":"dispersió!L64","v":788.43364625035099},{"$f":"IFERROR((letalitat!$P$14*1000)/((3.14159*dispersió!$I$10*((dispersió!$J$43+P502)^dispersió!$J$10)*dispersió!$K$10*((dispersió!$K$43+P502)^dispersió!$L$10)+dispersió!$C$24*dispersió!$D$43)*dispersió!$I$12),0)","v":1.1103152225489852},{"$f":"IFERROR(dispersió!$I$10*((dispersió!$J$43+'Càlculs interns'!P502)^dispersió!$J$10)*(2*LN('Càlculs interns'!Q502/dispersió!$O$63))^(1/2),0)","v":0},0]
[]
["Area 2500m2"]
["Est. D"]
["LC1",null,"LC1+","LC1-",null,"LC10",null,"LC10+","LC10-",null,"LC50",null,"LC50+","LC50-",null,"LC99",null,"LC99+","LC99-"]
["X","C(x)","y+","y-",null,"X","C(x)","y+","y-",null,"X","C(x)","y+","y-",null,"X","C(x)","y+","y-"]
[0,{"$f":"IFERROR((letalitat!$P$15*1000)/((3.14159*dispersió!$C$10*((dispersió!$E$44+A508)^dispersió!$D$10)*dispersió!$E$10*((dispersió!$F$44+A508)^dispersió!$F$10)+dispersió!$C$24*dispersió!$D$44)*dispersió!$C$12),0)","v":7.3411469395761042},{"$f":"IFERROR(dispersió!$C$10*((dispersió!$E$44+'Càlculs interns'!A508)^dispersió!$D$10)*(2*LN('Càlculs interns'!B508/dispersió!$O$42))^(1/2),0)","v":29.950560835454827},{"$f":"-C508","v":-29.950560835454827},null,0,{"$f":"IFERROR((letalitat!$P$15*1000)/((3.14159*dispersió!$C$10*((dispersió!$E$44+F508)^dispersió!$D$10)*dispersió!$E$10*((dispersió!$F$44+F508)^dispersió!$F$10)+dispersió!$C$24*dispersió!$D$44)*dispersió!$C$12),0)","v":7.3411469395761042},{"$f":"IFERROR(dispersió!$C$10*((dispersió!$E$44+'Càlculs interns'!F508)^dispersió!$D$10)*(2*LN('Càlculs interns'!G508/dispersió!$O$48))^(1/2),0)","v":28.378183374128074},{"$f":"-H508","v":-28.378183374128074},null,0,{"$f":"IFERROR((letalitat!$P$15*1000)/((3.14159*dispersió!$C$10*((dispersió!$E$44+K508)^dispersió!$D$10)*dispersió!$E$10*((dispersió!$F$44+K508)^dispersió!$F$10)+dispersió!$C$24*dispersió!$D$44)*dispersió!$C$12),0)","v":7.3411469395761042},{"$f":"IFERROR(dispersió!$C$10*((dispersió!$E$44+'Càlculs interns'!K508)^dispersió!$D$10)*(2*LN('Càlculs interns'!L508/dispersió!$O$56))^(1/2),0)","v":26.41839251354773},{"$f":"-M508","v":-26.41839251354773},null,0,{"$f":"IFERROR((letalitat!$P$15*1000)/((3.14159*dispersió!$C$10*((dispersió!$E$44+P508)^dispersió!$D$10)*dispersió!$E$10*((dispersió!$F$44+P508)^dispersió!$F$10)+dispersió!$C$24*dispersió!$D$44)*dispersió!$C$12),0)","v":7.3411469395761042},{"$f":"IFERROR(dispersió!$C$10*((dispersió!$E$44+'Càlculs interns'!P508)^dispersió!$D$10)*(2*LN('Càlculs interns'!Q508/dispersió!$O$63))^(1/2),0)","v":22.598741165397495},{"$f":"-R508","v":-22.598741165397495}]
[{"$f":"A538/30","v":20.337981229105267},{"$f":"IFERROR((letalitat!$P$15*1000)/((3.14159*dispersió!$C$10*((dispersió!$E$44+A509)^dispersió!$D$10)*dispersió!$E$10*((dispersió!$F$44+A509)^dispersió!$F$10)+dispersió!$C$24*dispersió!$D$44)*dispersió!$C$12),0)","v":5.2457083904470432},{"$f":"IFERROR(dispersió!$C$10*((dispersió!$E$44+'Càlculs interns'!A509)^dispersió!$D$10)*(2*LN('Càlculs interns'!B509/dispersió!$O$42))^(1/2),0)","v":31.953724184573044},-31.953724184573044,null,{"$f":"F538/30","v":15.982339999500857},{"$f":"IFERROR((letalitat!$P$15*1000)/((3.14159*dispersió!$C$10*((dispersió!$E$44+F509)^dispersió!$D$10)*dispersió!$E$10*((dispersió!$F$44+F509)^dispersió!$F$10)+dispersió!$C$24*dispersió!$D$44)*dispersió!$C$12),0)","v":5.5999996396239062},{"$f":"IFERROR(dispersió!$C$10*((dispersió!$E$44+'Càlculs interns'!F509)^dispersió!$D$10)*(2*LN('Càlculs interns'!G509/dispersió!$O$48))^(1/2),0)","v":29.72773506649569},{"$f":"-H509","v":-29.72773506649569},null,{"$f":"K538/30","v":11.887932630739375},{"$f":"IFERROR((letalitat!$P$15*1000)/((3.14159*dispersió!$C$10*((dispersió!$E$44+K509)^dispersió!$D$10)*dispersió!$E$10*((dispersió!$F$44+K509)^dispersió!$F$10)+dispersió!$C$24*dispersió!$D$44)*dispersió!$C$12),0)","v":5.9721505667954213},{"$f":"IFERROR(dispersió!$C$10*((dispersió!$E$44+'Càlculs interns'!K509)^dispersió!$D$10)*(2*LN('Càlculs interns'!L509/dispersió!$O$56))^(1/2),0)","v":27.202482479401798},{"$f":"-M509","v":-27.202482479401798},null,{"$f":"P538/30","v":6.7169748440384875},{"$f":"IFERROR((letalitat!$P$15*1000)/((3.14159*dispersió!$C$10*((dispersió!$E$44+P509)^dispersió!$D$10)*dispersió!$E$10*((dispersió!$F$44+P509)^dispersió!$F$10)+dispersió!$C$24*dispersió!$D$44)*dispersió!$C$12),0)","v":6.5074081570609232},{"$f":"IFERROR(dispersió!$C$10*((dispersió!$E$44+'Càlculs interns'!P509)^dispersió!$D$10)*(2*LN('Càlculs interns'!Q509/dispersió!$O$63))^(1/2),0)","v":22.775047215010478},{"$f":"-R509","v":-22.775047215010478}]
[{"$f":"A$509+A509","v":40.675962458210535},{"$f":"IFERROR((letalitat!$P$15*1000)/((3.14159*dispersió!$C$10*((dispersió!$E$44+A510)^dispersió!$D$10)*dispersió!$E$10*((dispersió!$F$44+A510)^dispersió!$F$10)+dispersió!$C$24*dispersió!$D$44)*dispersió!$C$12),0)","v":3.9983196343964686},{"$f":"IFERROR(dispersió!$C$10*((dispersió!$E$44+'Càlculs interns'!A510)^dispersió!$D$10)*(2*LN('Càlculs interns'!B510/dispersió!$O$42))^(1/2),0)","v":33.819244450757914},-33.819244450757914,null,{"$f":"F$509+F509","v":31.964679999001714},{"$f":"IFERROR((letalitat!$P$15*1000)/((3.14159*dispersió!$C$10*((dispersió!$E$44+F510)^dispersió!$D$10)*dispersió!$E$10*((dispersió!$F$44+F510)^dispersió!$F$10)+dispersió!$C$24*dispersió!$D$44)*dispersió!$C$12),0)","v":4.4645609753396212},{"$f":"IFERROR(dispersió!$C$10*((dispersió!$E$44+'Càlculs interns'!F510)^dispersió!$D$10)*(2*LN('Càlculs interns'!G510/dispersió!$O$48))^(1/2),0)","v":30.988576124139204},-30.988576124139204,null,{"$f":"K$509+K509","v":23.775865261478749},{"$f":"IFERROR((letalitat!$P$15*1000)/((3.14159*dispersió!$C$10*((dispersió!$E$44+K510)^dispersió!$D$10)*dispersió!$E$10*((dispersió!$F$44+K510)^dispersió!$F$10)+dispersió!$C$24*dispersió!$D$44)*dispersió!$C$12),0)","v":4.9920842461882948},{"$f":"IFERROR(dispersió!$C$10*((dispersió!$E$44+'Càlculs interns'!K510)^dispersió!$D$10)*(2*LN('Càlculs interns'!L510/dispersió!$O$56))^(1/2),0)","v":27.933509991079383},-27.933509991079383,null,{"$f":"P$509+P509","v":13.433949688076975},{"$f":"IFERROR((letalitat!$P$15*1000)/((3.14159*dispersió!$C$10*((dispersió!$E$44+P510)^dispersió!$D$10)*dispersió!$E$10*((dispersió!$F$44+P510)^dispersió!$F$10)+dispersió!$C$24*dispersió!$D$44)*dispersió!$C$12),0)","v":5.8267576512026373},{"$f":"IFERROR(dispersió!$C$10*((dispersió!$E$44+'Càlculs interns'!P510)^dispersió!$D$10)*(2*LN('Càlculs interns'!Q510/dispersió!$O$63))^(1/2),0)","v":22.928906391554637},-22.928906391554637]
[{"$f":"A$509+A510","v":61.013943687315802},{"$f":"IFERROR((letalitat!$P$15*1000)/((3.14159*dispersió!$C$10*((dispersió!$E$44+A511)^dispersió!$D$10)*dispersió!$E$10*((dispersió!$F$44+A511)^dispersió!$F$10)+dispersió!$C$24*dispersió!$D$44)*dispersió!$C$12),0)","v":3.1757869427001557},{"$f":"IFERROR(dispersió!$C$10*((dispersió!$E$44+'Càlculs interns'!A511)^dispersió!$D$10)*(2*LN('Càlculs interns'!B511/dispersió!$O$42))^(1/2),0)","v":35.526579637015303},-35.526579637015303,null,{"$f":"F$509+F510","v":47.947019998502569},{"$f":"IFERROR((letalitat!$P$15*1000)/((3.14159*dispersió!$C$10*((dispersió!$E$44+F511)^dispersió!$D$10)*dispersió!$E$10*((dispersió!$F$44+F511)^dispersió!$F$10)+dispersió!$C$24*dispersió!$D$44)*dispersió!$C$12),0)","v":3.6676682383907684},{"$f":"IFERROR(dispersió!$C$10*((dispersió!$E$44+'Càlculs interns'!F511)^dispersió!$D$10)*(2*LN('Càlculs interns'!G511/dispersió!$O$48))^(1/2),0)","v":32.144187054401186},-32.144187054401186,null,{"$f":"K$509+K510","v":35.663797892218128},{"$f":"IFERROR((letalitat!$P$15*1000)/((3.14159*dispersió!$C$10*((dispersió!$E$44+K511)^dispersió!$D$10)*dispersió!$E$10*((dispersió!$F$44+K511)^dispersió!$F$10)+dispersió!$C$24*dispersió!$D$44)*dispersió!$C$12),0)","v":4.2560752117201845},{"$f":"IFERROR(dispersió!$C$10*((dispersió!$E$44+'Càlculs interns'!K511)^dispersió!$D$10)*(2*LN('Càlculs interns'!L511/dispersió!$O$56))^(1/2),0)","v":28.600321143751511},-28.600321143751511,null,{"$f":"P$509+P510","v":20.150924532115461},{"$f":"IFERROR((letalitat!$P$15*1000)/((3.14159*dispersió!$C$10*((dispersió!$E$44+P511)^dispersió!$D$10)*dispersió!$E$10*((dispersió!$F$44+P511)^dispersió!$F$10)+dispersió!$C$24*dispersió!$D$44)*dispersió!$C$12),0)","v":5.260132715860153},{"$f":"IFERROR(dispersió!$C$10*((dispersió!$E$44+'Càlculs interns'!P511)^dispersió!$D$10)*(2*LN('Càlculs interns'!Q511/dispersió!$O$63))^(1/2),0)","v":23.056077602886056},-23.056077602886056]
[81.351924916421069,{"$f":"IFERROR((letalitat!$P$15*1000)/((3.14159*dispersió!$C$10*((dispersió!$E$44+A512)^dispersió!$D$10)*dispersió!$E$10*((dispersió!$F$44+A512)^dispersió!$F$10)+dispersió!$C$24*dispersió!$D$44)*dispersió!$C$12),0)","v":2.5977643995947717},{"$f":"IFERROR(dispersió!$C$10*((dispersió!$E$44+'Càlculs interns'!A512)^dispersió!$D$10)*(2*LN('Càlculs interns'!B512/dispersió!$O$42))^(1/2),0)","v":37.073562591513827},-37.073562591513827,null,63.929359998003427,{"$f":"IFERROR((letalitat!$P$15*1000)/((3.14159*dispersió!$C$10*((dispersió!$E$44+F512)^dispersió!$D$10)*dispersió!$E$10*((dispersió!$F$44+F512)^dispersió!$F$10)+dispersió!$C$24*dispersió!$D$44)*dispersió!$C$12),0)","v":3.0806834157062206},{"$f":"IFERROR(dispersió!$C$10*((dispersió!$E$44+'Càlculs interns'!F512)^dispersió!$D$10)*(2*LN('Càlculs interns'!G512/dispersió!$O$48))^(1/2),0)","v":33.189732557303216},-33.189732557303216,null,47.551730522957499,{"$f":"IFERROR((letalitat!$P$15*1000)/((3.14159*dispersió!$C$10*((dispersió!$E$44+K512)^dispersió!$D$10)*dispersió!$E$10*((dispersió!$F$44+K512)^dispersió!$F$10)+dispersió!$C$24*dispersió!$D$44)*dispersió!$C$12),0)","v":3.6844694382931165},{"$f":"IFERROR(dispersió!$C$10*((dispersió!$E$44+'Càlculs interns'!K512)^dispersió!$D$10)*(2*LN('Càlculs interns'!L512/dispersió!$O$56))^(1/2),0)","v":29.19787116438733},-29.19787116438733,null,26.86789937615395,{"$f":"IFERROR((letalitat!$P$15*1000)/((3.14159*dispersió!$C$10*((dispersió!$E$44+P512)^dispersió!$D$10)*dispersió!$E$10*((dispersió!$F$44+P512)^dispersió!$F$10)+dispersió!$C$24*dispersió!$D$44)*dispersió!$C$12),0)","v":4.7811535553695146},{"$f":"IFERROR(dispersió!$C$10*((dispersió!$E$44+'Càlculs interns'!P512)^dispersió!$D$10)*(2*LN('Càlculs interns'!Q512/dispersió!$O$63))^(1/2),0)","v":23.153682529518214},-23.153682529518214]
[101.68990614552634,{"$f":"IFERROR((letalitat!$P$15*1000)/((3.14159*dispersió!$C$10*((dispersió!$E$44+A513)^dispersió!$D$10)*dispersió!$E$10*((dispersió!$F$44+A513)^dispersió!$F$10)+dispersió!$C$24*dispersió!$D$44)*dispersió!$C$12),0)","v":2.1729578287802966},{"$f":"IFERROR(dispersió!$C$10*((dispersió!$E$44+'Càlculs interns'!A513)^dispersió!$D$10)*(2*LN('Càlculs interns'!B513/dispersió!$O$42))^(1/2),0)","v":38.462771013749382},-38.462771013749382,null,79.911699997504286,{"$f":"IFERROR((letalitat!$P$15*1000)/((3.14159*dispersió!$C$10*((dispersió!$E$44+F513)^dispersió!$D$10)*dispersió!$E$10*((dispersió!$F$44+F513)^dispersió!$F$10)+dispersió!$C$24*dispersió!$D$44)*dispersió!$C$12),0)","v":2.6328764949098207},{"$f":"IFERROR(dispersió!$C$10*((dispersió!$E$44+'Càlculs interns'!F513)^dispersió!$D$10)*(2*LN('Càlculs interns'!G513/dispersió!$O$48))^(1/2),0)","v":34.124281579820099},-34.124281579820099,null,59.43966315369687,{"$f":"IFERROR((letalitat!$P$15*1000)/((3.14159*dispersió!$C$10*((dispersió!$E$44+K513)^dispersió!$D$10)*dispersió!$E$10*((dispersió!$F$44+K513)^dispersió!$F$10)+dispersió!$C$24*dispersió!$D$44)*dispersió!$C$12),0)","v":3.2291528800471379},{"$f":"IFERROR(dispersió!$C$10*((dispersió!$E$44+'Càlculs interns'!K513)^dispersió!$D$10)*(2*LN('Càlculs interns'!L513/dispersió!$O$56))^(1/2),0)","v":29.723665704667404},-29.723665704667404,null,33.58487422019244,{"$f":"IFERROR((letalitat!$P$15*1000)/((3.14159*dispersió!$C$10*((dispersió!$E$44+P513)^dispersió!$D$10)*dispersió!$E$10*((dispersió!$F$44+P513)^dispersió!$F$10)+dispersió!$C$24*dispersió!$D$44)*dispersió!$C$12),0)","v":4.3711960986553686},{"$f":"IFERROR(dispersió!$C$10*((dispersió!$E$44+'Càlculs interns'!P513)^dispersió!$D$10)*(2*LN('Càlculs interns'!Q513/dispersió!$O$63))^(1/2),0)","v":23.219597209379007},-23.219597209379007]
[122.0278873746316,{"$f":"IFERROR((letalitat!$P$15*1000)/((3.14159*dispersió!$C$10*((dispersió!$E$44+A514)^dispersió!$D$10)*dispersió!$E$10*((dispersió!$F$44+A514)^dispersió!$F$10)+dispersió!$C$24*dispersió!$D$44)*dispersió!$C$12),0)","v":1.850023555710482},{"$f":"IFERROR(dispersió!$C$10*((dispersió!$E$44+'Càlculs interns'!A514)^dispersió!$D$10)*(2*LN('Càlculs interns'!B514/dispersió!$O$42))^(1/2),0)","v":39.697806326922723},-39.697806326922723,null,95.894039997005137,{"$f":"IFERROR((letalitat!$P$15*1000)/((3.14159*dispersió!$C$10*((dispersió!$E$44+F514)^dispersió!$D$10)*dispersió!$E$10*((dispersió!$F$44+F514)^dispersió!$F$10)+dispersió!$C$24*dispersió!$D$44)*dispersió!$C$12),0)","v":2.2818878055636791},{"$f":"IFERROR(dispersió!$C$10*((dispersió!$E$44+'Càlculs interns'!F514)^dispersió!$D$10)*(2*LN('Càlculs interns'!G514/dispersió!$O$48))^(1/2),0)","v":34.948229861107244},-34.948229861107244,null,71.327595784436241,{"$f":"IFERROR((letalitat!$P$15*1000)/((3.14159*dispersió!$C$10*((dispersió!$E$44+K514)^dispersió!$D$10)*dispersió!$E$10*((dispersió!$F$44+K514)^dispersió!$F$10)+dispersió!$C$24*dispersió!$D$44)*dispersió!$C$12),0)","v":2.859126078202578},{"$f":"IFERROR(dispersió!$C$10*((dispersió!$E$44+'Càlculs interns'!K514)^dispersió!$D$10)*(2*LN('Càlculs interns'!L514/dispersió!$O$56))^(1/2),0)","v":30.17632526308374},-30.17632526308374,null,40.301849064230929,{"$f":"IFERROR((letalitat!$P$15*1000)/((3.14159*dispersió!$C$10*((dispersió!$E$44+P514)^dispersió!$D$10)*dispersió!$E$10*((dispersió!$F$44+P514)^dispersió!$F$10)+dispersió!$C$24*dispersió!$D$44)*dispersió!$C$12),0)","v":4.0166556273258829},{"$f":"IFERROR(dispersió!$C$10*((dispersió!$E$44+'Càlculs interns'!P514)^dispersió!$D$10)*(2*LN('Càlculs interns'!Q514/dispersió!$O$63))^(1/2),0)","v":23.252119000913261},-23.252119000913261]
[142.36586860373689,{"$f":"IFERROR((letalitat!$P$15*1000)/((3.14159*dispersió!$C$10*((dispersió!$E$44+A515)^dispersió!$D$10)*dispersió!$E$10*((dispersió!$F$44+A515)^dispersió!$F$10)+dispersió!$C$24*dispersió!$D$44)*dispersió!$C$12),0)","v":1.5979013857378648},{"$f":"IFERROR(dispersió!$C$10*((dispersió!$E$44+'Càlculs interns'!A515)^dispersió!$D$10)*(2*LN('Càlculs interns'!B515/dispersió!$O$42))^(1/2),0)","v":40.782072491427854},-40.782072491427854,null,111.87637999650599,{"$f":"IFERROR((letalitat!$P$15*1000)/((3.14159*dispersió!$C$10*((dispersió!$E$44+F515)^dispersió!$D$10)*dispersió!$E$10*((dispersió!$F$44+F515)^dispersió!$F$10)+dispersió!$C$24*dispersió!$D$44)*dispersió!$C$12),0)","v":2.0007600056764137},{"$f":"IFERROR(dispersió!$C$10*((dispersió!$E$44+'Càlculs interns'!F515)^dispersió!$D$10)*(2*LN('Càlculs interns'!G515/dispersió!$O$48))^(1/2),0)","v":35.66228999970447},-35.66228999970447,null,83.215528415175612,{"$f":"IFERROR((letalitat!$P$15*1000)/((3.14159*dispersió!$C$10*((dispersió!$E$44+K515)^dispersió!$D$10)*dispersió!$E$10*((dispersió!$F$44+K515)^dispersió!$F$10)+dispersió!$C$24*dispersió!$D$44)*dispersió!$C$12),0)","v":2.5534448481510488},{"$f":"IFERROR(dispersió!$C$10*((dispersió!$E$44+'Càlculs interns'!K515)^dispersió!$D$10)*(2*LN('Càlculs interns'!L515/dispersió!$O$56))^(1/2),0)","v":30.554923058635644},-30.554923058635644,null,47.018823908269418,{"$f":"IFERROR((letalitat!$P$15*1000)/((3.14159*dispersió!$C$10*((dispersió!$E$44+P515)^dispersió!$D$10)*dispersió!$E$10*((dispersió!$F$44+P515)^dispersió!$F$10)+dispersió!$C$24*dispersió!$D$44)*dispersió!$C$12),0)","v":3.7073212481262412},{"$f":"IFERROR(dispersió!$C$10*((dispersió!$E$44+'Càlculs interns'!P515)^dispersió!$D$10)*(2*LN('Càlculs interns'!Q515/dispersió!$O$63))^(1/2),0)","v":23.249768988266737},-23.249768988266737]
[162.70384983284214,{"$f":"IFERROR((letalitat!$P$15*1000)/((3.14159*dispersió!$C$10*((dispersió!$E$44+A516)^dispersió!$D$10)*dispersió!$E$10*((dispersió!$F$44+A516)^dispersió!$F$10)+dispersió!$C$24*dispersió!$D$44)*dispersió!$C$12),0)","v":1.3967504585198667},{"$f":"IFERROR(dispersió!$C$10*((dispersió!$E$44+'Càlculs interns'!A516)^dispersió!$D$10)*(2*LN('Càlculs interns'!B516/dispersió!$O$42))^(1/2),0)","v":41.718342437577562},-41.718342437577562,null,127.85871999600684,{"$f":"IFERROR((letalitat!$P$15*1000)/((3.14159*dispersió!$C$10*((dispersió!$E$44+F516)^dispersió!$D$10)*dispersió!$E$10*((dispersió!$F$44+F516)^dispersió!$F$10)+dispersió!$C$24*dispersió!$D$44)*dispersió!$C$12),0)","v":1.7715303806703853},{"$f":"IFERROR(dispersió!$C$10*((dispersió!$E$44+'Càlculs interns'!F516)^dispersió!$D$10)*(2*LN('Càlculs interns'!G516/dispersió!$O$48))^(1/2),0)","v":36.267049773186891},-36.267049773186891,null,95.103461045914983,{"$f":"IFERROR((letalitat!$P$15*1000)/((3.14159*dispersió!$C$10*((dispersió!$E$44+K516)^dispersió!$D$10)*dispersió!$E$10*((dispersió!$F$44+K516)^dispersió!$F$10)+dispersió!$C$24*dispersió!$D$44)*dispersió!$C$12),0)","v":2.2974291085668295},{"$f":"IFERROR(dispersió!$C$10*((dispersió!$E$44+'Càlculs interns'!K516)^dispersió!$D$10)*(2*LN('Càlculs interns'!L516/dispersió!$O$56))^(1/2),0)","v":30.858646607791581},-30.858646607791581,null,53.735798752307907,{"$f":"IFERROR((letalitat!$P$15*1000)/((3.14159*dispersió!$C$10*((dispersió!$E$44+P516)^dispersió!$D$10)*dispersió!$E$10*((dispersió!$F$44+P516)^dispersió!$F$10)+dispersió!$C$24*dispersió!$D$44)*dispersió!$C$12),0)","v":3.4353582213320926},{"$f":"IFERROR(dispersió!$C$10*((dispersió!$E$44+'Càlculs interns'!P516)^dispersió!$D$10)*(2*LN('Càlculs interns'!Q516/dispersió!$O$63))^(1/2),0)","v":23.211165483894501},-23.211165483894501]
[183.04183106194739,{"$f":"IFERROR((letalitat!$P$15*1000)/((3.14159*dispersió!$C$10*((dispersió!$E$44+A517)^dispersió!$D$10)*dispersió!$E$10*((dispersió!$F$44+A517)^dispersió!$F$10)+dispersió!$C$24*dispersió!$D$44)*dispersió!$C$12),0)","v":1.233344471376866},{"$f":"IFERROR(dispersió!$C$10*((dispersió!$E$44+'Càlculs interns'!A517)^dispersió!$D$10)*(2*LN('Càlculs interns'!B517/dispersió!$O$42))^(1/2),0)","v":42.508601238045372},-42.508601238045372,null,143.84105999550769,{"$f":"IFERROR((letalitat!$P$15*1000)/((3.14159*dispersió!$C$10*((dispersió!$E$44+F517)^dispersió!$D$10)*dispersió!$E$10*((dispersió!$F$44+F517)^dispersió!$F$10)+dispersió!$C$24*dispersió!$D$44)*dispersió!$C$12),0)","v":1.5817862770450695},{"$f":"IFERROR(dispersió!$C$10*((dispersió!$E$44+'Càlculs interns'!F517)^dispersió!$D$10)*(2*LN('Càlculs interns'!G517/dispersió!$O$48))^(1/2),0)","v":36.762759797998633},-36.762759797998633,null,106.99139367665435,{"$f":"IFERROR((letalitat!$P$15*1000)/((3.14159*dispersió!$C$10*((dispersió!$E$44+K517)^dispersió!$D$10)*dispersió!$E$10*((dispersió!$F$44+K517)^dispersió!$F$10)+dispersió!$C$24*dispersió!$D$44)*dispersió!$C$12),0)","v":2.0804815985723644},{"$f":"IFERROR(dispersió!$C$10*((dispersió!$E$44+'Càlculs interns'!K517)^dispersió!$D$10)*(2*LN('Càlculs interns'!L517/dispersió!$O$56))^(1/2),0)","v":31.086607159394386},-31.086607159394386,null,60.452773596346397,{"$f":"IFERROR((letalitat!$P$15*1000)/((3.14159*dispersió!$C$10*((dispersió!$E$44+P517)^dispersió!$D$10)*dispersió!$E$10*((dispersió!$F$44+P517)^dispersió!$F$10)+dispersió!$C$24*dispersió!$D$44)*dispersió!$C$12),0)","v":3.1946434529130774},{"$f":"IFERROR(dispersió!$C$10*((dispersió!$E$44+'Càlculs interns'!P517)^dispersió!$D$10)*(2*LN('Càlculs interns'!Q517/dispersió!$O$63))^(1/2),0)","v":23.134936252247265},-23.134936252247265]
[203.37981229105264,{"$f":"IFERROR((letalitat!$P$15*1000)/((3.14159*dispersió!$C$10*((dispersió!$E$44+A518)^dispersió!$D$10)*dispersió!$E$10*((dispersió!$F$44+A518)^dispersió!$F$10)+dispersió!$C$24*dispersió!$D$44)*dispersió!$C$12),0)","v":1.098556366549339},{"$f":"IFERROR(dispersió!$C$10*((dispersió!$E$44+'Càlculs interns'!A518)^dispersió!$D$10)*(2*LN('Càlculs interns'!B518/dispersió!$O$42))^(1/2),0)","v":43.153987626757235},-43.153987626757235,null,159.82339999500854,{"$f":"IFERROR((letalitat!$P$15*1000)/((3.14159*dispersió!$C$10*((dispersió!$E$44+F518)^dispersió!$D$10)*dispersió!$E$10*((dispersió!$F$44+F518)^dispersió!$F$10)+dispersió!$C$24*dispersió!$D$44)*dispersió!$C$12),0)","v":1.4226916535659151},{"$f":"IFERROR(dispersió!$C$10*((dispersió!$E$44+'Càlculs interns'!F518)^dispersió!$D$10)*(2*LN('Càlculs interns'!G518/dispersió!$O$48))^(1/2),0)","v":37.14921810621852},-37.14921810621852,null,118.87932630739373,{"$f":"IFERROR((letalitat!$P$15*1000)/((3.14159*dispersió!$C$10*((dispersió!$E$44+K518)^dispersió!$D$10)*dispersió!$E$10*((dispersió!$F$44+K518)^dispersió!$F$10)+dispersió!$C$24*dispersió!$D$44)*dispersió!$C$12),0)","v":1.8947641149284709},{"$f":"IFERROR(dispersió!$C$10*((dispersió!$E$44+'Càlculs interns'!K518)^dispersió!$D$10)*(2*LN('Càlculs interns'!L518/dispersió!$O$56))^(1/2),0)","v":31.2377196549003},-31.2377196549003,null,67.169748440384879,{"$f":"IFERROR((letalitat!$P$15*1000)/((3.14159*dispersió!$C$10*((dispersió!$E$44+P518)^dispersió!$D$10)*dispersió!$E$10*((dispersió!$F$44+P518)^dispersió!$F$10)+dispersió!$C$24*dispersió!$D$44)*dispersió!$C$12),0)","v":2.9803163563343404},{"$f":"IFERROR(dispersió!$C$10*((dispersió!$E$44+'Càlculs interns'!P518)^dispersió!$D$10)*(2*LN('Càlculs interns'!Q518/dispersió!$O$63))^(1/2),0)","v":23.019651798029809},-23.019651798029809]
[223.7177935201579,{"$f":"IFERROR((letalitat!$P$15*1000)/((3.14159*dispersió!$C$10*((dispersió!$E$44+A519)^dispersió!$D$10)*dispersió!$E$10*((dispersió!$F$44+A519)^dispersió!$F$10)+dispersió!$C$24*dispersió!$D$44)*dispersió!$C$12),0)","v":0.9859042308963859},{"$f":"IFERROR(dispersió!$C$10*((dispersió!$E$44+'Càlculs interns'!A519)^dispersió!$D$10)*(2*LN('Càlculs interns'!B519/dispersió!$O$42))^(1/2),0)","v":43.654764146718598},-43.654764146718598,null,175.80573999450939,{"$f":"IFERROR((letalitat!$P$15*1000)/((3.14159*dispersió!$C$10*((dispersió!$E$44+F519)^dispersió!$D$10)*dispersió!$E$10*((dispersió!$F$44+F519)^dispersió!$F$10)+dispersió!$C$24*dispersió!$D$44)*dispersió!$C$12),0)","v":1.287798282760811},{"$f":"IFERROR(dispersió!$C$10*((dispersió!$E$44+'Càlculs interns'!F519)^dispersió!$D$10)*(2*LN('Càlculs interns'!G519/dispersió!$O$48))^(1/2),0)","v":37.425693858835182},-37.425693858835182,null,130.7672589381331,{"$f":"IFERROR((letalitat!$P$15*1000)/((3.14159*dispersió!$C$10*((dispersió!$E$44+K519)^dispersió!$D$10)*dispersió!$E$10*((dispersió!$F$44+K519)^dispersió!$F$10)+dispersió!$C$24*dispersió!$D$44)*dispersió!$C$12),0)","v":1.7343591556194657},{"$f":"IFERROR(dispersió!$C$10*((dispersió!$E$44+'Càlculs interns'!K519)^dispersió!$D$10)*(2*LN('Càlculs interns'!L519/dispersió!$O$56))^(1/2),0)","v":31.310615652451624},-31.310615652451624,null,73.886723284423368,{"$f":"IFERROR((letalitat!$P$15*1000)/((3.14159*dispersió!$C$10*((dispersió!$E$44+P519)^dispersió!$D$10)*dispersió!$E$10*((dispersió!$F$44+P519)^dispersió!$F$10)+dispersió!$C$24*dispersió!$D$44)*dispersió!$C$12),0)","v":2.7884664083198372},{"$f":"IFERROR(dispersió!$C$10*((dispersió!$E$44+'Càlculs interns'!P519)^dispersió!$D$10)*(2*LN('Càlculs interns'!Q519/dispersió!$O$63))^(1/2),0)","v":22.863769241631026},-22.863769241631026]
[244.05577474926315,{"$f":"IFERROR((letalitat!$P$15*1000)/((3.14159*dispersió!$C$10*((dispersió!$E$44+A520)^dispersió!$D$10)*dispersió!$E$10*((dispersió!$F$44+A520)^dispersió!$F$10)+dispersió!$C$24*dispersió!$D$44)*dispersió!$C$12),0)","v":0.89067123448744578},{"$f":"IFERROR(dispersió!$C$10*((dispersió!$E$44+'Càlculs interns'!A520)^dispersió!$D$10)*(2*LN('Càlculs interns'!B520/dispersió!$O$42))^(1/2),0)","v":44.010285604109384},-44.010285604109384,null,191.78807999401025,{"$f":"IFERROR((letalitat!$P$15*1000)/((3.14159*dispersió!$C$10*((dispersió!$E$44+F520)^dispersió!$D$10)*dispersió!$E$10*((dispersió!$F$44+F520)^dispersió!$F$10)+dispersió!$C$24*dispersió!$D$44)*dispersió!$C$12),0)","v":1.1722998069310173},{"$f":"IFERROR(dispersió!$C$10*((dispersió!$E$44+'Càlculs interns'!F520)^dispersió!$D$10)*(2*LN('Càlculs interns'!G520/dispersió!$O$48))^(1/2),0)","v":37.590862095550271},-37.590862095550271,null,142.65519156887248,{"$f":"IFERROR((letalitat!$P$15*1000)/((3.14159*dispersió!$C$10*((dispersió!$E$44+K520)^dispersió!$D$10)*dispersió!$E$10*((dispersió!$F$44+K520)^dispersió!$F$10)+dispersió!$C$24*dispersió!$D$44)*dispersió!$C$12),0)","v":1.5947200658688623},{"$f":"IFERROR(dispersió!$C$10*((dispersió!$E$44+'Càlculs interns'!K520)^dispersió!$D$10)*(2*LN('Càlculs interns'!L520/dispersió!$O$56))^(1/2),0)","v":31.303568989142285},-31.303568989142285,null,80.603698128461858,{"$f":"IFERROR((letalitat!$P$15*1000)/((3.14159*dispersió!$C$10*((dispersió!$E$44+P520)^dispersió!$D$10)*dispersió!$E$10*((dispersió!$F$44+P520)^dispersió!$F$10)+dispersió!$C$24*dispersió!$D$44)*dispersió!$C$12),0)","v":2.615910422742461},{"$f":"IFERROR(dispersió!$C$10*((dispersió!$E$44+'Càlculs interns'!P520)^dispersió!$D$10)*(2*LN('Càlculs interns'!Q520/dispersió!$O$63))^(1/2),0)","v":22.665579880225525},-22.665579880225525]
[264.3937559783684,{"$f":"IFERROR((letalitat!$P$15*1000)/((3.14159*dispersió!$C$10*((dispersió!$E$44+A521)^dispersió!$D$10)*dispersió!$E$10*((dispersió!$F$44+A521)^dispersió!$F$10)+dispersió!$C$24*dispersió!$D$44)*dispersió!$C$12),0)","v":0.80935232501919407},{"$f":"IFERROR(dispersió!$C$10*((dispersió!$E$44+'Càlculs interns'!A521)^dispersió!$D$10)*(2*LN('Càlculs interns'!B521/dispersió!$O$42))^(1/2),0)","v":44.218950365238157},-44.218950365238157,null,207.7704199935111,{"$f":"IFERROR((letalitat!$P$15*1000)/((3.14159*dispersió!$C$10*((dispersió!$E$44+F521)^dispersió!$D$10)*dispersió!$E$10*((dispersió!$F$44+F521)^dispersió!$F$10)+dispersió!$C$24*dispersió!$D$44)*dispersió!$C$12),0)","v":1.0725474980071987},{"$f":"IFERROR(dispersió!$C$10*((dispersió!$E$44+'Càlculs interns'!F521)^dispersió!$D$10)*(2*LN('Càlculs interns'!G521/dispersió!$O$48))^(1/2),0)","v":37.642733747168798},-37.642733747168798,null,154.54312419961187,{"$f":"IFERROR((letalitat!$P$15*1000)/((3.14159*dispersió!$C$10*((dispersió!$E$44+K521)^dispersió!$D$10)*dispersió!$E$10*((dispersió!$F$44+K521)^dispersió!$F$10)+dispersió!$C$24*dispersió!$D$44)*dispersió!$C$12),0)","v":1.4722996685386442},{"$f":"IFERROR(dispersió!$C$10*((dispersió!$E$44+'Càlculs interns'!K521)^dispersió!$D$10)*(2*LN('Càlculs interns'!L521/dispersió!$O$56))^(1/2),0)","v":31.214421736024242},-31.214421736024242,null,87.320672972500347,{"$f":"IFERROR((letalitat!$P$15*1000)/((3.14159*dispersió!$C$10*((dispersió!$E$44+P521)^dispersió!$D$10)*dispersió!$E$10*((dispersió!$F$44+P521)^dispersió!$F$10)+dispersió!$C$24*dispersió!$D$44)*dispersió!$C$12),0)","v":2.4600304154130459},{"$f":"IFERROR(dispersió!$C$10*((dispersió!$E$44+'Càlculs interns'!P521)^dispersió!$D$10)*(2*LN('Càlculs interns'!Q521/dispersió!$O$63))^(1/2),0)","v":22.423155213408116},-22.423155213408116]
[284.73173720747366,{"$f":"IFERROR((letalitat!$P$15*1000)/((3.14159*dispersió!$C$10*((dispersió!$E$44+A522)^dispersió!$D$10)*dispersió!$E$10*((dispersió!$F$44+A522)^dispersió!$F$10)+dispersió!$C$24*dispersió!$D$44)*dispersió!$C$12),0)","v":0.73929495958400815},{"$f":"IFERROR(dispersió!$C$10*((dispersió!$E$44+'Càlculs interns'!A522)^dispersió!$D$10)*(2*LN('Càlculs interns'!B522/dispersió!$O$42))^(1/2),0)","v":44.27812408390951},-44.27812408390951,null,223.75275999301195,{"$f":"IFERROR((letalitat!$P$15*1000)/((3.14159*dispersió!$C$10*((dispersió!$E$44+F522)^dispersió!$D$10)*dispersió!$E$10*((dispersió!$F$44+F522)^dispersió!$F$10)+dispersió!$C$24*dispersió!$D$44)*dispersió!$C$12),0)","v":0.98572670419047015},{"$f":"IFERROR(dispersió!$C$10*((dispersió!$E$44+'Càlculs interns'!F522)^dispersió!$D$10)*(2*LN('Càlculs interns'!G522/dispersió!$O$48))^(1/2),0)","v":37.578569932952675},-37.578569932952675,null,166.43105683035125,{"$f":"IFERROR((letalitat!$P$15*1000)/((3.14159*dispersió!$C$10*((dispersió!$E$44+K522)^dispersió!$D$10)*dispersió!$E$10*((dispersió!$F$44+K522)^dispersió!$F$10)+dispersió!$C$24*dispersió!$D$44)*dispersió!$C$12),0)","v":1.3642930883802094},{"$f":"IFERROR(dispersió!$C$10*((dispersió!$E$44+'Càlculs interns'!K522)^dispersió!$D$10)*(2*LN('Càlculs interns'!L522/dispersió!$O$56))^(1/2),0)","v":31.040501225049635},-31.040501225049635,null,94.037647816538836,{"$f":"IFERROR((letalitat!$P$15*1000)/((3.14159*dispersió!$C$10*((dispersió!$E$44+P522)^dispersió!$D$10)*dispersió!$E$10*((dispersió!$F$44+P522)^dispersió!$F$10)+dispersió!$C$24*dispersió!$D$44)*dispersió!$C$12),0)","v":2.3186534071815368},{"$f":"IFERROR(dispersió!$C$10*((dispersió!$E$44+'Càlculs interns'!P522)^dispersió!$D$10)*(2*LN('Càlculs interns'!Q522/dispersió!$O$63))^(1/2),0)","v":22.13428675212019},-22.13428675212019]
[305.06971843657891,{"$f":"IFERROR((letalitat!$P$15*1000)/((3.14159*dispersió!$C$10*((dispersió!$E$44+A523)^dispersió!$D$10)*dispersió!$E$10*((dispersió!$F$44+A523)^dispersió!$F$10)+dispersió!$C$24*dispersió!$D$44)*dispersió!$C$12),0)","v":0.67845926603082496},{"$f":"IFERROR(dispersió!$C$10*((dispersió!$E$44+'Càlculs interns'!A523)^dispersió!$D$10)*(2*LN('Càlculs interns'!B523/dispersió!$O$42))^(1/2),0)","v":44.184025886915627},-44.184025886915627,null,239.7350999925128,{"$f":"IFERROR((letalitat!$P$15*1000)/((3.14159*dispersió!$C$10*((dispersió!$E$44+F523)^dispersió!$D$10)*dispersió!$E$10*((dispersió!$F$44+F523)^dispersió!$F$10)+dispersió!$C$24*dispersió!$D$44)*dispersió!$C$12),0)","v":0.90963521528914293},{"$f":"IFERROR(dispersió!$C$10*((dispersió!$E$44+'Càlculs interns'!F523)^dispersió!$D$10)*(2*LN('Càlculs interns'!G523/dispersió!$O$48))^(1/2),0)","v":37.394770542890051},-37.394770542890051,null,178.31898946109064,{"$f":"IFERROR((letalitat!$P$15*1000)/((3.14159*dispersió!$C$10*((dispersió!$E$44+K523)^dispersió!$D$10)*dispersió!$E$10*((dispersió!$F$44+K523)^dispersió!$F$10)+dispersió!$C$24*dispersió!$D$44)*dispersió!$C$12),0)","v":1.2684557596850325},{"$f":"IFERROR(dispersió!$C$10*((dispersió!$E$44+'Càlculs interns'!K523)^dispersió!$D$10)*(2*LN('Càlculs interns'!L523/dispersió!$O$56))^(1/2),0)","v":30.778519605336299},-30.778519605336299,null,100.75462266057733,{"$f":"IFERROR((letalitat!$P$15*1000)/((3.14159*dispersió!$C$10*((dispersió!$E$44+P523)^dispersió!$D$10)*dispersió!$E$10*((dispersió!$F$44+P523)^dispersió!$F$10)+dispersió!$C$24*dispersió!$D$44)*dispersió!$C$12),0)","v":2.1899608825421963},{"$f":"IFERROR(dispersió!$C$10*((dispersió!$E$44+'Càlculs interns'!P523)^dispersió!$D$10)*(2*LN('Càlculs interns'!Q523/dispersió!$O$63))^(1/2),0)","v":21.79641462422542},-21.79641462422542]
[325.40769966568416,{"$f":"IFERROR((letalitat!$P$15*1000)/((3.14159*dispersió!$C$10*((dispersió!$E$44+A524)^dispersió!$D$10)*dispersió!$E$10*((dispersió!$F$44+A524)^dispersió!$F$10)+dispersió!$C$24*dispersió!$D$44)*dispersió!$C$12),0)","v":0.62525401505679734},{"$f":"IFERROR(dispersió!$C$10*((dispersió!$E$44+'Càlculs interns'!A524)^dispersió!$D$10)*(2*LN('Càlculs interns'!B524/dispersió!$O$42))^(1/2),0)","v":43.931564592830284},-43.931564592830284,null,255.71743999201365,{"$f":"IFERROR((letalitat!$P$15*1000)/((3.14159*dispersió!$C$10*((dispersió!$E$44+F524)^dispersió!$D$10)*dispersió!$E$10*((dispersió!$F$44+F524)^dispersió!$F$10)+dispersió!$C$24*dispersió!$D$44)*dispersió!$C$12),0)","v":0.84252810667125466},{"$f":"IFERROR(dispersió!$C$10*((dispersió!$E$44+'Càlculs interns'!F524)^dispersió!$D$10)*(2*LN('Càlculs interns'!G524/dispersió!$O$48))^(1/2),0)","v":37.086725566213254},-37.086725566213254,null,190.20692209183002,{"$f":"IFERROR((letalitat!$P$15*1000)/((3.14159*dispersió!$C$10*((dispersió!$E$44+K524)^dispersió!$D$10)*dispersió!$E$10*((dispersió!$F$44+K524)^dispersió!$F$10)+dispersió!$C$24*dispersió!$D$44)*dispersió!$C$12),0)","v":1.1829721739502761},{"$f":"IFERROR(dispersió!$C$10*((dispersió!$E$44+'Càlculs interns'!K524)^dispersió!$D$10)*(2*LN('Càlculs interns'!L524/dispersió!$O$56))^(1/2),0)","v":30.424446223274249},-30.424446223274249,null,107.47159750461581,{"$f":"IFERROR((letalitat!$P$15*1000)/((3.14159*dispersió!$C$10*((dispersió!$E$44+P524)^dispersió!$D$10)*dispersió!$E$10*((dispersió!$F$44+P524)^dispersió!$F$10)+dispersió!$C$24*dispersió!$D$44)*dispersió!$C$12),0)","v":2.0724196159979189},{"$f":"IFERROR(dispersió!$C$10*((dispersió!$E$44+'Càlculs interns'!P524)^dispersió!$D$10)*(2*LN('Càlculs interns'!Q524/dispersió!$O$63))^(1/2),0)","v":21.406538860434861},-21.406538860434861]
[345.74568089478942,{"$f":"IFERROR((letalitat!$P$15*1000)/((3.14159*dispersió!$C$10*((dispersió!$E$44+A525)^dispersió!$D$10)*dispersió!$E$10*((dispersió!$F$44+A525)^dispersió!$F$10)+dispersió!$C$24*dispersió!$D$44)*dispersió!$C$12),0)","v":0.57842202593074799},{"$f":"IFERROR(dispersió!$C$10*((dispersió!$E$44+'Càlculs interns'!A525)^dispersió!$D$10)*(2*LN('Càlculs interns'!B525/dispersió!$O$42))^(1/2),0)","v":43.514107341738949},-43.514107341738949,null,271.6997799915145,{"$f":"IFERROR((letalitat!$P$15*1000)/((3.14159*dispersió!$C$10*((dispersió!$E$44+F525)^dispersió!$D$10)*dispersió!$E$10*((dispersió!$F$44+F525)^dispersió!$F$10)+dispersió!$C$24*dispersió!$D$44)*dispersió!$C$12),0)","v":0.78300701764621206},{"$f":"IFERROR(dispersió!$C$10*((dispersió!$E$44+'Càlculs interns'!F525)^dispersió!$D$10)*(2*LN('Càlculs interns'!G525/dispersió!$O$48))^(1/2),0)","v":36.648613698338892},-36.648613698338892,null,202.09485472256941,{"$f":"IFERROR((letalitat!$P$15*1000)/((3.14159*dispersió!$C$10*((dispersió!$E$44+K525)^dispersió!$D$10)*dispersió!$E$10*((dispersió!$F$44+K525)^dispersió!$F$10)+dispersió!$C$24*dispersió!$D$44)*dispersió!$C$12),0)","v":1.1063596205683497},{"$f":"IFERROR(dispersió!$C$10*((dispersió!$E$44+'Càlculs interns'!K525)^dispersió!$D$10)*(2*LN('Càlculs interns'!L525/dispersió!$O$56))^(1/2),0)","v":29.973340100003686},-29.973340100003686,null,114.1885723486543,{"$f":"IFERROR((letalitat!$P$15*1000)/((3.14159*dispersió!$C$10*((dispersió!$E$44+P525)^dispersió!$D$10)*dispersió!$E$10*((dispersió!$F$44+P525)^dispersió!$F$10)+dispersió!$C$24*dispersió!$D$44)*dispersió!$C$12),0)","v":1.9647281528406917},{"$f":"IFERROR(dispersió!$C$10*((dispersió!$E$44+'Càlculs interns'!P525)^dispersió!$D$10)*(2*LN('Càlculs interns'!Q525/dispersió!$O$63))^(1/2),0)","v":20.961105077256899},{"$f":"-R525","v":-20.961105077256899}]
[366.08366212389467,{"$f":"IFERROR((letalitat!$P$15*1000)/((3.14159*dispersió!$C$10*((dispersió!$E$44+A526)^dispersió!$D$10)*dispersió!$E$10*((dispersió!$F$44+A526)^dispersió!$F$10)+dispersió!$C$24*dispersió!$D$44)*dispersió!$C$12),0)","v":0.53695857866838415},{"$f":"IFERROR(dispersió!$C$10*((dispersió!$E$44+'Càlculs interns'!A526)^dispersió!$D$10)*(2*LN('Càlculs interns'!B526/dispersió!$O$42))^(1/2),0)","v":42.923154135825605},{"$f":"-C526","v":-42.923154135825605},null,287.68211999101538,{"$f":"IFERROR((letalitat!$P$15*1000)/((3.14159*dispersió!$C$10*((dispersió!$E$44+F526)^dispersió!$D$10)*dispersió!$E$10*((dispersió!$F$44+F526)^dispersió!$F$10)+dispersió!$C$24*dispersió!$D$44)*dispersió!$C$12),0)","v":0.72993977700080703},{"$f":"IFERROR(dispersió!$C$10*((dispersió!$E$44+'Càlculs interns'!F526)^dispersió!$D$10)*(2*LN('Càlculs interns'!G526/dispersió!$O$48))^(1/2),0)","v":36.073125695095165},{"$f":"-H526","v":-36.073125695095165},null,213.98278735330879,{"$f":"IFERROR((letalitat!$P$15*1000)/((3.14159*dispersió!$C$10*((dispersió!$E$44+K526)^dispersió!$D$10)*dispersió!$E$10*((dispersió!$F$44+K526)^dispersió!$F$10)+dispersió!$C$24*dispersió!$D$44)*dispersió!$C$12),0)","v":1.0373965266992493},{"$f":"IFERROR(dispersió!$C$10*((dispersió!$E$44+'Càlculs interns'!K526)^dispersió!$D$10)*(2*LN('Càlculs interns'!L526/dispersió!$O$56))^(1/2),0)","v":29.419124270439106},{"$f":"-M526","v":-29.419124270439106},null,120.90554719269279,{"$f":"IFERROR((letalitat!$P$15*1000)/((3.14159*dispersió!$C$10*((dispersió!$E$44+P526)^dispersió!$D$10)*dispersió!$E$10*((dispersió!$F$44+P526)^dispersió!$F$10)+dispersió!$C$24*dispersió!$D$44)*dispersió!$C$12),0)","v":1.8657749300684134},{"$f":"IFERROR(dispersió!$C$10*((dispersió!$E$44+'Càlculs interns'!P526)^dispersió!$D$10)*(2*LN('Càlculs interns'!Q526/dispersió!$O$63))^(1/2),0)","v":20.455852557100844},-20.455852557100844]
[386.42164335299992,{"$f":"IFERROR((letalitat!$P$15*1000)/((3.14159*dispersió!$C$10*((dispersió!$E$44+A527)^dispersió!$D$10)*dispersió!$E$10*((dispersió!$F$44+A527)^dispersió!$F$10)+dispersió!$C$24*dispersió!$D$44)*dispersió!$C$12),0)","v":0.50005233324875631},{"$f":"IFERROR(dispersió!$C$10*((dispersió!$E$44+'Càlculs interns'!A527)^dispersió!$D$10)*(2*LN('Càlculs interns'!B527/dispersió!$O$42))^(1/2),0)","v":42.147876995220201},-42.147876995220201,null,303.66445999051626,{"$f":"IFERROR((letalitat!$P$15*1000)/((3.14159*dispersió!$C$10*((dispersió!$E$44+F527)^dispersió!$D$10)*dispersió!$E$10*((dispersió!$F$44+F527)^dispersió!$F$10)+dispersió!$C$24*dispersió!$D$44)*dispersió!$C$12),0)","v":0.68240115615340591},{"$f":"IFERROR(dispersió!$C$10*((dispersió!$E$44+'Càlculs interns'!F527)^dispersió!$D$10)*(2*LN('Càlculs interns'!G527/dispersió!$O$48))^(1/2),0)","v":35.351077926420096},-35.351077926420096,null,225.87071998404818,{"$f":"IFERROR((letalitat!$P$15*1000)/((3.14159*dispersió!$C$10*((dispersió!$E$44+K527)^dispersió!$D$10)*dispersió!$E$10*((dispersió!$F$44+K527)^dispersió!$F$10)+dispersió!$C$24*dispersió!$D$44)*dispersió!$C$12),0)","v":0.97506838717119593},{"$f":"IFERROR(dispersió!$C$10*((dispersió!$E$44+'Càlculs interns'!K527)^dispersió!$D$10)*(2*LN('Càlculs interns'!L527/dispersió!$O$56))^(1/2),0)","v":28.754274294449633},-28.754274294449633,null,127.62252203673128,{"$f":"IFERROR((letalitat!$P$15*1000)/((3.14159*dispersió!$C$10*((dispersió!$E$44+P527)^dispersió!$D$10)*dispersió!$E$10*((dispersió!$F$44+P527)^dispersió!$F$10)+dispersió!$C$24*dispersió!$D$44)*dispersió!$C$12),0)","v":1.7746051686061652},{"$f":"IFERROR(dispersió!$C$10*((dispersió!$E$44+'Càlculs interns'!P527)^dispersió!$D$10)*(2*LN('Càlculs interns'!Q527/dispersió!$O$63))^(1/2),0)","v":19.885606449627133},-19.885606449627133]
[406.75962458210518,{"$f":"IFERROR((letalitat!$P$15*1000)/((3.14159*dispersió!$C$10*((dispersió!$E$44+A528)^dispersió!$D$10)*dispersió!$E$10*((dispersió!$F$44+A528)^dispersió!$F$10)+dispersió!$C$24*dispersió!$D$44)*dispersió!$C$12),0)","v":0.46704188857012269},{"$f":"IFERROR(dispersió!$C$10*((dispersió!$E$44+'Càlculs interns'!A528)^dispersió!$D$10)*(2*LN('Càlculs interns'!B528/dispersió!$O$42))^(1/2),0)","v":41.17445723929778},-41.17445723929778,null,319.64679999001714,{"$f":"IFERROR((letalitat!$P$15*1000)/((3.14159*dispersió!$C$10*((dispersió!$E$44+F528)^dispersió!$D$10)*dispersió!$E$10*((dispersió!$F$44+F528)^dispersió!$F$10)+dispersió!$C$24*dispersió!$D$44)*dispersió!$C$12),0)","v":0.63962858677358136},{"$f":"IFERROR(dispersió!$C$10*((dispersió!$E$44+'Càlculs interns'!F528)^dispersió!$D$10)*(2*LN('Càlculs interns'!G528/dispersió!$O$48))^(1/2),0)","v":34.470860934929739},-34.470860934929739,null,237.75865261478756,{"$f":"IFERROR((letalitat!$P$15*1000)/((3.14159*dispersió!$C$10*((dispersió!$E$44+K528)^dispersió!$D$10)*dispersió!$E$10*((dispersió!$F$44+K528)^dispersió!$F$10)+dispersió!$C$24*dispersió!$D$44)*dispersió!$C$12),0)","v":0.91852646659019821},{"$f":"IFERROR(dispersió!$C$10*((dispersió!$E$44+'Càlculs interns'!K528)^dispersió!$D$10)*(2*LN('Càlculs interns'!L528/dispersió!$O$56))^(1/2),0)","v":27.969376932630581},-27.969376932630581,null,134.33949688076976,{"$f":"IFERROR((letalitat!$P$15*1000)/((3.14159*dispersió!$C$10*((dispersió!$E$44+P528)^dispersió!$D$10)*dispersió!$E$10*((dispersió!$F$44+P528)^dispersió!$F$10)+dispersió!$C$24*dispersió!$D$44)*dispersió!$C$12),0)","v":1.6903944550538821},{"$f":"IFERROR(dispersió!$C$10*((dispersió!$E$44+'Càlculs interns'!P528)^dispersió!$D$10)*(2*LN('Càlculs interns'!Q528/dispersió!$O$63))^(1/2),0)","v":19.243985025365674},-19.243985025365674]
[427.09760581121043,{"$f":"IFERROR((letalitat!$P$15*1000)/((3.14159*dispersió!$C$10*((dispersió!$E$44+A529)^dispersió!$D$10)*dispersió!$E$10*((dispersió!$F$44+A529)^dispersió!$F$10)+dispersió!$C$24*dispersió!$D$44)*dispersió!$C$12),0)","v":0.43738339563739026},{"$f":"IFERROR(dispersió!$C$10*((dispersió!$E$44+'Càlculs interns'!A529)^dispersió!$D$10)*(2*LN('Càlculs interns'!B529/dispersió!$O$42))^(1/2),0)","v":39.985109815566901},-39.985109815566901,null,335.62913998951802,{"$f":"IFERROR((letalitat!$P$15*1000)/((3.14159*dispersió!$C$10*((dispersió!$E$44+F529)^dispersió!$D$10)*dispersió!$E$10*((dispersió!$F$44+F529)^dispersió!$F$10)+dispersió!$C$24*dispersió!$D$44)*dispersió!$C$12),0)","v":0.60098864372495364},{"$f":"IFERROR(dispersió!$C$10*((dispersió!$E$44+'Càlculs interns'!F529)^dispersió!$D$10)*(2*LN('Càlculs interns'!G529/dispersió!$O$48))^(1/2),0)","v":33.417631118702118},-33.417631118702118,null,249.64658524552695,{"$f":"IFERROR((letalitat!$P$15*1000)/((3.14159*dispersió!$C$10*((dispersió!$E$44+K529)^dispersió!$D$10)*dispersió!$E$10*((dispersió!$F$44+K529)^dispersió!$F$10)+dispersió!$C$24*dispersió!$D$44)*dispersió!$C$12),0)","v":0.86705590480411598},{"$f":"IFERROR(dispersió!$C$10*((dispersió!$E$44+'Càlculs interns'!K529)^dispersió!$D$10)*(2*LN('Càlculs interns'!L529/dispersió!$O$56))^(1/2),0)","v":27.052485915473788},-27.052485915473788,null,141.05647172480823,{"$f":"IFERROR((letalitat!$P$15*1000)/((3.14159*dispersió!$C$10*((dispersió!$E$44+P529)^dispersió!$D$10)*dispersió!$E$10*((dispersió!$F$44+P529)^dispersió!$F$10)+dispersió!$C$24*dispersió!$D$44)*dispersió!$C$12),0)","v":1.6124274813210147},{"$f":"IFERROR(dispersió!$C$10*((dispersió!$E$44+'Càlculs interns'!P529)^dispersió!$D$10)*(2*LN('Càlculs interns'!Q529/dispersió!$O$63))^(1/2),0)","v":18.522973691802555},-18.522973691802555]
[447.43558704031568,{"$f":"IFERROR((letalitat!$P$15*1000)/((3.14159*dispersió!$C$10*((dispersió!$E$44+A530)^dispersió!$D$10)*dispersió!$E$10*((dispersió!$F$44+A530)^dispersió!$F$10)+dispersió!$C$24*dispersió!$D$44)*dispersió!$C$12),0)","v":0.41062610543425204},{"$f":"IFERROR(dispersió!$C$10*((dispersió!$E$44+'Càlculs interns'!A530)^dispersió!$D$10)*(2*LN('Càlculs interns'!B530/dispersió!$O$42))^(1/2),0)","v":38.55660072369588},-38.55660072369588,null,351.6114799890189,{"$f":"IFERROR((letalitat!$P$15*1000)/((3.14159*dispersió!$C$10*((dispersió!$E$44+F530)^dispersió!$D$10)*dispersió!$E$10*((dispersió!$F$44+F530)^dispersió!$F$10)+dispersió!$C$24*dispersió!$D$44)*dispersió!$C$12),0)","v":0.56595138273382761},{"$f":"IFERROR(dispersió!$C$10*((dispersió!$E$44+'Càlculs interns'!F530)^dispersió!$D$10)*(2*LN('Càlculs interns'!G530/dispersió!$O$48))^(1/2),0)","v":32.172085346135574},-32.172085346135574,null,261.53451787626631,{"$f":"IFERROR((letalitat!$P$15*1000)/((3.14159*dispersió!$C$10*((dispersió!$E$44+K530)^dispersió!$D$10)*dispersió!$E$10*((dispersió!$F$44+K530)^dispersió!$F$10)+dispersió!$C$24*dispersió!$D$44)*dispersió!$C$12),0)","v":0.82005083326493733},{"$f":"IFERROR(dispersió!$C$10*((dispersió!$E$44+'Càlculs interns'!K530)^dispersió!$D$10)*(2*LN('Càlculs interns'!L530/dispersió!$O$56))^(1/2),0)","v":25.988147551838566},-25.988147551838566,null,147.77344656884671,{"$f":"IFERROR((letalitat!$P$15*1000)/((3.14159*dispersió!$C$10*((dispersió!$E$44+P530)^dispersió!$D$10)*dispersió!$E$10*((dispersió!$F$44+P530)^dispersió!$F$10)+dispersió!$C$24*dispersió!$D$44)*dispersió!$C$12),0)","v":1.5400808010530009},{"$f":"IFERROR(dispersió!$C$10*((dispersió!$E$44+'Càlculs interns'!P530)^dispersió!$D$10)*(2*LN('Càlculs interns'!Q530/dispersió!$O$63))^(1/2),0)","v":17.71228161475274},-17.71228161475274]
[467.77356826942093,{"$f":"IFERROR((letalitat!$P$15*1000)/((3.14159*dispersió!$C$10*((dispersió!$E$44+A531)^dispersió!$D$10)*dispersió!$E$10*((dispersió!$F$44+A531)^dispersió!$F$10)+dispersió!$C$24*dispersió!$D$44)*dispersió!$C$12),0)","v":0.38639369299177201},{"$f":"IFERROR(dispersió!$C$10*((dispersió!$E$44+'Càlculs interns'!A531)^dispersió!$D$10)*(2*LN('Càlculs interns'!B531/dispersió!$O$42))^(1/2),0)","v":36.857900107946165},-36.857900107946165,null,367.59381998851978,{"$f":"IFERROR((letalitat!$P$15*1000)/((3.14159*dispersió!$C$10*((dispersió!$E$44+F531)^dispersió!$D$10)*dispersió!$E$10*((dispersió!$F$44+F531)^dispersió!$F$10)+dispersió!$C$24*dispersió!$D$44)*dispersió!$C$12),0)","v":0.53407048357942022},{"$f":"IFERROR(dispersió!$C$10*((dispersió!$E$44+'Càlculs interns'!F531)^dispersió!$D$10)*(2*LN('Càlculs interns'!G531/dispersió!$O$48))^(1/2),0)","v":30.708523441531479},-30.708523441531479,null,273.42245050700569,{"$f":"IFERROR((letalitat!$P$15*1000)/((3.14159*dispersió!$C$10*((dispersió!$E$44+K531)^dispersió!$D$10)*dispersió!$E$10*((dispersió!$F$44+K531)^dispersió!$F$10)+dispersió!$C$24*dispersió!$D$44)*dispersió!$C$12),0)","v":0.77699477913502446},{"$f":"IFERROR(dispersió!$C$10*((dispersió!$E$44+'Càlculs interns'!K531)^dispersió!$D$10)*(2*LN('Càlculs interns'!L531/dispersió!$O$56))^(1/2),0)","v":24.755861881158133},-24.755861881158133,null,154.49042141288518,{"$f":"IFERROR((letalitat!$P$15*1000)/((3.14159*dispersió!$C$10*((dispersió!$E$44+P531)^dispersió!$D$10)*dispersió!$E$10*((dispersió!$F$44+P531)^dispersió!$F$10)+dispersió!$C$24*dispersió!$D$44)*dispersió!$C$12),0)","v":1.4728087429363577},{"$f":"IFERROR(dispersió!$C$10*((dispersió!$E$44+'Càlculs interns'!P531)^dispersió!$D$10)*(2*LN('Càlculs interns'!Q531/dispersió!$O$63))^(1/2),0)","v":16.7983258363655},-16.7983258363655]
[488.11154949852619,{"$f":"IFERROR((letalitat!$P$15*1000)/((3.14159*dispersió!$C$10*((dispersió!$E$44+A532)^dispersió!$D$10)*dispersió!$E$10*((dispersió!$F$44+A532)^dispersió!$F$10)+dispersió!$C$24*dispersió!$D$44)*dispersió!$C$12),0)","v":0.36436984089306784},{"$f":"IFERROR(dispersió!$C$10*((dispersió!$E$44+'Càlculs interns'!A532)^dispersió!$D$10)*(2*LN('Càlculs interns'!B532/dispersió!$O$42))^(1/2),0)","v":34.846266796608575},-34.846266796608575,null,383.57615998802066,{"$f":"IFERROR((letalitat!$P$15*1000)/((3.14159*dispersió!$C$10*((dispersió!$E$44+F532)^dispersió!$D$10)*dispersió!$E$10*((dispersió!$F$44+F532)^dispersió!$F$10)+dispersió!$C$24*dispersió!$D$44)*dispersió!$C$12),0)","v":0.5049677353410259},{"$f":"IFERROR(dispersió!$C$10*((dispersió!$E$44+'Càlculs interns'!F532)^dispersió!$D$10)*(2*LN('Càlculs interns'!G532/dispersió!$O$48))^(1/2),0)","v":28.991617215654742},-28.991617215654742,null,285.31038313774508,{"$f":"IFERROR((letalitat!$P$15*1000)/((3.14159*dispersió!$C$10*((dispersió!$E$44+K532)^dispersió!$D$10)*dispersió!$E$10*((dispersió!$F$44+K532)^dispersió!$F$10)+dispersió!$C$24*dispersió!$D$44)*dispersió!$C$12),0)","v":0.7374450999617318},{"$f":"IFERROR(dispersió!$C$10*((dispersió!$E$44+'Càlculs interns'!K532)^dispersió!$D$10)*(2*LN('Càlculs interns'!L532/dispersió!$O$56))^(1/2),0)","v":23.327517794540888},-23.327517794540888,null,161.20739625692366,{"$f":"IFERROR((letalitat!$P$15*1000)/((3.14159*dispersió!$C$10*((dispersió!$E$44+P532)^dispersió!$D$10)*dispersió!$E$10*((dispersió!$F$44+P532)^dispersió!$F$10)+dispersió!$C$24*dispersió!$D$44)*dispersió!$C$12),0)","v":1.4101318260349169},{"$f":"IFERROR(dispersió!$C$10*((dispersió!$E$44+'Càlculs interns'!P532)^dispersió!$D$10)*(2*LN('Càlculs interns'!Q532/dispersió!$O$63))^(1/2),0)","v":15.762536900902248},-15.762536900902248]
[508.44953072763144,{"$f":"IFERROR((letalitat!$P$15*1000)/((3.14159*dispersió!$C$10*((dispersió!$E$44+A533)^dispersió!$D$10)*dispersió!$E$10*((dispersió!$F$44+A533)^dispersió!$F$10)+dispersió!$C$24*dispersió!$D$44)*dispersió!$C$12),0)","v":0.34428700119584577},{"$f":"IFERROR(dispersió!$C$10*((dispersió!$E$44+'Càlculs interns'!A533)^dispersió!$D$10)*(2*LN('Càlculs interns'!B533/dispersió!$O$42))^(1/2),0)","v":32.460254078620316},-32.460254078620316,null,399.55849998752154,{"$f":"IFERROR((letalitat!$P$15*1000)/((3.14159*dispersió!$C$10*((dispersió!$E$44+F533)^dispersió!$D$10)*dispersió!$E$10*((dispersió!$F$44+F533)^dispersió!$F$10)+dispersió!$C$24*dispersió!$D$44)*dispersió!$C$12),0)","v":0.47832080478315109},{"$f":"IFERROR(dispersió!$C$10*((dispersió!$E$44+'Càlculs interns'!F533)^dispersió!$D$10)*(2*LN('Càlculs interns'!G533/dispersió!$O$48))^(1/2),0)","v":26.97063913457805},-26.97063913457805,null,297.19831576848446,{"$f":"IFERROR((letalitat!$P$15*1000)/((3.14159*dispersió!$C$10*((dispersió!$E$44+K533)^dispersió!$D$10)*dispersió!$E$10*((dispersió!$F$44+K533)^dispersió!$F$10)+dispersió!$C$24*dispersió!$D$44)*dispersió!$C$12),0)","v":0.70102052080466848},{"$f":"IFERROR(dispersió!$C$10*((dispersió!$E$44+'Càlculs interns'!K533)^dispersió!$D$10)*(2*LN('Càlculs interns'!L533/dispersió!$O$56))^(1/2),0)","v":21.662811995502761},-21.662811995502761,null,167.92437110096213,{"$f":"IFERROR((letalitat!$P$15*1000)/((3.14159*dispersió!$C$10*((dispersió!$E$44+P533)^dispersió!$D$10)*dispersió!$E$10*((dispersió!$F$44+P533)^dispersió!$F$10)+dispersió!$C$24*dispersió!$D$44)*dispersió!$C$12),0)","v":1.3516271736385435},{"$f":"IFERROR(dispersió!$C$10*((dispersió!$E$44+'Càlculs interns'!P533)^dispersió!$D$10)*(2*LN('Càlculs interns'!Q533/dispersió!$O$63))^(1/2),0)","v":14.578328494703655},-14.578328494703655]
[528.78751195673669,{"$f":"IFERROR((letalitat!$P$15*1000)/((3.14159*dispersió!$C$10*((dispersió!$E$44+A534)^dispersió!$D$10)*dispersió!$E$10*((dispersió!$F$44+A534)^dispersió!$F$10)+dispersió!$C$24*dispersió!$D$44)*dispersió!$C$12),0)","v":0.32591755521051025},{"$f":"IFERROR(dispersió!$C$10*((dispersió!$E$44+'Càlculs interns'!A534)^dispersió!$D$10)*(2*LN('Càlculs interns'!B534/dispersió!$O$42))^(1/2),0)","v":29.606017246529049},-29.606017246529049,null,415.54083998702242,{"$f":"IFERROR((letalitat!$P$15*1000)/((3.14159*dispersió!$C$10*((dispersió!$E$44+F534)^dispersió!$D$10)*dispersió!$E$10*((dispersió!$F$44+F534)^dispersió!$F$10)+dispersió!$C$24*dispersió!$D$44)*dispersió!$C$12),0)","v":0.45385351238179045},{"$f":"IFERROR(dispersió!$C$10*((dispersió!$E$44+'Càlculs interns'!F534)^dispersió!$D$10)*(2*LN('Càlculs interns'!G534/dispersió!$O$48))^(1/2),0)","v":24.568161217245418},-24.568161217245418,null,309.08624839922385,{"$f":"IFERROR((letalitat!$P$15*1000)/((3.14159*dispersió!$C$10*((dispersió!$E$44+K534)^dispersió!$D$10)*dispersió!$E$10*((dispersió!$F$44+K534)^dispersió!$F$10)+dispersió!$C$24*dispersió!$D$44)*dispersió!$C$12),0)","v":0.66739108111948753},{"$f":"IFERROR(dispersió!$C$10*((dispersió!$E$44+'Càlculs interns'!K534)^dispersió!$D$10)*(2*LN('Càlculs interns'!L534/dispersió!$O$56))^(1/2),0)","v":19.700277707508114},-19.700277707508114,null,174.64134594500061,{"$f":"IFERROR((letalitat!$P$15*1000)/((3.14159*dispersió!$C$10*((dispersió!$E$44+P534)^dispersió!$D$10)*dispersió!$E$10*((dispersió!$F$44+P534)^dispersió!$F$10)+dispersió!$C$24*dispersió!$D$44)*dispersió!$C$12),0)","v":1.2969205349987558},{"$f":"IFERROR(dispersió!$C$10*((dispersió!$E$44+'Càlculs interns'!P534)^dispersió!$D$10)*(2*LN('Càlculs interns'!Q534/dispersió!$O$63))^(1/2),0)","v":13.20515125497551},-13.20515125497551]
[549.12549318584195,{"$f":"IFERROR((letalitat!$P$15*1000)/((3.14159*dispersió!$C$10*((dispersió!$E$44+A535)^dispersió!$D$10)*dispersió!$E$10*((dispersió!$F$44+A535)^dispersió!$F$10)+dispersió!$C$24*dispersió!$D$44)*dispersió!$C$12),0)","v":0.30906680069570008},{"$f":"IFERROR(dispersió!$C$10*((dispersió!$E$44+'Càlculs interns'!A535)^dispersió!$D$10)*(2*LN('Càlculs interns'!B535/dispersió!$O$42))^(1/2),0)","v":26.126808956100685},-26.126808956100685,null,431.5231799865233,{"$f":"IFERROR((letalitat!$P$15*1000)/((3.14159*dispersió!$C$10*((dispersió!$E$44+F535)^dispersió!$D$10)*dispersió!$E$10*((dispersió!$F$44+F535)^dispersió!$F$10)+dispersió!$C$24*dispersió!$D$44)*dispersió!$C$12),0)","v":0.43132804168941252},{"$f":"IFERROR(dispersió!$C$10*((dispersió!$E$44+'Càlculs interns'!F535)^dispersió!$D$10)*(2*LN('Càlculs interns'!G535/dispersió!$O$48))^(1/2),0)","v":21.654867135876543},-21.654867135876543,null,320.97418102996323,{"$f":"IFERROR((letalitat!$P$15*1000)/((3.14159*dispersió!$C$10*((dispersió!$E$44+K535)^dispersió!$D$10)*dispersió!$E$10*((dispersió!$F$44+K535)^dispersió!$F$10)+dispersió!$C$24*dispersió!$D$44)*dispersió!$C$12),0)","v":0.63626996916354939},{"$f":"IFERROR(dispersió!$C$10*((dispersió!$E$44+'Càlculs interns'!K535)^dispersió!$D$10)*(2*LN('Càlculs interns'!L535/dispersió!$O$56))^(1/2),0)","v":17.337285579440813},-17.337285579440813,null,181.35832078903908,{"$f":"IFERROR((letalitat!$P$15*1000)/((3.14159*dispersió!$C$10*((dispersió!$E$44+P535)^dispersió!$D$10)*dispersió!$E$10*((dispersió!$F$44+P535)^dispersió!$F$10)+dispersió!$C$24*dispersió!$D$44)*dispersió!$C$12),0)","v":1.2456796093938896},{"$f":"IFERROR(dispersió!$C$10*((dispersió!$E$44+'Càlculs interns'!P535)^dispersió!$D$10)*(2*LN('Càlculs interns'!Q535/dispersió!$O$63))^(1/2),0)","v":11.575201607850488},-11.575201607850488]
[569.4634744149472,{"$f":"IFERROR((letalitat!$P$15*1000)/((3.14159*dispersió!$C$10*((dispersió!$E$44+A536)^dispersió!$D$10)*dispersió!$E$10*((dispersió!$F$44+A536)^dispersió!$F$10)+dispersió!$C$24*dispersió!$D$44)*dispersió!$C$12),0)","v":0.29356734491713465},{"$f":"IFERROR(dispersió!$C$10*((dispersió!$E$44+'Càlculs interns'!A536)^dispersió!$D$10)*(2*LN('Càlculs interns'!B536/dispersió!$O$42))^(1/2),0)","v":21.720075759871875},-21.720075759871875,null,447.50551998602418,{"$f":"IFERROR((letalitat!$P$15*1000)/((3.14159*dispersió!$C$10*((dispersió!$E$44+F536)^dispersió!$D$10)*dispersió!$E$10*((dispersió!$F$44+F536)^dispersió!$F$10)+dispersió!$C$24*dispersió!$D$44)*dispersió!$C$12),0)","v":0.41053865230860453},{"$f":"IFERROR(dispersió!$C$10*((dispersió!$E$44+'Càlculs interns'!F536)^dispersió!$D$10)*(2*LN('Càlculs interns'!G536/dispersió!$O$48))^(1/2),0)","v":17.981055366616715},-17.981055366616715,null,332.86211366070262,{"$f":"IFERROR((letalitat!$P$15*1000)/((3.14159*dispersió!$C$10*((dispersió!$E$44+K536)^dispersió!$D$10)*dispersió!$E$10*((dispersió!$F$44+K536)^dispersió!$F$10)+dispersió!$C$24*dispersió!$D$44)*dispersió!$C$12),0)","v":0.60740684649500709},{"$f":"IFERROR(dispersió!$C$10*((dispersió!$E$44+'Càlculs interns'!K536)^dispersió!$D$10)*(2*LN('Càlculs interns'!L536/dispersió!$O$56))^(1/2),0)","v":14.375648381442408},-14.375648381442408,null,188.07529563307756,{"$f":"IFERROR((letalitat!$P$15*1000)/((3.14159*dispersió!$C$10*((dispersió!$E$44+P536)^dispersió!$D$10)*dispersió!$E$10*((dispersió!$F$44+P536)^dispersió!$F$10)+dispersió!$C$24*dispersió!$D$44)*dispersió!$C$12),0)","v":1.1976084316666062},{"$f":"IFERROR(dispersió!$C$10*((dispersió!$E$44+'Càlculs interns'!P536)^dispersió!$D$10)*(2*LN('Càlculs interns'!Q536/dispersió!$O$63))^(1/2),0)","v":9.5571303384388564},-9.5571303384388564]
[589.80145564405245,{"$f":"IFERROR((letalitat!$P$15*1000)/((3.14159*dispersió!$C$10*((dispersió!$E$44+A537)^dispersió!$D$10)*dispersió!$E$10*((dispersió!$F$44+A537)^dispersió!$F$10)+dispersió!$C$24*dispersió!$D$44)*dispersió!$C$12),0)","v":0.27927458879433104},{"$f":"IFERROR(dispersió!$C$10*((dispersió!$E$44+'Càlculs interns'!A537)^dispersió!$D$10)*(2*LN('Càlculs interns'!B537/dispersió!$O$42))^(1/2),0)","v":15.613801531510411},-15.613801531510411,null,463.48785998552506,{"$f":"IFERROR((letalitat!$P$15*1000)/((3.14159*dispersió!$C$10*((dispersió!$E$44+F537)^dispersió!$D$10)*dispersió!$E$10*((dispersió!$F$44+F537)^dispersió!$F$10)+dispersió!$C$24*dispersió!$D$44)*dispersió!$C$12),0)","v":0.39130657181018408},{"$f":"IFERROR(dispersió!$C$10*((dispersió!$E$44+'Càlculs interns'!F537)^dispersió!$D$10)*(2*LN('Càlculs interns'!G537/dispersió!$O$48))^(1/2),0)","v":12.908956999864328},-12.908956999864328,null,344.750046291442,{"$f":"IFERROR((letalitat!$P$15*1000)/((3.14159*dispersió!$C$10*((dispersió!$E$44+K537)^dispersió!$D$10)*dispersió!$E$10*((dispersió!$F$44+K537)^dispersió!$F$10)+dispersió!$C$24*dispersió!$D$44)*dispersió!$C$12),0)","v":0.58058235746356501},{"$f":"IFERROR(dispersió!$C$10*((dispersió!$E$44+'Càlculs interns'!K537)^dispersió!$D$10)*(2*LN('Càlculs interns'!L537/dispersió!$O$56))^(1/2),0)","v":10.309066350255872},-10.309066350255872,null,194.79227047711603,{"$f":"IFERROR((letalitat!$P$15*1000)/((3.14159*dispersió!$C$10*((dispersió!$E$44+P537)^dispersió!$D$10)*dispersió!$E$10*((dispersió!$F$44+P537)^dispersió!$F$10)+dispersió!$C$24*dispersió!$D$44)*dispersió!$C$12),0)","v":1.1524426280122329},{"$f":"IFERROR(dispersió!$C$10*((dispersió!$E$44+'Càlculs interns'!P537)^dispersió!$D$10)*(2*LN('Càlculs interns'!Q537/dispersió!$O$63))^(1/2),0)","v":6.8132368883214625},-6.8132368883214625]
[{"$f":"dispersió!G44","v":610.13943687315805},{"$f":"IFERROR((letalitat!$P$15*1000)/((3.14159*dispersió!$C$10*((dispersió!$E$44+A538)^dispersió!$D$10)*dispersió!$E$10*((dispersió!$F$44+A538)^dispersió!$F$10)+dispersió!$C$24*dispersió!$D$44)*dispersió!$C$12),0)","v":0.26606306480890834},{"$f":"IFERROR(dispersió!$C$10*((dispersió!$E$44+'Càlculs interns'!A538)^dispersió!$D$10)*(2*LN('Càlculs interns'!B538/dispersió!$O$42))^(1/2),0)","v":0},0,null,{"$f":"dispersió!G51","v":479.47019998502572},{"$f":"IFERROR((letalitat!$P$15*1000)/((3.14159*dispersió!$C$10*((dispersió!$E$44+F538)^dispersió!$D$10)*dispersió!$E$10*((dispersió!$F$44+F538)^dispersió!$F$10)+dispersió!$C$24*dispersió!$D$44)*dispersió!$C$12),0)","v":0.3734758190940714},{"$f":"IFERROR(dispersió!$C$10*((dispersió!$E$44+'Càlculs interns'!F538)^dispersió!$D$10)*(2*LN('Càlculs interns'!G538/dispersió!$O$48))^(1/2),0)","v":0},0,null,{"$f":"dispersió!G58","v":356.63797892218122},{"$f":"IFERROR((letalitat!$P$15*1000)/((3.14159*dispersió!$C$10*((dispersió!$E$44+K538)^dispersió!$D$10)*dispersió!$E$10*((dispersió!$F$44+K538)^dispersió!$F$10)+dispersió!$C$24*dispersió!$D$44)*dispersió!$C$12),0)","v":0.5556035875504769},{"$f":"IFERROR(dispersió!$C$10*((dispersió!$E$44+'Càlculs interns'!K538)^dispersió!$D$10)*(2*LN('Càlculs interns'!L538/dispersió!$O$56))^(1/2),0)","v":0},0,null,{"$f":"dispersió!G65","v":201.50924532115462},{"$f":"IFERROR((letalitat!$P$15*1000)/((3.14159*dispersió!$C$10*((dispersió!$E$44+P538)^dispersió!$D$10)*dispersió!$E$10*((dispersió!$F$44+P538)^dispersió!$F$10)+dispersió!$C$24*dispersió!$D$44)*dispersió!$C$12),0)","v":1.1099453891832698},{"$f":"IFERROR(dispersió!$C$10*((dispersió!$E$44+'Càlculs interns'!P538)^dispersió!$D$10)*(2*LN('Càlculs interns'!Q538/dispersió!$O$63))^(1/2),0)","v":0},0]
[]
["Est. F"]
["LC1",null,"LC1+","LC1-",null,"LC10",null,"LC10+","LC10-",null,"LC50",null,"LC50+","LC50-",null,"LC99",null,"LC99+","LC99-"]
["X","C(x)","y+","y-",null,"X","C(x)","y+","y-",null,"X","C(x)","y+","y-",null,"X","C(x)","y+","y-"]
[0,{"$f":"IFERROR((letalitat!$P$15*1000)/((3.14159*dispersió!$I$10*((dispersió!$J$44+A543)^dispersió!$J$10)*dispersió!$K$10*((dispersió!$K$44+A543)^dispersió!$L$10)+dispersió!$C$24*dispersió!$D$44)*dispersió!$I$12),0)","v":22.588144429464943},{"$f":"IFERROR(dispersió!$I$10*((dispersió!$J$44+'Càlculs interns'!A543)^dispersió!$J$10)*(2*LN('Càlculs interns'!B543/dispersió!$O$42))^(1/2),0)","v":34.654945843083539},{"$f":"-C543","v":-34.654945843083539},null,0,{"$f":"IFERROR((letalitat!$P$15*1000)/((3.14159*dispersió!$I$10*((dispersió!$J$44+F543)^dispersió!$J$10)*dispersió!$K$10*((dispersió!$K$44+F543)^dispersió!$L$10)+dispersió!$C$24*dispersió!$D$44)*dispersió!$I$12),0)","v":22.588144429464943},{"$f":"IFERROR(dispersió!$I$10*((dispersió!$J$44+'Càlculs interns'!F543)^dispersió!$J$10)*(2*LN('Càlculs interns'!G543/dispersió!$O$48))^(1/2),0)","v":33.305412002321958},{"$f":"-H543","v":-33.305412002321958},null,0,{"$f":"IFERROR((letalitat!$P$15*1000)/((3.14159*dispersió!$I$10*((dispersió!$J$44+K543)^dispersió!$J$10)*dispersió!$K$10*((dispersió!$K$44+K543)^dispersió!$L$10)+dispersió!$C$24*dispersió!$D$44)*dispersió!$I$12),0)","v":22.588144429464943},{"$f":"IFERROR(dispersió!$I$10*((dispersió!$J$44+'Càlculs interns'!K543)^dispersió!$J$10)*(2*LN('Càlculs interns'!L543/dispersió!$O$56))^(1/2),0)","v":31.65218223169845},{"$f":"-M543","v":-31.65218223169845},null,0,{"$f":"IFERROR((letalitat!$P$15*1000)/((3.14159*dispersió!$I$10*((dispersió!$J$44+P543)^dispersió!$J$10)*dispersió!$K$10*((dispersió!$K$44+P543)^dispersió!$L$10)+dispersió!$C$24*dispersió!$D$44)*dispersió!$I$12),0)","v":22.588144429464943},{"$f":"IFERROR(dispersió!$I$10*((dispersió!$J$44+'Càlculs interns'!P543)^dispersió!$J$10)*(2*LN('Càlculs interns'!Q543/dispersió!$O$63))^(1/2),0)","v":28.541763773274489},{"$f":"-R543","v":-28.541763773274489}]
[{"$f":"A573/30","v":143.42665207750537},{"$f":"IFERROR((letalitat!$P$15*1000)/((3.14159*dispersió!$I$10*((dispersió!$J$44+A544)^dispersió!$J$10)*dispersió!$K$10*((dispersió!$K$44+A544)^dispersió!$L$10)+dispersió!$C$24*dispersió!$D$44)*dispersió!$I$12),0)","v":11.773380736130475},{"$f":"IFERROR(dispersió!$I$10*((dispersió!$J$44+'Càlculs interns'!A544)^dispersió!$J$10)*(2*LN('Càlculs interns'!B544/dispersió!$O$42))^(1/2),0)","v":44.934479405556786},-44.934479405556786,null,{"$f":"F573/30","v":114.00200636815129},{"$f":"IFERROR((letalitat!$P$15*1000)/((3.14159*dispersió!$I$10*((dispersió!$J$44+F544)^dispersió!$J$10)*dispersió!$K$10*((dispersió!$K$44+F544)^dispersió!$L$10)+dispersió!$C$24*dispersió!$D$44)*dispersió!$I$12),0)","v":13.189434544050082},{"$f":"IFERROR(dispersió!$I$10*((dispersió!$J$44+'Càlculs interns'!F544)^dispersió!$J$10)*(2*LN('Càlculs interns'!G544/dispersió!$O$48))^(1/2),0)","v":41.041543396820863},{"$f":"-H544","v":-41.041543396820863},null,{"$f":"K573/30","v":86.702785142574143},{"$f":"IFERROR((letalitat!$P$15*1000)/((3.14159*dispersió!$I$10*((dispersió!$J$44+K544)^dispersió!$J$10)*dispersió!$K$10*((dispersió!$K$44+K544)^dispersió!$L$10)+dispersió!$C$24*dispersió!$D$44)*dispersió!$I$12),0)","v":14.7682884021792},{"$f":"IFERROR(dispersió!$I$10*((dispersió!$J$44+'Càlculs interns'!K544)^dispersió!$J$10)*(2*LN('Càlculs interns'!L544/dispersió!$O$56))^(1/2),0)","v":37.101136172895011},{"$f":"-M544","v":-37.101136172895011},null,{"$f":"P573/30","v":52.833580972174737},{"$f":"IFERROR((letalitat!$P$15*1000)/((3.14159*dispersió!$I$10*((dispersió!$J$44+P544)^dispersió!$J$10)*dispersió!$K$10*((dispersió!$K$44+P544)^dispersió!$L$10)+dispersió!$C$24*dispersió!$D$44)*dispersió!$I$12),0)","v":17.20033772852905},{"$f":"IFERROR(dispersió!$I$10*((dispersió!$J$44+'Càlculs interns'!P544)^dispersió!$J$10)*(2*LN('Càlculs interns'!Q544/dispersió!$O$63))^(1/2),0)","v":31.315692460057488},{"$f":"-R544","v":-31.315692460057488}]
[{"$f":"A$544+A544","v":286.85330415501073},{"$f":"IFERROR((letalitat!$P$15*1000)/((3.14159*dispersió!$I$10*((dispersió!$J$44+A545)^dispersió!$J$10)*dispersió!$K$10*((dispersió!$K$44+A545)^dispersió!$L$10)+dispersió!$C$24*dispersió!$D$44)*dispersió!$I$12),0)","v":7.417802696372596},{"$f":"IFERROR(dispersió!$I$10*((dispersió!$J$44+'Càlculs interns'!A545)^dispersió!$J$10)*(2*LN('Càlculs interns'!B545/dispersió!$O$42))^(1/2),0)","v":53.84331393105699},-53.84331393105699,null,{"$f":"F$544+F544","v":228.00401273630257},{"$f":"IFERROR((letalitat!$P$15*1000)/((3.14159*dispersió!$I$10*((dispersió!$J$44+F545)^dispersió!$J$10)*dispersió!$K$10*((dispersió!$K$44+F545)^dispersió!$L$10)+dispersió!$C$24*dispersió!$D$44)*dispersió!$I$12),0)","v":8.8270213086043263},{"$f":"IFERROR(dispersió!$I$10*((dispersió!$J$44+'Càlculs interns'!F545)^dispersió!$J$10)*(2*LN('Càlculs interns'!G545/dispersió!$O$48))^(1/2),0)","v":47.831532432338271},-47.831532432338271,null,{"$f":"K$544+K544","v":173.40557028514829},{"$f":"IFERROR((letalitat!$P$15*1000)/((3.14159*dispersió!$I$10*((dispersió!$J$44+K545)^dispersió!$J$10)*dispersió!$K$10*((dispersió!$K$44+K545)^dispersió!$L$10)+dispersió!$C$24*dispersió!$D$44)*dispersió!$I$12),0)","v":10.567630160872874},{"$f":"IFERROR(dispersió!$I$10*((dispersió!$J$44+'Càlculs interns'!K545)^dispersió!$J$10)*(2*LN('Càlculs interns'!L545/dispersió!$O$56))^(1/2),0)","v":41.946639945196431},-41.946639945196431,null,{"$f":"P$544+P544","v":105.66716194434947},{"$f":"IFERROR((letalitat!$P$15*1000)/((3.14159*dispersió!$I$10*((dispersió!$J$44+P545)^dispersió!$J$10)*dispersió!$K$10*((dispersió!$K$44+P545)^dispersió!$L$10)+dispersió!$C$24*dispersió!$D$44)*dispersió!$I$12),0)","v":13.641259742994274},{"$f":"IFERROR(dispersió!$I$10*((dispersió!$J$44+'Càlculs interns'!P545)^dispersió!$J$10)*(2*LN('Càlculs interns'!Q545/dispersió!$O$63))^(1/2),0)","v":33.824857644643103},-33.824857644643103]
[{"$f":"A$544+A545","v":430.2799562325161},{"$f":"IFERROR((letalitat!$P$15*1000)/((3.14159*dispersió!$I$10*((dispersió!$J$44+A546)^dispersió!$J$10)*dispersió!$K$10*((dispersió!$K$44+A546)^dispersió!$L$10)+dispersió!$C$24*dispersió!$D$44)*dispersió!$I$12),0)","v":5.1804766970814571},{"$f":"IFERROR(dispersió!$I$10*((dispersió!$J$44+'Càlculs interns'!A546)^dispersió!$J$10)*(2*LN('Càlculs interns'!B546/dispersió!$O$42))^(1/2),0)","v":61.682834058294716},-61.682834058294716,null,{"$f":"F$544+F545","v":342.00601910445386},{"$f":"IFERROR((letalitat!$P$15*1000)/((3.14159*dispersió!$I$10*((dispersió!$J$44+F546)^dispersió!$J$10)*dispersió!$K$10*((dispersió!$K$44+F546)^dispersió!$L$10)+dispersió!$C$24*dispersió!$D$44)*dispersió!$I$12),0)","v":6.3997530846697099},{"$f":"IFERROR(dispersió!$I$10*((dispersió!$J$44+'Càlculs interns'!F546)^dispersió!$J$10)*(2*LN('Càlculs interns'!G546/dispersió!$O$48))^(1/2),0)","v":53.848550575544493},-53.848550575544493,null,{"$f":"K$544+K545","v":260.10835542772242},{"$f":"IFERROR((letalitat!$P$15*1000)/((3.14159*dispersió!$I$10*((dispersió!$J$44+K546)^dispersió!$J$10)*dispersió!$K$10*((dispersió!$K$44+K546)^dispersió!$L$10)+dispersió!$C$24*dispersió!$D$44)*dispersió!$I$12),0)","v":8.0094703726309628},{"$f":"IFERROR(dispersió!$I$10*((dispersió!$J$44+'Càlculs interns'!K546)^dispersió!$J$10)*(2*LN('Càlculs interns'!L546/dispersió!$O$56))^(1/2),0)","v":46.273878962712438},-46.273878962712438,null,{"$f":"P$544+P545","v":158.50074291652422},{"$f":"IFERROR((letalitat!$P$15*1000)/((3.14159*dispersió!$I$10*((dispersió!$J$44+P546)^dispersió!$J$10)*dispersió!$K$10*((dispersió!$K$44+P546)^dispersió!$L$10)+dispersió!$C$24*dispersió!$D$44)*dispersió!$I$12),0)","v":11.140775152412193},{"$f":"IFERROR(dispersió!$I$10*((dispersió!$J$44+'Càlculs interns'!P546)^dispersió!$J$10)*(2*LN('Càlculs interns'!Q546/dispersió!$O$63))^(1/2),0)","v":36.089279848215071},-36.089279848215071]
[573.70660831002147,{"$f":"IFERROR((letalitat!$P$15*1000)/((3.14159*dispersió!$I$10*((dispersió!$J$44+A547)^dispersió!$J$10)*dispersió!$K$10*((dispersió!$K$44+A547)^dispersió!$L$10)+dispersió!$C$24*dispersió!$D$44)*dispersió!$I$12),0)","v":3.8631196561956296},{"$f":"IFERROR(dispersió!$I$10*((dispersió!$J$44+'Càlculs interns'!A547)^dispersió!$J$10)*(2*LN('Càlculs interns'!B547/dispersió!$O$42))^(1/2),0)","v":68.639427505909993},-68.639427505909993,null,456.00802547260514,{"$f":"IFERROR((letalitat!$P$15*1000)/((3.14159*dispersió!$I$10*((dispersió!$J$44+F547)^dispersió!$J$10)*dispersió!$K$10*((dispersió!$K$44+F547)^dispersió!$L$10)+dispersió!$C$24*dispersió!$D$44)*dispersió!$I$12),0)","v":4.8947787517870607},{"$f":"IFERROR(dispersió!$I$10*((dispersió!$J$44+'Càlculs interns'!F547)^dispersió!$J$10)*(2*LN('Càlculs interns'!G547/dispersió!$O$48))^(1/2),0)","v":59.209572950211935},-59.209572950211935,null,346.81114057029657,{"$f":"IFERROR((letalitat!$P$15*1000)/((3.14159*dispersió!$I$10*((dispersió!$J$44+K547)^dispersió!$J$10)*dispersió!$K$10*((dispersió!$K$44+K547)^dispersió!$L$10)+dispersió!$C$24*dispersió!$D$44)*dispersió!$I$12),0)","v":6.3218618766009227},{"$f":"IFERROR(dispersió!$I$10*((dispersió!$J$44+'Càlculs interns'!K547)^dispersió!$J$10)*(2*LN('Càlculs interns'!L547/dispersió!$O$56))^(1/2),0)","v":50.146716857096237},-50.146716857096237,null,211.33432388869895,{"$f":"IFERROR((letalitat!$P$15*1000)/((3.14159*dispersió!$I$10*((dispersió!$J$44+P547)^dispersió!$J$10)*dispersió!$K$10*((dispersió!$K$44+P547)^dispersió!$L$10)+dispersió!$C$24*dispersió!$D$44)*dispersió!$I$12),0)","v":9.3061879491789163},{"$f":"IFERROR(dispersió!$I$10*((dispersió!$J$44+'Càlculs interns'!P547)^dispersió!$J$10)*(2*LN('Càlculs interns'!Q547/dispersió!$O$63))^(1/2),0)","v":38.127015909640889},-38.127015909640889]
[717.13326038752689,{"$f":"IFERROR((letalitat!$P$15*1000)/((3.14159*dispersió!$I$10*((dispersió!$J$44+A548)^dispersió!$J$10)*dispersió!$K$10*((dispersió!$K$44+A548)^dispersió!$L$10)+dispersió!$C$24*dispersió!$D$44)*dispersió!$I$12),0)","v":3.0146967554102631},{"$f":"IFERROR(dispersió!$I$10*((dispersió!$J$44+'Càlculs interns'!A548)^dispersió!$J$10)*(2*LN('Càlculs interns'!B548/dispersió!$O$42))^(1/2),0)","v":74.834856705119023},-74.834856705119023,null,570.01003184075648,{"$f":"IFERROR((letalitat!$P$15*1000)/((3.14159*dispersió!$I$10*((dispersió!$J$44+F548)^dispersió!$J$10)*dispersió!$K$10*((dispersió!$K$44+F548)^dispersió!$L$10)+dispersió!$C$24*dispersió!$D$44)*dispersió!$I$12),0)","v":3.8899726800849326},{"$f":"IFERROR(dispersió!$I$10*((dispersió!$J$44+'Càlculs interns'!F548)^dispersió!$J$10)*(2*LN('Càlculs interns'!G548/dispersió!$O$48))^(1/2),0)","v":63.99478558403672},-63.99478558403672,null,433.51392571287073,{"$f":"IFERROR((letalitat!$P$15*1000)/((3.14159*dispersió!$I$10*((dispersió!$J$44+K548)^dispersió!$J$10)*dispersió!$K$10*((dispersió!$K$44+K548)^dispersió!$L$10)+dispersió!$C$24*dispersió!$D$44)*dispersió!$I$12),0)","v":5.1430986878889824},{"$f":"IFERROR(dispersió!$I$10*((dispersió!$J$44+'Càlculs interns'!K548)^dispersió!$J$10)*(2*LN('Càlculs interns'!L548/dispersió!$O$56))^(1/2),0)","v":53.611639321195391},-53.611639321195391,null,264.1679048608737,{"$f":"IFERROR((letalitat!$P$15*1000)/((3.14159*dispersió!$I$10*((dispersió!$J$44+P548)^dispersió!$J$10)*dispersió!$K$10*((dispersió!$K$44+P548)^dispersió!$L$10)+dispersió!$C$24*dispersió!$D$44)*dispersió!$I$12),0)","v":7.9148411325656296},{"$f":"IFERROR(dispersió!$I$10*((dispersió!$J$44+'Càlculs interns'!P548)^dispersió!$J$10)*(2*LN('Càlculs interns'!Q548/dispersió!$O$63))^(1/2),0)","v":39.952749344544948},-39.952749344544948]
[860.55991246503231,{"$f":"IFERROR((letalitat!$P$15*1000)/((3.14159*dispersió!$I$10*((dispersió!$J$44+A549)^dispersió!$J$10)*dispersió!$K$10*((dispersió!$K$44+A549)^dispersió!$L$10)+dispersió!$C$24*dispersió!$D$44)*dispersió!$I$12),0)","v":2.4323647730627251},{"$f":"IFERROR(dispersió!$I$10*((dispersió!$J$44+'Càlculs interns'!A549)^dispersió!$J$10)*(2*LN('Càlculs interns'!B549/dispersió!$O$42))^(1/2),0)","v":80.353292566960917},-80.353292566960917,null,684.01203820890782,{"$f":"IFERROR((letalitat!$P$15*1000)/((3.14159*dispersió!$I$10*((dispersió!$J$44+F549)^dispersió!$J$10)*dispersió!$K$10*((dispersió!$K$44+F549)^dispersió!$L$10)+dispersió!$C$24*dispersió!$D$44)*dispersió!$I$12),0)","v":3.1818042862287963},{"$f":"IFERROR(dispersió!$I$10*((dispersió!$J$44+'Càlculs interns'!F549)^dispersió!$J$10)*(2*LN('Càlculs interns'!G549/dispersió!$O$48))^(1/2),0)","v":68.261261843255355},-68.261261843255355,null,520.21671085544483,{"$f":"IFERROR((letalitat!$P$15*1000)/((3.14159*dispersió!$I$10*((dispersió!$J$44+K549)^dispersió!$J$10)*dispersió!$K$10*((dispersió!$K$44+K549)^dispersió!$L$10)+dispersió!$C$24*dispersió!$D$44)*dispersió!$I$12),0)","v":4.2833964250992249},{"$f":"IFERROR(dispersió!$I$10*((dispersió!$J$44+'Càlculs interns'!K549)^dispersió!$J$10)*(2*LN('Càlculs interns'!L549/dispersió!$O$56))^(1/2),0)","v":56.702980185236775},-56.702980185236775,null,317.00148583304843,{"$f":"IFERROR((letalitat!$P$15*1000)/((3.14159*dispersió!$I$10*((dispersió!$J$44+P549)^dispersió!$J$10)*dispersió!$K$10*((dispersió!$K$44+P549)^dispersió!$L$10)+dispersió!$C$24*dispersió!$D$44)*dispersió!$I$12),0)","v":6.8313599549500763},{"$f":"IFERROR(dispersió!$I$10*((dispersió!$J$44+'Càlculs interns'!P549)^dispersió!$J$10)*(2*LN('Càlculs interns'!Q549/dispersió!$O$63))^(1/2),0)","v":41.578084253830788},-41.578084253830788]
[1003.9865645425377,{"$f":"IFERROR((letalitat!$P$15*1000)/((3.14159*dispersió!$I$10*((dispersió!$J$44+A550)^dispersió!$J$10)*dispersió!$K$10*((dispersió!$K$44+A550)^dispersió!$L$10)+dispersió!$C$24*dispersió!$D$44)*dispersió!$I$12),0)","v":2.0131850912486513},{"$f":"IFERROR(dispersió!$I$10*((dispersió!$J$44+'Càlculs interns'!A550)^dispersió!$J$10)*(2*LN('Càlculs interns'!B550/dispersió!$O$42))^(1/2),0)","v":85.255199665304261},-85.255199665304261,null,798.01404457705917,{"$f":"IFERROR((letalitat!$P$15*1000)/((3.14159*dispersió!$I$10*((dispersió!$J$44+F550)^dispersió!$J$10)*dispersió!$K$10*((dispersió!$K$44+F550)^dispersió!$L$10)+dispersió!$C$24*dispersió!$D$44)*dispersió!$I$12),0)","v":2.6616273490189886},{"$f":"IFERROR(dispersió!$I$10*((dispersió!$J$44+'Càlculs interns'!F550)^dispersió!$J$10)*(2*LN('Càlculs interns'!G550/dispersió!$O$48))^(1/2),0)","v":72.050764371908002},-72.050764371908002,null,606.91949599801899,{"$f":"IFERROR((letalitat!$P$15*1000)/((3.14159*dispersió!$I$10*((dispersió!$J$44+K550)^dispersió!$J$10)*dispersió!$K$10*((dispersió!$K$44+K550)^dispersió!$L$10)+dispersió!$C$24*dispersió!$D$44)*dispersió!$I$12),0)","v":3.6347601466661796},{"$f":"IFERROR(dispersió!$I$10*((dispersió!$J$44+'Càlculs interns'!K550)^dispersió!$J$10)*(2*LN('Càlculs interns'!L550/dispersió!$O$56))^(1/2),0)","v":59.446448096156736},-59.446448096156736,null,369.83506680522316,{"$f":"IFERROR((letalitat!$P$15*1000)/((3.14159*dispersió!$I$10*((dispersió!$J$44+P550)^dispersió!$J$10)*dispersió!$K$10*((dispersió!$K$44+P550)^dispersió!$L$10)+dispersió!$C$24*dispersió!$D$44)*dispersió!$I$12),0)","v":5.9690773011400218},{"$f":"IFERROR(dispersió!$I$10*((dispersió!$J$44+'Càlculs interns'!P550)^dispersió!$J$10)*(2*LN('Càlculs interns'!Q550/dispersió!$O$63))^(1/2),0)","v":43.012044722360564},-43.012044722360564]
[1147.4132166200432,{"$f":"IFERROR((letalitat!$P$15*1000)/((3.14159*dispersió!$I$10*((dispersió!$J$44+A551)^dispersió!$J$10)*dispersió!$K$10*((dispersió!$K$44+A551)^dispersió!$L$10)+dispersió!$C$24*dispersió!$D$44)*dispersió!$I$12),0)","v":1.7000928223630785},{"$f":"IFERROR(dispersió!$I$10*((dispersió!$J$44+'Càlculs interns'!A551)^dispersió!$J$10)*(2*LN('Càlculs interns'!B551/dispersió!$O$42))^(1/2),0)","v":89.585020899356834},-89.585020899356834,null,912.01605094521051,{"$f":"IFERROR((letalitat!$P$15*1000)/((3.14159*dispersió!$I$10*((dispersió!$J$44+F551)^dispersió!$J$10)*dispersió!$K$10*((dispersió!$K$44+F551)^dispersió!$L$10)+dispersió!$C$24*dispersió!$D$44)*dispersió!$I$12),0)","v":2.2668578470935459},{"$f":"IFERROR(dispersió!$I$10*((dispersió!$J$44+'Càlculs interns'!F551)^dispersió!$J$10)*(2*LN('Càlculs interns'!G551/dispersió!$O$48))^(1/2),0)","v":75.394331771284783},-75.394331771284783,null,693.62228114059315,{"$f":"IFERROR((letalitat!$P$15*1000)/((3.14159*dispersió!$I$10*((dispersió!$J$44+K551)^dispersió!$J$10)*dispersió!$K$10*((dispersió!$K$44+K551)^dispersió!$L$10)+dispersió!$C$24*dispersió!$D$44)*dispersió!$I$12),0)","v":3.1317959066307677},{"$f":"IFERROR(dispersió!$I$10*((dispersió!$J$44+'Càlculs interns'!K551)^dispersió!$J$10)*(2*LN('Càlculs interns'!L551/dispersió!$O$56))^(1/2),0)","v":61.86139593617073},-61.86139593617073,null,422.66864777739789,{"$f":"IFERROR((letalitat!$P$15*1000)/((3.14159*dispersió!$I$10*((dispersió!$J$44+P551)^dispersió!$J$10)*dispersió!$K$10*((dispersió!$K$44+P551)^dispersió!$L$10)+dispersió!$C$24*dispersió!$D$44)*dispersió!$I$12),0)","v":5.2702056847039414},{"$f":"IFERROR(dispersió!$I$10*((dispersió!$J$44+'Càlculs interns'!P551)^dispersió!$J$10)*(2*LN('Càlculs interns'!Q551/dispersió!$O$63))^(1/2),0)","v":44.261506099101453},-44.261506099101453]
[1290.8398686975486,{"$f":"IFERROR((letalitat!$P$15*1000)/((3.14159*dispersió!$I$10*((dispersió!$J$44+A552)^dispersió!$J$10)*dispersió!$K$10*((dispersió!$K$44+A552)^dispersió!$L$10)+dispersió!$C$24*dispersió!$D$44)*dispersió!$I$12),0)","v":1.4592374701046826},{"$f":"IFERROR(dispersió!$I$10*((dispersió!$J$44+'Càlculs interns'!A552)^dispersió!$J$10)*(2*LN('Càlculs interns'!B552/dispersió!$O$42))^(1/2),0)","v":93.375716388384049},-93.375716388384049,null,1026.0180573133619,{"$f":"IFERROR((letalitat!$P$15*1000)/((3.14159*dispersió!$I$10*((dispersió!$J$44+F552)^dispersió!$J$10)*dispersió!$K$10*((dispersió!$K$44+F552)^dispersió!$L$10)+dispersió!$C$24*dispersió!$D$44)*dispersió!$I$12),0)","v":1.9592388923134052},{"$f":"IFERROR(dispersió!$I$10*((dispersió!$J$44+'Càlculs interns'!F552)^dispersió!$J$10)*(2*LN('Càlculs interns'!G552/dispersió!$O$48))^(1/2),0)","v":78.31509562221197},-78.31509562221197,null,780.3250662831673,{"$f":"IFERROR((letalitat!$P$15*1000)/((3.14159*dispersió!$I$10*((dispersió!$J$44+K552)^dispersió!$J$10)*dispersió!$K$10*((dispersió!$K$44+K552)^dispersió!$L$10)+dispersió!$C$24*dispersió!$D$44)*dispersió!$I$12),0)","v":2.7328968451186415},{"$f":"IFERROR(dispersió!$I$10*((dispersió!$J$44+'Càlculs interns'!K552)^dispersió!$J$10)*(2*LN('Càlculs interns'!L552/dispersió!$O$56))^(1/2),0)","v":63.962295460216303},-63.962295460216303,null,475.50222874957262,{"$f":"IFERROR((letalitat!$P$15*1000)/((3.14159*dispersió!$I$10*((dispersió!$J$44+P552)^dispersió!$J$10)*dispersió!$K$10*((dispersió!$K$44+P552)^dispersió!$L$10)+dispersió!$C$24*dispersió!$D$44)*dispersió!$I$12),0)","v":4.6949090417904369},{"$f":"IFERROR(dispersió!$I$10*((dispersió!$J$44+'Càlculs interns'!P552)^dispersió!$J$10)*(2*LN('Càlculs interns'!Q552/dispersió!$O$63))^(1/2),0)","v":45.331520972905615},-45.331520972905615]
[1434.266520775054,{"$f":"IFERROR((letalitat!$P$15*1000)/((3.14159*dispersió!$I$10*((dispersió!$J$44+A553)^dispersió!$J$10)*dispersió!$K$10*((dispersió!$K$44+A553)^dispersió!$L$10)+dispersió!$C$24*dispersió!$D$44)*dispersió!$I$12),0)","v":1.2694326465330026},{"$f":"IFERROR(dispersió!$I$10*((dispersió!$J$44+'Càlculs interns'!A553)^dispersió!$J$10)*(2*LN('Càlculs interns'!B553/dispersió!$O$42))^(1/2),0)","v":96.651574237806528},-96.651574237806528,null,1140.0200636815132,{"$f":"IFERROR((letalitat!$P$15*1000)/((3.14159*dispersió!$I$10*((dispersió!$J$44+F553)^dispersió!$J$10)*dispersió!$K$10*((dispersió!$K$44+F553)^dispersió!$L$10)+dispersió!$C$24*dispersió!$D$44)*dispersió!$I$12),0)","v":1.7142408737419828},{"$f":"IFERROR(dispersió!$I$10*((dispersió!$J$44+'Càlculs interns'!F553)^dispersió!$J$10)*(2*LN('Càlculs interns'!G553/dispersió!$O$48))^(1/2),0)","v":80.830070349750855},-80.830070349750855,null,867.02785142574146,{"$f":"IFERROR((letalitat!$P$15*1000)/((3.14159*dispersió!$I$10*((dispersió!$J$44+K553)^dispersió!$J$10)*dispersió!$K$10*((dispersió!$K$44+K553)^dispersió!$L$10)+dispersió!$C$24*dispersió!$D$44)*dispersió!$I$12),0)","v":2.4104971745319137},{"$f":"IFERROR(dispersió!$I$10*((dispersió!$J$44+'Càlculs interns'!K553)^dispersió!$J$10)*(2*LN('Càlculs interns'!L553/dispersió!$O$56))^(1/2),0)","v":65.759707816694586},-65.759707816694586,null,528.33580972174741,{"$f":"IFERROR((letalitat!$P$15*1000)/((3.14159*dispersió!$I$10*((dispersió!$J$44+P553)^dispersió!$J$10)*dispersió!$K$10*((dispersió!$K$44+P553)^dispersió!$L$10)+dispersió!$C$24*dispersió!$D$44)*dispersió!$I$12),0)","v":4.2149472623375877},{"$f":"IFERROR(dispersió!$I$10*((dispersió!$J$44+'Càlculs interns'!P553)^dispersió!$J$10)*(2*LN('Càlculs interns'!Q553/dispersió!$O$63))^(1/2),0)","v":46.225550354541483},-46.225550354541483]
[1577.6931728525594,{"$f":"IFERROR((letalitat!$P$15*1000)/((3.14159*dispersió!$I$10*((dispersió!$J$44+A554)^dispersió!$J$10)*dispersió!$K$10*((dispersió!$K$44+A554)^dispersió!$L$10)+dispersió!$C$24*dispersió!$D$44)*dispersió!$I$12),0)","v":1.1168274501806086},{"$f":"IFERROR(dispersió!$I$10*((dispersió!$J$44+'Càlculs interns'!A554)^dispersió!$J$10)*(2*LN('Càlculs interns'!B554/dispersió!$O$42))^(1/2),0)","v":99.430001128563362},-99.430001128563362,null,1254.0220700496645,{"$f":"IFERROR((letalitat!$P$15*1000)/((3.14159*dispersió!$I$10*((dispersió!$J$44+F554)^dispersió!$J$10)*dispersió!$K$10*((dispersió!$K$44+F554)^dispersió!$L$10)+dispersió!$C$24*dispersió!$D$44)*dispersió!$I$12),0)","v":1.5155061963213385},{"$f":"IFERROR(dispersió!$I$10*((dispersió!$J$44+'Càlculs interns'!F554)^dispersió!$J$10)*(2*LN('Càlculs interns'!G554/dispersió!$O$48))^(1/2),0)","v":82.951310498269265},-82.951310498269265,null,953.73063656831562,{"$f":"IFERROR((letalitat!$P$15*1000)/((3.14159*dispersió!$I$10*((dispersió!$J$44+K554)^dispersió!$J$10)*dispersió!$K$10*((dispersió!$K$44+K554)^dispersió!$L$10)+dispersió!$C$24*dispersió!$D$44)*dispersió!$I$12),0)","v":2.1457064131034151},{"$f":"IFERROR(dispersió!$I$10*((dispersió!$J$44+'Càlculs interns'!K554)^dispersió!$J$10)*(2*LN('Càlculs interns'!L554/dispersió!$O$56))^(1/2),0)","v":67.260922002809792},-67.260922002809792,null,581.1693906939222,{"$f":"IFERROR((letalitat!$P$15*1000)/((3.14159*dispersió!$I$10*((dispersió!$J$44+P554)^dispersió!$J$10)*dispersió!$K$10*((dispersió!$K$44+P554)^dispersió!$L$10)+dispersió!$C$24*dispersió!$D$44)*dispersió!$I$12),0)","v":3.8098160413017377},{"$f":"IFERROR(dispersió!$I$10*((dispersió!$J$44+'Càlculs interns'!P554)^dispersió!$J$10)*(2*LN('Càlculs interns'!Q554/dispersió!$O$63))^(1/2),0)","v":46.945616368411663},-46.945616368411663]
[1721.1198249300649,{"$f":"IFERROR((letalitat!$P$15*1000)/((3.14159*dispersió!$I$10*((dispersió!$J$44+A555)^dispersió!$J$10)*dispersió!$K$10*((dispersió!$K$44+A555)^dispersió!$L$10)+dispersió!$C$24*dispersió!$D$44)*dispersió!$I$12),0)","v":0.99203345430649459},{"$f":"IFERROR(dispersió!$I$10*((dispersió!$J$44+'Càlculs interns'!A555)^dispersió!$J$10)*(2*LN('Càlculs interns'!B555/dispersió!$O$42))^(1/2),0)","v":101.72266823678108},-101.72266823678108,null,1368.0240764178159,{"$f":"IFERROR((letalitat!$P$15*1000)/((3.14159*dispersió!$I$10*((dispersió!$J$44+F555)^dispersió!$J$10)*dispersió!$K$10*((dispersió!$K$44+F555)^dispersió!$L$10)+dispersió!$C$24*dispersió!$D$44)*dispersió!$I$12),0)","v":1.3517623602801039},{"$f":"IFERROR(dispersió!$I$10*((dispersió!$J$44+'Càlculs interns'!F555)^dispersió!$J$10)*(2*LN('Càlculs interns'!G555/dispersió!$O$48))^(1/2),0)","v":84.68665337321471},-84.68665337321471,null,1040.4334217108897,{"$f":"IFERROR((letalitat!$P$15*1000)/((3.14159*dispersió!$I$10*((dispersió!$J$44+K555)^dispersió!$J$10)*dispersió!$K$10*((dispersió!$K$44+K555)^dispersió!$L$10)+dispersió!$C$24*dispersió!$D$44)*dispersió!$I$12),0)","v":1.9252031507669793},{"$f":"IFERROR(dispersió!$I$10*((dispersió!$J$44+'Càlculs interns'!K555)^dispersió!$J$10)*(2*LN('Càlculs interns'!L555/dispersió!$O$56))^(1/2),0)","v":68.470362615074677},-68.470362615074677,null,634.00297166609698,{"$f":"IFERROR((letalitat!$P$15*1000)/((3.14159*dispersió!$I$10*((dispersió!$J$44+P555)^dispersió!$J$10)*dispersió!$K$10*((dispersió!$K$44+P555)^dispersió!$L$10)+dispersió!$C$24*dispersió!$D$44)*dispersió!$I$12),0)","v":3.4643158059639938},{"$f":"IFERROR(dispersió!$I$10*((dispersió!$J$44+'Càlculs interns'!P555)^dispersió!$J$10)*(2*LN('Càlculs interns'!Q555/dispersió!$O$63))^(1/2),0)","v":47.492389225931731},-47.492389225931731]
[1864.5464770075703,{"$f":"IFERROR((letalitat!$P$15*1000)/((3.14159*dispersió!$I$10*((dispersió!$J$44+A556)^dispersió!$J$10)*dispersió!$K$10*((dispersió!$K$44+A556)^dispersió!$L$10)+dispersió!$C$24*dispersió!$D$44)*dispersió!$I$12),0)","v":0.88849019958476216},{"$f":"IFERROR(dispersió!$I$10*((dispersió!$J$44+'Càlculs interns'!A556)^dispersió!$J$10)*(2*LN('Càlculs interns'!B556/dispersió!$O$42))^(1/2),0)","v":103.53621960079381},-103.53621960079381,null,1482.0260827859672,{"$f":"IFERROR((letalitat!$P$15*1000)/((3.14159*dispersió!$I$10*((dispersió!$J$44+F556)^dispersió!$J$10)*dispersió!$K$10*((dispersió!$K$44+F556)^dispersió!$L$10)+dispersió!$C$24*dispersió!$D$44)*dispersió!$I$12),0)","v":1.2150211829210156},{"$f":"IFERROR(dispersió!$I$10*((dispersió!$J$44+'Càlculs interns'!F556)^dispersió!$J$10)*(2*LN('Càlculs interns'!G556/dispersió!$O$48))^(1/2),0)","v":86.04017014811518},-86.04017014811518,null,1127.1362068534638,{"$f":"IFERROR((letalitat!$P$15*1000)/((3.14159*dispersió!$I$10*((dispersió!$J$44+K556)^dispersió!$J$10)*dispersió!$K$10*((dispersió!$K$44+K556)^dispersió!$L$10)+dispersió!$C$24*dispersió!$D$44)*dispersió!$I$12),0)","v":1.7393593477846316},{"$f":"IFERROR(dispersió!$I$10*((dispersió!$J$44+'Càlculs interns'!K556)^dispersió!$J$10)*(2*LN('Càlculs interns'!L556/dispersió!$O$56))^(1/2),0)","v":69.389825968238242},-69.389825968238242,null,686.83655263827177,{"$f":"IFERROR((letalitat!$P$15*1000)/((3.14159*dispersió!$I$10*((dispersió!$J$44+P556)^dispersió!$J$10)*dispersió!$K$10*((dispersió!$K$44+P556)^dispersió!$L$10)+dispersió!$C$24*dispersió!$D$44)*dispersió!$I$12),0)","v":3.1669725818695529},{"$f":"IFERROR(dispersió!$I$10*((dispersió!$J$44+'Càlculs interns'!P556)^dispersió!$J$10)*(2*LN('Càlculs interns'!Q556/dispersió!$O$63))^(1/2),0)","v":47.865216122580165},-47.865216122580165]
[2007.9731290850757,{"$f":"IFERROR((letalitat!$P$15*1000)/((3.14159*dispersió!$I$10*((dispersió!$J$44+A557)^dispersió!$J$10)*dispersió!$K$10*((dispersió!$K$44+A557)^dispersió!$L$10)+dispersió!$C$24*dispersió!$D$44)*dispersió!$I$12),0)","v":0.80149249863249428},{"$f":"IFERROR(dispersió!$I$10*((dispersió!$J$44+'Càlculs interns'!A557)^dispersió!$J$10)*(2*LN('Càlculs interns'!B557/dispersió!$O$42))^(1/2),0)","v":104.87265767836784},-104.87265767836784,null,1596.0280891541186,{"$f":"IFERROR((letalitat!$P$15*1000)/((3.14159*dispersió!$I$10*((dispersió!$J$44+F557)^dispersió!$J$10)*dispersió!$K$10*((dispersió!$K$44+F557)^dispersió!$L$10)+dispersió!$C$24*dispersió!$D$44)*dispersió!$I$12),0)","v":1.0994842478507472},{"$f":"IFERROR(dispersió!$I$10*((dispersió!$J$44+'Càlculs interns'!F557)^dispersió!$J$10)*(2*LN('Càlculs interns'!G557/dispersió!$O$48))^(1/2),0)","v":87.012393787068262},-87.012393787068262,null,1213.838991996038,{"$f":"IFERROR((letalitat!$P$15*1000)/((3.14159*dispersió!$I$10*((dispersió!$J$44+K557)^dispersió!$J$10)*dispersió!$K$10*((dispersió!$K$44+K557)^dispersió!$L$10)+dispersió!$C$24*dispersió!$D$44)*dispersió!$I$12),0)","v":1.5810661258761174},{"$f":"IFERROR(dispersió!$I$10*((dispersió!$J$44+'Càlculs interns'!K557)^dispersió!$J$10)*(2*LN('Càlculs interns'!L557/dispersió!$O$56))^(1/2),0)","v":70.018576918944731},-70.018576918944731,null,739.67013361044656,{"$f":"IFERROR((letalitat!$P$15*1000)/((3.14159*dispersió!$I$10*((dispersió!$J$44+P557)^dispersió!$J$10)*dispersió!$K$10*((dispersió!$K$44+P557)^dispersió!$L$10)+dispersió!$C$24*dispersió!$D$44)*dispersió!$I$12),0)","v":2.9089843760108756},{"$f":"IFERROR(dispersió!$I$10*((dispersió!$J$44+'Càlculs interns'!P557)^dispersió!$J$10)*(2*LN('Càlculs interns'!Q557/dispersió!$O$63))^(1/2),0)","v":48.062094558719139},-48.062094558719139]
[2151.3997811625809,{"$f":"IFERROR((letalitat!$P$15*1000)/((3.14159*dispersió!$I$10*((dispersió!$J$44+A558)^dispersió!$J$10)*dispersió!$K$10*((dispersió!$K$44+A558)^dispersió!$L$10)+dispersió!$C$24*dispersió!$D$44)*dispersió!$I$12),0)","v":0.72758900431882434},{"$f":"IFERROR(dispersió!$I$10*((dispersió!$J$44+'Càlculs interns'!A558)^dispersió!$J$10)*(2*LN('Càlculs interns'!B558/dispersió!$O$42))^(1/2),0)","v":105.72946506034441},-105.72946506034441,null,1710.0300955222699,{"$f":"IFERROR((letalitat!$P$15*1000)/((3.14159*dispersió!$I$10*((dispersió!$J$44+F558)^dispersió!$J$10)*dispersió!$K$10*((dispersió!$K$44+F558)^dispersió!$L$10)+dispersió!$C$24*dispersió!$D$44)*dispersió!$I$12),0)","v":1.0008537802366417},{"$f":"IFERROR(dispersió!$I$10*((dispersió!$J$44+'Càlculs interns'!F558)^dispersió!$J$10)*(2*LN('Càlculs interns'!G558/dispersió!$O$48))^(1/2),0)","v":87.600357261251446},-87.600357261251446,null,1300.5417771386121,{"$f":"IFERROR((letalitat!$P$15*1000)/((3.14159*dispersió!$I$10*((dispersió!$J$44+K558)^dispersió!$J$10)*dispersió!$K$10*((dispersió!$K$44+K558)^dispersió!$L$10)+dispersió!$C$24*dispersió!$D$44)*dispersió!$I$12),0)","v":1.4449754272364712},{"$f":"IFERROR(dispersió!$I$10*((dispersió!$J$44+'Càlculs interns'!K558)^dispersió!$J$10)*(2*LN('Càlculs interns'!L558/dispersió!$O$56))^(1/2),0)","v":70.353320006458659},-70.353320006458659,null,792.50371458262134,{"$f":"IFERROR((letalitat!$P$15*1000)/((3.14159*dispersió!$I$10*((dispersió!$J$44+P558)^dispersió!$J$10)*dispersió!$K$10*((dispersió!$K$44+P558)^dispersió!$L$10)+dispersió!$C$24*dispersió!$D$44)*dispersió!$I$12),0)","v":2.6835014506042474},{"$f":"IFERROR(dispersió!$I$10*((dispersió!$J$44+'Càlculs interns'!P558)^dispersió!$J$10)*(2*LN('Càlculs interns'!Q558/dispersió!$O$63))^(1/2),0)","v":48.079587358304863},-48.079587358304863]
[2294.8264332400863,{"$f":"IFERROR((letalitat!$P$15*1000)/((3.14159*dispersió!$I$10*((dispersió!$J$44+A559)^dispersió!$J$10)*dispersió!$K$10*((dispersió!$K$44+A559)^dispersió!$L$10)+dispersió!$C$24*dispersió!$D$44)*dispersió!$I$12),0)","v":0.66419787403868713},{"$f":"IFERROR(dispersió!$I$10*((dispersió!$J$44+'Càlculs interns'!A559)^dispersió!$J$10)*(2*LN('Càlculs interns'!B559/dispersió!$O$42))^(1/2),0)","v":106.09948268975118},-106.09948268975118,null,1824.0321018904212,{"$f":"IFERROR((letalitat!$P$15*1000)/((3.14159*dispersió!$I$10*((dispersió!$J$44+F559)^dispersió!$J$10)*dispersió!$K$10*((dispersió!$K$44+F559)^dispersió!$L$10)+dispersió!$C$24*dispersió!$D$44)*dispersió!$I$12),0)","v":0.91588533518286008},{"$f":"IFERROR(dispersió!$I$10*((dispersió!$J$44+'Càlculs interns'!F559)^dispersió!$J$10)*(2*LN('Càlculs interns'!G559/dispersió!$O$48))^(1/2),0)","v":87.797449801727339},-87.797449801727339,null,1387.2445622811863,{"$f":"IFERROR((letalitat!$P$15*1000)/((3.14159*dispersió!$I$10*((dispersió!$J$44+K559)^dispersió!$J$10)*dispersió!$K$10*((dispersió!$K$44+K559)^dispersió!$L$10)+dispersió!$C$24*dispersió!$D$44)*dispersió!$I$12),0)","v":1.3269967272813155},{"$f":"IFERROR(dispersió!$I$10*((dispersió!$J$44+'Càlculs interns'!K559)^dispersió!$J$10)*(2*LN('Càlculs interns'!L559/dispersió!$O$56))^(1/2),0)","v":70.388043135429172},-70.388043135429172,null,845.33729555479613,{"$f":"IFERROR((letalitat!$P$15*1000)/((3.14159*dispersió!$I$10*((dispersió!$J$44+P559)^dispersió!$J$10)*dispersió!$K$10*((dispersió!$K$44+P559)^dispersió!$L$10)+dispersió!$C$24*dispersió!$D$44)*dispersió!$I$12),0)","v":2.4851243116519131},{"$f":"IFERROR(dispersió!$I$10*((dispersió!$J$44+'Càlculs interns'!P559)^dispersió!$J$10)*(2*LN('Càlculs interns'!Q559/dispersió!$O$63))^(1/2),0)","v":47.912670718822532},-47.912670718822532]
[2438.2530853175917,{"$f":"IFERROR((letalitat!$P$15*1000)/((3.14159*dispersió!$I$10*((dispersió!$J$44+A560)^dispersió!$J$10)*dispersió!$K$10*((dispersió!$K$44+A560)^dispersió!$L$10)+dispersió!$C$24*dispersió!$D$44)*dispersió!$I$12),0)","v":0.60935401540189182},{"$f":"IFERROR(dispersió!$I$10*((dispersió!$J$44+'Càlculs interns'!A560)^dispersió!$J$10)*(2*LN('Càlculs interns'!B560/dispersió!$O$42))^(1/2),0)","v":105.97053235482474},-105.97053235482474,null,1938.0341082585726,{"$f":"IFERROR((letalitat!$P$15*1000)/((3.14159*dispersió!$I$10*((dispersió!$J$44+F560)^dispersió!$J$10)*dispersió!$K$10*((dispersió!$K$44+F560)^dispersió!$L$10)+dispersió!$C$24*dispersió!$D$44)*dispersió!$I$12),0)","v":0.84208958757506847},{"$f":"IFERROR(dispersió!$I$10*((dispersió!$J$44+'Càlculs interns'!F560)^dispersió!$J$10)*(2*LN('Càlculs interns'!G560/dispersió!$O$48))^(1/2),0)","v":87.59307560557717},-87.59307560557717,null,1473.9473474237604,{"$f":"IFERROR((letalitat!$P$15*1000)/((3.14159*dispersió!$I$10*((dispersió!$J$44+K560)^dispersió!$J$10)*dispersió!$K$10*((dispersió!$K$44+K560)^dispersió!$L$10)+dispersió!$C$24*dispersió!$D$44)*dispersió!$I$12),0)","v":1.223954896126022},{"$f":"IFERROR(dispersió!$I$10*((dispersió!$J$44+'Càlculs interns'!K560)^dispersió!$J$10)*(2*LN('Càlculs interns'!L560/dispersió!$O$56))^(1/2),0)","v":70.113716486073116},-70.113716486073116,null,898.17087652697091,{"$f":"IFERROR((letalitat!$P$15*1000)/((3.14159*dispersió!$I$10*((dispersió!$J$44+P560)^dispersió!$J$10)*dispersió!$K$10*((dispersió!$K$44+P560)^dispersió!$L$10)+dispersió!$C$24*dispersió!$D$44)*dispersió!$I$12),0)","v":2.3095469629864462},{"$f":"IFERROR(dispersió!$I$10*((dispersió!$J$44+'Càlculs interns'!P560)^dispersió!$J$10)*(2*LN('Càlculs interns'!Q560/dispersió!$O$63))^(1/2),0)","v":47.554498942008301},-47.554498942008301]
[2581.6797373950972,{"$f":"IFERROR((letalitat!$P$15*1000)/((3.14159*dispersió!$I$10*((dispersió!$J$44+A561)^dispersió!$J$10)*dispersió!$K$10*((dispersió!$K$44+A561)^dispersió!$L$10)+dispersió!$C$24*dispersió!$D$44)*dispersió!$I$12),0)","v":0.56153861998835619},{"$f":"IFERROR(dispersió!$I$10*((dispersió!$J$44+'Càlculs interns'!A561)^dispersió!$J$10)*(2*LN('Càlculs interns'!B561/dispersió!$O$42))^(1/2),0)","v":105.3247363919685},-105.3247363919685,null,2052.0361146267237,{"$f":"IFERROR((letalitat!$P$15*1000)/((3.14159*dispersió!$I$10*((dispersió!$J$44+F561)^dispersió!$J$10)*dispersió!$K$10*((dispersió!$K$44+F561)^dispersió!$L$10)+dispersió!$C$24*dispersió!$D$44)*dispersió!$I$12),0)","v":0.77752877937817744},{"$f":"IFERROR(dispersió!$I$10*((dispersió!$J$44+'Càlculs interns'!F561)^dispersió!$J$10)*(2*LN('Càlculs interns'!G561/dispersió!$O$48))^(1/2),0)","v":86.972072874955416},-86.972072874955416,null,1560.6501325663346,{"$f":"IFERROR((letalitat!$P$15*1000)/((3.14159*dispersió!$I$10*((dispersió!$J$44+K561)^dispersió!$J$10)*dispersió!$K$10*((dispersió!$K$44+K561)^dispersió!$L$10)+dispersió!$C$24*dispersió!$D$44)*dispersió!$I$12),0)","v":1.13335259030514},{"$f":"IFERROR(dispersió!$I$10*((dispersió!$J$44+'Càlculs interns'!K561)^dispersió!$J$10)*(2*LN('Càlculs interns'!L561/dispersió!$O$56))^(1/2),0)","v":69.517810122966779},-69.517810122966779,null,951.0044574991457,{"$f":"IFERROR((letalitat!$P$15*1000)/((3.14159*dispersió!$I$10*((dispersió!$J$44+P561)^dispersió!$J$10)*dispersió!$K$10*((dispersió!$K$44+P561)^dispersió!$L$10)+dispersió!$C$24*dispersió!$D$44)*dispersió!$I$12),0)","v":2.1532991002832342},{"$f":"IFERROR(dispersió!$I$10*((dispersió!$J$44+'Càlculs interns'!P561)^dispersió!$J$10)*(2*LN('Càlculs interns'!Q561/dispersió!$O$63))^(1/2),0)","v":46.99605842798816},-46.99605842798816]
[2725.1063894726026,{"$f":"IFERROR((letalitat!$P$15*1000)/((3.14159*dispersió!$I$10*((dispersió!$J$44+A562)^dispersió!$J$10)*dispersió!$K$10*((dispersió!$K$44+A562)^dispersió!$L$10)+dispersió!$C$24*dispersió!$D$44)*dispersió!$I$12),0)","v":0.51956159783694766},{"$f":"IFERROR(dispersió!$I$10*((dispersió!$J$44+'Càlculs interns'!A562)^dispersió!$J$10)*(2*LN('Càlculs interns'!B562/dispersió!$O$42))^(1/2),0)","v":104.13744148948098},-104.13744148948098,null,2166.038120994875,{"$f":"IFERROR((letalitat!$P$15*1000)/((3.14159*dispersió!$I$10*((dispersió!$J$44+F562)^dispersió!$J$10)*dispersió!$K$10*((dispersió!$K$44+F562)^dispersió!$L$10)+dispersió!$C$24*dispersió!$D$44)*dispersió!$I$12),0)","v":0.72067483264199761},{"$f":"IFERROR(dispersió!$I$10*((dispersió!$J$44+'Càlculs interns'!F562)^dispersió!$J$10)*(2*LN('Càlculs interns'!G562/dispersió!$O$48))^(1/2),0)","v":85.913814578121247},-85.913814578121247,null,1647.3529177089088,{"$f":"IFERROR((letalitat!$P$15*1000)/((3.14159*dispersió!$I$10*((dispersió!$J$44+K562)^dispersió!$J$10)*dispersió!$K$10*((dispersió!$K$44+K562)^dispersió!$L$10)+dispersió!$C$24*dispersió!$D$44)*dispersió!$I$12),0)","v":1.0532020555239112},{"$f":"IFERROR(dispersió!$I$10*((dispersió!$J$44+'Càlculs interns'!K562)^dispersió!$J$10)*(2*LN('Càlculs interns'!L562/dispersió!$O$56))^(1/2),0)","v":68.583566046141868},-68.583566046141868,null,1003.8380384713205,{"$f":"IFERROR((letalitat!$P$15*1000)/((3.14159*dispersió!$I$10*((dispersió!$J$44+P562)^dispersió!$J$10)*dispersió!$K$10*((dispersió!$K$44+P562)^dispersió!$L$10)+dispersió!$C$24*dispersió!$D$44)*dispersió!$I$12),0)","v":2.0135569531229129},{"$f":"IFERROR(dispersió!$I$10*((dispersió!$J$44+'Càlculs interns'!P562)^dispersió!$J$10)*(2*LN('Càlculs interns'!Q562/dispersió!$O$63))^(1/2),0)","v":46.22566624955153},-46.22566624955153]
[2868.533041550108,{"$f":"IFERROR((letalitat!$P$15*1000)/((3.14159*dispersió!$I$10*((dispersió!$J$44+A563)^dispersió!$J$10)*dispersió!$K$10*((dispersió!$K$44+A563)^dispersió!$L$10)+dispersió!$C$24*dispersió!$D$44)*dispersió!$I$12),0)","v":0.48247886388515959},{"$f":"IFERROR(dispersió!$I$10*((dispersió!$J$44+'Càlculs interns'!A563)^dispersió!$J$10)*(2*LN('Càlculs interns'!B563/dispersió!$O$42))^(1/2),0)","v":102.37558278106431},-102.37558278106431,null,2280.0401273630264,{"$f":"IFERROR((letalitat!$P$15*1000)/((3.14159*dispersió!$I$10*((dispersió!$J$44+F563)^dispersió!$J$10)*dispersió!$K$10*((dispersió!$K$44+F563)^dispersió!$L$10)+dispersió!$C$24*dispersió!$D$44)*dispersió!$I$12),0)","v":0.67030857115856812},{"$f":"IFERROR(dispersió!$I$10*((dispersió!$J$44+'Càlculs interns'!F563)^dispersió!$J$10)*(2*LN('Càlculs interns'!G563/dispersió!$O$48))^(1/2),0)","v":84.390855187660549},-84.390855187660549,null,1734.0557028514829,{"$f":"IFERROR((letalitat!$P$15*1000)/((3.14159*dispersió!$I$10*((dispersió!$J$44+K563)^dispersió!$J$10)*dispersió!$K$10*((dispersió!$K$44+K563)^dispersió!$L$10)+dispersió!$C$24*dispersió!$D$44)*dispersió!$I$12),0)","v":0.9819039984053316},{"$f":"IFERROR(dispersió!$I$10*((dispersió!$J$44+'Càlculs interns'!K563)^dispersió!$J$10)*(2*LN('Càlculs interns'!L563/dispersió!$O$56))^(1/2),0)","v":67.288916011621012},-67.288916011621012,null,1056.6716194434953,{"$f":"IFERROR((letalitat!$P$15*1000)/((3.14159*dispersió!$I$10*((dispersió!$J$44+P563)^dispersió!$J$10)*dispersió!$K$10*((dispersió!$K$44+P563)^dispersió!$L$10)+dispersió!$C$24*dispersió!$D$44)*dispersió!$I$12),0)","v":1.8880025639086353},{"$f":"IFERROR(dispersió!$I$10*((dispersió!$J$44+'Càlculs interns'!P563)^dispersió!$J$10)*(2*LN('Càlculs interns'!Q563/dispersió!$O$63))^(1/2),0)","v":45.2282399706692},-45.2282399706692]
[3011.9596936276134,{"$f":"IFERROR((letalitat!$P$15*1000)/((3.14159*dispersió!$I$10*((dispersió!$J$44+A564)^dispersió!$J$10)*dispersió!$K$10*((dispersió!$K$44+A564)^dispersió!$L$10)+dispersió!$C$24*dispersió!$D$44)*dispersió!$I$12),0)","v":0.44953309405096176},{"$f":"IFERROR(dispersió!$I$10*((dispersió!$J$44+'Càlculs interns'!A564)^dispersió!$J$10)*(2*LN('Càlculs interns'!B564/dispersió!$O$42))^(1/2),0)","v":99.995204540969738},-99.995204540969738,null,2394.0421337311777,{"$f":"IFERROR((letalitat!$P$15*1000)/((3.14159*dispersió!$I$10*((dispersió!$J$44+F564)^dispersió!$J$10)*dispersió!$K$10*((dispersió!$K$44+F564)^dispersió!$L$10)+dispersió!$C$24*dispersió!$D$44)*dispersió!$I$12),0)","v":0.62544691885245651},{"$f":"IFERROR(dispersió!$I$10*((dispersió!$J$44+'Càlculs interns'!F564)^dispersió!$J$10)*(2*LN('Càlculs interns'!G564/dispersió!$O$48))^(1/2),0)","v":82.366889969989657},-82.366889969989657,null,1820.7584879940571,{"$f":"IFERROR((letalitat!$P$15*1000)/((3.14159*dispersió!$I$10*((dispersió!$J$44+K564)^dispersió!$J$10)*dispersió!$K$10*((dispersió!$K$44+K564)^dispersió!$L$10)+dispersió!$C$24*dispersió!$D$44)*dispersió!$I$12),0)","v":0.91815898691299402},{"$f":"IFERROR(dispersió!$I$10*((dispersió!$J$44+'Càlculs interns'!K564)^dispersió!$J$10)*(2*LN('Càlculs interns'!L564/dispersió!$O$56))^(1/2),0)","v":65.604859776554534},-65.604859776554534,null,1109.5052004156701,{"$f":"IFERROR((letalitat!$P$15*1000)/((3.14159*dispersió!$I$10*((dispersió!$J$44+P564)^dispersió!$J$10)*dispersió!$K$10*((dispersió!$K$44+P564)^dispersió!$L$10)+dispersió!$C$24*dispersió!$D$44)*dispersió!$I$12),0)","v":1.7747177695958247},{"$f":"IFERROR(dispersió!$I$10*((dispersió!$J$44+'Càlculs interns'!P564)^dispersió!$J$10)*(2*LN('Càlculs interns'!Q564/dispersió!$O$63))^(1/2),0)","v":43.984215161529008},-43.984215161529008]
[3155.3863457051189,{"$f":"IFERROR((letalitat!$P$15*1000)/((3.14159*dispersió!$I$10*((dispersió!$J$44+A565)^dispersió!$J$10)*dispersió!$K$10*((dispersió!$K$44+A565)^dispersió!$L$10)+dispersió!$C$24*dispersió!$D$44)*dispersió!$I$12),0)","v":0.42011060055224553},{"$f":"IFERROR(dispersió!$I$10*((dispersió!$J$44+'Càlculs interns'!A565)^dispersió!$J$10)*(2*LN('Càlculs interns'!B565/dispersió!$O$42))^(1/2),0)","v":96.937634741060648},-96.937634741060648,null,2508.0441400993291,{"$f":"IFERROR((letalitat!$P$15*1000)/((3.14159*dispersió!$I$10*((dispersió!$J$44+F565)^dispersió!$J$10)*dispersió!$K$10*((dispersió!$K$44+F565)^dispersió!$L$10)+dispersió!$C$24*dispersió!$D$44)*dispersió!$I$12),0)","v":0.58528949631104477},{"$f":"IFERROR(dispersió!$I$10*((dispersió!$J$44+'Càlculs interns'!F565)^dispersió!$J$10)*(2*LN('Càlculs interns'!G565/dispersió!$O$48))^(1/2),0)","v":79.793614319931848},-79.793614319931848,null,1907.4612731366312,{"$f":"IFERROR((letalitat!$P$15*1000)/((3.14159*dispersió!$I$10*((dispersió!$J$44+K565)^dispersió!$J$10)*dispersió!$K$10*((dispersió!$K$44+K565)^dispersió!$L$10)+dispersió!$C$24*dispersió!$D$44)*dispersió!$I$12),0)","v":0.86090172016958222},{"$f":"IFERROR(dispersió!$I$10*((dispersió!$J$44+'Càlculs interns'!K565)^dispersió!$J$10)*(2*LN('Càlculs interns'!L565/dispersió!$O$56))^(1/2),0)","v":63.492977325644134},-63.492977325644134,null,1162.3387813878448,{"$f":"IFERROR((letalitat!$P$15*1000)/((3.14159*dispersió!$I$10*((dispersió!$J$44+P565)^dispersió!$J$10)*dispersió!$K$10*((dispersió!$K$44+P565)^dispersió!$L$10)+dispersió!$C$24*dispersió!$D$44)*dispersió!$I$12),0)","v":1.6721033967370442},{"$f":"IFERROR(dispersió!$I$10*((dispersió!$J$44+'Càlculs interns'!P565)^dispersió!$J$10)*(2*LN('Càlculs interns'!Q565/dispersió!$O$63))^(1/2),0)","v":42.467894062861184},-42.467894062861184]
[3298.8129977826243,{"$f":"IFERROR((letalitat!$P$15*1000)/((3.14159*dispersió!$I$10*((dispersió!$J$44+A566)^dispersió!$J$10)*dispersió!$K$10*((dispersió!$K$44+A566)^dispersió!$L$10)+dispersió!$C$24*dispersió!$D$44)*dispersió!$I$12),0)","v":0.39370947722376837},{"$f":"IFERROR(dispersió!$I$10*((dispersió!$J$44+'Càlculs interns'!A566)^dispersió!$J$10)*(2*LN('Càlculs interns'!B566/dispersió!$O$42))^(1/2),0)","v":93.123381500073464},-93.123381500073464,null,2622.0461464674804,{"$f":"IFERROR((letalitat!$P$15*1000)/((3.14159*dispersió!$I$10*((dispersió!$J$44+F566)^dispersió!$J$10)*dispersió!$K$10*((dispersió!$K$44+F566)^dispersió!$L$10)+dispersió!$C$24*dispersió!$D$44)*dispersió!$I$12),0)","v":0.54917889681985088},{"$f":"IFERROR(dispersió!$I$10*((dispersió!$J$44+'Càlculs interns'!F566)^dispersió!$J$10)*(2*LN('Càlculs interns'!G566/dispersió!$O$48))^(1/2),0)","v":76.605719287604458},-76.605719287604458,null,1994.1640582792054,{"$f":"IFERROR((letalitat!$P$15*1000)/((3.14159*dispersió!$I$10*((dispersió!$J$44+K566)^dispersió!$J$10)*dispersió!$K$10*((dispersió!$K$44+K566)^dispersió!$L$10)+dispersió!$C$24*dispersió!$D$44)*dispersió!$I$12),0)","v":0.80925163012031975},{"$f":"IFERROR(dispersió!$I$10*((dispersió!$J$44+'Càlculs interns'!K566)^dispersió!$J$10)*(2*LN('Càlculs interns'!L566/dispersió!$O$56))^(1/2),0)","v":60.901471408161846},-60.901471408161846,null,1215.1723623600196,{"$f":"IFERROR((letalitat!$P$15*1000)/((3.14159*dispersió!$I$10*((dispersió!$J$44+P566)^dispersió!$J$10)*dispersió!$K$10*((dispersió!$K$44+P566)^dispersió!$L$10)+dispersió!$C$24*dispersió!$D$44)*dispersió!$I$12),0)","v":1.5788170122566219},{"$f":"IFERROR(dispersió!$I$10*((dispersió!$J$44+'Càlculs interns'!P566)^dispersió!$J$10)*(2*LN('Càlculs interns'!Q566/dispersió!$O$63))^(1/2),0)","v":40.644825587439307},-40.644825587439307]
[3442.2396498601297,{"$f":"IFERROR((letalitat!$P$15*1000)/((3.14159*dispersió!$I$10*((dispersió!$J$44+A567)^dispersió!$J$10)*dispersió!$K$10*((dispersió!$K$44+A567)^dispersió!$L$10)+dispersió!$C$24*dispersió!$D$44)*dispersió!$I$12),0)","v":0.36991575311913555},{"$f":"IFERROR(dispersió!$I$10*((dispersió!$J$44+'Càlculs interns'!A567)^dispersió!$J$10)*(2*LN('Càlculs interns'!B567/dispersió!$O$42))^(1/2),0)","v":88.441911265169082},-88.441911265169082,null,2736.0481528356318,{"$f":"IFERROR((letalitat!$P$15*1000)/((3.14159*dispersió!$I$10*((dispersió!$J$44+F567)^dispersió!$J$10)*dispersió!$K$10*((dispersió!$K$44+F567)^dispersió!$L$10)+dispersió!$C$24*dispersió!$D$44)*dispersió!$I$12),0)","v":0.51657075902192862},{"$f":"IFERROR(dispersió!$I$10*((dispersió!$J$44+'Càlculs interns'!F567)^dispersió!$J$10)*(2*LN('Càlculs interns'!G567/dispersió!$O$48))^(1/2),0)","v":72.712515691257863},-72.712515691257863,null,2080.8668434217793,{"$f":"IFERROR((letalitat!$P$15*1000)/((3.14159*dispersió!$I$10*((dispersió!$J$44+K567)^dispersió!$J$10)*dispersió!$K$10*((dispersió!$K$44+K567)^dispersió!$L$10)+dispersió!$C$24*dispersió!$D$44)*dispersió!$I$12),0)","v":0.76247531440365413},{"$f":"IFERROR(dispersió!$I$10*((dispersió!$J$44+'Càlculs interns'!K567)^dispersió!$J$10)*(2*LN('Càlculs interns'!L567/dispersió!$O$56))^(1/2),0)","v":57.758549552570223},-57.758549552570223,null,1268.0059433321944,{"$f":"IFERROR((letalitat!$P$15*1000)/((3.14159*dispersió!$I$10*((dispersió!$J$44+P567)^dispersió!$J$10)*dispersió!$K$10*((dispersió!$K$44+P567)^dispersió!$L$10)+dispersió!$C$24*dispersió!$D$44)*dispersió!$I$12),0)","v":1.493724493148078},{"$f":"IFERROR(dispersió!$I$10*((dispersió!$J$44+'Càlculs interns'!P567)^dispersió!$J$10)*(2*LN('Càlculs interns'!Q567/dispersió!$O$63))^(1/2),0)","v":38.46742803805958},-38.46742803805958]
[3585.6663019376351,{"$f":"IFERROR((letalitat!$P$15*1000)/((3.14159*dispersió!$I$10*((dispersió!$J$44+A568)^dispersió!$J$10)*dispersió!$K$10*((dispersió!$K$44+A568)^dispersió!$L$10)+dispersió!$C$24*dispersió!$D$44)*dispersió!$I$12),0)","v":0.34838532147584877},{"$f":"IFERROR(dispersió!$I$10*((dispersió!$J$44+'Càlculs interns'!A568)^dispersió!$J$10)*(2*LN('Càlculs interns'!B568/dispersió!$O$42))^(1/2),0)","v":82.733360121601962},-82.733360121601962,null,2850.0501592037831,{"$f":"IFERROR((letalitat!$P$15*1000)/((3.14159*dispersió!$I$10*((dispersió!$J$44+F568)^dispersió!$J$10)*dispersió!$K$10*((dispersió!$K$44+F568)^dispersió!$L$10)+dispersió!$C$24*dispersió!$D$44)*dispersió!$I$12),0)","v":0.48701095515567544},{"$f":"IFERROR(dispersió!$I$10*((dispersió!$J$44+'Càlculs interns'!F568)^dispersió!$J$10)*(2*LN('Càlculs interns'!G568/dispersió!$O$48))^(1/2),0)","v":67.982952193714908},-67.982952193714908,null,2167.5696285643535,{"$f":"IFERROR((letalitat!$P$15*1000)/((3.14159*dispersió!$I$10*((dispersió!$J$44+K568)^dispersió!$J$10)*dispersió!$K$10*((dispersió!$K$44+K568)^dispersió!$L$10)+dispersió!$C$24*dispersió!$D$44)*dispersió!$I$12),0)","v":0.71995765339554696},{"$f":"IFERROR(dispersió!$I$10*((dispersió!$J$44+'Càlculs interns'!K568)^dispersió!$J$10)*(2*LN('Càlculs interns'!L568/dispersió!$O$56))^(1/2),0)","v":53.960591081878967},-53.960591081878967,null,1320.8395243043692,{"$f":"IFERROR((letalitat!$P$15*1000)/((3.14159*dispersió!$I$10*((dispersió!$J$44+P568)^dispersió!$J$10)*dispersió!$K$10*((dispersió!$K$44+P568)^dispersió!$L$10)+dispersió!$C$24*dispersió!$D$44)*dispersió!$I$12),0)","v":1.4158620009622649},{"$f":"IFERROR(dispersió!$I$10*((dispersió!$J$44+'Càlculs interns'!P568)^dispersió!$J$10)*(2*LN('Càlculs interns'!Q568/dispersió!$O$63))^(1/2),0)","v":35.867161724842624},-35.867161724842624]
[3729.0929540151405,{"$f":"IFERROR((letalitat!$P$15*1000)/((3.14159*dispersió!$I$10*((dispersió!$J$44+A569)^dispersió!$J$10)*dispersió!$K$10*((dispersió!$K$44+A569)^dispersió!$L$10)+dispersió!$C$24*dispersió!$D$44)*dispersió!$I$12),0)","v":0.32883009057886814},{"$f":"IFERROR(dispersió!$I$10*((dispersió!$J$44+'Càlculs interns'!A569)^dispersió!$J$10)*(2*LN('Càlculs interns'!B569/dispersió!$O$42))^(1/2),0)","v":75.752714497923122},-75.752714497923122,null,2964.0521655719344,{"$f":"IFERROR((letalitat!$P$15*1000)/((3.14159*dispersió!$I$10*((dispersió!$J$44+F569)^dispersió!$J$10)*dispersió!$K$10*((dispersió!$K$44+F569)^dispersió!$L$10)+dispersió!$C$24*dispersió!$D$44)*dispersió!$I$12),0)","v":0.46011801497482846},{"$f":"IFERROR(dispersió!$I$10*((dispersió!$J$44+'Càlculs interns'!F569)^dispersió!$J$10)*(2*LN('Càlculs interns'!G569/dispersió!$O$48))^(1/2),0)","v":62.216274932241028},-62.216274932241028,null,2254.2724137069276,{"$f":"IFERROR((letalitat!$P$15*1000)/((3.14159*dispersió!$I$10*((dispersió!$J$44+K569)^dispersió!$J$10)*dispersió!$K$10*((dispersió!$K$44+K569)^dispersió!$L$10)+dispersió!$C$24*dispersió!$D$44)*dispersió!$I$12),0)","v":0.68117937912910353},{"$f":"IFERROR(dispersió!$I$10*((dispersió!$J$44+'Càlculs interns'!K569)^dispersió!$J$10)*(2*LN('Càlculs interns'!L569/dispersió!$O$56))^(1/2),0)","v":49.348977339208318},-49.348977339208318,null,1373.673105276544,{"$f":"IFERROR((letalitat!$P$15*1000)/((3.14159*dispersió!$I$10*((dispersió!$J$44+P569)^dispersió!$J$10)*dispersió!$K$10*((dispersió!$K$44+P569)^dispersió!$L$10)+dispersió!$C$24*dispersió!$D$44)*dispersió!$I$12),0)","v":1.3444058705980579},{"$f":"IFERROR(dispersió!$I$10*((dispersió!$J$44+'Càlculs interns'!P569)^dispersió!$J$10)*(2*LN('Càlculs interns'!Q569/dispersió!$O$63))^(1/2),0)","v":32.739189893350805},-32.739189893350805]
[3872.519606092646,{"$f":"IFERROR((letalitat!$P$15*1000)/((3.14159*dispersió!$I$10*((dispersió!$J$44+A570)^dispersió!$J$10)*dispersió!$K$10*((dispersió!$K$44+A570)^dispersió!$L$10)+dispersió!$C$24*dispersió!$D$44)*dispersió!$I$12),0)","v":0.31100725965431175},{"$f":"IFERROR(dispersió!$I$10*((dispersió!$J$44+'Càlculs interns'!A570)^dispersió!$J$10)*(2*LN('Càlculs interns'!B570/dispersió!$O$42))^(1/2),0)","v":67.090019061158031},-67.090019061158031,null,3078.0541719400858,{"$f":"IFERROR((letalitat!$P$15*1000)/((3.14159*dispersió!$I$10*((dispersió!$J$44+F570)^dispersió!$J$10)*dispersió!$K$10*((dispersió!$K$44+F570)^dispersió!$L$10)+dispersió!$C$24*dispersió!$D$44)*dispersió!$I$12),0)","v":0.43556944842303436},{"$f":"IFERROR(dispersió!$I$10*((dispersió!$J$44+'Càlculs interns'!F570)^dispersió!$J$10)*(2*LN('Càlculs interns'!G570/dispersió!$O$48))^(1/2),0)","v":55.076667640835417},-55.076667640835417,null,2340.9751988495018,{"$f":"IFERROR((letalitat!$P$15*1000)/((3.14159*dispersió!$I$10*((dispersió!$J$44+K570)^dispersió!$J$10)*dispersió!$K$10*((dispersió!$K$44+K570)^dispersió!$L$10)+dispersió!$C$24*dispersió!$D$44)*dispersió!$I$12),0)","v":0.64569949156827233},{"$f":"IFERROR(dispersió!$I$10*((dispersió!$J$44+'Càlculs interns'!K570)^dispersió!$J$10)*(2*LN('Càlculs interns'!L570/dispersió!$O$56))^(1/2),0)","v":43.658481602311497},-43.658481602311497,null,1426.5066862487188,{"$f":"IFERROR((letalitat!$P$15*1000)/((3.14159*dispersió!$I$10*((dispersió!$J$44+P570)^dispersió!$J$10)*dispersió!$K$10*((dispersió!$K$44+P570)^dispersió!$L$10)+dispersió!$C$24*dispersió!$D$44)*dispersió!$I$12),0)","v":1.2786485763187665},{"$f":"IFERROR(dispersió!$I$10*((dispersió!$J$44+'Càlculs interns'!P570)^dispersió!$J$10)*(2*LN('Càlculs interns'!Q570/dispersió!$O$63))^(1/2),0)","v":28.908161019873411},-28.908161019873411]
[4015.9462581701514,{"$f":"IFERROR((letalitat!$P$15*1000)/((3.14159*dispersió!$I$10*((dispersió!$J$44+A571)^dispersió!$J$10)*dispersió!$K$10*((dispersió!$K$44+A571)^dispersió!$L$10)+dispersió!$C$24*dispersió!$D$44)*dispersió!$I$12),0)","v":0.29471093468986725},{"$f":"IFERROR(dispersió!$I$10*((dispersió!$J$44+'Càlculs interns'!A571)^dispersió!$J$10)*(2*LN('Càlculs interns'!B571/dispersió!$O$42))^(1/2),0)","v":55.95356480841393},-55.95356480841393,null,3192.0561783082371,{"$f":"IFERROR((letalitat!$P$15*1000)/((3.14159*dispersió!$I$10*((dispersió!$J$44+F571)^dispersió!$J$10)*dispersió!$K$10*((dispersió!$K$44+F571)^dispersió!$L$10)+dispersió!$C$24*dispersió!$D$44)*dispersió!$I$12),0)","v":0.41309100378143521},{"$f":"IFERROR(dispersió!$I$10*((dispersió!$J$44+'Càlculs interns'!F571)^dispersió!$J$10)*(2*LN('Càlculs interns'!G571/dispersió!$O$48))^(1/2),0)","v":45.91564900931759},-45.91564900931759,null,2427.677983992076,{"$f":"IFERROR((letalitat!$P$15*1000)/((3.14159*dispersió!$I$10*((dispersió!$J$44+K571)^dispersió!$J$10)*dispersió!$K$10*((dispersió!$K$44+K571)^dispersió!$L$10)+dispersió!$C$24*dispersió!$D$44)*dispersió!$I$12),0)","v":0.61314135474336695},{"$f":"IFERROR(dispersió!$I$10*((dispersió!$J$44+'Càlculs interns'!K571)^dispersió!$J$10)*(2*LN('Càlculs interns'!L571/dispersió!$O$56))^(1/2),0)","v":36.377043117627359},-36.377043117627359,null,1479.3402672208936,{"$f":"IFERROR((letalitat!$P$15*1000)/((3.14159*dispersió!$I$10*((dispersió!$J$44+P571)^dispersió!$J$10)*dispersió!$K$10*((dispersió!$K$44+P571)^dispersió!$L$10)+dispersió!$C$24*dispersió!$D$44)*dispersió!$I$12),0)","v":1.2179794057625717},{"$f":"IFERROR(dispersió!$I$10*((dispersió!$J$44+'Càlculs interns'!P571)^dispersió!$J$10)*(2*LN('Càlculs interns'!Q571/dispersió!$O$63))^(1/2),0)","v":24.035016005408249},-24.035016005408249]
[4159.3729102476564,{"$f":"IFERROR((letalitat!$P$15*1000)/((3.14159*dispersió!$I$10*((dispersió!$J$44+A572)^dispersió!$J$10)*dispersió!$K$10*((dispersió!$K$44+A572)^dispersió!$L$10)+dispersió!$C$24*dispersió!$D$44)*dispersió!$I$12),0)","v":0.27976551510616487},{"$f":"IFERROR(dispersió!$I$10*((dispersió!$J$44+'Càlculs interns'!A572)^dispersió!$J$10)*(2*LN('Càlculs interns'!B572/dispersió!$O$42))^(1/2),0)","v":40.323161991396532},-40.323161991396532,null,3306.0581846763885,{"$f":"IFERROR((letalitat!$P$15*1000)/((3.14159*dispersió!$I$10*((dispersió!$J$44+F572)^dispersió!$J$10)*dispersió!$K$10*((dispersió!$K$44+F572)^dispersió!$L$10)+dispersió!$C$24*dispersió!$D$44)*dispersió!$I$12),0)","v":0.39244815878362943},{"$f":"IFERROR(dispersió!$I$10*((dispersió!$J$44+'Càlculs interns'!F572)^dispersió!$J$10)*(2*LN('Càlculs interns'!G572/dispersió!$O$48))^(1/2),0)","v":33.07847762800332},-33.07847762800332,null,2514.3807691346501,{"$f":"IFERROR((letalitat!$P$15*1000)/((3.14159*dispersió!$I$10*((dispersió!$J$44+K572)^dispersió!$J$10)*dispersió!$K$10*((dispersió!$K$44+K572)^dispersió!$L$10)+dispersió!$C$24*dispersió!$D$44)*dispersió!$I$12),0)","v":0.58318161354322018},{"$f":"IFERROR(dispersió!$I$10*((dispersió!$J$44+'Càlculs interns'!K572)^dispersió!$J$10)*(2*LN('Càlculs interns'!L572/dispersió!$O$56))^(1/2),0)","v":26.198324185100972},-26.198324185100972,null,1532.1738481930684,{"$f":"IFERROR((letalitat!$P$15*1000)/((3.14159*dispersió!$I$10*((dispersió!$J$44+P572)^dispersió!$J$10)*dispersió!$K$10*((dispersió!$K$44+P572)^dispersió!$L$10)+dispersió!$C$24*dispersió!$D$44)*dispersió!$I$12),0)","v":1.161868811478185},{"$f":"IFERROR(dispersió!$I$10*((dispersió!$J$44+'Càlculs interns'!P572)^dispersió!$J$10)*(2*LN('Càlculs interns'!Q572/dispersió!$O$63))^(1/2),0)","v":17.251477582839154},-17.251477582839154]
[{"$f":"dispersió!L44","v":4302.7995623251609},{"$f":"IFERROR((letalitat!$P$15*1000)/((3.14159*dispersió!$I$10*((dispersió!$J$44+A573)^dispersió!$J$10)*dispersió!$K$10*((dispersió!$K$44+A573)^dispersió!$L$10)+dispersió!$C$24*dispersió!$D$44)*dispersió!$I$12),0)","v":0.26602043394375796},{"$f":"IFERROR(dispersió!$I$10*((dispersió!$J$44+'Càlculs interns'!A573)^dispersió!$J$10)*(2*LN('Càlculs interns'!B573/dispersió!$O$42))^(1/2),0)","v":0},0,null,{"$f":"dispersió!L51","v":3420.0601910445384},{"$f":"IFERROR((letalitat!$P$15*1000)/((3.14159*dispersió!$I$10*((dispersió!$J$44+F573)^dispersió!$J$10)*dispersió!$K$10*((dispersió!$K$44+F573)^dispersió!$L$10)+dispersió!$C$24*dispersió!$D$44)*dispersió!$I$12),0)","v":0.37343932658713519},{"$f":"IFERROR(dispersió!$I$10*((dispersió!$J$44+'Càlculs interns'!F573)^dispersió!$J$10)*(2*LN('Càlculs interns'!G573/dispersió!$O$48))^(1/2),0)","v":0},0,null,{"$f":"dispersió!L58","v":2601.0835542772243},{"$f":"IFERROR((letalitat!$P$15*1000)/((3.14159*dispersió!$I$10*((dispersió!$J$44+K573)^dispersió!$J$10)*dispersió!$K$10*((dispersió!$K$44+K573)^dispersió!$L$10)+dispersió!$C$24*dispersió!$D$44)*dispersió!$I$12),0)","v":0.55554129211677772},{"$f":"IFERROR(dispersió!$I$10*((dispersió!$J$44+'Càlculs interns'!K573)^dispersió!$J$10)*(2*LN('Càlculs interns'!L573/dispersió!$O$56))^(1/2),0)","v":0},0,null,{"$f":"dispersió!L65","v":1585.007429165242},{"$f":"IFERROR((letalitat!$P$15*1000)/((3.14159*dispersió!$I$10*((dispersió!$J$44+P573)^dispersió!$J$10)*dispersió!$K$10*((dispersió!$K$44+P573)^dispersió!$L$10)+dispersió!$C$24*dispersió!$D$44)*dispersió!$I$12),0)","v":1.1098556574006067},{"$f":"IFERROR(dispersió!$I$10*((dispersió!$J$44+'Càlculs interns'!P573)^dispersió!$J$10)*(2*LN('Càlculs interns'!Q573/dispersió!$O$63))^(1/2),0)","v":0},0]